{"text_format":"1","workbook":"xlsx","n_sheets":9,"sheets":["Menu","Ecarts","Jean-Pierre","Monia","Rochelle","Florence","Yves","Autres","Conf_Objectifs"],"not_rendered":{"charts":0,"images":26,"macros":1,"external_links":0,"defined_names":28,"comments":0,"pivot_tables":0},"unopened":[],"bounds":{"document_bytes":16777216,"sheet_cells":100000,"rows_first":2000,"rows_last":500,"rows_between":2000,"halvings":0,"cell_chars":16384,"cell_head_chars":4096},"cells_cut":0,"cells_raw":0,"read":"whole","date_system":"1900"}

{"sheet":"Menu","index":0,"n_rows":12,"n_cols":7,"rows_kept":12,"cut":false,"hidden":false,"merged":[[1,6,1,7],[9,4,9,7],[5,4,5,5],[6,4,6,5],[7,4,7,5],[3,4,3,7]]}
[null,null,null,null,"Traitement des écarts J2C services"]
[null,null,null,null,null,null,{"$f":"TODAY()","v":"2016-10-31"}]
[]
[null,null,null,null,"Ecarts"]
[]
[null,"Nbre Ecarts",{"$f":"COUNTA(Ecarts!C$3:C$64838)-1","v":0},null,"Fiche Ecart"]
[null,"Nbre Ecarts Traités",{"$f":"COUNTIF(Ecarts!L$2:L$64838,100%)","v":0},null,{"$f":"B8","v":"Nbre Ecarts en attente d'efficacité"},null,{"$f":"C8","v":0}]
[null,"Nbre Ecarts en attente d'efficacité",{"$f":"COUNTIF(Ecarts!L$2:L$64838,0.1)+COUNTIF(Ecarts!L$2:L$64838,0.3)+COUNTIF(Ecarts!L$2:L$64838,0.5)+COUNTIF(Ecarts!L$2:L$64838,0.7)+COUNTIF(Ecarts!L$2:L$64838,0.9)","v":0},null,{"$f":"B9","v":"Nbre Ecarts à traiter"},null,{"$f":"C9","v":0}]
[null,"Nbre Ecarts à traiter",{"$f":"C6-C7-C8","v":0}]
[null,"Nbre AC",{"$f":"COUNTIF(Ecarts!H$2:H$64838,\"AC\")","v":0}]
[null,"Nbre AP",{"$f":"COUNTIF(Ecarts!H$2:H$64838,\"AP\")","v":0}]
[null,"Taux AP",{"$f":"IFERROR(C11/C6,\"\")","v":""}]

{"sheet":"Ecarts","index":1,"n_rows":308,"n_cols":14,"rows_kept":308,"cut":false,"hidden":true,"merged":[]}
[]
["N°","Ecart/Obs","Libellé","Référence","Responsable","Date enregistrement","Causes","AP/AC","Actions","Date objectif","Date clôture","Efficacité","Commentaires"]
[1,null,null,null,null,null,null,null,null,null,null,null,null,{"$f":"L3","v":0}]
[{"$f":"A3+1","v":2},null,null,null,null,null,null,null,null,null,null,null,null,{"$f":"L4","v":0}]
[{"$f":"A4+1","v":3},null,null,null,null,null,null,null,null,null,null,null,null,0]
[{"$f":"A5+1","v":4},null,null,null,null,null,null,null,null,null,null,null,null,0]
[5,null,null,null,null,null,null,null,null,null,null,null,null,0]
[6,null,null,null,null,null,null,null,null,null,null,null,null,0]
[7,null,null,null,null,null,null,null,null,null,null,null,null,0]
[8,null,null,null,null,null,null,null,null,null,null,null,null,0]
[9,null,null,null,null,null,null,null,null,null,null,null,null,0]
[10,null,null,null,null,null,null,null,null,null,null,null,null,0]
[11,null,null,null,null,null,null,null,null,null,null,null,null,0]
[12,null,null,null,null,null,null,null,null,null,null,null,null,0]
[13,null,null,null,null,null,null,null,null,null,null,null,null,0]
[14,null,null,null,null,null,null,null,null,null,null,null,null,0]
[15,null,null,null,null,null,null,null,null,null,null,null,null,0]
[16,null,null,null,null,null,null,null,null,null,null,null,null,0]
[17,null,null,null,null,null,null,null,null,null,null,null,null,0]
[18,null,null,null,null,null,null,null,null,null,null,null,null,0]
[19,null,null,null,null,null,null,null,null,null,null,null,null,0]
[20,null,null,null,null,null,null,null,null,null,null,null,null,0]
[21,null,null,null,null,null,null,null,null,null,null,null,null,0]
[22,null,null,null,null,null,null,null,null,null,null,null,null,0]
[23,null,null,null,null,null,null,null,null,null,null,null,null,0]
[24,null,null,null,null,null,null,null,null,null,null,null,null,0]
[25,null,null,null,null,null,null,null,null,null,null,null,null,0]
[26,null,null,null,null,null,null,null,null,null,null,null,null,0]
[27,null,null,null,null,null,null,null,null,null,null,null,null,0]
[28,null,null,null,null,null,null,null,null,null,null,null,null,0]
[29,null,null,null,null,null,null,null,null,null,null,null,null,0]
[30,null,null,null,null,null,null,null,null,null,null,null,null,0]
[31,null,null,null,null,null,null,null,null,null,null,null,null,0]
[32,null,null,null,null,null,null,null,null,null,null,null,null,0]
[33,null,null,null,null,null,null,null,null,null,null,null,null,0]
[34,null,null,null,null,null,null,null,null,null,null,null,null,0]
[35,null,null,null,null,null,null,null,null,null,null,null,null,0]
[36,null,null,null,null,null,null,null,null,null,null,null,null,0]
[37,null,null,null,null,null,null,null,null,null,null,null,null,0]
[38,null,null,null,null,null,null,null,null,null,null,null,null,0]
[39,null,null,null,null,null,null,null,null,null,null,null,null,0]
[40,null,null,null,null,null,null,null,null,null,null,null,null,0]
[41,null,null,null,null,null,null,null,null,null,null,null,null,0]
[42,null,null,null,null,null,null,null,null,null,null,null,null,0]
[43,null,null,null,null,null,null,null,null,null,null,null,null,0]
[44,null,null,null,null,null,null,null,null,null,null,null,null,0]
[45,null,null,null,null,null,null,null,null,null,null,null,null,0]
[46,null,null,null,null,null,null,null,null,null,null,null,null,0]
[47,null,null,null,null,null,null,null,null,null,null,null,null,0]
[48,null,null,null,null,null,null,null,null,null,null,null,null,0]
[49,null,null,null,null,null,null,null,null,null,null,null,null,0]
[50,null,null,null,null,null,null,null,null,null,null,null,null,0]
[51,null,null,null,null,null,null,null,null,null,null,null,null,0]
[52,null,null,null,null,null,null,null,null,null,null,null,null,0]
[53,null,null,null,null,null,null,null,null,null,null,null,null,0]
[54,null,null,null,null,null,null,null,null,null,null,null,null,0]
[55,null,null,null,null,null,null,null,null,null,null,null,null,0]
[56,null,null,null,null,null,null,null,null,null,null,null,null,0]
[57,null,null,null,null,null,null,null,null,null,null,null,null,0]
[58,null,null,null,null,null,null,null,null,null,null,null,null,0]
[59,null,null,null,null,null,null,null,null,null,null,null,null,0]
[60,null,null,null,null,null,null,null,null,null,null,null,null,0]
[61,null,null,null,null,null,null,null,null,null,null,null,null,0]
[62,null,null,null,null,null,null,null,null,null,null,null,null,0]
[63,null,null,null,null,null,null,null,null,null,null,null,null,0]
[64,null,null,null,null,null,null,null,null,null,null,null,null,0]
[65,null,null,null,null,null,null,null,null,null,null,null,null,0]
[66,null,null,null,null,null,null,null,null,null,null,null,null,{"$f":"L68","v":0}]
[67,null,null,null,null,null,null,null,null,null,null,null,null,0]
[68,null,null,null,null,null,null,null,null,null,null,null,null,0]
[69,null,null,null,null,null,null,null,null,null,null,null,null,0]
[70,null,null,null,null,null,null,null,null,null,null,null,null,0]
[71,null,null,null,null,null,null,null,null,null,null,null,null,0]
[72,null,null,null,null,null,null,null,null,null,null,null,null,0]
[73,null,null,null,null,null,null,null,null,null,null,null,null,0]
[74,null,null,null,null,null,null,null,null,null,null,null,null,0]
[75,null,null,null,null,null,null,null,null,null,null,null,null,0]
[76,null,null,null,null,null,null,null,null,null,null,null,null,0]
[77,null,null,null,null,null,null,null,null,null,null,null,null,0]
[78,null,null,null,null,null,null,null,null,null,null,null,null,0]
[79,null,null,null,null,null,null,null,null,null,null,null,null,0]
[80,null,null,null,null,null,null,null,null,null,null,null,null,0]
[81,null,null,null,null,null,null,null,null,null,null,null,null,0]
[82,null,null,null,null,null,null,null,null,null,null,null,null,0]
[83,null,null,null,null,null,null,null,null,null,null,null,null,0]
[84,null,null,null,null,null,null,null,null,null,null,null,null,0]
[85,null,null,null,null,null,null,null,null,null,null,null,null,0]
[86,null,null,null,null,null,null,null,null,null,null,null,null,0]
[87,null,null,null,null,null,null,null,null,null,null,null,null,0]
[88,null,null,null,null,null,null,null,null,null,null,null,null,0]
[89,null,null,null,null,null,null,null,null,null,null,null,null,0]
[90,null,null,null,null,null,null,null,null,null,null,null,null,0]
[91,null,null,null,null,null,null,null,null,null,null,null,null,0]
[92,null,null,null,null,null,null,null,null,null,null,null,null,0]
[93,null,null,null,null,null,null,null,null,null,null,null,null,0]
[94,null,null,null,null,null,null,null,null,null,null,null,null,0]
[95,null,null,null,null,null,null,null,null,null,null,null,null,0]
[96,null,null,null,null,null,null,null,null,null,null,null,null,0]
[97,null,null,null,null,null,null,null,null,null,null,null,null,0]
[98,null,null,null,null,null,null,null,null,null,null,null,null,0]
[99,null,null,null,null,null,null,null,null,null,null,null,null,0]
[100,null,null,null,null,null,null,null,null,null,null,null,null,0]
[101,null,null,null,null,null,null,null,null,null,null,null,null,0]
[102,null,null,null,null,null,null,null,null,null,null,null,null,0]
[103,null,null,null,null,null,null,null,null,null,null,null,null,0]
[104,null,null,null,null,null,null,null,null,null,null,null,null,0]
[105,null,null,null,null,null,null,null,null,null,null,null,null,0]
[106,null,null,null,null,null,null,null,null,null,null,null,null,0]
[107,null,null,null,null,null,null,null,null,null,null,null,null,0]
[108,null,null,null,null,null,null,null,null,null,null,null,null,0]
[109,null,null,null,null,null,null,null,null,null,null,null,null,0]
[110,null,null,null,null,null,null,null,null,null,null,null,null,0]
[111,null,null,null,null,null,null,null,null,null,null,null,null,0]
[112,null,null,null,null,null,null,null,null,null,null,null,null,0]
[113,null,null,null,null,null,null,null,null,null,null,null,null,0]
[114,null,null,null,null,null,null,null,null,null,null,null,null,0]
[115,null,null,null,null,null,null,null,null,null,null,null,null,0]
[116,null,null,null,null,null,null,null,null,null,null,null,null,0]
[117,null,null,null,null,null,null,null,null,null,null,null,null,0]
[118,null,null,null,null,null,null,null,null,null,null,null,null,0]
[119,null,null,null,null,null,null,null,null,null,null,null,null,0]
[120,null,null,null,null,null,null,null,null,null,null,null,null,0]
[121,null,null,null,null,null,null,null,null,null,null,null,null,0]
[122,null,null,null,null,null,null,null,null,null,null,null,null,0]
[123,null,null,null,null,null,null,null,null,null,null,null,null,0]
[124,null,null,null,null,null,null,null,null,null,null,null,null,0]
[125,null,null,null,null,null,null,null,null,null,null,null,null,0]
[126,null,null,null,null,null,null,null,null,null,null,null,null,0]
[127,null,null,null,null,null,null,null,null,null,null,null,null,0]
[128,null,null,null,null,null,null,null,null,null,null,null,null,0]
[129,null,null,null,null,null,null,null,null,null,null,null,null,0]
[130,null,null,null,null,null,null,null,null,null,null,null,null,{"$f":"L132","v":0}]
[131,null,null,null,null,null,null,null,null,null,null,null,null,0]
[132,null,null,null,null,null,null,null,null,null,null,null,null,0]
[133,null,null,null,null,null,null,null,null,null,null,null,null,0]
[134,null,null,null,null,null,null,null,null,null,null,null,null,0]
[135,null,null,null,null,null,null,null,null,null,null,null,null,0]
[136,null,null,null,null,null,null,null,null,null,null,null,null,0]
[137,null,null,null,null,null,null,null,null,null,null,null,null,0]
[138,null,null,null,null,null,null,null,null,null,null,null,null,0]
[139,null,null,null,null,null,null,null,null,null,null,null,null,0]
[140,null,null,null,null,null,null,null,null,null,null,null,null,0]
[141,null,null,null,null,null,null,null,null,null,null,null,null,0]
[142,null,null,null,null,null,null,null,null,null,null,null,null,0]
[143,null,null,null,null,null,null,null,null,null,null,null,null,0]
[144,null,null,null,null,null,null,null,null,null,null,null,null,0]
[145,null,null,null,null,null,null,null,null,null,null,null,null,0]
[146,null,null,null,null,null,null,null,null,null,null,null,null,0]
[147,null,null,null,null,null,null,null,null,null,null,null,null,0]
[148,null,null,null,null,null,null,null,null,null,null,null,null,0]
[149,null,null,null,null,null,null,null,null,null,null,null,null,0]
[150,null,null,null,null,null,null,null,null,null,null,null,null,0]
[151,null,null,null,null,null,null,null,null,null,null,null,null,0]
[152,null,null,null,null,null,null,null,null,null,null,null,null,0]
[153,null,null,null,null,null,null,null,null,null,null,null,null,0]
[154,null,null,null,null,null,null,null,null,null,null,null,null,0]
[155,null,null,null,null,null,null,null,null,null,null,null,null,0]
[156,null,null,null,null,null,null,null,null,null,null,null,null,0]
[157,null,null,null,null,null,null,null,null,null,null,null,null,0]
[158,null,null,null,null,null,null,null,null,null,null,null,null,0]
[159,null,null,null,null,null,null,null,null,null,null,null,null,0]
[160,null,null,null,null,null,null,null,null,null,null,null,null,0]
[161,null,null,null,null,null,null,null,null,null,null,null,null,0]
[162,null,null,null,null,null,null,null,null,null,null,null,null,0]
[163,null,null,null,null,null,null,null,null,null,null,null,null,0]
[164,null,null,null,null,null,null,null,null,null,null,null,null,0]
[165,null,null,null,null,null,null,null,null,null,null,null,null,0]
[166,null,null,null,null,null,null,null,null,null,null,null,null,0]
[167,null,null,null,null,null,null,null,null,null,null,null,null,0]
[168,null,null,null,null,null,null,null,null,null,null,null,null,0]
[169,null,null,null,null,null,null,null,null,null,null,null,null,0]
[170,null,null,null,null,null,null,null,null,null,null,null,null,0]
[171,null,null,null,null,null,null,null,null,null,null,null,null,0]
[172,null,null,null,null,null,null,null,null,null,null,null,null,0]
[173,null,null,null,null,null,null,null,null,null,null,null,null,0]
[174,null,null,null,null,null,null,null,null,null,null,null,null,0]
[175,null,null,null,null,null,null,null,null,null,null,null,null,0]
[176,null,null,null,null,null,null,null,null,null,null,null,null,0]
[177,null,null,null,null,null,null,null,null,null,null,null,null,0]
[178,null,null,null,null,null,null,null,null,null,null,null,null,0]
[179,null,null,null,null,null,null,null,null,null,null,null,null,0]
[180,null,null,null,null,null,null,null,null,null,null,null,null,0]
[181,null,null,null,null,null,null,null,null,null,null,null,null,0]
[182,null,null,null,null,null,null,null,null,null,null,null,null,0]
[183,null,null,null,null,null,null,null,null,null,null,null,null,0]
[184,null,null,null,null,null,null,null,null,null,null,null,null,0]
[185,null,null,null,null,null,null,null,null,null,null,null,null,0]
[186,null,null,null,null,null,null,null,null,null,null,null,null,0]
[187,null,null,null,null,null,null,null,null,null,null,null,null,0]
[188,null,null,null,null,null,null,null,null,null,null,null,null,0]
[189,null,null,null,null,null,null,null,null,null,null,null,null,0]
[190,null,null,null,null,null,null,null,null,null,null,null,null,0]
[191,null,null,null,null,null,null,null,null,null,null,null,null,0]
[192,null,null,null,null,null,null,null,null,null,null,null,null,0]
[193,null,null,null,null,null,null,null,null,null,null,null,null,0]
[194,null,null,null,null,null,null,null,null,null,null,null,null,{"$f":"L196","v":0}]
[195,null,null,null,null,null,null,null,null,null,null,null,null,0]
[196,null,null,null,null,null,null,null,null,null,null,null,null,0]
[197,null,null,null,null,null,null,null,null,null,null,null,null,0]
[198,null,null,null,null,null,null,null,null,null,null,null,null,0]
[199,null,null,null,null,null,null,null,null,null,null,null,null,0]
[200,null,null,null,null,null,null,null,null,null,null,null,null,0]
[201,null,null,null,null,null,null,null,null,null,null,null,null,0]
[202,null,null,null,null,null,null,null,null,null,null,null,null,0]
[203,null,null,null,null,null,null,null,null,null,null,null,null,0]
[204,null,null,null,null,null,null,null,null,null,null,null,null,0]
[205,null,null,null,null,null,null,null,null,null,null,null,null,0]
[206,null,null,null,null,null,null,null,null,null,null,null,null,0]
[207,null,null,null,null,null,null,null,null,null,null,null,null,0]
[208,null,null,null,null,null,null,null,null,null,null,null,null,0]
[209,null,null,null,null,null,null,null,null,null,null,null,null,0]
[210,null,null,null,null,null,null,null,null,null,null,null,null,0]
[211,null,null,null,null,null,null,null,null,null,null,null,null,0]
[212,null,null,null,null,null,null,null,null,null,null,null,null,0]
[213,null,null,null,null,null,null,null,null,null,null,null,null,0]
[214,null,null,null,null,null,null,null,null,null,null,null,null,0]
[215,null,null,null,null,null,null,null,null,null,null,null,null,0]
[216,null,null,null,null,null,null,null,null,null,null,null,null,0]
[217,null,null,null,null,null,null,null,null,null,null,null,null,0]
[218,null,null,null,null,null,null,null,null,null,null,null,null,0]
[219,null,null,null,null,null,null,null,null,null,null,null,null,0]
[220,null,null,null,null,null,null,null,null,null,null,null,null,0]
[221,null,null,null,null,null,null,null,null,null,null,null,null,0]
[222,null,null,null,null,null,null,null,null,null,null,null,null,0]
[223,null,null,null,null,null,null,null,null,null,null,null,null,0]
[224,null,null,null,null,null,null,null,null,null,null,null,null,0]
[225,null,null,null,null,null,null,null,null,null,null,null,null,0]
[226,null,null,null,null,null,null,null,null,null,null,null,null,0]
[227,null,null,null,null,null,null,null,null,null,null,null,null,0]
[228,null,null,null,null,null,null,null,null,null,null,null,null,0]
[229,null,null,null,null,null,null,null,null,null,null,null,null,0]
[230,null,null,null,null,null,null,null,null,null,null,null,null,0]
[231,null,null,null,null,null,null,null,null,null,null,null,null,0]
[232,null,null,null,null,null,null,null,null,null,null,null,null,0]
[233,null,null,null,null,null,null,null,null,null,null,null,null,0]
[234,null,null,null,null,null,null,null,null,null,null,null,null,0]
[235,null,null,null,null,null,null,null,null,null,null,null,null,0]
[236,null,null,null,null,null,null,null,null,null,null,null,null,0]
[237,null,null,null,null,null,null,null,null,null,null,null,null,0]
[238,null,null,null,null,null,null,null,null,null,null,null,null,0]
[239,null,null,null,null,null,null,null,null,null,null,null,null,0]
[240,null,null,null,null,null,null,null,null,null,null,null,null,0]
[241,null,null,null,null,null,null,null,null,null,null,null,null,0]
[242,null,null,null,null,null,null,null,null,null,null,null,null,0]
[243,null,null,null,null,null,null,null,null,null,null,null,null,0]
[244,null,null,null,null,null,null,null,null,null,null,null,null,0]
[245,null,null,null,null,null,null,null,null,null,null,null,null,0]
[246,null,null,null,null,null,null,null,null,null,null,null,null,0]
[247,null,null,null,null,null,null,null,null,null,null,null,null,0]
[248,null,null,null,null,null,null,null,null,null,null,null,null,0]
[249,null,null,null,null,null,null,null,null,null,null,null,null,0]
[250,null,null,null,null,null,null,null,null,null,null,null,null,0]
[251,null,null,null,null,null,null,null,null,null,null,null,null,0]
[252,null,null,null,null,null,null,null,null,null,null,null,null,0]
[253,null,null,null,null,null,null,null,null,null,null,null,null,0]
[254,null,null,null,null,null,null,null,null,null,null,null,null,0]
[255,null,null,null,null,null,null,null,null,null,null,null,null,0]
[256,null,null,null,null,null,null,null,null,null,null,null,null,0]
[257,null,null,null,null,null,null,null,null,null,null,null,null,0]
[258,null,null,null,null,null,null,null,null,null,null,null,null,{"$f":"L260","v":0}]
[259,null,null,null,null,null,null,null,null,null,null,null,null,0]
[260,null,null,null,null,null,null,null,null,null,null,null,null,0]
[261,null,null,null,null,null,null,null,null,null,null,null,null,0]
[262,null,null,null,null,null,null,null,null,null,null,null,null,0]
[263,null,null,null,null,null,null,null,null,null,null,null,null,0]
[264,null,null,null,null,null,null,null,null,null,null,null,null,0]
[265,null,null,null,null,null,null,null,null,null,null,null,null,0]
[266,null,null,null,null,null,null,null,null,null,null,null,null,0]
[267,null,null,null,null,null,null,null,null,null,null,null,null,0]
[268,null,null,null,null,null,null,null,null,null,null,null,null,0]
[269,null,null,null,null,null,null,null,null,null,null,null,null,0]
[270,null,null,null,null,null,null,null,null,null,null,null,null,0]
[271,null,null,null,null,null,null,null,null,null,null,null,null,0]
[272,null,null,null,null,null,null,null,null,null,null,null,null,0]
[273,null,null,null,null,null,null,null,null,null,null,null,null,0]
[274,null,null,null,null,null,null,null,null,null,null,null,null,0]
[275,null,null,null,null,null,null,null,null,null,null,null,null,0]
[276,null,null,null,null,null,null,null,null,null,null,null,null,0]
[277,null,null,null,null,null,null,null,null,null,null,null,null,0]
[278,null,null,null,null,null,null,null,null,null,null,null,null,0]
[279,null,null,null,null,null,null,null,null,null,null,null,null,0]
[280,null,null,null,null,null,null,null,null,null,null,null,null,0]
[281,null,null,null,null,null,null,null,null,null,null,null,null,0]
[282,null,null,null,null,null,null,null,null,null,null,null,null,0]
[283,null,null,null,null,null,null,null,null,null,null,null,null,0]
[284,null,null,null,null,null,null,null,null,null,null,null,null,0]
[285,null,null,null,null,null,null,null,null,null,null,null,null,0]
[286,null,null,null,null,null,null,null,null,null,null,null,null,0]
[287,null,null,null,null,null,null,null,null,null,null,null,null,0]
[288,null,null,null,null,null,null,null,null,null,null,null,null,0]
[289,null,null,null,null,null,null,null,null,null,null,null,null,0]
[290,null,null,null,null,null,null,null,null,null,null,null,null,0]
[291,null,null,null,null,null,null,null,null,null,null,null,null,0]
[292,null,null,null,null,null,null,null,null,null,null,null,null,0]
[293,null,null,null,null,null,null,null,null,null,null,null,null,0]
[294,null,null,null,null,null,null,null,null,null,null,null,null,0]
[295,null,null,null,null,null,null,null,null,null,null,null,null,0]
[296,null,null,null,null,null,null,null,null,null,null,null,null,0]
[297,null,null,null,null,null,null,null,null,null,null,null,null,0]
[298,null,null,null,null,null,null,null,null,null,null,null,null,0]
[299,null,null,null,null,null,null,null,null,null,null,null,null,0]
[300,null,null,null,null,null,null,null,null,null,null,null,null,0]
[]
[]
[]
[]
[null,null,"    "]
[null,null,null,null,null,null,null,null,"            "]

{"sheet":"Jean-Pierre","index":2,"n_rows":303,"n_cols":10,"rows_kept":303,"cut":false,"hidden":true,"merged":[[0,0,1,1]]}
[{"$f":"MID(CELL(\"nomfichier\",J1),FIND(\"]\",CELL(\"nomfichier\",J1),20)+1,32)","v":"Jean-Pierre"},null,null,{"$f":"IF(SUM(I$1:I$64839)=0,\"Aucune action ouverte\",IF(SUM(I$1:I$64839)>1,CONCATENATE(SUM(I$1:I$64839),\" actions ouvertes\"),\"Une action ouverte\"))","v":"Aucune action ouverte"}]
[null,null,81,{"$f":"IF(SUM(J$1:J$64839)=0,\"Aucune action clôturée en 2 mois\",IF(SUM(J$1:J$64839)>1,CONCATENATE(SUM(J$1:J$64839),\" actions réglées en 2 mois\"),\"Une action réglée en 2 mois\"))","v":"Aucune action clôturée en 2 mois"}]
["N°","Libellé","Date enregistrement","Actions","Date objectif","Date clôture","Efficacité","Commentaires"]
[{"$f":"IF( Ecarts!$E3=$A$1,IF( Ecarts!B3=\"\",\"\",Ecarts!A3),\"\")","v":""},{"$f":"IF( Ecarts!$E3=$A$1,IF( Ecarts!C3=\"\",\"\",Ecarts!C3),\"\")","v":""},{"$f":"IF( Ecarts!$E3=$A$1, IF(Ecarts!F3=\"\",\"\",Ecarts!F3),\"\")","v":""},{"$f":"IF( Ecarts!$E3=$A$1, IF(Ecarts!I3=\"\",\"\",Ecarts!I3),\"\")","v":""},{"$f":"IF( Ecarts!$E3=$A$1, IF(Ecarts!J3=\"\",\"\",Ecarts!J3),\"\")","v":""},{"$f":"IF( Ecarts!$E3=$A$1, IF(Ecarts!K3=\"\",\"\",Ecarts!K3),\"\")","v":""},{"$f":"IF( Ecarts!$E3=$A$1, IF(Ecarts!L3=\"\",\"\",Ecarts!L3),\"\")","v":""},{"$f":"IF( Ecarts!$E3=$A$1, IF(Ecarts!M3=\"\",\"\",Ecarts!M3),\"\")","v":""},{"$f":"IF(B4=\"\",0,IF(G4=1,0,1))","v":0},{"$f":"IF(F4=\"\",0,IF(F4>(TODAY()-60),1,0))","v":0}]
[{"$f":"IF( Ecarts!$E4=$A$1,IF( Ecarts!B4=\"\",\"\",Ecarts!A4),\"\")","v":""},{"$f":"IF( Ecarts!$E4=$A$1,IF( Ecarts!C4=\"\",\"\",Ecarts!C4),\"\")","v":""},{"$f":"IF( Ecarts!$E4=$A$1, IF(Ecarts!F4=\"\",\"\",Ecarts!F4),\"\")","v":""},{"$f":"IF( Ecarts!$E4=$A$1, IF(Ecarts!I4=\"\",\"\",Ecarts!I4),\"\")","v":""},{"$f":"IF( Ecarts!$E4=$A$1, IF(Ecarts!J4=\"\",\"\",Ecarts!J4),\"\")","v":""},{"$f":"IF( Ecarts!$E4=$A$1, IF(Ecarts!K4=\"\",\"\",Ecarts!K4),\"\")","v":""},{"$f":"IF( Ecarts!$E4=$A$1, IF(Ecarts!L4=\"\",\"\",Ecarts!L4),\"\")","v":""},{"$f":"IF( Ecarts!$E4=$A$1, IF(Ecarts!M4=\"\",\"\",Ecarts!M4),\"\")","v":""},{"$f":"IF(B5=\"\",0,IF(G5=1,0,1))","v":0},{"$f":"IF(F5=\"\",0,IF(F5>(TODAY()-60),1,0))","v":0}]
[{"$f":"IF( Ecarts!$E5=$A$1,IF( Ecarts!B5=\"\",\"\",Ecarts!A5),\"\")","v":""},{"$f":"IF( Ecarts!$E5=$A$1,IF( Ecarts!C5=\"\",\"\",Ecarts!C5),\"\")","v":""},{"$f":"IF( Ecarts!$E5=$A$1, IF(Ecarts!F5=\"\",\"\",Ecarts!F5),\"\")","v":""},{"$f":"IF( Ecarts!$E5=$A$1, IF(Ecarts!I5=\"\",\"\",Ecarts!I5),\"\")","v":""},{"$f":"IF( Ecarts!$E5=$A$1, IF(Ecarts!J5=\"\",\"\",Ecarts!J5),\"\")","v":""},{"$f":"IF( Ecarts!$E5=$A$1, IF(Ecarts!K5=\"\",\"\",Ecarts!K5),\"\")","v":""},{"$f":"IF( Ecarts!$E5=$A$1, IF(Ecarts!L5=\"\",\"\",Ecarts!L5),\"\")","v":""},{"$f":"IF( Ecarts!$E5=$A$1, IF(Ecarts!M5=\"\",\"\",Ecarts!M5),\"\")","v":""},0,0]
[{"$f":"IF( Ecarts!$E6=$A$1,IF( Ecarts!B6=\"\",\"\",Ecarts!A6),\"\")","v":""},{"$f":"IF( Ecarts!$E6=$A$1,IF( Ecarts!C6=\"\",\"\",Ecarts!C6),\"\")","v":""},{"$f":"IF( Ecarts!$E6=$A$1, IF(Ecarts!F6=\"\",\"\",Ecarts!F6),\"\")","v":""},{"$f":"IF( Ecarts!$E6=$A$1, IF(Ecarts!I6=\"\",\"\",Ecarts!I6),\"\")","v":""},{"$f":"IF( Ecarts!$E6=$A$1, IF(Ecarts!J6=\"\",\"\",Ecarts!J6),\"\")","v":""},{"$f":"IF( Ecarts!$E6=$A$1, IF(Ecarts!K6=\"\",\"\",Ecarts!K6),\"\")","v":""},{"$f":"IF( Ecarts!$E6=$A$1, IF(Ecarts!L6=\"\",\"\",Ecarts!L6),\"\")","v":""},{"$f":"IF( Ecarts!$E6=$A$1, IF(Ecarts!M6=\"\",\"\",Ecarts!M6),\"\")","v":""},0,0]
[{"$f":"IF( Ecarts!$E7=$A$1,IF( Ecarts!B7=\"\",\"\",Ecarts!A7),\"\")","v":""},{"$f":"IF( Ecarts!$E7=$A$1,IF( Ecarts!C7=\"\",\"\",Ecarts!C7),\"\")","v":""},{"$f":"IF( Ecarts!$E7=$A$1, IF(Ecarts!F7=\"\",\"\",Ecarts!F7),\"\")","v":""},{"$f":"IF( Ecarts!$E7=$A$1, IF(Ecarts!I7=\"\",\"\",Ecarts!I7),\"\")","v":""},{"$f":"IF( Ecarts!$E7=$A$1, IF(Ecarts!J7=\"\",\"\",Ecarts!J7),\"\")","v":""},{"$f":"IF( Ecarts!$E7=$A$1, IF(Ecarts!K7=\"\",\"\",Ecarts!K7),\"\")","v":""},{"$f":"IF( Ecarts!$E7=$A$1, IF(Ecarts!L7=\"\",\"\",Ecarts!L7),\"\")","v":""},{"$f":"IF( Ecarts!$E7=$A$1, IF(Ecarts!M7=\"\",\"\",Ecarts!M7),\"\")","v":""},0,0]
[{"$f":"IF( Ecarts!$E8=$A$1,IF( Ecarts!B8=\"\",\"\",Ecarts!A8),\"\")","v":""},{"$f":"IF( Ecarts!$E8=$A$1,IF( Ecarts!C8=\"\",\"\",Ecarts!C8),\"\")","v":""},{"$f":"IF( Ecarts!$E8=$A$1, IF(Ecarts!F8=\"\",\"\",Ecarts!F8),\"\")","v":""},{"$f":"IF( Ecarts!$E8=$A$1, IF(Ecarts!I8=\"\",\"\",Ecarts!I8),\"\")","v":""},{"$f":"IF( Ecarts!$E8=$A$1, IF(Ecarts!J8=\"\",\"\",Ecarts!J8),\"\")","v":""},{"$f":"IF( Ecarts!$E8=$A$1, IF(Ecarts!K8=\"\",\"\",Ecarts!K8),\"\")","v":""},{"$f":"IF( Ecarts!$E8=$A$1, IF(Ecarts!L8=\"\",\"\",Ecarts!L8),\"\")","v":""},{"$f":"IF( Ecarts!$E8=$A$1, IF(Ecarts!M8=\"\",\"\",Ecarts!M8),\"\")","v":""},0,0]
[{"$f":"IF( Ecarts!$E9=$A$1,IF( Ecarts!B9=\"\",\"\",Ecarts!A9),\"\")","v":""},{"$f":"IF( Ecarts!$E9=$A$1,IF( Ecarts!C9=\"\",\"\",Ecarts!C9),\"\")","v":""},{"$f":"IF( Ecarts!$E9=$A$1, IF(Ecarts!F9=\"\",\"\",Ecarts!F9),\"\")","v":""},{"$f":"IF( Ecarts!$E9=$A$1, IF(Ecarts!I9=\"\",\"\",Ecarts!I9),\"\")","v":""},{"$f":"IF( Ecarts!$E9=$A$1, IF(Ecarts!J9=\"\",\"\",Ecarts!J9),\"\")","v":""},{"$f":"IF( Ecarts!$E9=$A$1, IF(Ecarts!K9=\"\",\"\",Ecarts!K9),\"\")","v":""},{"$f":"IF( Ecarts!$E9=$A$1, IF(Ecarts!L9=\"\",\"\",Ecarts!L9),\"\")","v":""},{"$f":"IF( Ecarts!$E9=$A$1, IF(Ecarts!M9=\"\",\"\",Ecarts!M9),\"\")","v":""},0,0]
[{"$f":"IF( Ecarts!$E10=$A$1,IF( Ecarts!B10=\"\",\"\",Ecarts!A10),\"\")","v":""},{"$f":"IF( Ecarts!$E10=$A$1,IF( Ecarts!C10=\"\",\"\",Ecarts!C10),\"\")","v":""},{"$f":"IF( Ecarts!$E10=$A$1, IF(Ecarts!F10=\"\",\"\",Ecarts!F10),\"\")","v":""},{"$f":"IF( Ecarts!$E10=$A$1, IF(Ecarts!I10=\"\",\"\",Ecarts!I10),\"\")","v":""},{"$f":"IF( Ecarts!$E10=$A$1, IF(Ecarts!J10=\"\",\"\",Ecarts!J10),\"\")","v":""},{"$f":"IF( Ecarts!$E10=$A$1, IF(Ecarts!K10=\"\",\"\",Ecarts!K10),\"\")","v":""},{"$f":"IF( Ecarts!$E10=$A$1, IF(Ecarts!L10=\"\",\"\",Ecarts!L10),\"\")","v":""},{"$f":"IF( Ecarts!$E10=$A$1, IF(Ecarts!M10=\"\",\"\",Ecarts!M10),\"\")","v":""},0,0]
[{"$f":"IF( Ecarts!$E11=$A$1,IF( Ecarts!B11=\"\",\"\",Ecarts!A11),\"\")","v":""},{"$f":"IF( Ecarts!$E11=$A$1,IF( Ecarts!C11=\"\",\"\",Ecarts!C11),\"\")","v":""},{"$f":"IF( Ecarts!$E11=$A$1, IF(Ecarts!F11=\"\",\"\",Ecarts!F11),\"\")","v":""},{"$f":"IF( Ecarts!$E11=$A$1, IF(Ecarts!I11=\"\",\"\",Ecarts!I11),\"\")","v":""},{"$f":"IF( Ecarts!$E11=$A$1, IF(Ecarts!J11=\"\",\"\",Ecarts!J11),\"\")","v":""},{"$f":"IF( Ecarts!$E11=$A$1, IF(Ecarts!K11=\"\",\"\",Ecarts!K11),\"\")","v":""},{"$f":"IF( Ecarts!$E11=$A$1, IF(Ecarts!L11=\"\",\"\",Ecarts!L11),\"\")","v":""},{"$f":"IF( Ecarts!$E11=$A$1, IF(Ecarts!M11=\"\",\"\",Ecarts!M11),\"\")","v":""},0,0]
[{"$f":"IF( Ecarts!$E12=$A$1,IF( Ecarts!B12=\"\",\"\",Ecarts!A12),\"\")","v":""},{"$f":"IF( Ecarts!$E12=$A$1,IF( Ecarts!C12=\"\",\"\",Ecarts!C12),\"\")","v":""},{"$f":"IF( Ecarts!$E12=$A$1, IF(Ecarts!F12=\"\",\"\",Ecarts!F12),\"\")","v":""},{"$f":"IF( Ecarts!$E12=$A$1, IF(Ecarts!I12=\"\",\"\",Ecarts!I12),\"\")","v":""},{"$f":"IF( Ecarts!$E12=$A$1, IF(Ecarts!J12=\"\",\"\",Ecarts!J12),\"\")","v":""},{"$f":"IF( Ecarts!$E12=$A$1, IF(Ecarts!K12=\"\",\"\",Ecarts!K12),\"\")","v":""},{"$f":"IF( Ecarts!$E12=$A$1, IF(Ecarts!L12=\"\",\"\",Ecarts!L12),\"\")","v":""},{"$f":"IF( Ecarts!$E12=$A$1, IF(Ecarts!M12=\"\",\"\",Ecarts!M12),\"\")","v":""},0,0]
[{"$f":"IF( Ecarts!$E13=$A$1,IF( Ecarts!B13=\"\",\"\",Ecarts!A13),\"\")","v":""},{"$f":"IF( Ecarts!$E13=$A$1,IF( Ecarts!C13=\"\",\"\",Ecarts!C13),\"\")","v":""},{"$f":"IF( Ecarts!$E13=$A$1, IF(Ecarts!F13=\"\",\"\",Ecarts!F13),\"\")","v":""},{"$f":"IF( Ecarts!$E13=$A$1, IF(Ecarts!I13=\"\",\"\",Ecarts!I13),\"\")","v":""},{"$f":"IF( Ecarts!$E13=$A$1, IF(Ecarts!J13=\"\",\"\",Ecarts!J13),\"\")","v":""},{"$f":"IF( Ecarts!$E13=$A$1, IF(Ecarts!K13=\"\",\"\",Ecarts!K13),\"\")","v":""},{"$f":"IF( Ecarts!$E13=$A$1, IF(Ecarts!L13=\"\",\"\",Ecarts!L13),\"\")","v":""},{"$f":"IF( Ecarts!$E13=$A$1, IF(Ecarts!M13=\"\",\"\",Ecarts!M13),\"\")","v":""},0,0]
[{"$f":"IF( Ecarts!$E14=$A$1,IF( Ecarts!B14=\"\",\"\",Ecarts!A14),\"\")","v":""},{"$f":"IF( Ecarts!$E14=$A$1,IF( Ecarts!C14=\"\",\"\",Ecarts!C14),\"\")","v":""},{"$f":"IF( Ecarts!$E14=$A$1, IF(Ecarts!F14=\"\",\"\",Ecarts!F14),\"\")","v":""},{"$f":"IF( Ecarts!$E14=$A$1, IF(Ecarts!I14=\"\",\"\",Ecarts!I14),\"\")","v":""},{"$f":"IF( Ecarts!$E14=$A$1, IF(Ecarts!J14=\"\",\"\",Ecarts!J14),\"\")","v":""},{"$f":"IF( Ecarts!$E14=$A$1, IF(Ecarts!K14=\"\",\"\",Ecarts!K14),\"\")","v":""},{"$f":"IF( Ecarts!$E14=$A$1, IF(Ecarts!L14=\"\",\"\",Ecarts!L14),\"\")","v":""},{"$f":"IF( Ecarts!$E14=$A$1, IF(Ecarts!M14=\"\",\"\",Ecarts!M14),\"\")","v":""},0,0]
[{"$f":"IF( Ecarts!$E15=$A$1,IF( Ecarts!B15=\"\",\"\",Ecarts!A15),\"\")","v":""},{"$f":"IF( Ecarts!$E15=$A$1,IF( Ecarts!C15=\"\",\"\",Ecarts!C15),\"\")","v":""},{"$f":"IF( Ecarts!$E15=$A$1, IF(Ecarts!F15=\"\",\"\",Ecarts!F15),\"\")","v":""},{"$f":"IF( Ecarts!$E15=$A$1, IF(Ecarts!I15=\"\",\"\",Ecarts!I15),\"\")","v":""},{"$f":"IF( Ecarts!$E15=$A$1, IF(Ecarts!J15=\"\",\"\",Ecarts!J15),\"\")","v":""},{"$f":"IF( Ecarts!$E15=$A$1, IF(Ecarts!K15=\"\",\"\",Ecarts!K15),\"\")","v":""},{"$f":"IF( Ecarts!$E15=$A$1, IF(Ecarts!L15=\"\",\"\",Ecarts!L15),\"\")","v":""},{"$f":"IF( Ecarts!$E15=$A$1, IF(Ecarts!M15=\"\",\"\",Ecarts!M15),\"\")","v":""},0,0]
[{"$f":"IF( Ecarts!$E16=$A$1,IF( Ecarts!B16=\"\",\"\",Ecarts!A16),\"\")","v":""},{"$f":"IF( Ecarts!$E16=$A$1,IF( Ecarts!C16=\"\",\"\",Ecarts!C16),\"\")","v":""},{"$f":"IF( Ecarts!$E16=$A$1, IF(Ecarts!F16=\"\",\"\",Ecarts!F16),\"\")","v":""},{"$f":"IF( Ecarts!$E16=$A$1, IF(Ecarts!I16=\"\",\"\",Ecarts!I16),\"\")","v":""},{"$f":"IF( Ecarts!$E16=$A$1, IF(Ecarts!J16=\"\",\"\",Ecarts!J16),\"\")","v":""},{"$f":"IF( Ecarts!$E16=$A$1, IF(Ecarts!K16=\"\",\"\",Ecarts!K16),\"\")","v":""},{"$f":"IF( Ecarts!$E16=$A$1, IF(Ecarts!L16=\"\",\"\",Ecarts!L16),\"\")","v":""},{"$f":"IF( Ecarts!$E16=$A$1, IF(Ecarts!M16=\"\",\"\",Ecarts!M16),\"\")","v":""},0,0]
[{"$f":"IF( Ecarts!$E17=$A$1,IF( Ecarts!B17=\"\",\"\",Ecarts!A17),\"\")","v":""},{"$f":"IF( Ecarts!$E17=$A$1,IF( Ecarts!C17=\"\",\"\",Ecarts!C17),\"\")","v":""},{"$f":"IF( Ecarts!$E17=$A$1, IF(Ecarts!F17=\"\",\"\",Ecarts!F17),\"\")","v":""},{"$f":"IF( Ecarts!$E17=$A$1, IF(Ecarts!I17=\"\",\"\",Ecarts!I17),\"\")","v":""},{"$f":"IF( Ecarts!$E17=$A$1, IF(Ecarts!J17=\"\",\"\",Ecarts!J17),\"\")","v":""},{"$f":"IF( Ecarts!$E17=$A$1, IF(Ecarts!K17=\"\",\"\",Ecarts!K17),\"\")","v":""},{"$f":"IF( Ecarts!$E17=$A$1, IF(Ecarts!L17=\"\",\"\",Ecarts!L17),\"\")","v":""},{"$f":"IF( Ecarts!$E17=$A$1, IF(Ecarts!M17=\"\",\"\",Ecarts!M17),\"\")","v":""},0,0]
[{"$f":"IF( Ecarts!$E18=$A$1,IF( Ecarts!B18=\"\",\"\",Ecarts!A18),\"\")","v":""},{"$f":"IF( Ecarts!$E18=$A$1,IF( Ecarts!C18=\"\",\"\",Ecarts!C18),\"\")","v":""},{"$f":"IF( Ecarts!$E18=$A$1, IF(Ecarts!F18=\"\",\"\",Ecarts!F18),\"\")","v":""},{"$f":"IF( Ecarts!$E18=$A$1, IF(Ecarts!I18=\"\",\"\",Ecarts!I18),\"\")","v":""},{"$f":"IF( Ecarts!$E18=$A$1, IF(Ecarts!J18=\"\",\"\",Ecarts!J18),\"\")","v":""},{"$f":"IF( Ecarts!$E18=$A$1, IF(Ecarts!K18=\"\",\"\",Ecarts!K18),\"\")","v":""},{"$f":"IF( Ecarts!$E18=$A$1, IF(Ecarts!L18=\"\",\"\",Ecarts!L18),\"\")","v":""},{"$f":"IF( Ecarts!$E18=$A$1, IF(Ecarts!M18=\"\",\"\",Ecarts!M18),\"\")","v":""},0,0]
[{"$f":"IF( Ecarts!$E19=$A$1,IF( Ecarts!B19=\"\",\"\",Ecarts!A19),\"\")","v":""},{"$f":"IF( Ecarts!$E19=$A$1,IF( Ecarts!C19=\"\",\"\",Ecarts!C19),\"\")","v":""},{"$f":"IF( Ecarts!$E19=$A$1, IF(Ecarts!F19=\"\",\"\",Ecarts!F19),\"\")","v":""},{"$f":"IF( Ecarts!$E19=$A$1, IF(Ecarts!I19=\"\",\"\",Ecarts!I19),\"\")","v":""},{"$f":"IF( Ecarts!$E19=$A$1, IF(Ecarts!J19=\"\",\"\",Ecarts!J19),\"\")","v":""},{"$f":"IF( Ecarts!$E19=$A$1, IF(Ecarts!K19=\"\",\"\",Ecarts!K19),\"\")","v":""},{"$f":"IF( Ecarts!$E19=$A$1, IF(Ecarts!L19=\"\",\"\",Ecarts!L19),\"\")","v":""},{"$f":"IF( Ecarts!$E19=$A$1, IF(Ecarts!M19=\"\",\"\",Ecarts!M19),\"\")","v":""},0,0]
[{"$f":"IF( Ecarts!$E20=$A$1,IF( Ecarts!B20=\"\",\"\",Ecarts!A20),\"\")","v":""},{"$f":"IF( Ecarts!$E20=$A$1,IF( Ecarts!C20=\"\",\"\",Ecarts!C20),\"\")","v":""},{"$f":"IF( Ecarts!$E20=$A$1, IF(Ecarts!F20=\"\",\"\",Ecarts!F20),\"\")","v":""},{"$f":"IF( Ecarts!$E20=$A$1, IF(Ecarts!I20=\"\",\"\",Ecarts!I20),\"\")","v":""},{"$f":"IF( Ecarts!$E20=$A$1, IF(Ecarts!J20=\"\",\"\",Ecarts!J20),\"\")","v":""},{"$f":"IF( Ecarts!$E20=$A$1, IF(Ecarts!K20=\"\",\"\",Ecarts!K20),\"\")","v":""},{"$f":"IF( Ecarts!$E20=$A$1, IF(Ecarts!L20=\"\",\"\",Ecarts!L20),\"\")","v":""},{"$f":"IF( Ecarts!$E20=$A$1, IF(Ecarts!M20=\"\",\"\",Ecarts!M20),\"\")","v":""},0,0]
[{"$f":"IF( Ecarts!$E21=$A$1,IF( Ecarts!B21=\"\",\"\",Ecarts!A21),\"\")","v":""},{"$f":"IF( Ecarts!$E21=$A$1,IF( Ecarts!C21=\"\",\"\",Ecarts!C21),\"\")","v":""},{"$f":"IF( Ecarts!$E21=$A$1, IF(Ecarts!F21=\"\",\"\",Ecarts!F21),\"\")","v":""},{"$f":"IF( Ecarts!$E21=$A$1, IF(Ecarts!I21=\"\",\"\",Ecarts!I21),\"\")","v":""},{"$f":"IF( Ecarts!$E21=$A$1, IF(Ecarts!J21=\"\",\"\",Ecarts!J21),\"\")","v":""},{"$f":"IF( Ecarts!$E21=$A$1, IF(Ecarts!K21=\"\",\"\",Ecarts!K21),\"\")","v":""},{"$f":"IF( Ecarts!$E21=$A$1, IF(Ecarts!L21=\"\",\"\",Ecarts!L21),\"\")","v":""},{"$f":"IF( Ecarts!$E21=$A$1, IF(Ecarts!M21=\"\",\"\",Ecarts!M21),\"\")","v":""},0,0]
[{"$f":"IF( Ecarts!$E22=$A$1,IF( Ecarts!B22=\"\",\"\",Ecarts!A22),\"\")","v":""},{"$f":"IF( Ecarts!$E22=$A$1,IF( Ecarts!C22=\"\",\"\",Ecarts!C22),\"\")","v":""},{"$f":"IF( Ecarts!$E22=$A$1, IF(Ecarts!F22=\"\",\"\",Ecarts!F22),\"\")","v":""},{"$f":"IF( Ecarts!$E22=$A$1, IF(Ecarts!I22=\"\",\"\",Ecarts!I22),\"\")","v":""},{"$f":"IF( Ecarts!$E22=$A$1, IF(Ecarts!J22=\"\",\"\",Ecarts!J22),\"\")","v":""},{"$f":"IF( Ecarts!$E22=$A$1, IF(Ecarts!K22=\"\",\"\",Ecarts!K22),\"\")","v":""},{"$f":"IF( Ecarts!$E22=$A$1, IF(Ecarts!L22=\"\",\"\",Ecarts!L22),\"\")","v":""},{"$f":"IF( Ecarts!$E22=$A$1, IF(Ecarts!M22=\"\",\"\",Ecarts!M22),\"\")","v":""},0,0]
[{"$f":"IF( Ecarts!$E23=$A$1,IF( Ecarts!B23=\"\",\"\",Ecarts!A23),\"\")","v":""},{"$f":"IF( Ecarts!$E23=$A$1,IF( Ecarts!C23=\"\",\"\",Ecarts!C23),\"\")","v":""},{"$f":"IF( Ecarts!$E23=$A$1, IF(Ecarts!F23=\"\",\"\",Ecarts!F23),\"\")","v":""},{"$f":"IF( Ecarts!$E23=$A$1, IF(Ecarts!I23=\"\",\"\",Ecarts!I23),\"\")","v":""},{"$f":"IF( Ecarts!$E23=$A$1, IF(Ecarts!J23=\"\",\"\",Ecarts!J23),\"\")","v":""},{"$f":"IF( Ecarts!$E23=$A$1, IF(Ecarts!K23=\"\",\"\",Ecarts!K23),\"\")","v":""},{"$f":"IF( Ecarts!$E23=$A$1, IF(Ecarts!L23=\"\",\"\",Ecarts!L23),\"\")","v":""},{"$f":"IF( Ecarts!$E23=$A$1, IF(Ecarts!M23=\"\",\"\",Ecarts!M23),\"\")","v":""},0,0]
[{"$f":"IF( Ecarts!$E24=$A$1,IF( Ecarts!B24=\"\",\"\",Ecarts!A24),\"\")","v":""},{"$f":"IF( Ecarts!$E24=$A$1,IF( Ecarts!C24=\"\",\"\",Ecarts!C24),\"\")","v":""},{"$f":"IF( Ecarts!$E24=$A$1, IF(Ecarts!F24=\"\",\"\",Ecarts!F24),\"\")","v":""},{"$f":"IF( Ecarts!$E24=$A$1, IF(Ecarts!I24=\"\",\"\",Ecarts!I24),\"\")","v":""},{"$f":"IF( Ecarts!$E24=$A$1, IF(Ecarts!J24=\"\",\"\",Ecarts!J24),\"\")","v":""},{"$f":"IF( Ecarts!$E24=$A$1, IF(Ecarts!K24=\"\",\"\",Ecarts!K24),\"\")","v":""},{"$f":"IF( Ecarts!$E24=$A$1, IF(Ecarts!L24=\"\",\"\",Ecarts!L24),\"\")","v":""},{"$f":"IF( Ecarts!$E24=$A$1, IF(Ecarts!M24=\"\",\"\",Ecarts!M24),\"\")","v":""},0,0]
[{"$f":"IF( Ecarts!$E25=$A$1,IF( Ecarts!B25=\"\",\"\",Ecarts!A25),\"\")","v":""},{"$f":"IF( Ecarts!$E25=$A$1,IF( Ecarts!C25=\"\",\"\",Ecarts!C25),\"\")","v":""},{"$f":"IF( Ecarts!$E25=$A$1, IF(Ecarts!F25=\"\",\"\",Ecarts!F25),\"\")","v":""},{"$f":"IF( Ecarts!$E25=$A$1, IF(Ecarts!I25=\"\",\"\",Ecarts!I25),\"\")","v":""},{"$f":"IF( Ecarts!$E25=$A$1, IF(Ecarts!J25=\"\",\"\",Ecarts!J25),\"\")","v":""},{"$f":"IF( Ecarts!$E25=$A$1, IF(Ecarts!K25=\"\",\"\",Ecarts!K25),\"\")","v":""},{"$f":"IF( Ecarts!$E25=$A$1, IF(Ecarts!L25=\"\",\"\",Ecarts!L25),\"\")","v":""},{"$f":"IF( Ecarts!$E25=$A$1, IF(Ecarts!M25=\"\",\"\",Ecarts!M25),\"\")","v":""},0,0]
[{"$f":"IF( Ecarts!$E26=$A$1,IF( Ecarts!B26=\"\",\"\",Ecarts!A26),\"\")","v":""},{"$f":"IF( Ecarts!$E26=$A$1,IF( Ecarts!C26=\"\",\"\",Ecarts!C26),\"\")","v":""},{"$f":"IF( Ecarts!$E26=$A$1, IF(Ecarts!F26=\"\",\"\",Ecarts!F26),\"\")","v":""},{"$f":"IF( Ecarts!$E26=$A$1, IF(Ecarts!I26=\"\",\"\",Ecarts!I26),\"\")","v":""},{"$f":"IF( Ecarts!$E26=$A$1, IF(Ecarts!J26=\"\",\"\",Ecarts!J26),\"\")","v":""},{"$f":"IF( Ecarts!$E26=$A$1, IF(Ecarts!K26=\"\",\"\",Ecarts!K26),\"\")","v":""},{"$f":"IF( Ecarts!$E26=$A$1, IF(Ecarts!L26=\"\",\"\",Ecarts!L26),\"\")","v":""},{"$f":"IF( Ecarts!$E26=$A$1, IF(Ecarts!M26=\"\",\"\",Ecarts!M26),\"\")","v":""},0,0]
[{"$f":"IF( Ecarts!$E27=$A$1,IF( Ecarts!B27=\"\",\"\",Ecarts!A27),\"\")","v":""},{"$f":"IF( Ecarts!$E27=$A$1,IF( Ecarts!C27=\"\",\"\",Ecarts!C27),\"\")","v":""},{"$f":"IF( Ecarts!$E27=$A$1, IF(Ecarts!F27=\"\",\"\",Ecarts!F27),\"\")","v":""},{"$f":"IF( Ecarts!$E27=$A$1, IF(Ecarts!I27=\"\",\"\",Ecarts!I27),\"\")","v":""},{"$f":"IF( Ecarts!$E27=$A$1, IF(Ecarts!J27=\"\",\"\",Ecarts!J27),\"\")","v":""},{"$f":"IF( Ecarts!$E27=$A$1, IF(Ecarts!K27=\"\",\"\",Ecarts!K27),\"\")","v":""},{"$f":"IF( Ecarts!$E27=$A$1, IF(Ecarts!L27=\"\",\"\",Ecarts!L27),\"\")","v":""},{"$f":"IF( Ecarts!$E27=$A$1, IF(Ecarts!M27=\"\",\"\",Ecarts!M27),\"\")","v":""},0,0]
[{"$f":"IF( Ecarts!$E28=$A$1,IF( Ecarts!B28=\"\",\"\",Ecarts!A28),\"\")","v":""},{"$f":"IF( Ecarts!$E28=$A$1,IF( Ecarts!C28=\"\",\"\",Ecarts!C28),\"\")","v":""},{"$f":"IF( Ecarts!$E28=$A$1, IF(Ecarts!F28=\"\",\"\",Ecarts!F28),\"\")","v":""},{"$f":"IF( Ecarts!$E28=$A$1, IF(Ecarts!I28=\"\",\"\",Ecarts!I28),\"\")","v":""},{"$f":"IF( Ecarts!$E28=$A$1, IF(Ecarts!J28=\"\",\"\",Ecarts!J28),\"\")","v":""},{"$f":"IF( Ecarts!$E28=$A$1, IF(Ecarts!K28=\"\",\"\",Ecarts!K28),\"\")","v":""},{"$f":"IF( Ecarts!$E28=$A$1, IF(Ecarts!L28=\"\",\"\",Ecarts!L28),\"\")","v":""},{"$f":"IF( Ecarts!$E28=$A$1, IF(Ecarts!M28=\"\",\"\",Ecarts!M28),\"\")","v":""},0,0]
[{"$f":"IF( Ecarts!$E29=$A$1,IF( Ecarts!B29=\"\",\"\",Ecarts!A29),\"\")","v":""},{"$f":"IF( Ecarts!$E29=$A$1,IF( Ecarts!C29=\"\",\"\",Ecarts!C29),\"\")","v":""},{"$f":"IF( Ecarts!$E29=$A$1, IF(Ecarts!F29=\"\",\"\",Ecarts!F29),\"\")","v":""},{"$f":"IF( Ecarts!$E29=$A$1, IF(Ecarts!I29=\"\",\"\",Ecarts!I29),\"\")","v":""},{"$f":"IF( Ecarts!$E29=$A$1, IF(Ecarts!J29=\"\",\"\",Ecarts!J29),\"\")","v":""},{"$f":"IF( Ecarts!$E29=$A$1, IF(Ecarts!K29=\"\",\"\",Ecarts!K29),\"\")","v":""},{"$f":"IF( Ecarts!$E29=$A$1, IF(Ecarts!L29=\"\",\"\",Ecarts!L29),\"\")","v":""},{"$f":"IF( Ecarts!$E29=$A$1, IF(Ecarts!M29=\"\",\"\",Ecarts!M29),\"\")","v":""},0,0]
[{"$f":"IF( Ecarts!$E30=$A$1,IF( Ecarts!B30=\"\",\"\",Ecarts!A30),\"\")","v":""},{"$f":"IF( Ecarts!$E30=$A$1,IF( Ecarts!C30=\"\",\"\",Ecarts!C30),\"\")","v":""},{"$f":"IF( Ecarts!$E30=$A$1, IF(Ecarts!F30=\"\",\"\",Ecarts!F30),\"\")","v":""},{"$f":"IF( Ecarts!$E30=$A$1, IF(Ecarts!I30=\"\",\"\",Ecarts!I30),\"\")","v":""},{"$f":"IF( Ecarts!$E30=$A$1, IF(Ecarts!J30=\"\",\"\",Ecarts!J30),\"\")","v":""},{"$f":"IF( Ecarts!$E30=$A$1, IF(Ecarts!K30=\"\",\"\",Ecarts!K30),\"\")","v":""},{"$f":"IF( Ecarts!$E30=$A$1, IF(Ecarts!L30=\"\",\"\",Ecarts!L30),\"\")","v":""},{"$f":"IF( Ecarts!$E30=$A$1, IF(Ecarts!M30=\"\",\"\",Ecarts!M30),\"\")","v":""},0,0]
[{"$f":"IF( Ecarts!$E31=$A$1,IF( Ecarts!B31=\"\",\"\",Ecarts!A31),\"\")","v":""},{"$f":"IF( Ecarts!$E31=$A$1,IF( Ecarts!C31=\"\",\"\",Ecarts!C31),\"\")","v":""},{"$f":"IF( Ecarts!$E31=$A$1, IF(Ecarts!F31=\"\",\"\",Ecarts!F31),\"\")","v":""},{"$f":"IF( Ecarts!$E31=$A$1, IF(Ecarts!I31=\"\",\"\",Ecarts!I31),\"\")","v":""},{"$f":"IF( Ecarts!$E31=$A$1, IF(Ecarts!J31=\"\",\"\",Ecarts!J31),\"\")","v":""},{"$f":"IF( Ecarts!$E31=$A$1, IF(Ecarts!K31=\"\",\"\",Ecarts!K31),\"\")","v":""},{"$f":"IF( Ecarts!$E31=$A$1, IF(Ecarts!L31=\"\",\"\",Ecarts!L31),\"\")","v":""},{"$f":"IF( Ecarts!$E31=$A$1, IF(Ecarts!M31=\"\",\"\",Ecarts!M31),\"\")","v":""},0,0]
[{"$f":"IF( Ecarts!$E32=$A$1,IF( Ecarts!B32=\"\",\"\",Ecarts!A32),\"\")","v":""},{"$f":"IF( Ecarts!$E32=$A$1,IF( Ecarts!C32=\"\",\"\",Ecarts!C32),\"\")","v":""},{"$f":"IF( Ecarts!$E32=$A$1, IF(Ecarts!F32=\"\",\"\",Ecarts!F32),\"\")","v":""},{"$f":"IF( Ecarts!$E32=$A$1, IF(Ecarts!I32=\"\",\"\",Ecarts!I32),\"\")","v":""},{"$f":"IF( Ecarts!$E32=$A$1, IF(Ecarts!J32=\"\",\"\",Ecarts!J32),\"\")","v":""},{"$f":"IF( Ecarts!$E32=$A$1, IF(Ecarts!K32=\"\",\"\",Ecarts!K32),\"\")","v":""},{"$f":"IF( Ecarts!$E32=$A$1, IF(Ecarts!L32=\"\",\"\",Ecarts!L32),\"\")","v":""},{"$f":"IF( Ecarts!$E32=$A$1, IF(Ecarts!M32=\"\",\"\",Ecarts!M32),\"\")","v":""},0,0]
[{"$f":"IF( Ecarts!$E33=$A$1,IF( Ecarts!B33=\"\",\"\",Ecarts!A33),\"\")","v":""},{"$f":"IF( Ecarts!$E33=$A$1,IF( Ecarts!C33=\"\",\"\",Ecarts!C33),\"\")","v":""},{"$f":"IF( Ecarts!$E33=$A$1, IF(Ecarts!F33=\"\",\"\",Ecarts!F33),\"\")","v":""},{"$f":"IF( Ecarts!$E33=$A$1, IF(Ecarts!I33=\"\",\"\",Ecarts!I33),\"\")","v":""},{"$f":"IF( Ecarts!$E33=$A$1, IF(Ecarts!J33=\"\",\"\",Ecarts!J33),\"\")","v":""},{"$f":"IF( Ecarts!$E33=$A$1, IF(Ecarts!K33=\"\",\"\",Ecarts!K33),\"\")","v":""},{"$f":"IF( Ecarts!$E33=$A$1, IF(Ecarts!L33=\"\",\"\",Ecarts!L33),\"\")","v":""},{"$f":"IF( Ecarts!$E33=$A$1, IF(Ecarts!M33=\"\",\"\",Ecarts!M33),\"\")","v":""},0,0]
[{"$f":"IF( Ecarts!$E34=$A$1,IF( Ecarts!B34=\"\",\"\",Ecarts!A34),\"\")","v":""},{"$f":"IF( Ecarts!$E34=$A$1,IF( Ecarts!C34=\"\",\"\",Ecarts!C34),\"\")","v":""},{"$f":"IF( Ecarts!$E34=$A$1, IF(Ecarts!F34=\"\",\"\",Ecarts!F34),\"\")","v":""},{"$f":"IF( Ecarts!$E34=$A$1, IF(Ecarts!I34=\"\",\"\",Ecarts!I34),\"\")","v":""},{"$f":"IF( Ecarts!$E34=$A$1, IF(Ecarts!J34=\"\",\"\",Ecarts!J34),\"\")","v":""},{"$f":"IF( Ecarts!$E34=$A$1, IF(Ecarts!K34=\"\",\"\",Ecarts!K34),\"\")","v":""},{"$f":"IF( Ecarts!$E34=$A$1, IF(Ecarts!L34=\"\",\"\",Ecarts!L34),\"\")","v":""},{"$f":"IF( Ecarts!$E34=$A$1, IF(Ecarts!M34=\"\",\"\",Ecarts!M34),\"\")","v":""},0,0]
[{"$f":"IF( Ecarts!$E35=$A$1,IF( Ecarts!B35=\"\",\"\",Ecarts!A35),\"\")","v":""},{"$f":"IF( Ecarts!$E35=$A$1,IF( Ecarts!C35=\"\",\"\",Ecarts!C35),\"\")","v":""},{"$f":"IF( Ecarts!$E35=$A$1, IF(Ecarts!F35=\"\",\"\",Ecarts!F35),\"\")","v":""},{"$f":"IF( Ecarts!$E35=$A$1, IF(Ecarts!I35=\"\",\"\",Ecarts!I35),\"\")","v":""},{"$f":"IF( Ecarts!$E35=$A$1, IF(Ecarts!J35=\"\",\"\",Ecarts!J35),\"\")","v":""},{"$f":"IF( Ecarts!$E35=$A$1, IF(Ecarts!K35=\"\",\"\",Ecarts!K35),\"\")","v":""},{"$f":"IF( Ecarts!$E35=$A$1, IF(Ecarts!L35=\"\",\"\",Ecarts!L35),\"\")","v":""},{"$f":"IF( Ecarts!$E35=$A$1, IF(Ecarts!M35=\"\",\"\",Ecarts!M35),\"\")","v":""},0,0]
[{"$f":"IF( Ecarts!$E36=$A$1,IF( Ecarts!B36=\"\",\"\",Ecarts!A36),\"\")","v":""},{"$f":"IF( Ecarts!$E36=$A$1,IF( Ecarts!C36=\"\",\"\",Ecarts!C36),\"\")","v":""},{"$f":"IF( Ecarts!$E36=$A$1, IF(Ecarts!F36=\"\",\"\",Ecarts!F36),\"\")","v":""},{"$f":"IF( Ecarts!$E36=$A$1, IF(Ecarts!I36=\"\",\"\",Ecarts!I36),\"\")","v":""},{"$f":"IF( Ecarts!$E36=$A$1, IF(Ecarts!J36=\"\",\"\",Ecarts!J36),\"\")","v":""},{"$f":"IF( Ecarts!$E36=$A$1, IF(Ecarts!K36=\"\",\"\",Ecarts!K36),\"\")","v":""},{"$f":"IF( Ecarts!$E36=$A$1, IF(Ecarts!L36=\"\",\"\",Ecarts!L36),\"\")","v":""},{"$f":"IF( Ecarts!$E36=$A$1, IF(Ecarts!M36=\"\",\"\",Ecarts!M36),\"\")","v":""},0,0]
[{"$f":"IF( Ecarts!$E37=$A$1,IF( Ecarts!B37=\"\",\"\",Ecarts!A37),\"\")","v":""},{"$f":"IF( Ecarts!$E37=$A$1,IF( Ecarts!C37=\"\",\"\",Ecarts!C37),\"\")","v":""},{"$f":"IF( Ecarts!$E37=$A$1, IF(Ecarts!F37=\"\",\"\",Ecarts!F37),\"\")","v":""},{"$f":"IF( Ecarts!$E37=$A$1, IF(Ecarts!I37=\"\",\"\",Ecarts!I37),\"\")","v":""},{"$f":"IF( Ecarts!$E37=$A$1, IF(Ecarts!J37=\"\",\"\",Ecarts!J37),\"\")","v":""},{"$f":"IF( Ecarts!$E37=$A$1, IF(Ecarts!K37=\"\",\"\",Ecarts!K37),\"\")","v":""},{"$f":"IF( Ecarts!$E37=$A$1, IF(Ecarts!L37=\"\",\"\",Ecarts!L37),\"\")","v":""},{"$f":"IF( Ecarts!$E37=$A$1, IF(Ecarts!M37=\"\",\"\",Ecarts!M37),\"\")","v":""},0,0]
[{"$f":"IF( Ecarts!$E38=$A$1,IF( Ecarts!B38=\"\",\"\",Ecarts!A38),\"\")","v":""},{"$f":"IF( Ecarts!$E38=$A$1,IF( Ecarts!C38=\"\",\"\",Ecarts!C38),\"\")","v":""},{"$f":"IF( Ecarts!$E38=$A$1, IF(Ecarts!F38=\"\",\"\",Ecarts!F38),\"\")","v":""},{"$f":"IF( Ecarts!$E38=$A$1, IF(Ecarts!I38=\"\",\"\",Ecarts!I38),\"\")","v":""},{"$f":"IF( Ecarts!$E38=$A$1, IF(Ecarts!J38=\"\",\"\",Ecarts!J38),\"\")","v":""},{"$f":"IF( Ecarts!$E38=$A$1, IF(Ecarts!K38=\"\",\"\",Ecarts!K38),\"\")","v":""},{"$f":"IF( Ecarts!$E38=$A$1, IF(Ecarts!L38=\"\",\"\",Ecarts!L38),\"\")","v":""},{"$f":"IF( Ecarts!$E38=$A$1, IF(Ecarts!M38=\"\",\"\",Ecarts!M38),\"\")","v":""},0,0]
[{"$f":"IF( Ecarts!$E39=$A$1,IF( Ecarts!B39=\"\",\"\",Ecarts!A39),\"\")","v":""},{"$f":"IF( Ecarts!$E39=$A$1,IF( Ecarts!C39=\"\",\"\",Ecarts!C39),\"\")","v":""},{"$f":"IF( Ecarts!$E39=$A$1, IF(Ecarts!F39=\"\",\"\",Ecarts!F39),\"\")","v":""},{"$f":"IF( Ecarts!$E39=$A$1, IF(Ecarts!I39=\"\",\"\",Ecarts!I39),\"\")","v":""},{"$f":"IF( Ecarts!$E39=$A$1, IF(Ecarts!J39=\"\",\"\",Ecarts!J39),\"\")","v":""},{"$f":"IF( Ecarts!$E39=$A$1, IF(Ecarts!K39=\"\",\"\",Ecarts!K39),\"\")","v":""},{"$f":"IF( Ecarts!$E39=$A$1, IF(Ecarts!L39=\"\",\"\",Ecarts!L39),\"\")","v":""},{"$f":"IF( Ecarts!$E39=$A$1, IF(Ecarts!M39=\"\",\"\",Ecarts!M39),\"\")","v":""},0,0]
[{"$f":"IF( Ecarts!$E40=$A$1,IF( Ecarts!B40=\"\",\"\",Ecarts!A40),\"\")","v":""},{"$f":"IF( Ecarts!$E40=$A$1,IF( Ecarts!C40=\"\",\"\",Ecarts!C40),\"\")","v":""},{"$f":"IF( Ecarts!$E40=$A$1, IF(Ecarts!F40=\"\",\"\",Ecarts!F40),\"\")","v":""},{"$f":"IF( Ecarts!$E40=$A$1, IF(Ecarts!I40=\"\",\"\",Ecarts!I40),\"\")","v":""},{"$f":"IF( Ecarts!$E40=$A$1, IF(Ecarts!J40=\"\",\"\",Ecarts!J40),\"\")","v":""},{"$f":"IF( Ecarts!$E40=$A$1, IF(Ecarts!K40=\"\",\"\",Ecarts!K40),\"\")","v":""},{"$f":"IF( Ecarts!$E40=$A$1, IF(Ecarts!L40=\"\",\"\",Ecarts!L40),\"\")","v":""},{"$f":"IF( Ecarts!$E40=$A$1, IF(Ecarts!M40=\"\",\"\",Ecarts!M40),\"\")","v":""},0,0]
[{"$f":"IF( Ecarts!$E41=$A$1,IF( Ecarts!B41=\"\",\"\",Ecarts!A41),\"\")","v":""},{"$f":"IF( Ecarts!$E41=$A$1,IF( Ecarts!C41=\"\",\"\",Ecarts!C41),\"\")","v":""},{"$f":"IF( Ecarts!$E41=$A$1, IF(Ecarts!F41=\"\",\"\",Ecarts!F41),\"\")","v":""},{"$f":"IF( Ecarts!$E41=$A$1, IF(Ecarts!I41=\"\",\"\",Ecarts!I41),\"\")","v":""},{"$f":"IF( Ecarts!$E41=$A$1, IF(Ecarts!J41=\"\",\"\",Ecarts!J41),\"\")","v":""},{"$f":"IF( Ecarts!$E41=$A$1, IF(Ecarts!K41=\"\",\"\",Ecarts!K41),\"\")","v":""},{"$f":"IF( Ecarts!$E41=$A$1, IF(Ecarts!L41=\"\",\"\",Ecarts!L41),\"\")","v":""},{"$f":"IF( Ecarts!$E41=$A$1, IF(Ecarts!M41=\"\",\"\",Ecarts!M41),\"\")","v":""},0,0]
[{"$f":"IF( Ecarts!$E42=$A$1,IF( Ecarts!B42=\"\",\"\",Ecarts!A42),\"\")","v":""},{"$f":"IF( Ecarts!$E42=$A$1,IF( Ecarts!C42=\"\",\"\",Ecarts!C42),\"\")","v":""},{"$f":"IF( Ecarts!$E42=$A$1, IF(Ecarts!F42=\"\",\"\",Ecarts!F42),\"\")","v":""},{"$f":"IF( Ecarts!$E42=$A$1, IF(Ecarts!I42=\"\",\"\",Ecarts!I42),\"\")","v":""},{"$f":"IF( Ecarts!$E42=$A$1, IF(Ecarts!J42=\"\",\"\",Ecarts!J42),\"\")","v":""},{"$f":"IF( Ecarts!$E42=$A$1, IF(Ecarts!K42=\"\",\"\",Ecarts!K42),\"\")","v":""},{"$f":"IF( Ecarts!$E42=$A$1, IF(Ecarts!L42=\"\",\"\",Ecarts!L42),\"\")","v":""},{"$f":"IF( Ecarts!$E42=$A$1, IF(Ecarts!M42=\"\",\"\",Ecarts!M42),\"\")","v":""},0,0]
[{"$f":"IF( Ecarts!$E43=$A$1,IF( Ecarts!B43=\"\",\"\",Ecarts!A43),\"\")","v":""},{"$f":"IF( Ecarts!$E43=$A$1,IF( Ecarts!C43=\"\",\"\",Ecarts!C43),\"\")","v":""},{"$f":"IF( Ecarts!$E43=$A$1, IF(Ecarts!F43=\"\",\"\",Ecarts!F43),\"\")","v":""},{"$f":"IF( Ecarts!$E43=$A$1, IF(Ecarts!I43=\"\",\"\",Ecarts!I43),\"\")","v":""},{"$f":"IF( Ecarts!$E43=$A$1, IF(Ecarts!J43=\"\",\"\",Ecarts!J43),\"\")","v":""},{"$f":"IF( Ecarts!$E43=$A$1, IF(Ecarts!K43=\"\",\"\",Ecarts!K43),\"\")","v":""},{"$f":"IF( Ecarts!$E43=$A$1, IF(Ecarts!L43=\"\",\"\",Ecarts!L43),\"\")","v":""},{"$f":"IF( Ecarts!$E43=$A$1, IF(Ecarts!M43=\"\",\"\",Ecarts!M43),\"\")","v":""},0,0]
[{"$f":"IF( Ecarts!$E44=$A$1,IF( Ecarts!B44=\"\",\"\",Ecarts!A44),\"\")","v":""},{"$f":"IF( Ecarts!$E44=$A$1,IF( Ecarts!C44=\"\",\"\",Ecarts!C44),\"\")","v":""},{"$f":"IF( Ecarts!$E44=$A$1, IF(Ecarts!F44=\"\",\"\",Ecarts!F44),\"\")","v":""},{"$f":"IF( Ecarts!$E44=$A$1, IF(Ecarts!I44=\"\",\"\",Ecarts!I44),\"\")","v":""},{"$f":"IF( Ecarts!$E44=$A$1, IF(Ecarts!J44=\"\",\"\",Ecarts!J44),\"\")","v":""},{"$f":"IF( Ecarts!$E44=$A$1, IF(Ecarts!K44=\"\",\"\",Ecarts!K44),\"\")","v":""},{"$f":"IF( Ecarts!$E44=$A$1, IF(Ecarts!L44=\"\",\"\",Ecarts!L44),\"\")","v":""},{"$f":"IF( Ecarts!$E44=$A$1, IF(Ecarts!M44=\"\",\"\",Ecarts!M44),\"\")","v":""},0,0]
[{"$f":"IF( Ecarts!$E45=$A$1,IF( Ecarts!B45=\"\",\"\",Ecarts!A45),\"\")","v":""},{"$f":"IF( Ecarts!$E45=$A$1,IF( Ecarts!C45=\"\",\"\",Ecarts!C45),\"\")","v":""},{"$f":"IF( Ecarts!$E45=$A$1, IF(Ecarts!F45=\"\",\"\",Ecarts!F45),\"\")","v":""},{"$f":"IF( Ecarts!$E45=$A$1, IF(Ecarts!I45=\"\",\"\",Ecarts!I45),\"\")","v":""},{"$f":"IF( Ecarts!$E45=$A$1, IF(Ecarts!J45=\"\",\"\",Ecarts!J45),\"\")","v":""},{"$f":"IF( Ecarts!$E45=$A$1, IF(Ecarts!K45=\"\",\"\",Ecarts!K45),\"\")","v":""},{"$f":"IF( Ecarts!$E45=$A$1, IF(Ecarts!L45=\"\",\"\",Ecarts!L45),\"\")","v":""},{"$f":"IF( Ecarts!$E45=$A$1, IF(Ecarts!M45=\"\",\"\",Ecarts!M45),\"\")","v":""},0,0]
[{"$f":"IF( Ecarts!$E46=$A$1,IF( Ecarts!B46=\"\",\"\",Ecarts!A46),\"\")","v":""},{"$f":"IF( Ecarts!$E46=$A$1,IF( Ecarts!C46=\"\",\"\",Ecarts!C46),\"\")","v":""},{"$f":"IF( Ecarts!$E46=$A$1, IF(Ecarts!F46=\"\",\"\",Ecarts!F46),\"\")","v":""},{"$f":"IF( Ecarts!$E46=$A$1, IF(Ecarts!I46=\"\",\"\",Ecarts!I46),\"\")","v":""},{"$f":"IF( Ecarts!$E46=$A$1, IF(Ecarts!J46=\"\",\"\",Ecarts!J46),\"\")","v":""},{"$f":"IF( Ecarts!$E46=$A$1, IF(Ecarts!K46=\"\",\"\",Ecarts!K46),\"\")","v":""},{"$f":"IF( Ecarts!$E46=$A$1, IF(Ecarts!L46=\"\",\"\",Ecarts!L46),\"\")","v":""},{"$f":"IF( Ecarts!$E46=$A$1, IF(Ecarts!M46=\"\",\"\",Ecarts!M46),\"\")","v":""},0,0]
[{"$f":"IF( Ecarts!$E47=$A$1,IF( Ecarts!B47=\"\",\"\",Ecarts!A47),\"\")","v":""},{"$f":"IF( Ecarts!$E47=$A$1,IF( Ecarts!C47=\"\",\"\",Ecarts!C47),\"\")","v":""},{"$f":"IF( Ecarts!$E47=$A$1, IF(Ecarts!F47=\"\",\"\",Ecarts!F47),\"\")","v":""},{"$f":"IF( Ecarts!$E47=$A$1, IF(Ecarts!I47=\"\",\"\",Ecarts!I47),\"\")","v":""},{"$f":"IF( Ecarts!$E47=$A$1, IF(Ecarts!J47=\"\",\"\",Ecarts!J47),\"\")","v":""},{"$f":"IF( Ecarts!$E47=$A$1, IF(Ecarts!K47=\"\",\"\",Ecarts!K47),\"\")","v":""},{"$f":"IF( Ecarts!$E47=$A$1, IF(Ecarts!L47=\"\",\"\",Ecarts!L47),\"\")","v":""},{"$f":"IF( Ecarts!$E47=$A$1, IF(Ecarts!M47=\"\",\"\",Ecarts!M47),\"\")","v":""},0,0]
[{"$f":"IF( Ecarts!$E48=$A$1,IF( Ecarts!B48=\"\",\"\",Ecarts!A48),\"\")","v":""},{"$f":"IF( Ecarts!$E48=$A$1,IF( Ecarts!C48=\"\",\"\",Ecarts!C48),\"\")","v":""},{"$f":"IF( Ecarts!$E48=$A$1, IF(Ecarts!F48=\"\",\"\",Ecarts!F48),\"\")","v":""},{"$f":"IF( Ecarts!$E48=$A$1, IF(Ecarts!I48=\"\",\"\",Ecarts!I48),\"\")","v":""},{"$f":"IF( Ecarts!$E48=$A$1, IF(Ecarts!J48=\"\",\"\",Ecarts!J48),\"\")","v":""},{"$f":"IF( Ecarts!$E48=$A$1, IF(Ecarts!K48=\"\",\"\",Ecarts!K48),\"\")","v":""},{"$f":"IF( Ecarts!$E48=$A$1, IF(Ecarts!L48=\"\",\"\",Ecarts!L48),\"\")","v":""},{"$f":"IF( Ecarts!$E48=$A$1, IF(Ecarts!M48=\"\",\"\",Ecarts!M48),\"\")","v":""},0,0]
[{"$f":"IF( Ecarts!$E49=$A$1,IF( Ecarts!B49=\"\",\"\",Ecarts!A49),\"\")","v":""},{"$f":"IF( Ecarts!$E49=$A$1,IF( Ecarts!C49=\"\",\"\",Ecarts!C49),\"\")","v":""},{"$f":"IF( Ecarts!$E49=$A$1, IF(Ecarts!F49=\"\",\"\",Ecarts!F49),\"\")","v":""},{"$f":"IF( Ecarts!$E49=$A$1, IF(Ecarts!I49=\"\",\"\",Ecarts!I49),\"\")","v":""},{"$f":"IF( Ecarts!$E49=$A$1, IF(Ecarts!J49=\"\",\"\",Ecarts!J49),\"\")","v":""},{"$f":"IF( Ecarts!$E49=$A$1, IF(Ecarts!K49=\"\",\"\",Ecarts!K49),\"\")","v":""},{"$f":"IF( Ecarts!$E49=$A$1, IF(Ecarts!L49=\"\",\"\",Ecarts!L49),\"\")","v":""},{"$f":"IF( Ecarts!$E49=$A$1, IF(Ecarts!M49=\"\",\"\",Ecarts!M49),\"\")","v":""},0,0]
[{"$f":"IF( Ecarts!$E50=$A$1,IF( Ecarts!B50=\"\",\"\",Ecarts!A50),\"\")","v":""},{"$f":"IF( Ecarts!$E50=$A$1,IF( Ecarts!C50=\"\",\"\",Ecarts!C50),\"\")","v":""},{"$f":"IF( Ecarts!$E50=$A$1, IF(Ecarts!F50=\"\",\"\",Ecarts!F50),\"\")","v":""},{"$f":"IF( Ecarts!$E50=$A$1, IF(Ecarts!I50=\"\",\"\",Ecarts!I50),\"\")","v":""},{"$f":"IF( Ecarts!$E50=$A$1, IF(Ecarts!J50=\"\",\"\",Ecarts!J50),\"\")","v":""},{"$f":"IF( Ecarts!$E50=$A$1, IF(Ecarts!K50=\"\",\"\",Ecarts!K50),\"\")","v":""},{"$f":"IF( Ecarts!$E50=$A$1, IF(Ecarts!L50=\"\",\"\",Ecarts!L50),\"\")","v":""},{"$f":"IF( Ecarts!$E50=$A$1, IF(Ecarts!M50=\"\",\"\",Ecarts!M50),\"\")","v":""},0,0]
[{"$f":"IF( Ecarts!$E51=$A$1,IF( Ecarts!B51=\"\",\"\",Ecarts!A51),\"\")","v":""},{"$f":"IF( Ecarts!$E51=$A$1,IF( Ecarts!C51=\"\",\"\",Ecarts!C51),\"\")","v":""},{"$f":"IF( Ecarts!$E51=$A$1, IF(Ecarts!F51=\"\",\"\",Ecarts!F51),\"\")","v":""},{"$f":"IF( Ecarts!$E51=$A$1, IF(Ecarts!I51=\"\",\"\",Ecarts!I51),\"\")","v":""},{"$f":"IF( Ecarts!$E51=$A$1, IF(Ecarts!J51=\"\",\"\",Ecarts!J51),\"\")","v":""},{"$f":"IF( Ecarts!$E51=$A$1, IF(Ecarts!K51=\"\",\"\",Ecarts!K51),\"\")","v":""},{"$f":"IF( Ecarts!$E51=$A$1, IF(Ecarts!L51=\"\",\"\",Ecarts!L51),\"\")","v":""},{"$f":"IF( Ecarts!$E51=$A$1, IF(Ecarts!M51=\"\",\"\",Ecarts!M51),\"\")","v":""},0,0]
[{"$f":"IF( Ecarts!$E52=$A$1,IF( Ecarts!B52=\"\",\"\",Ecarts!A52),\"\")","v":""},{"$f":"IF( Ecarts!$E52=$A$1,IF( Ecarts!C52=\"\",\"\",Ecarts!C52),\"\")","v":""},{"$f":"IF( Ecarts!$E52=$A$1, IF(Ecarts!F52=\"\",\"\",Ecarts!F52),\"\")","v":""},{"$f":"IF( Ecarts!$E52=$A$1, IF(Ecarts!I52=\"\",\"\",Ecarts!I52),\"\")","v":""},{"$f":"IF( Ecarts!$E52=$A$1, IF(Ecarts!J52=\"\",\"\",Ecarts!J52),\"\")","v":""},{"$f":"IF( Ecarts!$E52=$A$1, IF(Ecarts!K52=\"\",\"\",Ecarts!K52),\"\")","v":""},{"$f":"IF( Ecarts!$E52=$A$1, IF(Ecarts!L52=\"\",\"\",Ecarts!L52),\"\")","v":""},{"$f":"IF( Ecarts!$E52=$A$1, IF(Ecarts!M52=\"\",\"\",Ecarts!M52),\"\")","v":""},0,0]
[{"$f":"IF( Ecarts!$E53=$A$1,IF( Ecarts!B53=\"\",\"\",Ecarts!A53),\"\")","v":""},{"$f":"IF( Ecarts!$E53=$A$1,IF( Ecarts!C53=\"\",\"\",Ecarts!C53),\"\")","v":""},{"$f":"IF( Ecarts!$E53=$A$1, IF(Ecarts!F53=\"\",\"\",Ecarts!F53),\"\")","v":""},{"$f":"IF( Ecarts!$E53=$A$1, IF(Ecarts!I53=\"\",\"\",Ecarts!I53),\"\")","v":""},{"$f":"IF( Ecarts!$E53=$A$1, IF(Ecarts!J53=\"\",\"\",Ecarts!J53),\"\")","v":""},{"$f":"IF( Ecarts!$E53=$A$1, IF(Ecarts!K53=\"\",\"\",Ecarts!K53),\"\")","v":""},{"$f":"IF( Ecarts!$E53=$A$1, IF(Ecarts!L53=\"\",\"\",Ecarts!L53),\"\")","v":""},{"$f":"IF( Ecarts!$E53=$A$1, IF(Ecarts!M53=\"\",\"\",Ecarts!M53),\"\")","v":""},0,0]
[{"$f":"IF( Ecarts!$E54=$A$1,IF( Ecarts!B54=\"\",\"\",Ecarts!A54),\"\")","v":""},{"$f":"IF( Ecarts!$E54=$A$1,IF( Ecarts!C54=\"\",\"\",Ecarts!C54),\"\")","v":""},{"$f":"IF( Ecarts!$E54=$A$1, IF(Ecarts!F54=\"\",\"\",Ecarts!F54),\"\")","v":""},{"$f":"IF( Ecarts!$E54=$A$1, IF(Ecarts!I54=\"\",\"\",Ecarts!I54),\"\")","v":""},{"$f":"IF( Ecarts!$E54=$A$1, IF(Ecarts!J54=\"\",\"\",Ecarts!J54),\"\")","v":""},{"$f":"IF( Ecarts!$E54=$A$1, IF(Ecarts!K54=\"\",\"\",Ecarts!K54),\"\")","v":""},{"$f":"IF( Ecarts!$E54=$A$1, IF(Ecarts!L54=\"\",\"\",Ecarts!L54),\"\")","v":""},{"$f":"IF( Ecarts!$E54=$A$1, IF(Ecarts!M54=\"\",\"\",Ecarts!M54),\"\")","v":""},0,0]
[{"$f":"IF( Ecarts!$E55=$A$1,IF( Ecarts!B55=\"\",\"\",Ecarts!A55),\"\")","v":""},{"$f":"IF( Ecarts!$E55=$A$1,IF( Ecarts!C55=\"\",\"\",Ecarts!C55),\"\")","v":""},{"$f":"IF( Ecarts!$E55=$A$1, IF(Ecarts!F55=\"\",\"\",Ecarts!F55),\"\")","v":""},{"$f":"IF( Ecarts!$E55=$A$1, IF(Ecarts!I55=\"\",\"\",Ecarts!I55),\"\")","v":""},{"$f":"IF( Ecarts!$E55=$A$1, IF(Ecarts!J55=\"\",\"\",Ecarts!J55),\"\")","v":""},{"$f":"IF( Ecarts!$E55=$A$1, IF(Ecarts!K55=\"\",\"\",Ecarts!K55),\"\")","v":""},{"$f":"IF( Ecarts!$E55=$A$1, IF(Ecarts!L55=\"\",\"\",Ecarts!L55),\"\")","v":""},{"$f":"IF( Ecarts!$E55=$A$1, IF(Ecarts!M55=\"\",\"\",Ecarts!M55),\"\")","v":""},0,0]
[{"$f":"IF( Ecarts!$E56=$A$1,IF( Ecarts!B56=\"\",\"\",Ecarts!A56),\"\")","v":""},{"$f":"IF( Ecarts!$E56=$A$1,IF( Ecarts!C56=\"\",\"\",Ecarts!C56),\"\")","v":""},{"$f":"IF( Ecarts!$E56=$A$1, IF(Ecarts!F56=\"\",\"\",Ecarts!F56),\"\")","v":""},{"$f":"IF( Ecarts!$E56=$A$1, IF(Ecarts!I56=\"\",\"\",Ecarts!I56),\"\")","v":""},{"$f":"IF( Ecarts!$E56=$A$1, IF(Ecarts!J56=\"\",\"\",Ecarts!J56),\"\")","v":""},{"$f":"IF( Ecarts!$E56=$A$1, IF(Ecarts!K56=\"\",\"\",Ecarts!K56),\"\")","v":""},{"$f":"IF( Ecarts!$E56=$A$1, IF(Ecarts!L56=\"\",\"\",Ecarts!L56),\"\")","v":""},{"$f":"IF( Ecarts!$E56=$A$1, IF(Ecarts!M56=\"\",\"\",Ecarts!M56),\"\")","v":""},0,0]
[{"$f":"IF( Ecarts!$E57=$A$1,IF( Ecarts!B57=\"\",\"\",Ecarts!A57),\"\")","v":""},{"$f":"IF( Ecarts!$E57=$A$1,IF( Ecarts!C57=\"\",\"\",Ecarts!C57),\"\")","v":""},{"$f":"IF( Ecarts!$E57=$A$1, IF(Ecarts!F57=\"\",\"\",Ecarts!F57),\"\")","v":""},{"$f":"IF( Ecarts!$E57=$A$1, IF(Ecarts!I57=\"\",\"\",Ecarts!I57),\"\")","v":""},{"$f":"IF( Ecarts!$E57=$A$1, IF(Ecarts!J57=\"\",\"\",Ecarts!J57),\"\")","v":""},{"$f":"IF( Ecarts!$E57=$A$1, IF(Ecarts!K57=\"\",\"\",Ecarts!K57),\"\")","v":""},{"$f":"IF( Ecarts!$E57=$A$1, IF(Ecarts!L57=\"\",\"\",Ecarts!L57),\"\")","v":""},{"$f":"IF( Ecarts!$E57=$A$1, IF(Ecarts!M57=\"\",\"\",Ecarts!M57),\"\")","v":""},0,0]
[{"$f":"IF( Ecarts!$E58=$A$1,IF( Ecarts!B58=\"\",\"\",Ecarts!A58),\"\")","v":""},{"$f":"IF( Ecarts!$E58=$A$1,IF( Ecarts!C58=\"\",\"\",Ecarts!C58),\"\")","v":""},{"$f":"IF( Ecarts!$E58=$A$1, IF(Ecarts!F58=\"\",\"\",Ecarts!F58),\"\")","v":""},{"$f":"IF( Ecarts!$E58=$A$1, IF(Ecarts!I58=\"\",\"\",Ecarts!I58),\"\")","v":""},{"$f":"IF( Ecarts!$E58=$A$1, IF(Ecarts!J58=\"\",\"\",Ecarts!J58),\"\")","v":""},{"$f":"IF( Ecarts!$E58=$A$1, IF(Ecarts!K58=\"\",\"\",Ecarts!K58),\"\")","v":""},{"$f":"IF( Ecarts!$E58=$A$1, IF(Ecarts!L58=\"\",\"\",Ecarts!L58),\"\")","v":""},{"$f":"IF( Ecarts!$E58=$A$1, IF(Ecarts!M58=\"\",\"\",Ecarts!M58),\"\")","v":""},0,0]
[{"$f":"IF( Ecarts!$E59=$A$1,IF( Ecarts!B59=\"\",\"\",Ecarts!A59),\"\")","v":""},{"$f":"IF( Ecarts!$E59=$A$1,IF( Ecarts!C59=\"\",\"\",Ecarts!C59),\"\")","v":""},{"$f":"IF( Ecarts!$E59=$A$1, IF(Ecarts!F59=\"\",\"\",Ecarts!F59),\"\")","v":""},{"$f":"IF( Ecarts!$E59=$A$1, IF(Ecarts!I59=\"\",\"\",Ecarts!I59),\"\")","v":""},{"$f":"IF( Ecarts!$E59=$A$1, IF(Ecarts!J59=\"\",\"\",Ecarts!J59),\"\")","v":""},{"$f":"IF( Ecarts!$E59=$A$1, IF(Ecarts!K59=\"\",\"\",Ecarts!K59),\"\")","v":""},{"$f":"IF( Ecarts!$E59=$A$1, IF(Ecarts!L59=\"\",\"\",Ecarts!L59),\"\")","v":""},{"$f":"IF( Ecarts!$E59=$A$1, IF(Ecarts!M59=\"\",\"\",Ecarts!M59),\"\")","v":""},0,0]
[{"$f":"IF( Ecarts!$E60=$A$1,IF( Ecarts!B60=\"\",\"\",Ecarts!A60),\"\")","v":""},{"$f":"IF( Ecarts!$E60=$A$1,IF( Ecarts!C60=\"\",\"\",Ecarts!C60),\"\")","v":""},{"$f":"IF( Ecarts!$E60=$A$1, IF(Ecarts!F60=\"\",\"\",Ecarts!F60),\"\")","v":""},{"$f":"IF( Ecarts!$E60=$A$1, IF(Ecarts!I60=\"\",\"\",Ecarts!I60),\"\")","v":""},{"$f":"IF( Ecarts!$E60=$A$1, IF(Ecarts!J60=\"\",\"\",Ecarts!J60),\"\")","v":""},{"$f":"IF( Ecarts!$E60=$A$1, IF(Ecarts!K60=\"\",\"\",Ecarts!K60),\"\")","v":""},{"$f":"IF( Ecarts!$E60=$A$1, IF(Ecarts!L60=\"\",\"\",Ecarts!L60),\"\")","v":""},{"$f":"IF( Ecarts!$E60=$A$1, IF(Ecarts!M60=\"\",\"\",Ecarts!M60),\"\")","v":""},0,0]
[{"$f":"IF( Ecarts!$E61=$A$1,IF( Ecarts!B61=\"\",\"\",Ecarts!A61),\"\")","v":""},{"$f":"IF( Ecarts!$E61=$A$1,IF( Ecarts!C61=\"\",\"\",Ecarts!C61),\"\")","v":""},{"$f":"IF( Ecarts!$E61=$A$1, IF(Ecarts!F61=\"\",\"\",Ecarts!F61),\"\")","v":""},{"$f":"IF( Ecarts!$E61=$A$1, IF(Ecarts!I61=\"\",\"\",Ecarts!I61),\"\")","v":""},{"$f":"IF( Ecarts!$E61=$A$1, IF(Ecarts!J61=\"\",\"\",Ecarts!J61),\"\")","v":""},{"$f":"IF( Ecarts!$E61=$A$1, IF(Ecarts!K61=\"\",\"\",Ecarts!K61),\"\")","v":""},{"$f":"IF( Ecarts!$E61=$A$1, IF(Ecarts!L61=\"\",\"\",Ecarts!L61),\"\")","v":""},{"$f":"IF( Ecarts!$E61=$A$1, IF(Ecarts!M61=\"\",\"\",Ecarts!M61),\"\")","v":""},0,0]
[{"$f":"IF( Ecarts!$E62=$A$1,IF( Ecarts!B62=\"\",\"\",Ecarts!A62),\"\")","v":""},{"$f":"IF( Ecarts!$E62=$A$1,IF( Ecarts!C62=\"\",\"\",Ecarts!C62),\"\")","v":""},{"$f":"IF( Ecarts!$E62=$A$1, IF(Ecarts!F62=\"\",\"\",Ecarts!F62),\"\")","v":""},{"$f":"IF( Ecarts!$E62=$A$1, IF(Ecarts!I62=\"\",\"\",Ecarts!I62),\"\")","v":""},{"$f":"IF( Ecarts!$E62=$A$1, IF(Ecarts!J62=\"\",\"\",Ecarts!J62),\"\")","v":""},{"$f":"IF( Ecarts!$E62=$A$1, IF(Ecarts!K62=\"\",\"\",Ecarts!K62),\"\")","v":""},{"$f":"IF( Ecarts!$E62=$A$1, IF(Ecarts!L62=\"\",\"\",Ecarts!L62),\"\")","v":""},{"$f":"IF( Ecarts!$E62=$A$1, IF(Ecarts!M62=\"\",\"\",Ecarts!M62),\"\")","v":""},0,0]
[{"$f":"IF( Ecarts!$E63=$A$1,IF( Ecarts!B63=\"\",\"\",Ecarts!A63),\"\")","v":""},{"$f":"IF( Ecarts!$E63=$A$1,IF( Ecarts!C63=\"\",\"\",Ecarts!C63),\"\")","v":""},{"$f":"IF( Ecarts!$E63=$A$1, IF(Ecarts!F63=\"\",\"\",Ecarts!F63),\"\")","v":""},{"$f":"IF( Ecarts!$E63=$A$1, IF(Ecarts!I63=\"\",\"\",Ecarts!I63),\"\")","v":""},{"$f":"IF( Ecarts!$E63=$A$1, IF(Ecarts!J63=\"\",\"\",Ecarts!J63),\"\")","v":""},{"$f":"IF( Ecarts!$E63=$A$1, IF(Ecarts!K63=\"\",\"\",Ecarts!K63),\"\")","v":""},{"$f":"IF( Ecarts!$E63=$A$1, IF(Ecarts!L63=\"\",\"\",Ecarts!L63),\"\")","v":""},{"$f":"IF( Ecarts!$E63=$A$1, IF(Ecarts!M63=\"\",\"\",Ecarts!M63),\"\")","v":""},0,0]
[{"$f":"IF( Ecarts!$E64=$A$1,IF( Ecarts!B64=\"\",\"\",Ecarts!A64),\"\")","v":""},{"$f":"IF( Ecarts!$E64=$A$1,IF( Ecarts!C64=\"\",\"\",Ecarts!C64),\"\")","v":""},{"$f":"IF( Ecarts!$E64=$A$1, IF(Ecarts!F64=\"\",\"\",Ecarts!F64),\"\")","v":""},{"$f":"IF( Ecarts!$E64=$A$1, IF(Ecarts!I64=\"\",\"\",Ecarts!I64),\"\")","v":""},{"$f":"IF( Ecarts!$E64=$A$1, IF(Ecarts!J64=\"\",\"\",Ecarts!J64),\"\")","v":""},{"$f":"IF( Ecarts!$E64=$A$1, IF(Ecarts!K64=\"\",\"\",Ecarts!K64),\"\")","v":""},{"$f":"IF( Ecarts!$E64=$A$1, IF(Ecarts!L64=\"\",\"\",Ecarts!L64),\"\")","v":""},{"$f":"IF( Ecarts!$E64=$A$1, IF(Ecarts!M64=\"\",\"\",Ecarts!M64),\"\")","v":""},0,0]
[{"$f":"IF( Ecarts!$E65=$A$1,IF( Ecarts!B65=\"\",\"\",Ecarts!A65),\"\")","v":""},{"$f":"IF( Ecarts!$E65=$A$1,IF( Ecarts!C65=\"\",\"\",Ecarts!C65),\"\")","v":""},{"$f":"IF( Ecarts!$E65=$A$1, IF(Ecarts!F65=\"\",\"\",Ecarts!F65),\"\")","v":""},{"$f":"IF( Ecarts!$E65=$A$1, IF(Ecarts!I65=\"\",\"\",Ecarts!I65),\"\")","v":""},{"$f":"IF( Ecarts!$E65=$A$1, IF(Ecarts!J65=\"\",\"\",Ecarts!J65),\"\")","v":""},{"$f":"IF( Ecarts!$E65=$A$1, IF(Ecarts!K65=\"\",\"\",Ecarts!K65),\"\")","v":""},{"$f":"IF( Ecarts!$E65=$A$1, IF(Ecarts!L65=\"\",\"\",Ecarts!L65),\"\")","v":""},{"$f":"IF( Ecarts!$E65=$A$1, IF(Ecarts!M65=\"\",\"\",Ecarts!M65),\"\")","v":""},0,0]
[{"$f":"IF( Ecarts!$E66=$A$1,IF( Ecarts!B66=\"\",\"\",Ecarts!A66),\"\")","v":""},{"$f":"IF( Ecarts!$E66=$A$1,IF( Ecarts!C66=\"\",\"\",Ecarts!C66),\"\")","v":""},{"$f":"IF( Ecarts!$E66=$A$1, IF(Ecarts!F66=\"\",\"\",Ecarts!F66),\"\")","v":""},{"$f":"IF( Ecarts!$E66=$A$1, IF(Ecarts!I66=\"\",\"\",Ecarts!I66),\"\")","v":""},{"$f":"IF( Ecarts!$E66=$A$1, IF(Ecarts!J66=\"\",\"\",Ecarts!J66),\"\")","v":""},{"$f":"IF( Ecarts!$E66=$A$1, IF(Ecarts!K66=\"\",\"\",Ecarts!K66),\"\")","v":""},{"$f":"IF( Ecarts!$E66=$A$1, IF(Ecarts!L66=\"\",\"\",Ecarts!L66),\"\")","v":""},{"$f":"IF( Ecarts!$E66=$A$1, IF(Ecarts!M66=\"\",\"\",Ecarts!M66),\"\")","v":""},0,0]
[{"$f":"IF( Ecarts!$E67=$A$1,IF( Ecarts!B67=\"\",\"\",Ecarts!A67),\"\")","v":""},{"$f":"IF( Ecarts!$E67=$A$1,IF( Ecarts!C67=\"\",\"\",Ecarts!C67),\"\")","v":""},{"$f":"IF( Ecarts!$E67=$A$1, IF(Ecarts!F67=\"\",\"\",Ecarts!F67),\"\")","v":""},{"$f":"IF( Ecarts!$E67=$A$1, IF(Ecarts!I67=\"\",\"\",Ecarts!I67),\"\")","v":""},{"$f":"IF( Ecarts!$E67=$A$1, IF(Ecarts!J67=\"\",\"\",Ecarts!J67),\"\")","v":""},{"$f":"IF( Ecarts!$E67=$A$1, IF(Ecarts!K67=\"\",\"\",Ecarts!K67),\"\")","v":""},{"$f":"IF( Ecarts!$E67=$A$1, IF(Ecarts!L67=\"\",\"\",Ecarts!L67),\"\")","v":""},{"$f":"IF( Ecarts!$E67=$A$1, IF(Ecarts!M67=\"\",\"\",Ecarts!M67),\"\")","v":""},0,0]
[{"$f":"IF( Ecarts!$E68=$A$1,IF( Ecarts!B68=\"\",\"\",Ecarts!A68),\"\")","v":""},{"$f":"IF( Ecarts!$E68=$A$1,IF( Ecarts!C68=\"\",\"\",Ecarts!C68),\"\")","v":""},{"$f":"IF( Ecarts!$E68=$A$1, IF(Ecarts!F68=\"\",\"\",Ecarts!F68),\"\")","v":""},{"$f":"IF( Ecarts!$E68=$A$1, IF(Ecarts!I68=\"\",\"\",Ecarts!I68),\"\")","v":""},{"$f":"IF( Ecarts!$E68=$A$1, IF(Ecarts!J68=\"\",\"\",Ecarts!J68),\"\")","v":""},{"$f":"IF( Ecarts!$E68=$A$1, IF(Ecarts!K68=\"\",\"\",Ecarts!K68),\"\")","v":""},{"$f":"IF( Ecarts!$E68=$A$1, IF(Ecarts!L68=\"\",\"\",Ecarts!L68),\"\")","v":""},{"$f":"IF( Ecarts!$E68=$A$1, IF(Ecarts!M68=\"\",\"\",Ecarts!M68),\"\")","v":""},{"$f":"IF(B69=\"\",0,IF(G69=1,0,1))","v":0},{"$f":"IF(F69=\"\",0,IF(F69>(TODAY()-60),1,0))","v":0}]
[{"$f":"IF( Ecarts!$E69=$A$1,IF( Ecarts!B69=\"\",\"\",Ecarts!A69),\"\")","v":""},{"$f":"IF( Ecarts!$E69=$A$1,IF( Ecarts!C69=\"\",\"\",Ecarts!C69),\"\")","v":""},{"$f":"IF( Ecarts!$E69=$A$1, IF(Ecarts!F69=\"\",\"\",Ecarts!F69),\"\")","v":""},{"$f":"IF( Ecarts!$E69=$A$1, IF(Ecarts!I69=\"\",\"\",Ecarts!I69),\"\")","v":""},{"$f":"IF( Ecarts!$E69=$A$1, IF(Ecarts!J69=\"\",\"\",Ecarts!J69),\"\")","v":""},{"$f":"IF( Ecarts!$E69=$A$1, IF(Ecarts!K69=\"\",\"\",Ecarts!K69),\"\")","v":""},{"$f":"IF( Ecarts!$E69=$A$1, IF(Ecarts!L69=\"\",\"\",Ecarts!L69),\"\")","v":""},{"$f":"IF( Ecarts!$E69=$A$1, IF(Ecarts!M69=\"\",\"\",Ecarts!M69),\"\")","v":""},0,0]
[{"$f":"IF( Ecarts!$E70=$A$1,IF( Ecarts!B70=\"\",\"\",Ecarts!A70),\"\")","v":""},{"$f":"IF( Ecarts!$E70=$A$1,IF( Ecarts!C70=\"\",\"\",Ecarts!C70),\"\")","v":""},{"$f":"IF( Ecarts!$E70=$A$1, IF(Ecarts!F70=\"\",\"\",Ecarts!F70),\"\")","v":""},{"$f":"IF( Ecarts!$E70=$A$1, IF(Ecarts!I70=\"\",\"\",Ecarts!I70),\"\")","v":""},{"$f":"IF( Ecarts!$E70=$A$1, IF(Ecarts!J70=\"\",\"\",Ecarts!J70),\"\")","v":""},{"$f":"IF( Ecarts!$E70=$A$1, IF(Ecarts!K70=\"\",\"\",Ecarts!K70),\"\")","v":""},{"$f":"IF( Ecarts!$E70=$A$1, IF(Ecarts!L70=\"\",\"\",Ecarts!L70),\"\")","v":""},{"$f":"IF( Ecarts!$E70=$A$1, IF(Ecarts!M70=\"\",\"\",Ecarts!M70),\"\")","v":""},0,0]
[{"$f":"IF( Ecarts!$E71=$A$1,IF( Ecarts!B71=\"\",\"\",Ecarts!A71),\"\")","v":""},{"$f":"IF( Ecarts!$E71=$A$1,IF( Ecarts!C71=\"\",\"\",Ecarts!C71),\"\")","v":""},{"$f":"IF( Ecarts!$E71=$A$1, IF(Ecarts!F71=\"\",\"\",Ecarts!F71),\"\")","v":""},{"$f":"IF( Ecarts!$E71=$A$1, IF(Ecarts!I71=\"\",\"\",Ecarts!I71),\"\")","v":""},{"$f":"IF( Ecarts!$E71=$A$1, IF(Ecarts!J71=\"\",\"\",Ecarts!J71),\"\")","v":""},{"$f":"IF( Ecarts!$E71=$A$1, IF(Ecarts!K71=\"\",\"\",Ecarts!K71),\"\")","v":""},{"$f":"IF( Ecarts!$E71=$A$1, IF(Ecarts!L71=\"\",\"\",Ecarts!L71),\"\")","v":""},{"$f":"IF( Ecarts!$E71=$A$1, IF(Ecarts!M71=\"\",\"\",Ecarts!M71),\"\")","v":""},0,0]
[{"$f":"IF( Ecarts!$E72=$A$1,IF( Ecarts!B72=\"\",\"\",Ecarts!A72),\"\")","v":""},{"$f":"IF( Ecarts!$E72=$A$1,IF( Ecarts!C72=\"\",\"\",Ecarts!C72),\"\")","v":""},{"$f":"IF( Ecarts!$E72=$A$1, IF(Ecarts!F72=\"\",\"\",Ecarts!F72),\"\")","v":""},{"$f":"IF( Ecarts!$E72=$A$1, IF(Ecarts!I72=\"\",\"\",Ecarts!I72),\"\")","v":""},{"$f":"IF( Ecarts!$E72=$A$1, IF(Ecarts!J72=\"\",\"\",Ecarts!J72),\"\")","v":""},{"$f":"IF( Ecarts!$E72=$A$1, IF(Ecarts!K72=\"\",\"\",Ecarts!K72),\"\")","v":""},{"$f":"IF( Ecarts!$E72=$A$1, IF(Ecarts!L72=\"\",\"\",Ecarts!L72),\"\")","v":""},{"$f":"IF( Ecarts!$E72=$A$1, IF(Ecarts!M72=\"\",\"\",Ecarts!M72),\"\")","v":""},0,0]
[{"$f":"IF( Ecarts!$E73=$A$1,IF( Ecarts!B73=\"\",\"\",Ecarts!A73),\"\")","v":""},{"$f":"IF( Ecarts!$E73=$A$1,IF( Ecarts!C73=\"\",\"\",Ecarts!C73),\"\")","v":""},{"$f":"IF( Ecarts!$E73=$A$1, IF(Ecarts!F73=\"\",\"\",Ecarts!F73),\"\")","v":""},{"$f":"IF( Ecarts!$E73=$A$1, IF(Ecarts!I73=\"\",\"\",Ecarts!I73),\"\")","v":""},{"$f":"IF( Ecarts!$E73=$A$1, IF(Ecarts!J73=\"\",\"\",Ecarts!J73),\"\")","v":""},{"$f":"IF( Ecarts!$E73=$A$1, IF(Ecarts!K73=\"\",\"\",Ecarts!K73),\"\")","v":""},{"$f":"IF( Ecarts!$E73=$A$1, IF(Ecarts!L73=\"\",\"\",Ecarts!L73),\"\")","v":""},{"$f":"IF( Ecarts!$E73=$A$1, IF(Ecarts!M73=\"\",\"\",Ecarts!M73),\"\")","v":""},0,0]
[{"$f":"IF( Ecarts!$E74=$A$1,IF( Ecarts!B74=\"\",\"\",Ecarts!A74),\"\")","v":""},{"$f":"IF( Ecarts!$E74=$A$1,IF( Ecarts!C74=\"\",\"\",Ecarts!C74),\"\")","v":""},{"$f":"IF( Ecarts!$E74=$A$1, IF(Ecarts!F74=\"\",\"\",Ecarts!F74),\"\")","v":""},{"$f":"IF( Ecarts!$E74=$A$1, IF(Ecarts!I74=\"\",\"\",Ecarts!I74),\"\")","v":""},{"$f":"IF( Ecarts!$E74=$A$1, IF(Ecarts!J74=\"\",\"\",Ecarts!J74),\"\")","v":""},{"$f":"IF( Ecarts!$E74=$A$1, IF(Ecarts!K74=\"\",\"\",Ecarts!K74),\"\")","v":""},{"$f":"IF( Ecarts!$E74=$A$1, IF(Ecarts!L74=\"\",\"\",Ecarts!L74),\"\")","v":""},{"$f":"IF( Ecarts!$E74=$A$1, IF(Ecarts!M74=\"\",\"\",Ecarts!M74),\"\")","v":""},0,0]
[{"$f":"IF( Ecarts!$E75=$A$1,IF( Ecarts!B75=\"\",\"\",Ecarts!A75),\"\")","v":""},{"$f":"IF( Ecarts!$E75=$A$1,IF( Ecarts!C75=\"\",\"\",Ecarts!C75),\"\")","v":""},{"$f":"IF( Ecarts!$E75=$A$1, IF(Ecarts!F75=\"\",\"\",Ecarts!F75),\"\")","v":""},{"$f":"IF( Ecarts!$E75=$A$1, IF(Ecarts!I75=\"\",\"\",Ecarts!I75),\"\")","v":""},{"$f":"IF( Ecarts!$E75=$A$1, IF(Ecarts!J75=\"\",\"\",Ecarts!J75),\"\")","v":""},{"$f":"IF( Ecarts!$E75=$A$1, IF(Ecarts!K75=\"\",\"\",Ecarts!K75),\"\")","v":""},{"$f":"IF( Ecarts!$E75=$A$1, IF(Ecarts!L75=\"\",\"\",Ecarts!L75),\"\")","v":""},{"$f":"IF( Ecarts!$E75=$A$1, IF(Ecarts!M75=\"\",\"\",Ecarts!M75),\"\")","v":""},0,0]
[{"$f":"IF( Ecarts!$E76=$A$1,IF( Ecarts!B76=\"\",\"\",Ecarts!A76),\"\")","v":""},{"$f":"IF( Ecarts!$E76=$A$1,IF( Ecarts!C76=\"\",\"\",Ecarts!C76),\"\")","v":""},{"$f":"IF( Ecarts!$E76=$A$1, IF(Ecarts!F76=\"\",\"\",Ecarts!F76),\"\")","v":""},{"$f":"IF( Ecarts!$E76=$A$1, IF(Ecarts!I76=\"\",\"\",Ecarts!I76),\"\")","v":""},{"$f":"IF( Ecarts!$E76=$A$1, IF(Ecarts!J76=\"\",\"\",Ecarts!J76),\"\")","v":""},{"$f":"IF( Ecarts!$E76=$A$1, IF(Ecarts!K76=\"\",\"\",Ecarts!K76),\"\")","v":""},{"$f":"IF( Ecarts!$E76=$A$1, IF(Ecarts!L76=\"\",\"\",Ecarts!L76),\"\")","v":""},{"$f":"IF( Ecarts!$E76=$A$1, IF(Ecarts!M76=\"\",\"\",Ecarts!M76),\"\")","v":""},0,0]
[{"$f":"IF( Ecarts!$E77=$A$1,IF( Ecarts!B77=\"\",\"\",Ecarts!A77),\"\")","v":""},{"$f":"IF( Ecarts!$E77=$A$1,IF( Ecarts!C77=\"\",\"\",Ecarts!C77),\"\")","v":""},{"$f":"IF( Ecarts!$E77=$A$1, IF(Ecarts!F77=\"\",\"\",Ecarts!F77),\"\")","v":""},{"$f":"IF( Ecarts!$E77=$A$1, IF(Ecarts!I77=\"\",\"\",Ecarts!I77),\"\")","v":""},{"$f":"IF( Ecarts!$E77=$A$1, IF(Ecarts!J77=\"\",\"\",Ecarts!J77),\"\")","v":""},{"$f":"IF( Ecarts!$E77=$A$1, IF(Ecarts!K77=\"\",\"\",Ecarts!K77),\"\")","v":""},{"$f":"IF( Ecarts!$E77=$A$1, IF(Ecarts!L77=\"\",\"\",Ecarts!L77),\"\")","v":""},{"$f":"IF( Ecarts!$E77=$A$1, IF(Ecarts!M77=\"\",\"\",Ecarts!M77),\"\")","v":""},0,0]
[{"$f":"IF( Ecarts!$E78=$A$1,IF( Ecarts!B78=\"\",\"\",Ecarts!A78),\"\")","v":""},{"$f":"IF( Ecarts!$E78=$A$1,IF( Ecarts!C78=\"\",\"\",Ecarts!C78),\"\")","v":""},{"$f":"IF( Ecarts!$E78=$A$1, IF(Ecarts!F78=\"\",\"\",Ecarts!F78),\"\")","v":""},{"$f":"IF( Ecarts!$E78=$A$1, IF(Ecarts!I78=\"\",\"\",Ecarts!I78),\"\")","v":""},{"$f":"IF( Ecarts!$E78=$A$1, IF(Ecarts!J78=\"\",\"\",Ecarts!J78),\"\")","v":""},{"$f":"IF( Ecarts!$E78=$A$1, IF(Ecarts!K78=\"\",\"\",Ecarts!K78),\"\")","v":""},{"$f":"IF( Ecarts!$E78=$A$1, IF(Ecarts!L78=\"\",\"\",Ecarts!L78),\"\")","v":""},{"$f":"IF( Ecarts!$E78=$A$1, IF(Ecarts!M78=\"\",\"\",Ecarts!M78),\"\")","v":""},0,0]
[{"$f":"IF( Ecarts!$E79=$A$1,IF( Ecarts!B79=\"\",\"\",Ecarts!A79),\"\")","v":""},{"$f":"IF( Ecarts!$E79=$A$1,IF( Ecarts!C79=\"\",\"\",Ecarts!C79),\"\")","v":""},{"$f":"IF( Ecarts!$E79=$A$1, IF(Ecarts!F79=\"\",\"\",Ecarts!F79),\"\")","v":""},{"$f":"IF( Ecarts!$E79=$A$1, IF(Ecarts!I79=\"\",\"\",Ecarts!I79),\"\")","v":""},{"$f":"IF( Ecarts!$E79=$A$1, IF(Ecarts!J79=\"\",\"\",Ecarts!J79),\"\")","v":""},{"$f":"IF( Ecarts!$E79=$A$1, IF(Ecarts!K79=\"\",\"\",Ecarts!K79),\"\")","v":""},{"$f":"IF( Ecarts!$E79=$A$1, IF(Ecarts!L79=\"\",\"\",Ecarts!L79),\"\")","v":""},{"$f":"IF( Ecarts!$E79=$A$1, IF(Ecarts!M79=\"\",\"\",Ecarts!M79),\"\")","v":""},0,0]
[{"$f":"IF( Ecarts!$E80=$A$1,IF( Ecarts!B80=\"\",\"\",Ecarts!A80),\"\")","v":""},{"$f":"IF( Ecarts!$E80=$A$1,IF( Ecarts!C80=\"\",\"\",Ecarts!C80),\"\")","v":""},{"$f":"IF( Ecarts!$E80=$A$1, IF(Ecarts!F80=\"\",\"\",Ecarts!F80),\"\")","v":""},{"$f":"IF( Ecarts!$E80=$A$1, IF(Ecarts!I80=\"\",\"\",Ecarts!I80),\"\")","v":""},{"$f":"IF( Ecarts!$E80=$A$1, IF(Ecarts!J80=\"\",\"\",Ecarts!J80),\"\")","v":""},{"$f":"IF( Ecarts!$E80=$A$1, IF(Ecarts!K80=\"\",\"\",Ecarts!K80),\"\")","v":""},{"$f":"IF( Ecarts!$E80=$A$1, IF(Ecarts!L80=\"\",\"\",Ecarts!L80),\"\")","v":""},{"$f":"IF( Ecarts!$E80=$A$1, IF(Ecarts!M80=\"\",\"\",Ecarts!M80),\"\")","v":""},0,0]
[{"$f":"IF( Ecarts!$E81=$A$1,IF( Ecarts!B81=\"\",\"\",Ecarts!A81),\"\")","v":""},{"$f":"IF( Ecarts!$E81=$A$1,IF( Ecarts!C81=\"\",\"\",Ecarts!C81),\"\")","v":""},{"$f":"IF( Ecarts!$E81=$A$1, IF(Ecarts!F81=\"\",\"\",Ecarts!F81),\"\")","v":""},{"$f":"IF( Ecarts!$E81=$A$1, IF(Ecarts!I81=\"\",\"\",Ecarts!I81),\"\")","v":""},{"$f":"IF( Ecarts!$E81=$A$1, IF(Ecarts!J81=\"\",\"\",Ecarts!J81),\"\")","v":""},{"$f":"IF( Ecarts!$E81=$A$1, IF(Ecarts!K81=\"\",\"\",Ecarts!K81),\"\")","v":""},{"$f":"IF( Ecarts!$E81=$A$1, IF(Ecarts!L81=\"\",\"\",Ecarts!L81),\"\")","v":""},{"$f":"IF( Ecarts!$E81=$A$1, IF(Ecarts!M81=\"\",\"\",Ecarts!M81),\"\")","v":""},0,0]
[{"$f":"IF( Ecarts!$E82=$A$1,IF( Ecarts!B82=\"\",\"\",Ecarts!A82),\"\")","v":""},{"$f":"IF( Ecarts!$E82=$A$1,IF( Ecarts!C82=\"\",\"\",Ecarts!C82),\"\")","v":""},{"$f":"IF( Ecarts!$E82=$A$1, IF(Ecarts!F82=\"\",\"\",Ecarts!F82),\"\")","v":""},{"$f":"IF( Ecarts!$E82=$A$1, IF(Ecarts!I82=\"\",\"\",Ecarts!I82),\"\")","v":""},{"$f":"IF( Ecarts!$E82=$A$1, IF(Ecarts!J82=\"\",\"\",Ecarts!J82),\"\")","v":""},{"$f":"IF( Ecarts!$E82=$A$1, IF(Ecarts!K82=\"\",\"\",Ecarts!K82),\"\")","v":""},{"$f":"IF( Ecarts!$E82=$A$1, IF(Ecarts!L82=\"\",\"\",Ecarts!L82),\"\")","v":""},{"$f":"IF( Ecarts!$E82=$A$1, IF(Ecarts!M82=\"\",\"\",Ecarts!M82),\"\")","v":""},0,0]
[{"$f":"IF( Ecarts!$E83=$A$1,IF( Ecarts!B83=\"\",\"\",Ecarts!A83),\"\")","v":""},{"$f":"IF( Ecarts!$E83=$A$1,IF( Ecarts!C83=\"\",\"\",Ecarts!C83),\"\")","v":""},{"$f":"IF( Ecarts!$E83=$A$1, IF(Ecarts!F83=\"\",\"\",Ecarts!F83),\"\")","v":""},{"$f":"IF( Ecarts!$E83=$A$1, IF(Ecarts!I83=\"\",\"\",Ecarts!I83),\"\")","v":""},{"$f":"IF( Ecarts!$E83=$A$1, IF(Ecarts!J83=\"\",\"\",Ecarts!J83),\"\")","v":""},{"$f":"IF( Ecarts!$E83=$A$1, IF(Ecarts!K83=\"\",\"\",Ecarts!K83),\"\")","v":""},{"$f":"IF( Ecarts!$E83=$A$1, IF(Ecarts!L83=\"\",\"\",Ecarts!L83),\"\")","v":""},{"$f":"IF( Ecarts!$E83=$A$1, IF(Ecarts!M83=\"\",\"\",Ecarts!M83),\"\")","v":""},0,0]
[{"$f":"IF( Ecarts!$E84=$A$1,IF( Ecarts!B84=\"\",\"\",Ecarts!A84),\"\")","v":""},{"$f":"IF( Ecarts!$E84=$A$1,IF( Ecarts!C84=\"\",\"\",Ecarts!C84),\"\")","v":""},{"$f":"IF( Ecarts!$E84=$A$1, IF(Ecarts!F84=\"\",\"\",Ecarts!F84),\"\")","v":""},{"$f":"IF( Ecarts!$E84=$A$1, IF(Ecarts!I84=\"\",\"\",Ecarts!I84),\"\")","v":""},{"$f":"IF( Ecarts!$E84=$A$1, IF(Ecarts!J84=\"\",\"\",Ecarts!J84),\"\")","v":""},{"$f":"IF( Ecarts!$E84=$A$1, IF(Ecarts!K84=\"\",\"\",Ecarts!K84),\"\")","v":""},{"$f":"IF( Ecarts!$E84=$A$1, IF(Ecarts!L84=\"\",\"\",Ecarts!L84),\"\")","v":""},{"$f":"IF( Ecarts!$E84=$A$1, IF(Ecarts!M84=\"\",\"\",Ecarts!M84),\"\")","v":""},0,0]
[{"$f":"IF( Ecarts!$E85=$A$1,IF( Ecarts!B85=\"\",\"\",Ecarts!A85),\"\")","v":""},{"$f":"IF( Ecarts!$E85=$A$1,IF( Ecarts!C85=\"\",\"\",Ecarts!C85),\"\")","v":""},{"$f":"IF( Ecarts!$E85=$A$1, IF(Ecarts!F85=\"\",\"\",Ecarts!F85),\"\")","v":""},{"$f":"IF( Ecarts!$E85=$A$1, IF(Ecarts!I85=\"\",\"\",Ecarts!I85),\"\")","v":""},{"$f":"IF( Ecarts!$E85=$A$1, IF(Ecarts!J85=\"\",\"\",Ecarts!J85),\"\")","v":""},{"$f":"IF( Ecarts!$E85=$A$1, IF(Ecarts!K85=\"\",\"\",Ecarts!K85),\"\")","v":""},{"$f":"IF( Ecarts!$E85=$A$1, IF(Ecarts!L85=\"\",\"\",Ecarts!L85),\"\")","v":""},{"$f":"IF( Ecarts!$E85=$A$1, IF(Ecarts!M85=\"\",\"\",Ecarts!M85),\"\")","v":""},0,0]
[{"$f":"IF( Ecarts!$E86=$A$1,IF( Ecarts!B86=\"\",\"\",Ecarts!A86),\"\")","v":""},{"$f":"IF( Ecarts!$E86=$A$1,IF( Ecarts!C86=\"\",\"\",Ecarts!C86),\"\")","v":""},{"$f":"IF( Ecarts!$E86=$A$1, IF(Ecarts!F86=\"\",\"\",Ecarts!F86),\"\")","v":""},{"$f":"IF( Ecarts!$E86=$A$1, IF(Ecarts!I86=\"\",\"\",Ecarts!I86),\"\")","v":""},{"$f":"IF( Ecarts!$E86=$A$1, IF(Ecarts!J86=\"\",\"\",Ecarts!J86),\"\")","v":""},{"$f":"IF( Ecarts!$E86=$A$1, IF(Ecarts!K86=\"\",\"\",Ecarts!K86),\"\")","v":""},{"$f":"IF( Ecarts!$E86=$A$1, IF(Ecarts!L86=\"\",\"\",Ecarts!L86),\"\")","v":""},{"$f":"IF( Ecarts!$E86=$A$1, IF(Ecarts!M86=\"\",\"\",Ecarts!M86),\"\")","v":""},0,0]
[{"$f":"IF( Ecarts!$E87=$A$1,IF( Ecarts!B87=\"\",\"\",Ecarts!A87),\"\")","v":""},{"$f":"IF( Ecarts!$E87=$A$1,IF( Ecarts!C87=\"\",\"\",Ecarts!C87),\"\")","v":""},{"$f":"IF( Ecarts!$E87=$A$1, IF(Ecarts!F87=\"\",\"\",Ecarts!F87),\"\")","v":""},{"$f":"IF( Ecarts!$E87=$A$1, IF(Ecarts!I87=\"\",\"\",Ecarts!I87),\"\")","v":""},{"$f":"IF( Ecarts!$E87=$A$1, IF(Ecarts!J87=\"\",\"\",Ecarts!J87),\"\")","v":""},{"$f":"IF( Ecarts!$E87=$A$1, IF(Ecarts!K87=\"\",\"\",Ecarts!K87),\"\")","v":""},{"$f":"IF( Ecarts!$E87=$A$1, IF(Ecarts!L87=\"\",\"\",Ecarts!L87),\"\")","v":""},{"$f":"IF( Ecarts!$E87=$A$1, IF(Ecarts!M87=\"\",\"\",Ecarts!M87),\"\")","v":""},0,0]
[{"$f":"IF( Ecarts!$E88=$A$1,IF( Ecarts!B88=\"\",\"\",Ecarts!A88),\"\")","v":""},{"$f":"IF( Ecarts!$E88=$A$1,IF( Ecarts!C88=\"\",\"\",Ecarts!C88),\"\")","v":""},{"$f":"IF( Ecarts!$E88=$A$1, IF(Ecarts!F88=\"\",\"\",Ecarts!F88),\"\")","v":""},{"$f":"IF( Ecarts!$E88=$A$1, IF(Ecarts!I88=\"\",\"\",Ecarts!I88),\"\")","v":""},{"$f":"IF( Ecarts!$E88=$A$1, IF(Ecarts!J88=\"\",\"\",Ecarts!J88),\"\")","v":""},{"$f":"IF( Ecarts!$E88=$A$1, IF(Ecarts!K88=\"\",\"\",Ecarts!K88),\"\")","v":""},{"$f":"IF( Ecarts!$E88=$A$1, IF(Ecarts!L88=\"\",\"\",Ecarts!L88),\"\")","v":""},{"$f":"IF( Ecarts!$E88=$A$1, IF(Ecarts!M88=\"\",\"\",Ecarts!M88),\"\")","v":""},0,0]
[{"$f":"IF( Ecarts!$E89=$A$1,IF( Ecarts!B89=\"\",\"\",Ecarts!A89),\"\")","v":""},{"$f":"IF( Ecarts!$E89=$A$1,IF( Ecarts!C89=\"\",\"\",Ecarts!C89),\"\")","v":""},{"$f":"IF( Ecarts!$E89=$A$1, IF(Ecarts!F89=\"\",\"\",Ecarts!F89),\"\")","v":""},{"$f":"IF( Ecarts!$E89=$A$1, IF(Ecarts!I89=\"\",\"\",Ecarts!I89),\"\")","v":""},{"$f":"IF( Ecarts!$E89=$A$1, IF(Ecarts!J89=\"\",\"\",Ecarts!J89),\"\")","v":""},{"$f":"IF( Ecarts!$E89=$A$1, IF(Ecarts!K89=\"\",\"\",Ecarts!K89),\"\")","v":""},{"$f":"IF( Ecarts!$E89=$A$1, IF(Ecarts!L89=\"\",\"\",Ecarts!L89),\"\")","v":""},{"$f":"IF( Ecarts!$E89=$A$1, IF(Ecarts!M89=\"\",\"\",Ecarts!M89),\"\")","v":""},0,0]
[{"$f":"IF( Ecarts!$E90=$A$1,IF( Ecarts!B90=\"\",\"\",Ecarts!A90),\"\")","v":""},{"$f":"IF( Ecarts!$E90=$A$1,IF( Ecarts!C90=\"\",\"\",Ecarts!C90),\"\")","v":""},{"$f":"IF( Ecarts!$E90=$A$1, IF(Ecarts!F90=\"\",\"\",Ecarts!F90),\"\")","v":""},{"$f":"IF( Ecarts!$E90=$A$1, IF(Ecarts!I90=\"\",\"\",Ecarts!I90),\"\")","v":""},{"$f":"IF( Ecarts!$E90=$A$1, IF(Ecarts!J90=\"\",\"\",Ecarts!J90),\"\")","v":""},{"$f":"IF( Ecarts!$E90=$A$1, IF(Ecarts!K90=\"\",\"\",Ecarts!K90),\"\")","v":""},{"$f":"IF( Ecarts!$E90=$A$1, IF(Ecarts!L90=\"\",\"\",Ecarts!L90),\"\")","v":""},{"$f":"IF( Ecarts!$E90=$A$1, IF(Ecarts!M90=\"\",\"\",Ecarts!M90),\"\")","v":""},0,0]
[{"$f":"IF( Ecarts!$E91=$A$1,IF( Ecarts!B91=\"\",\"\",Ecarts!A91),\"\")","v":""},{"$f":"IF( Ecarts!$E91=$A$1,IF( Ecarts!C91=\"\",\"\",Ecarts!C91),\"\")","v":""},{"$f":"IF( Ecarts!$E91=$A$1, IF(Ecarts!F91=\"\",\"\",Ecarts!F91),\"\")","v":""},{"$f":"IF( Ecarts!$E91=$A$1, IF(Ecarts!I91=\"\",\"\",Ecarts!I91),\"\")","v":""},{"$f":"IF( Ecarts!$E91=$A$1, IF(Ecarts!J91=\"\",\"\",Ecarts!J91),\"\")","v":""},{"$f":"IF( Ecarts!$E91=$A$1, IF(Ecarts!K91=\"\",\"\",Ecarts!K91),\"\")","v":""},{"$f":"IF( Ecarts!$E91=$A$1, IF(Ecarts!L91=\"\",\"\",Ecarts!L91),\"\")","v":""},{"$f":"IF( Ecarts!$E91=$A$1, IF(Ecarts!M91=\"\",\"\",Ecarts!M91),\"\")","v":""},0,0]
[{"$f":"IF( Ecarts!$E92=$A$1,IF( Ecarts!B92=\"\",\"\",Ecarts!A92),\"\")","v":""},{"$f":"IF( Ecarts!$E92=$A$1,IF( Ecarts!C92=\"\",\"\",Ecarts!C92),\"\")","v":""},{"$f":"IF( Ecarts!$E92=$A$1, IF(Ecarts!F92=\"\",\"\",Ecarts!F92),\"\")","v":""},{"$f":"IF( Ecarts!$E92=$A$1, IF(Ecarts!I92=\"\",\"\",Ecarts!I92),\"\")","v":""},{"$f":"IF( Ecarts!$E92=$A$1, IF(Ecarts!J92=\"\",\"\",Ecarts!J92),\"\")","v":""},{"$f":"IF( Ecarts!$E92=$A$1, IF(Ecarts!K92=\"\",\"\",Ecarts!K92),\"\")","v":""},{"$f":"IF( Ecarts!$E92=$A$1, IF(Ecarts!L92=\"\",\"\",Ecarts!L92),\"\")","v":""},{"$f":"IF( Ecarts!$E92=$A$1, IF(Ecarts!M92=\"\",\"\",Ecarts!M92),\"\")","v":""},0,0]
[{"$f":"IF( Ecarts!$E93=$A$1,IF( Ecarts!B93=\"\",\"\",Ecarts!A93),\"\")","v":""},{"$f":"IF( Ecarts!$E93=$A$1,IF( Ecarts!C93=\"\",\"\",Ecarts!C93),\"\")","v":""},{"$f":"IF( Ecarts!$E93=$A$1, IF(Ecarts!F93=\"\",\"\",Ecarts!F93),\"\")","v":""},{"$f":"IF( Ecarts!$E93=$A$1, IF(Ecarts!I93=\"\",\"\",Ecarts!I93),\"\")","v":""},{"$f":"IF( Ecarts!$E93=$A$1, IF(Ecarts!J93=\"\",\"\",Ecarts!J93),\"\")","v":""},{"$f":"IF( Ecarts!$E93=$A$1, IF(Ecarts!K93=\"\",\"\",Ecarts!K93),\"\")","v":""},{"$f":"IF( Ecarts!$E93=$A$1, IF(Ecarts!L93=\"\",\"\",Ecarts!L93),\"\")","v":""},{"$f":"IF( Ecarts!$E93=$A$1, IF(Ecarts!M93=\"\",\"\",Ecarts!M93),\"\")","v":""},0,0]
[{"$f":"IF( Ecarts!$E94=$A$1,IF( Ecarts!B94=\"\",\"\",Ecarts!A94),\"\")","v":""},{"$f":"IF( Ecarts!$E94=$A$1,IF( Ecarts!C94=\"\",\"\",Ecarts!C94),\"\")","v":""},{"$f":"IF( Ecarts!$E94=$A$1, IF(Ecarts!F94=\"\",\"\",Ecarts!F94),\"\")","v":""},{"$f":"IF( Ecarts!$E94=$A$1, IF(Ecarts!I94=\"\",\"\",Ecarts!I94),\"\")","v":""},{"$f":"IF( Ecarts!$E94=$A$1, IF(Ecarts!J94=\"\",\"\",Ecarts!J94),\"\")","v":""},{"$f":"IF( Ecarts!$E94=$A$1, IF(Ecarts!K94=\"\",\"\",Ecarts!K94),\"\")","v":""},{"$f":"IF( Ecarts!$E94=$A$1, IF(Ecarts!L94=\"\",\"\",Ecarts!L94),\"\")","v":""},{"$f":"IF( Ecarts!$E94=$A$1, IF(Ecarts!M94=\"\",\"\",Ecarts!M94),\"\")","v":""},0,0]
[{"$f":"IF( Ecarts!$E95=$A$1,IF( Ecarts!B95=\"\",\"\",Ecarts!A95),\"\")","v":""},{"$f":"IF( Ecarts!$E95=$A$1,IF( Ecarts!C95=\"\",\"\",Ecarts!C95),\"\")","v":""},{"$f":"IF( Ecarts!$E95=$A$1, IF(Ecarts!F95=\"\",\"\",Ecarts!F95),\"\")","v":""},{"$f":"IF( Ecarts!$E95=$A$1, IF(Ecarts!I95=\"\",\"\",Ecarts!I95),\"\")","v":""},{"$f":"IF( Ecarts!$E95=$A$1, IF(Ecarts!J95=\"\",\"\",Ecarts!J95),\"\")","v":""},{"$f":"IF( Ecarts!$E95=$A$1, IF(Ecarts!K95=\"\",\"\",Ecarts!K95),\"\")","v":""},{"$f":"IF( Ecarts!$E95=$A$1, IF(Ecarts!L95=\"\",\"\",Ecarts!L95),\"\")","v":""},{"$f":"IF( Ecarts!$E95=$A$1, IF(Ecarts!M95=\"\",\"\",Ecarts!M95),\"\")","v":""},0,0]
[{"$f":"IF( Ecarts!$E96=$A$1,IF( Ecarts!B96=\"\",\"\",Ecarts!A96),\"\")","v":""},{"$f":"IF( Ecarts!$E96=$A$1,IF( Ecarts!C96=\"\",\"\",Ecarts!C96),\"\")","v":""},{"$f":"IF( Ecarts!$E96=$A$1, IF(Ecarts!F96=\"\",\"\",Ecarts!F96),\"\")","v":""},{"$f":"IF( Ecarts!$E96=$A$1, IF(Ecarts!I96=\"\",\"\",Ecarts!I96),\"\")","v":""},{"$f":"IF( Ecarts!$E96=$A$1, IF(Ecarts!J96=\"\",\"\",Ecarts!J96),\"\")","v":""},{"$f":"IF( Ecarts!$E96=$A$1, IF(Ecarts!K96=\"\",\"\",Ecarts!K96),\"\")","v":""},{"$f":"IF( Ecarts!$E96=$A$1, IF(Ecarts!L96=\"\",\"\",Ecarts!L96),\"\")","v":""},{"$f":"IF( Ecarts!$E96=$A$1, IF(Ecarts!M96=\"\",\"\",Ecarts!M96),\"\")","v":""},0,0]
[{"$f":"IF( Ecarts!$E97=$A$1,IF( Ecarts!B97=\"\",\"\",Ecarts!A97),\"\")","v":""},{"$f":"IF( Ecarts!$E97=$A$1,IF( Ecarts!C97=\"\",\"\",Ecarts!C97),\"\")","v":""},{"$f":"IF( Ecarts!$E97=$A$1, IF(Ecarts!F97=\"\",\"\",Ecarts!F97),\"\")","v":""},{"$f":"IF( Ecarts!$E97=$A$1, IF(Ecarts!I97=\"\",\"\",Ecarts!I97),\"\")","v":""},{"$f":"IF( Ecarts!$E97=$A$1, IF(Ecarts!J97=\"\",\"\",Ecarts!J97),\"\")","v":""},{"$f":"IF( Ecarts!$E97=$A$1, IF(Ecarts!K97=\"\",\"\",Ecarts!K97),\"\")","v":""},{"$f":"IF( Ecarts!$E97=$A$1, IF(Ecarts!L97=\"\",\"\",Ecarts!L97),\"\")","v":""},{"$f":"IF( Ecarts!$E97=$A$1, IF(Ecarts!M97=\"\",\"\",Ecarts!M97),\"\")","v":""},0,0]
[{"$f":"IF( Ecarts!$E98=$A$1,IF( Ecarts!B98=\"\",\"\",Ecarts!A98),\"\")","v":""},{"$f":"IF( Ecarts!$E98=$A$1,IF( Ecarts!C98=\"\",\"\",Ecarts!C98),\"\")","v":""},{"$f":"IF( Ecarts!$E98=$A$1, IF(Ecarts!F98=\"\",\"\",Ecarts!F98),\"\")","v":""},{"$f":"IF( Ecarts!$E98=$A$1, IF(Ecarts!I98=\"\",\"\",Ecarts!I98),\"\")","v":""},{"$f":"IF( Ecarts!$E98=$A$1, IF(Ecarts!J98=\"\",\"\",Ecarts!J98),\"\")","v":""},{"$f":"IF( Ecarts!$E98=$A$1, IF(Ecarts!K98=\"\",\"\",Ecarts!K98),\"\")","v":""},{"$f":"IF( Ecarts!$E98=$A$1, IF(Ecarts!L98=\"\",\"\",Ecarts!L98),\"\")","v":""},{"$f":"IF( Ecarts!$E98=$A$1, IF(Ecarts!M98=\"\",\"\",Ecarts!M98),\"\")","v":""},0,0]
[{"$f":"IF( Ecarts!$E99=$A$1,IF( Ecarts!B99=\"\",\"\",Ecarts!A99),\"\")","v":""},{"$f":"IF( Ecarts!$E99=$A$1,IF( Ecarts!C99=\"\",\"\",Ecarts!C99),\"\")","v":""},{"$f":"IF( Ecarts!$E99=$A$1, IF(Ecarts!F99=\"\",\"\",Ecarts!F99),\"\")","v":""},{"$f":"IF( Ecarts!$E99=$A$1, IF(Ecarts!I99=\"\",\"\",Ecarts!I99),\"\")","v":""},{"$f":"IF( Ecarts!$E99=$A$1, IF(Ecarts!J99=\"\",\"\",Ecarts!J99),\"\")","v":""},{"$f":"IF( Ecarts!$E99=$A$1, IF(Ecarts!K99=\"\",\"\",Ecarts!K99),\"\")","v":""},{"$f":"IF( Ecarts!$E99=$A$1, IF(Ecarts!L99=\"\",\"\",Ecarts!L99),\"\")","v":""},{"$f":"IF( Ecarts!$E99=$A$1, IF(Ecarts!M99=\"\",\"\",Ecarts!M99),\"\")","v":""},0,0]
[{"$f":"IF( Ecarts!$E100=$A$1,IF( Ecarts!B100=\"\",\"\",Ecarts!A100),\"\")","v":""},{"$f":"IF( Ecarts!$E100=$A$1,IF( Ecarts!C100=\"\",\"\",Ecarts!C100),\"\")","v":""},{"$f":"IF( Ecarts!$E100=$A$1, IF(Ecarts!F100=\"\",\"\",Ecarts!F100),\"\")","v":""},{"$f":"IF( Ecarts!$E100=$A$1, IF(Ecarts!I100=\"\",\"\",Ecarts!I100),\"\")","v":""},{"$f":"IF( Ecarts!$E100=$A$1, IF(Ecarts!J100=\"\",\"\",Ecarts!J100),\"\")","v":""},{"$f":"IF( Ecarts!$E100=$A$1, IF(Ecarts!K100=\"\",\"\",Ecarts!K100),\"\")","v":""},{"$f":"IF( Ecarts!$E100=$A$1, IF(Ecarts!L100=\"\",\"\",Ecarts!L100),\"\")","v":""},{"$f":"IF( Ecarts!$E100=$A$1, IF(Ecarts!M100=\"\",\"\",Ecarts!M100),\"\")","v":""},0,0]
[{"$f":"IF( Ecarts!$E101=$A$1,IF( Ecarts!B101=\"\",\"\",Ecarts!A101),\"\")","v":""},{"$f":"IF( Ecarts!$E101=$A$1,IF( Ecarts!C101=\"\",\"\",Ecarts!C101),\"\")","v":""},{"$f":"IF( Ecarts!$E101=$A$1, IF(Ecarts!F101=\"\",\"\",Ecarts!F101),\"\")","v":""},{"$f":"IF( Ecarts!$E101=$A$1, IF(Ecarts!I101=\"\",\"\",Ecarts!I101),\"\")","v":""},{"$f":"IF( Ecarts!$E101=$A$1, IF(Ecarts!J101=\"\",\"\",Ecarts!J101),\"\")","v":""},{"$f":"IF( Ecarts!$E101=$A$1, IF(Ecarts!K101=\"\",\"\",Ecarts!K101),\"\")","v":""},{"$f":"IF( Ecarts!$E101=$A$1, IF(Ecarts!L101=\"\",\"\",Ecarts!L101),\"\")","v":""},{"$f":"IF( Ecarts!$E101=$A$1, IF(Ecarts!M101=\"\",\"\",Ecarts!M101),\"\")","v":""},0,0]
[{"$f":"IF( Ecarts!$E102=$A$1,IF( Ecarts!B102=\"\",\"\",Ecarts!A102),\"\")","v":""},{"$f":"IF( Ecarts!$E102=$A$1,IF( Ecarts!C102=\"\",\"\",Ecarts!C102),\"\")","v":""},{"$f":"IF( Ecarts!$E102=$A$1, IF(Ecarts!F102=\"\",\"\",Ecarts!F102),\"\")","v":""},{"$f":"IF( Ecarts!$E102=$A$1, IF(Ecarts!I102=\"\",\"\",Ecarts!I102),\"\")","v":""},{"$f":"IF( Ecarts!$E102=$A$1, IF(Ecarts!J102=\"\",\"\",Ecarts!J102),\"\")","v":""},{"$f":"IF( Ecarts!$E102=$A$1, IF(Ecarts!K102=\"\",\"\",Ecarts!K102),\"\")","v":""},{"$f":"IF( Ecarts!$E102=$A$1, IF(Ecarts!L102=\"\",\"\",Ecarts!L102),\"\")","v":""},{"$f":"IF( Ecarts!$E102=$A$1, IF(Ecarts!M102=\"\",\"\",Ecarts!M102),\"\")","v":""},0,0]
[{"$f":"IF( Ecarts!$E103=$A$1,IF( Ecarts!B103=\"\",\"\",Ecarts!A103),\"\")","v":""},{"$f":"IF( Ecarts!$E103=$A$1,IF( Ecarts!C103=\"\",\"\",Ecarts!C103),\"\")","v":""},{"$f":"IF( Ecarts!$E103=$A$1, IF(Ecarts!F103=\"\",\"\",Ecarts!F103),\"\")","v":""},{"$f":"IF( Ecarts!$E103=$A$1, IF(Ecarts!I103=\"\",\"\",Ecarts!I103),\"\")","v":""},{"$f":"IF( Ecarts!$E103=$A$1, IF(Ecarts!J103=\"\",\"\",Ecarts!J103),\"\")","v":""},{"$f":"IF( Ecarts!$E103=$A$1, IF(Ecarts!K103=\"\",\"\",Ecarts!K103),\"\")","v":""},{"$f":"IF( Ecarts!$E103=$A$1, IF(Ecarts!L103=\"\",\"\",Ecarts!L103),\"\")","v":""},{"$f":"IF( Ecarts!$E103=$A$1, IF(Ecarts!M103=\"\",\"\",Ecarts!M103),\"\")","v":""},0,0]
[{"$f":"IF( Ecarts!$E104=$A$1,IF( Ecarts!B104=\"\",\"\",Ecarts!A104),\"\")","v":""},{"$f":"IF( Ecarts!$E104=$A$1,IF( Ecarts!C104=\"\",\"\",Ecarts!C104),\"\")","v":""},{"$f":"IF( Ecarts!$E104=$A$1, IF(Ecarts!F104=\"\",\"\",Ecarts!F104),\"\")","v":""},{"$f":"IF( Ecarts!$E104=$A$1, IF(Ecarts!I104=\"\",\"\",Ecarts!I104),\"\")","v":""},{"$f":"IF( Ecarts!$E104=$A$1, IF(Ecarts!J104=\"\",\"\",Ecarts!J104),\"\")","v":""},{"$f":"IF( Ecarts!$E104=$A$1, IF(Ecarts!K104=\"\",\"\",Ecarts!K104),\"\")","v":""},{"$f":"IF( Ecarts!$E104=$A$1, IF(Ecarts!L104=\"\",\"\",Ecarts!L104),\"\")","v":""},{"$f":"IF( Ecarts!$E104=$A$1, IF(Ecarts!M104=\"\",\"\",Ecarts!M104),\"\")","v":""},0,0]
[{"$f":"IF( Ecarts!$E105=$A$1,IF( Ecarts!B105=\"\",\"\",Ecarts!A105),\"\")","v":""},{"$f":"IF( Ecarts!$E105=$A$1,IF( Ecarts!C105=\"\",\"\",Ecarts!C105),\"\")","v":""},{"$f":"IF( Ecarts!$E105=$A$1, IF(Ecarts!F105=\"\",\"\",Ecarts!F105),\"\")","v":""},{"$f":"IF( Ecarts!$E105=$A$1, IF(Ecarts!I105=\"\",\"\",Ecarts!I105),\"\")","v":""},{"$f":"IF( Ecarts!$E105=$A$1, IF(Ecarts!J105=\"\",\"\",Ecarts!J105),\"\")","v":""},{"$f":"IF( Ecarts!$E105=$A$1, IF(Ecarts!K105=\"\",\"\",Ecarts!K105),\"\")","v":""},{"$f":"IF( Ecarts!$E105=$A$1, IF(Ecarts!L105=\"\",\"\",Ecarts!L105),\"\")","v":""},{"$f":"IF( Ecarts!$E105=$A$1, IF(Ecarts!M105=\"\",\"\",Ecarts!M105),\"\")","v":""},0,0]
[{"$f":"IF( Ecarts!$E106=$A$1,IF( Ecarts!B106=\"\",\"\",Ecarts!A106),\"\")","v":""},{"$f":"IF( Ecarts!$E106=$A$1,IF( Ecarts!C106=\"\",\"\",Ecarts!C106),\"\")","v":""},{"$f":"IF( Ecarts!$E106=$A$1, IF(Ecarts!F106=\"\",\"\",Ecarts!F106),\"\")","v":""},{"$f":"IF( Ecarts!$E106=$A$1, IF(Ecarts!I106=\"\",\"\",Ecarts!I106),\"\")","v":""},{"$f":"IF( Ecarts!$E106=$A$1, IF(Ecarts!J106=\"\",\"\",Ecarts!J106),\"\")","v":""},{"$f":"IF( Ecarts!$E106=$A$1, IF(Ecarts!K106=\"\",\"\",Ecarts!K106),\"\")","v":""},{"$f":"IF( Ecarts!$E106=$A$1, IF(Ecarts!L106=\"\",\"\",Ecarts!L106),\"\")","v":""},{"$f":"IF( Ecarts!$E106=$A$1, IF(Ecarts!M106=\"\",\"\",Ecarts!M106),\"\")","v":""},0,0]
[{"$f":"IF( Ecarts!$E107=$A$1,IF( Ecarts!B107=\"\",\"\",Ecarts!A107),\"\")","v":""},{"$f":"IF( Ecarts!$E107=$A$1,IF( Ecarts!C107=\"\",\"\",Ecarts!C107),\"\")","v":""},{"$f":"IF( Ecarts!$E107=$A$1, IF(Ecarts!F107=\"\",\"\",Ecarts!F107),\"\")","v":""},{"$f":"IF( Ecarts!$E107=$A$1, IF(Ecarts!I107=\"\",\"\",Ecarts!I107),\"\")","v":""},{"$f":"IF( Ecarts!$E107=$A$1, IF(Ecarts!J107=\"\",\"\",Ecarts!J107),\"\")","v":""},{"$f":"IF( Ecarts!$E107=$A$1, IF(Ecarts!K107=\"\",\"\",Ecarts!K107),\"\")","v":""},{"$f":"IF( Ecarts!$E107=$A$1, IF(Ecarts!L107=\"\",\"\",Ecarts!L107),\"\")","v":""},{"$f":"IF( Ecarts!$E107=$A$1, IF(Ecarts!M107=\"\",\"\",Ecarts!M107),\"\")","v":""},0,0]
[{"$f":"IF( Ecarts!$E108=$A$1,IF( Ecarts!B108=\"\",\"\",Ecarts!A108),\"\")","v":""},{"$f":"IF( Ecarts!$E108=$A$1,IF( Ecarts!C108=\"\",\"\",Ecarts!C108),\"\")","v":""},{"$f":"IF( Ecarts!$E108=$A$1, IF(Ecarts!F108=\"\",\"\",Ecarts!F108),\"\")","v":""},{"$f":"IF( Ecarts!$E108=$A$1, IF(Ecarts!I108=\"\",\"\",Ecarts!I108),\"\")","v":""},{"$f":"IF( Ecarts!$E108=$A$1, IF(Ecarts!J108=\"\",\"\",Ecarts!J108),\"\")","v":""},{"$f":"IF( Ecarts!$E108=$A$1, IF(Ecarts!K108=\"\",\"\",Ecarts!K108),\"\")","v":""},{"$f":"IF( Ecarts!$E108=$A$1, IF(Ecarts!L108=\"\",\"\",Ecarts!L108),\"\")","v":""},{"$f":"IF( Ecarts!$E108=$A$1, IF(Ecarts!M108=\"\",\"\",Ecarts!M108),\"\")","v":""},0,0]
[{"$f":"IF( Ecarts!$E109=$A$1,IF( Ecarts!B109=\"\",\"\",Ecarts!A109),\"\")","v":""},{"$f":"IF( Ecarts!$E109=$A$1,IF( Ecarts!C109=\"\",\"\",Ecarts!C109),\"\")","v":""},{"$f":"IF( Ecarts!$E109=$A$1, IF(Ecarts!F109=\"\",\"\",Ecarts!F109),\"\")","v":""},{"$f":"IF( Ecarts!$E109=$A$1, IF(Ecarts!I109=\"\",\"\",Ecarts!I109),\"\")","v":""},{"$f":"IF( Ecarts!$E109=$A$1, IF(Ecarts!J109=\"\",\"\",Ecarts!J109),\"\")","v":""},{"$f":"IF( Ecarts!$E109=$A$1, IF(Ecarts!K109=\"\",\"\",Ecarts!K109),\"\")","v":""},{"$f":"IF( Ecarts!$E109=$A$1, IF(Ecarts!L109=\"\",\"\",Ecarts!L109),\"\")","v":""},{"$f":"IF( Ecarts!$E109=$A$1, IF(Ecarts!M109=\"\",\"\",Ecarts!M109),\"\")","v":""},0,0]
[{"$f":"IF( Ecarts!$E110=$A$1,IF( Ecarts!B110=\"\",\"\",Ecarts!A110),\"\")","v":""},{"$f":"IF( Ecarts!$E110=$A$1,IF( Ecarts!C110=\"\",\"\",Ecarts!C110),\"\")","v":""},{"$f":"IF( Ecarts!$E110=$A$1, IF(Ecarts!F110=\"\",\"\",Ecarts!F110),\"\")","v":""},{"$f":"IF( Ecarts!$E110=$A$1, IF(Ecarts!I110=\"\",\"\",Ecarts!I110),\"\")","v":""},{"$f":"IF( Ecarts!$E110=$A$1, IF(Ecarts!J110=\"\",\"\",Ecarts!J110),\"\")","v":""},{"$f":"IF( Ecarts!$E110=$A$1, IF(Ecarts!K110=\"\",\"\",Ecarts!K110),\"\")","v":""},{"$f":"IF( Ecarts!$E110=$A$1, IF(Ecarts!L110=\"\",\"\",Ecarts!L110),\"\")","v":""},{"$f":"IF( Ecarts!$E110=$A$1, IF(Ecarts!M110=\"\",\"\",Ecarts!M110),\"\")","v":""},0,0]
[{"$f":"IF( Ecarts!$E111=$A$1,IF( Ecarts!B111=\"\",\"\",Ecarts!A111),\"\")","v":""},{"$f":"IF( Ecarts!$E111=$A$1,IF( Ecarts!C111=\"\",\"\",Ecarts!C111),\"\")","v":""},{"$f":"IF( Ecarts!$E111=$A$1, IF(Ecarts!F111=\"\",\"\",Ecarts!F111),\"\")","v":""},{"$f":"IF( Ecarts!$E111=$A$1, IF(Ecarts!I111=\"\",\"\",Ecarts!I111),\"\")","v":""},{"$f":"IF( Ecarts!$E111=$A$1, IF(Ecarts!J111=\"\",\"\",Ecarts!J111),\"\")","v":""},{"$f":"IF( Ecarts!$E111=$A$1, IF(Ecarts!K111=\"\",\"\",Ecarts!K111),\"\")","v":""},{"$f":"IF( Ecarts!$E111=$A$1, IF(Ecarts!L111=\"\",\"\",Ecarts!L111),\"\")","v":""},{"$f":"IF( Ecarts!$E111=$A$1, IF(Ecarts!M111=\"\",\"\",Ecarts!M111),\"\")","v":""},0,0]
[{"$f":"IF( Ecarts!$E112=$A$1,IF( Ecarts!B112=\"\",\"\",Ecarts!A112),\"\")","v":""},{"$f":"IF( Ecarts!$E112=$A$1,IF( Ecarts!C112=\"\",\"\",Ecarts!C112),\"\")","v":""},{"$f":"IF( Ecarts!$E112=$A$1, IF(Ecarts!F112=\"\",\"\",Ecarts!F112),\"\")","v":""},{"$f":"IF( Ecarts!$E112=$A$1, IF(Ecarts!I112=\"\",\"\",Ecarts!I112),\"\")","v":""},{"$f":"IF( Ecarts!$E112=$A$1, IF(Ecarts!J112=\"\",\"\",Ecarts!J112),\"\")","v":""},{"$f":"IF( Ecarts!$E112=$A$1, IF(Ecarts!K112=\"\",\"\",Ecarts!K112),\"\")","v":""},{"$f":"IF( Ecarts!$E112=$A$1, IF(Ecarts!L112=\"\",\"\",Ecarts!L112),\"\")","v":""},{"$f":"IF( Ecarts!$E112=$A$1, IF(Ecarts!M112=\"\",\"\",Ecarts!M112),\"\")","v":""},0,0]
[{"$f":"IF( Ecarts!$E113=$A$1,IF( Ecarts!B113=\"\",\"\",Ecarts!A113),\"\")","v":""},{"$f":"IF( Ecarts!$E113=$A$1,IF( Ecarts!C113=\"\",\"\",Ecarts!C113),\"\")","v":""},{"$f":"IF( Ecarts!$E113=$A$1, IF(Ecarts!F113=\"\",\"\",Ecarts!F113),\"\")","v":""},{"$f":"IF( Ecarts!$E113=$A$1, IF(Ecarts!I113=\"\",\"\",Ecarts!I113),\"\")","v":""},{"$f":"IF( Ecarts!$E113=$A$1, IF(Ecarts!J113=\"\",\"\",Ecarts!J113),\"\")","v":""},{"$f":"IF( Ecarts!$E113=$A$1, IF(Ecarts!K113=\"\",\"\",Ecarts!K113),\"\")","v":""},{"$f":"IF( Ecarts!$E113=$A$1, IF(Ecarts!L113=\"\",\"\",Ecarts!L113),\"\")","v":""},{"$f":"IF( Ecarts!$E113=$A$1, IF(Ecarts!M113=\"\",\"\",Ecarts!M113),\"\")","v":""},0,0]
[{"$f":"IF( Ecarts!$E114=$A$1,IF( Ecarts!B114=\"\",\"\",Ecarts!A114),\"\")","v":""},{"$f":"IF( Ecarts!$E114=$A$1,IF( Ecarts!C114=\"\",\"\",Ecarts!C114),\"\")","v":""},{"$f":"IF( Ecarts!$E114=$A$1, IF(Ecarts!F114=\"\",\"\",Ecarts!F114),\"\")","v":""},{"$f":"IF( Ecarts!$E114=$A$1, IF(Ecarts!I114=\"\",\"\",Ecarts!I114),\"\")","v":""},{"$f":"IF( Ecarts!$E114=$A$1, IF(Ecarts!J114=\"\",\"\",Ecarts!J114),\"\")","v":""},{"$f":"IF( Ecarts!$E114=$A$1, IF(Ecarts!K114=\"\",\"\",Ecarts!K114),\"\")","v":""},{"$f":"IF( Ecarts!$E114=$A$1, IF(Ecarts!L114=\"\",\"\",Ecarts!L114),\"\")","v":""},{"$f":"IF( Ecarts!$E114=$A$1, IF(Ecarts!M114=\"\",\"\",Ecarts!M114),\"\")","v":""},0,0]
[{"$f":"IF( Ecarts!$E115=$A$1,IF( Ecarts!B115=\"\",\"\",Ecarts!A115),\"\")","v":""},{"$f":"IF( Ecarts!$E115=$A$1,IF( Ecarts!C115=\"\",\"\",Ecarts!C115),\"\")","v":""},{"$f":"IF( Ecarts!$E115=$A$1, IF(Ecarts!F115=\"\",\"\",Ecarts!F115),\"\")","v":""},{"$f":"IF( Ecarts!$E115=$A$1, IF(Ecarts!I115=\"\",\"\",Ecarts!I115),\"\")","v":""},{"$f":"IF( Ecarts!$E115=$A$1, IF(Ecarts!J115=\"\",\"\",Ecarts!J115),\"\")","v":""},{"$f":"IF( Ecarts!$E115=$A$1, IF(Ecarts!K115=\"\",\"\",Ecarts!K115),\"\")","v":""},{"$f":"IF( Ecarts!$E115=$A$1, IF(Ecarts!L115=\"\",\"\",Ecarts!L115),\"\")","v":""},{"$f":"IF( Ecarts!$E115=$A$1, IF(Ecarts!M115=\"\",\"\",Ecarts!M115),\"\")","v":""},0,0]
[{"$f":"IF( Ecarts!$E116=$A$1,IF( Ecarts!B116=\"\",\"\",Ecarts!A116),\"\")","v":""},{"$f":"IF( Ecarts!$E116=$A$1,IF( Ecarts!C116=\"\",\"\",Ecarts!C116),\"\")","v":""},{"$f":"IF( Ecarts!$E116=$A$1, IF(Ecarts!F116=\"\",\"\",Ecarts!F116),\"\")","v":""},{"$f":"IF( Ecarts!$E116=$A$1, IF(Ecarts!I116=\"\",\"\",Ecarts!I116),\"\")","v":""},{"$f":"IF( Ecarts!$E116=$A$1, IF(Ecarts!J116=\"\",\"\",Ecarts!J116),\"\")","v":""},{"$f":"IF( Ecarts!$E116=$A$1, IF(Ecarts!K116=\"\",\"\",Ecarts!K116),\"\")","v":""},{"$f":"IF( Ecarts!$E116=$A$1, IF(Ecarts!L116=\"\",\"\",Ecarts!L116),\"\")","v":""},{"$f":"IF( Ecarts!$E116=$A$1, IF(Ecarts!M116=\"\",\"\",Ecarts!M116),\"\")","v":""},0,0]
[{"$f":"IF( Ecarts!$E117=$A$1,IF( Ecarts!B117=\"\",\"\",Ecarts!A117),\"\")","v":""},{"$f":"IF( Ecarts!$E117=$A$1,IF( Ecarts!C117=\"\",\"\",Ecarts!C117),\"\")","v":""},{"$f":"IF( Ecarts!$E117=$A$1, IF(Ecarts!F117=\"\",\"\",Ecarts!F117),\"\")","v":""},{"$f":"IF( Ecarts!$E117=$A$1, IF(Ecarts!I117=\"\",\"\",Ecarts!I117),\"\")","v":""},{"$f":"IF( Ecarts!$E117=$A$1, IF(Ecarts!J117=\"\",\"\",Ecarts!J117),\"\")","v":""},{"$f":"IF( Ecarts!$E117=$A$1, IF(Ecarts!K117=\"\",\"\",Ecarts!K117),\"\")","v":""},{"$f":"IF( Ecarts!$E117=$A$1, IF(Ecarts!L117=\"\",\"\",Ecarts!L117),\"\")","v":""},{"$f":"IF( Ecarts!$E117=$A$1, IF(Ecarts!M117=\"\",\"\",Ecarts!M117),\"\")","v":""},0,0]
[{"$f":"IF( Ecarts!$E118=$A$1,IF( Ecarts!B118=\"\",\"\",Ecarts!A118),\"\")","v":""},{"$f":"IF( Ecarts!$E118=$A$1,IF( Ecarts!C118=\"\",\"\",Ecarts!C118),\"\")","v":""},{"$f":"IF( Ecarts!$E118=$A$1, IF(Ecarts!F118=\"\",\"\",Ecarts!F118),\"\")","v":""},{"$f":"IF( Ecarts!$E118=$A$1, IF(Ecarts!I118=\"\",\"\",Ecarts!I118),\"\")","v":""},{"$f":"IF( Ecarts!$E118=$A$1, IF(Ecarts!J118=\"\",\"\",Ecarts!J118),\"\")","v":""},{"$f":"IF( Ecarts!$E118=$A$1, IF(Ecarts!K118=\"\",\"\",Ecarts!K118),\"\")","v":""},{"$f":"IF( Ecarts!$E118=$A$1, IF(Ecarts!L118=\"\",\"\",Ecarts!L118),\"\")","v":""},{"$f":"IF( Ecarts!$E118=$A$1, IF(Ecarts!M118=\"\",\"\",Ecarts!M118),\"\")","v":""},0,0]
[{"$f":"IF( Ecarts!$E119=$A$1,IF( Ecarts!B119=\"\",\"\",Ecarts!A119),\"\")","v":""},{"$f":"IF( Ecarts!$E119=$A$1,IF( Ecarts!C119=\"\",\"\",Ecarts!C119),\"\")","v":""},{"$f":"IF( Ecarts!$E119=$A$1, IF(Ecarts!F119=\"\",\"\",Ecarts!F119),\"\")","v":""},{"$f":"IF( Ecarts!$E119=$A$1, IF(Ecarts!I119=\"\",\"\",Ecarts!I119),\"\")","v":""},{"$f":"IF( Ecarts!$E119=$A$1, IF(Ecarts!J119=\"\",\"\",Ecarts!J119),\"\")","v":""},{"$f":"IF( Ecarts!$E119=$A$1, IF(Ecarts!K119=\"\",\"\",Ecarts!K119),\"\")","v":""},{"$f":"IF( Ecarts!$E119=$A$1, IF(Ecarts!L119=\"\",\"\",Ecarts!L119),\"\")","v":""},{"$f":"IF( Ecarts!$E119=$A$1, IF(Ecarts!M119=\"\",\"\",Ecarts!M119),\"\")","v":""},0,0]
[{"$f":"IF( Ecarts!$E120=$A$1,IF( Ecarts!B120=\"\",\"\",Ecarts!A120),\"\")","v":""},{"$f":"IF( Ecarts!$E120=$A$1,IF( Ecarts!C120=\"\",\"\",Ecarts!C120),\"\")","v":""},{"$f":"IF( Ecarts!$E120=$A$1, IF(Ecarts!F120=\"\",\"\",Ecarts!F120),\"\")","v":""},{"$f":"IF( Ecarts!$E120=$A$1, IF(Ecarts!I120=\"\",\"\",Ecarts!I120),\"\")","v":""},{"$f":"IF( Ecarts!$E120=$A$1, IF(Ecarts!J120=\"\",\"\",Ecarts!J120),\"\")","v":""},{"$f":"IF( Ecarts!$E120=$A$1, IF(Ecarts!K120=\"\",\"\",Ecarts!K120),\"\")","v":""},{"$f":"IF( Ecarts!$E120=$A$1, IF(Ecarts!L120=\"\",\"\",Ecarts!L120),\"\")","v":""},{"$f":"IF( Ecarts!$E120=$A$1, IF(Ecarts!M120=\"\",\"\",Ecarts!M120),\"\")","v":""},0,0]
[{"$f":"IF( Ecarts!$E121=$A$1,IF( Ecarts!B121=\"\",\"\",Ecarts!A121),\"\")","v":""},{"$f":"IF( Ecarts!$E121=$A$1,IF( Ecarts!C121=\"\",\"\",Ecarts!C121),\"\")","v":""},{"$f":"IF( Ecarts!$E121=$A$1, IF(Ecarts!F121=\"\",\"\",Ecarts!F121),\"\")","v":""},{"$f":"IF( Ecarts!$E121=$A$1, IF(Ecarts!I121=\"\",\"\",Ecarts!I121),\"\")","v":""},{"$f":"IF( Ecarts!$E121=$A$1, IF(Ecarts!J121=\"\",\"\",Ecarts!J121),\"\")","v":""},{"$f":"IF( Ecarts!$E121=$A$1, IF(Ecarts!K121=\"\",\"\",Ecarts!K121),\"\")","v":""},{"$f":"IF( Ecarts!$E121=$A$1, IF(Ecarts!L121=\"\",\"\",Ecarts!L121),\"\")","v":""},{"$f":"IF( Ecarts!$E121=$A$1, IF(Ecarts!M121=\"\",\"\",Ecarts!M121),\"\")","v":""},0,0]
[{"$f":"IF( Ecarts!$E122=$A$1,IF( Ecarts!B122=\"\",\"\",Ecarts!A122),\"\")","v":""},{"$f":"IF( Ecarts!$E122=$A$1,IF( Ecarts!C122=\"\",\"\",Ecarts!C122),\"\")","v":""},{"$f":"IF( Ecarts!$E122=$A$1, IF(Ecarts!F122=\"\",\"\",Ecarts!F122),\"\")","v":""},{"$f":"IF( Ecarts!$E122=$A$1, IF(Ecarts!I122=\"\",\"\",Ecarts!I122),\"\")","v":""},{"$f":"IF( Ecarts!$E122=$A$1, IF(Ecarts!J122=\"\",\"\",Ecarts!J122),\"\")","v":""},{"$f":"IF( Ecarts!$E122=$A$1, IF(Ecarts!K122=\"\",\"\",Ecarts!K122),\"\")","v":""},{"$f":"IF( Ecarts!$E122=$A$1, IF(Ecarts!L122=\"\",\"\",Ecarts!L122),\"\")","v":""},{"$f":"IF( Ecarts!$E122=$A$1, IF(Ecarts!M122=\"\",\"\",Ecarts!M122),\"\")","v":""},0,0]
[{"$f":"IF( Ecarts!$E123=$A$1,IF( Ecarts!B123=\"\",\"\",Ecarts!A123),\"\")","v":""},{"$f":"IF( Ecarts!$E123=$A$1,IF( Ecarts!C123=\"\",\"\",Ecarts!C123),\"\")","v":""},{"$f":"IF( Ecarts!$E123=$A$1, IF(Ecarts!F123=\"\",\"\",Ecarts!F123),\"\")","v":""},{"$f":"IF( Ecarts!$E123=$A$1, IF(Ecarts!I123=\"\",\"\",Ecarts!I123),\"\")","v":""},{"$f":"IF( Ecarts!$E123=$A$1, IF(Ecarts!J123=\"\",\"\",Ecarts!J123),\"\")","v":""},{"$f":"IF( Ecarts!$E123=$A$1, IF(Ecarts!K123=\"\",\"\",Ecarts!K123),\"\")","v":""},{"$f":"IF( Ecarts!$E123=$A$1, IF(Ecarts!L123=\"\",\"\",Ecarts!L123),\"\")","v":""},{"$f":"IF( Ecarts!$E123=$A$1, IF(Ecarts!M123=\"\",\"\",Ecarts!M123),\"\")","v":""},0,0]
[{"$f":"IF( Ecarts!$E124=$A$1,IF( Ecarts!B124=\"\",\"\",Ecarts!A124),\"\")","v":""},{"$f":"IF( Ecarts!$E124=$A$1,IF( Ecarts!C124=\"\",\"\",Ecarts!C124),\"\")","v":""},{"$f":"IF( Ecarts!$E124=$A$1, IF(Ecarts!F124=\"\",\"\",Ecarts!F124),\"\")","v":""},{"$f":"IF( Ecarts!$E124=$A$1, IF(Ecarts!I124=\"\",\"\",Ecarts!I124),\"\")","v":""},{"$f":"IF( Ecarts!$E124=$A$1, IF(Ecarts!J124=\"\",\"\",Ecarts!J124),\"\")","v":""},{"$f":"IF( Ecarts!$E124=$A$1, IF(Ecarts!K124=\"\",\"\",Ecarts!K124),\"\")","v":""},{"$f":"IF( Ecarts!$E124=$A$1, IF(Ecarts!L124=\"\",\"\",Ecarts!L124),\"\")","v":""},{"$f":"IF( Ecarts!$E124=$A$1, IF(Ecarts!M124=\"\",\"\",Ecarts!M124),\"\")","v":""},0,0]
[{"$f":"IF( Ecarts!$E125=$A$1,IF( Ecarts!B125=\"\",\"\",Ecarts!A125),\"\")","v":""},{"$f":"IF( Ecarts!$E125=$A$1,IF( Ecarts!C125=\"\",\"\",Ecarts!C125),\"\")","v":""},{"$f":"IF( Ecarts!$E125=$A$1, IF(Ecarts!F125=\"\",\"\",Ecarts!F125),\"\")","v":""},{"$f":"IF( Ecarts!$E125=$A$1, IF(Ecarts!I125=\"\",\"\",Ecarts!I125),\"\")","v":""},{"$f":"IF( Ecarts!$E125=$A$1, IF(Ecarts!J125=\"\",\"\",Ecarts!J125),\"\")","v":""},{"$f":"IF( Ecarts!$E125=$A$1, IF(Ecarts!K125=\"\",\"\",Ecarts!K125),\"\")","v":""},{"$f":"IF( Ecarts!$E125=$A$1, IF(Ecarts!L125=\"\",\"\",Ecarts!L125),\"\")","v":""},{"$f":"IF( Ecarts!$E125=$A$1, IF(Ecarts!M125=\"\",\"\",Ecarts!M125),\"\")","v":""},0,0]
[{"$f":"IF( Ecarts!$E126=$A$1,IF( Ecarts!B126=\"\",\"\",Ecarts!A126),\"\")","v":""},{"$f":"IF( Ecarts!$E126=$A$1,IF( Ecarts!C126=\"\",\"\",Ecarts!C126),\"\")","v":""},{"$f":"IF( Ecarts!$E126=$A$1, IF(Ecarts!F126=\"\",\"\",Ecarts!F126),\"\")","v":""},{"$f":"IF( Ecarts!$E126=$A$1, IF(Ecarts!I126=\"\",\"\",Ecarts!I126),\"\")","v":""},{"$f":"IF( Ecarts!$E126=$A$1, IF(Ecarts!J126=\"\",\"\",Ecarts!J126),\"\")","v":""},{"$f":"IF( Ecarts!$E126=$A$1, IF(Ecarts!K126=\"\",\"\",Ecarts!K126),\"\")","v":""},{"$f":"IF( Ecarts!$E126=$A$1, IF(Ecarts!L126=\"\",\"\",Ecarts!L126),\"\")","v":""},{"$f":"IF( Ecarts!$E126=$A$1, IF(Ecarts!M126=\"\",\"\",Ecarts!M126),\"\")","v":""},0,0]
[{"$f":"IF( Ecarts!$E127=$A$1,IF( Ecarts!B127=\"\",\"\",Ecarts!A127),\"\")","v":""},{"$f":"IF( Ecarts!$E127=$A$1,IF( Ecarts!C127=\"\",\"\",Ecarts!C127),\"\")","v":""},{"$f":"IF( Ecarts!$E127=$A$1, IF(Ecarts!F127=\"\",\"\",Ecarts!F127),\"\")","v":""},{"$f":"IF( Ecarts!$E127=$A$1, IF(Ecarts!I127=\"\",\"\",Ecarts!I127),\"\")","v":""},{"$f":"IF( Ecarts!$E127=$A$1, IF(Ecarts!J127=\"\",\"\",Ecarts!J127),\"\")","v":""},{"$f":"IF( Ecarts!$E127=$A$1, IF(Ecarts!K127=\"\",\"\",Ecarts!K127),\"\")","v":""},{"$f":"IF( Ecarts!$E127=$A$1, IF(Ecarts!L127=\"\",\"\",Ecarts!L127),\"\")","v":""},{"$f":"IF( Ecarts!$E127=$A$1, IF(Ecarts!M127=\"\",\"\",Ecarts!M127),\"\")","v":""},0,0]
[{"$f":"IF( Ecarts!$E128=$A$1,IF( Ecarts!B128=\"\",\"\",Ecarts!A128),\"\")","v":""},{"$f":"IF( Ecarts!$E128=$A$1,IF( Ecarts!C128=\"\",\"\",Ecarts!C128),\"\")","v":""},{"$f":"IF( Ecarts!$E128=$A$1, IF(Ecarts!F128=\"\",\"\",Ecarts!F128),\"\")","v":""},{"$f":"IF( Ecarts!$E128=$A$1, IF(Ecarts!I128=\"\",\"\",Ecarts!I128),\"\")","v":""},{"$f":"IF( Ecarts!$E128=$A$1, IF(Ecarts!J128=\"\",\"\",Ecarts!J128),\"\")","v":""},{"$f":"IF( Ecarts!$E128=$A$1, IF(Ecarts!K128=\"\",\"\",Ecarts!K128),\"\")","v":""},{"$f":"IF( Ecarts!$E128=$A$1, IF(Ecarts!L128=\"\",\"\",Ecarts!L128),\"\")","v":""},{"$f":"IF( Ecarts!$E128=$A$1, IF(Ecarts!M128=\"\",\"\",Ecarts!M128),\"\")","v":""},0,0]
[{"$f":"IF( Ecarts!$E129=$A$1,IF( Ecarts!B129=\"\",\"\",Ecarts!A129),\"\")","v":""},{"$f":"IF( Ecarts!$E129=$A$1,IF( Ecarts!C129=\"\",\"\",Ecarts!C129),\"\")","v":""},{"$f":"IF( Ecarts!$E129=$A$1, IF(Ecarts!F129=\"\",\"\",Ecarts!F129),\"\")","v":""},{"$f":"IF( Ecarts!$E129=$A$1, IF(Ecarts!I129=\"\",\"\",Ecarts!I129),\"\")","v":""},{"$f":"IF( Ecarts!$E129=$A$1, IF(Ecarts!J129=\"\",\"\",Ecarts!J129),\"\")","v":""},{"$f":"IF( Ecarts!$E129=$A$1, IF(Ecarts!K129=\"\",\"\",Ecarts!K129),\"\")","v":""},{"$f":"IF( Ecarts!$E129=$A$1, IF(Ecarts!L129=\"\",\"\",Ecarts!L129),\"\")","v":""},{"$f":"IF( Ecarts!$E129=$A$1, IF(Ecarts!M129=\"\",\"\",Ecarts!M129),\"\")","v":""},0,0]
[{"$f":"IF( Ecarts!$E130=$A$1,IF( Ecarts!B130=\"\",\"\",Ecarts!A130),\"\")","v":""},{"$f":"IF( Ecarts!$E130=$A$1,IF( Ecarts!C130=\"\",\"\",Ecarts!C130),\"\")","v":""},{"$f":"IF( Ecarts!$E130=$A$1, IF(Ecarts!F130=\"\",\"\",Ecarts!F130),\"\")","v":""},{"$f":"IF( Ecarts!$E130=$A$1, IF(Ecarts!I130=\"\",\"\",Ecarts!I130),\"\")","v":""},{"$f":"IF( Ecarts!$E130=$A$1, IF(Ecarts!J130=\"\",\"\",Ecarts!J130),\"\")","v":""},{"$f":"IF( Ecarts!$E130=$A$1, IF(Ecarts!K130=\"\",\"\",Ecarts!K130),\"\")","v":""},{"$f":"IF( Ecarts!$E130=$A$1, IF(Ecarts!L130=\"\",\"\",Ecarts!L130),\"\")","v":""},{"$f":"IF( Ecarts!$E130=$A$1, IF(Ecarts!M130=\"\",\"\",Ecarts!M130),\"\")","v":""},0,0]
[{"$f":"IF( Ecarts!$E131=$A$1,IF( Ecarts!B131=\"\",\"\",Ecarts!A131),\"\")","v":""},{"$f":"IF( Ecarts!$E131=$A$1,IF( Ecarts!C131=\"\",\"\",Ecarts!C131),\"\")","v":""},{"$f":"IF( Ecarts!$E131=$A$1, IF(Ecarts!F131=\"\",\"\",Ecarts!F131),\"\")","v":""},{"$f":"IF( Ecarts!$E131=$A$1, IF(Ecarts!I131=\"\",\"\",Ecarts!I131),\"\")","v":""},{"$f":"IF( Ecarts!$E131=$A$1, IF(Ecarts!J131=\"\",\"\",Ecarts!J131),\"\")","v":""},{"$f":"IF( Ecarts!$E131=$A$1, IF(Ecarts!K131=\"\",\"\",Ecarts!K131),\"\")","v":""},{"$f":"IF( Ecarts!$E131=$A$1, IF(Ecarts!L131=\"\",\"\",Ecarts!L131),\"\")","v":""},{"$f":"IF( Ecarts!$E131=$A$1, IF(Ecarts!M131=\"\",\"\",Ecarts!M131),\"\")","v":""},0,0]
[{"$f":"IF( Ecarts!$E132=$A$1,IF( Ecarts!B132=\"\",\"\",Ecarts!A132),\"\")","v":""},{"$f":"IF( Ecarts!$E132=$A$1,IF( Ecarts!C132=\"\",\"\",Ecarts!C132),\"\")","v":""},{"$f":"IF( Ecarts!$E132=$A$1, IF(Ecarts!F132=\"\",\"\",Ecarts!F132),\"\")","v":""},{"$f":"IF( Ecarts!$E132=$A$1, IF(Ecarts!I132=\"\",\"\",Ecarts!I132),\"\")","v":""},{"$f":"IF( Ecarts!$E132=$A$1, IF(Ecarts!J132=\"\",\"\",Ecarts!J132),\"\")","v":""},{"$f":"IF( Ecarts!$E132=$A$1, IF(Ecarts!K132=\"\",\"\",Ecarts!K132),\"\")","v":""},{"$f":"IF( Ecarts!$E132=$A$1, IF(Ecarts!L132=\"\",\"\",Ecarts!L132),\"\")","v":""},{"$f":"IF( Ecarts!$E132=$A$1, IF(Ecarts!M132=\"\",\"\",Ecarts!M132),\"\")","v":""},{"$f":"IF(B133=\"\",0,IF(G133=1,0,1))","v":0},{"$f":"IF(F133=\"\",0,IF(F133>(TODAY()-60),1,0))","v":0}]
[{"$f":"IF( Ecarts!$E133=$A$1,IF( Ecarts!B133=\"\",\"\",Ecarts!A133),\"\")","v":""},{"$f":"IF( Ecarts!$E133=$A$1,IF( Ecarts!C133=\"\",\"\",Ecarts!C133),\"\")","v":""},{"$f":"IF( Ecarts!$E133=$A$1, IF(Ecarts!F133=\"\",\"\",Ecarts!F133),\"\")","v":""},{"$f":"IF( Ecarts!$E133=$A$1, IF(Ecarts!I133=\"\",\"\",Ecarts!I133),\"\")","v":""},{"$f":"IF( Ecarts!$E133=$A$1, IF(Ecarts!J133=\"\",\"\",Ecarts!J133),\"\")","v":""},{"$f":"IF( Ecarts!$E133=$A$1, IF(Ecarts!K133=\"\",\"\",Ecarts!K133),\"\")","v":""},{"$f":"IF( Ecarts!$E133=$A$1, IF(Ecarts!L133=\"\",\"\",Ecarts!L133),\"\")","v":""},{"$f":"IF( Ecarts!$E133=$A$1, IF(Ecarts!M133=\"\",\"\",Ecarts!M133),\"\")","v":""},0,0]
[{"$f":"IF( Ecarts!$E134=$A$1,IF( Ecarts!B134=\"\",\"\",Ecarts!A134),\"\")","v":""},{"$f":"IF( Ecarts!$E134=$A$1,IF( Ecarts!C134=\"\",\"\",Ecarts!C134),\"\")","v":""},{"$f":"IF( Ecarts!$E134=$A$1, IF(Ecarts!F134=\"\",\"\",Ecarts!F134),\"\")","v":""},{"$f":"IF( Ecarts!$E134=$A$1, IF(Ecarts!I134=\"\",\"\",Ecarts!I134),\"\")","v":""},{"$f":"IF( Ecarts!$E134=$A$1, IF(Ecarts!J134=\"\",\"\",Ecarts!J134),\"\")","v":""},{"$f":"IF( Ecarts!$E134=$A$1, IF(Ecarts!K134=\"\",\"\",Ecarts!K134),\"\")","v":""},{"$f":"IF( Ecarts!$E134=$A$1, IF(Ecarts!L134=\"\",\"\",Ecarts!L134),\"\")","v":""},{"$f":"IF( Ecarts!$E134=$A$1, IF(Ecarts!M134=\"\",\"\",Ecarts!M134),\"\")","v":""},0,0]
[{"$f":"IF( Ecarts!$E135=$A$1,IF( Ecarts!B135=\"\",\"\",Ecarts!A135),\"\")","v":""},{"$f":"IF( Ecarts!$E135=$A$1,IF( Ecarts!C135=\"\",\"\",Ecarts!C135),\"\")","v":""},{"$f":"IF( Ecarts!$E135=$A$1, IF(Ecarts!F135=\"\",\"\",Ecarts!F135),\"\")","v":""},{"$f":"IF( Ecarts!$E135=$A$1, IF(Ecarts!I135=\"\",\"\",Ecarts!I135),\"\")","v":""},{"$f":"IF( Ecarts!$E135=$A$1, IF(Ecarts!J135=\"\",\"\",Ecarts!J135),\"\")","v":""},{"$f":"IF( Ecarts!$E135=$A$1, IF(Ecarts!K135=\"\",\"\",Ecarts!K135),\"\")","v":""},{"$f":"IF( Ecarts!$E135=$A$1, IF(Ecarts!L135=\"\",\"\",Ecarts!L135),\"\")","v":""},{"$f":"IF( Ecarts!$E135=$A$1, IF(Ecarts!M135=\"\",\"\",Ecarts!M135),\"\")","v":""},0,0]
[{"$f":"IF( Ecarts!$E136=$A$1,IF( Ecarts!B136=\"\",\"\",Ecarts!A136),\"\")","v":""},{"$f":"IF( Ecarts!$E136=$A$1,IF( Ecarts!C136=\"\",\"\",Ecarts!C136),\"\")","v":""},{"$f":"IF( Ecarts!$E136=$A$1, IF(Ecarts!F136=\"\",\"\",Ecarts!F136),\"\")","v":""},{"$f":"IF( Ecarts!$E136=$A$1, IF(Ecarts!I136=\"\",\"\",Ecarts!I136),\"\")","v":""},{"$f":"IF( Ecarts!$E136=$A$1, IF(Ecarts!J136=\"\",\"\",Ecarts!J136),\"\")","v":""},{"$f":"IF( Ecarts!$E136=$A$1, IF(Ecarts!K136=\"\",\"\",Ecarts!K136),\"\")","v":""},{"$f":"IF( Ecarts!$E136=$A$1, IF(Ecarts!L136=\"\",\"\",Ecarts!L136),\"\")","v":""},{"$f":"IF( Ecarts!$E136=$A$1, IF(Ecarts!M136=\"\",\"\",Ecarts!M136),\"\")","v":""},0,0]
[{"$f":"IF( Ecarts!$E137=$A$1,IF( Ecarts!B137=\"\",\"\",Ecarts!A137),\"\")","v":""},{"$f":"IF( Ecarts!$E137=$A$1,IF( Ecarts!C137=\"\",\"\",Ecarts!C137),\"\")","v":""},{"$f":"IF( Ecarts!$E137=$A$1, IF(Ecarts!F137=\"\",\"\",Ecarts!F137),\"\")","v":""},{"$f":"IF( Ecarts!$E137=$A$1, IF(Ecarts!I137=\"\",\"\",Ecarts!I137),\"\")","v":""},{"$f":"IF( Ecarts!$E137=$A$1, IF(Ecarts!J137=\"\",\"\",Ecarts!J137),\"\")","v":""},{"$f":"IF( Ecarts!$E137=$A$1, IF(Ecarts!K137=\"\",\"\",Ecarts!K137),\"\")","v":""},{"$f":"IF( Ecarts!$E137=$A$1, IF(Ecarts!L137=\"\",\"\",Ecarts!L137),\"\")","v":""},{"$f":"IF( Ecarts!$E137=$A$1, IF(Ecarts!M137=\"\",\"\",Ecarts!M137),\"\")","v":""},0,0]
[{"$f":"IF( Ecarts!$E138=$A$1,IF( Ecarts!B138=\"\",\"\",Ecarts!A138),\"\")","v":""},{"$f":"IF( Ecarts!$E138=$A$1,IF( Ecarts!C138=\"\",\"\",Ecarts!C138),\"\")","v":""},{"$f":"IF( Ecarts!$E138=$A$1, IF(Ecarts!F138=\"\",\"\",Ecarts!F138),\"\")","v":""},{"$f":"IF( Ecarts!$E138=$A$1, IF(Ecarts!I138=\"\",\"\",Ecarts!I138),\"\")","v":""},{"$f":"IF( Ecarts!$E138=$A$1, IF(Ecarts!J138=\"\",\"\",Ecarts!J138),\"\")","v":""},{"$f":"IF( Ecarts!$E138=$A$1, IF(Ecarts!K138=\"\",\"\",Ecarts!K138),\"\")","v":""},{"$f":"IF( Ecarts!$E138=$A$1, IF(Ecarts!L138=\"\",\"\",Ecarts!L138),\"\")","v":""},{"$f":"IF( Ecarts!$E138=$A$1, IF(Ecarts!M138=\"\",\"\",Ecarts!M138),\"\")","v":""},0,0]
[{"$f":"IF( Ecarts!$E139=$A$1,IF( Ecarts!B139=\"\",\"\",Ecarts!A139),\"\")","v":""},{"$f":"IF( Ecarts!$E139=$A$1,IF( Ecarts!C139=\"\",\"\",Ecarts!C139),\"\")","v":""},{"$f":"IF( Ecarts!$E139=$A$1, IF(Ecarts!F139=\"\",\"\",Ecarts!F139),\"\")","v":""},{"$f":"IF( Ecarts!$E139=$A$1, IF(Ecarts!I139=\"\",\"\",Ecarts!I139),\"\")","v":""},{"$f":"IF( Ecarts!$E139=$A$1, IF(Ecarts!J139=\"\",\"\",Ecarts!J139),\"\")","v":""},{"$f":"IF( Ecarts!$E139=$A$1, IF(Ecarts!K139=\"\",\"\",Ecarts!K139),\"\")","v":""},{"$f":"IF( Ecarts!$E139=$A$1, IF(Ecarts!L139=\"\",\"\",Ecarts!L139),\"\")","v":""},{"$f":"IF( Ecarts!$E139=$A$1, IF(Ecarts!M139=\"\",\"\",Ecarts!M139),\"\")","v":""},0,0]
[{"$f":"IF( Ecarts!$E140=$A$1,IF( Ecarts!B140=\"\",\"\",Ecarts!A140),\"\")","v":""},{"$f":"IF( Ecarts!$E140=$A$1,IF( Ecarts!C140=\"\",\"\",Ecarts!C140),\"\")","v":""},{"$f":"IF( Ecarts!$E140=$A$1, IF(Ecarts!F140=\"\",\"\",Ecarts!F140),\"\")","v":""},{"$f":"IF( Ecarts!$E140=$A$1, IF(Ecarts!I140=\"\",\"\",Ecarts!I140),\"\")","v":""},{"$f":"IF( Ecarts!$E140=$A$1, IF(Ecarts!J140=\"\",\"\",Ecarts!J140),\"\")","v":""},{"$f":"IF( Ecarts!$E140=$A$1, IF(Ecarts!K140=\"\",\"\",Ecarts!K140),\"\")","v":""},{"$f":"IF( Ecarts!$E140=$A$1, IF(Ecarts!L140=\"\",\"\",Ecarts!L140),\"\")","v":""},{"$f":"IF( Ecarts!$E140=$A$1, IF(Ecarts!M140=\"\",\"\",Ecarts!M140),\"\")","v":""},0,0]
[{"$f":"IF( Ecarts!$E141=$A$1,IF( Ecarts!B141=\"\",\"\",Ecarts!A141),\"\")","v":""},{"$f":"IF( Ecarts!$E141=$A$1,IF( Ecarts!C141=\"\",\"\",Ecarts!C141),\"\")","v":""},{"$f":"IF( Ecarts!$E141=$A$1, IF(Ecarts!F141=\"\",\"\",Ecarts!F141),\"\")","v":""},{"$f":"IF( Ecarts!$E141=$A$1, IF(Ecarts!I141=\"\",\"\",Ecarts!I141),\"\")","v":""},{"$f":"IF( Ecarts!$E141=$A$1, IF(Ecarts!J141=\"\",\"\",Ecarts!J141),\"\")","v":""},{"$f":"IF( Ecarts!$E141=$A$1, IF(Ecarts!K141=\"\",\"\",Ecarts!K141),\"\")","v":""},{"$f":"IF( Ecarts!$E141=$A$1, IF(Ecarts!L141=\"\",\"\",Ecarts!L141),\"\")","v":""},{"$f":"IF( Ecarts!$E141=$A$1, IF(Ecarts!M141=\"\",\"\",Ecarts!M141),\"\")","v":""},0,0]
[{"$f":"IF( Ecarts!$E142=$A$1,IF( Ecarts!B142=\"\",\"\",Ecarts!A142),\"\")","v":""},{"$f":"IF( Ecarts!$E142=$A$1,IF( Ecarts!C142=\"\",\"\",Ecarts!C142),\"\")","v":""},{"$f":"IF( Ecarts!$E142=$A$1, IF(Ecarts!F142=\"\",\"\",Ecarts!F142),\"\")","v":""},{"$f":"IF( Ecarts!$E142=$A$1, IF(Ecarts!I142=\"\",\"\",Ecarts!I142),\"\")","v":""},{"$f":"IF( Ecarts!$E142=$A$1, IF(Ecarts!J142=\"\",\"\",Ecarts!J142),\"\")","v":""},{"$f":"IF( Ecarts!$E142=$A$1, IF(Ecarts!K142=\"\",\"\",Ecarts!K142),\"\")","v":""},{"$f":"IF( Ecarts!$E142=$A$1, IF(Ecarts!L142=\"\",\"\",Ecarts!L142),\"\")","v":""},{"$f":"IF( Ecarts!$E142=$A$1, IF(Ecarts!M142=\"\",\"\",Ecarts!M142),\"\")","v":""},0,0]
[{"$f":"IF( Ecarts!$E143=$A$1,IF( Ecarts!B143=\"\",\"\",Ecarts!A143),\"\")","v":""},{"$f":"IF( Ecarts!$E143=$A$1,IF( Ecarts!C143=\"\",\"\",Ecarts!C143),\"\")","v":""},{"$f":"IF( Ecarts!$E143=$A$1, IF(Ecarts!F143=\"\",\"\",Ecarts!F143),\"\")","v":""},{"$f":"IF( Ecarts!$E143=$A$1, IF(Ecarts!I143=\"\",\"\",Ecarts!I143),\"\")","v":""},{"$f":"IF( Ecarts!$E143=$A$1, IF(Ecarts!J143=\"\",\"\",Ecarts!J143),\"\")","v":""},{"$f":"IF( Ecarts!$E143=$A$1, IF(Ecarts!K143=\"\",\"\",Ecarts!K143),\"\")","v":""},{"$f":"IF( Ecarts!$E143=$A$1, IF(Ecarts!L143=\"\",\"\",Ecarts!L143),\"\")","v":""},{"$f":"IF( Ecarts!$E143=$A$1, IF(Ecarts!M143=\"\",\"\",Ecarts!M143),\"\")","v":""},0,0]
[{"$f":"IF( Ecarts!$E144=$A$1,IF( Ecarts!B144=\"\",\"\",Ecarts!A144),\"\")","v":""},{"$f":"IF( Ecarts!$E144=$A$1,IF( Ecarts!C144=\"\",\"\",Ecarts!C144),\"\")","v":""},{"$f":"IF( Ecarts!$E144=$A$1, IF(Ecarts!F144=\"\",\"\",Ecarts!F144),\"\")","v":""},{"$f":"IF( Ecarts!$E144=$A$1, IF(Ecarts!I144=\"\",\"\",Ecarts!I144),\"\")","v":""},{"$f":"IF( Ecarts!$E144=$A$1, IF(Ecarts!J144=\"\",\"\",Ecarts!J144),\"\")","v":""},{"$f":"IF( Ecarts!$E144=$A$1, IF(Ecarts!K144=\"\",\"\",Ecarts!K144),\"\")","v":""},{"$f":"IF( Ecarts!$E144=$A$1, IF(Ecarts!L144=\"\",\"\",Ecarts!L144),\"\")","v":""},{"$f":"IF( Ecarts!$E144=$A$1, IF(Ecarts!M144=\"\",\"\",Ecarts!M144),\"\")","v":""},0,0]
[{"$f":"IF( Ecarts!$E145=$A$1,IF( Ecarts!B145=\"\",\"\",Ecarts!A145),\"\")","v":""},{"$f":"IF( Ecarts!$E145=$A$1,IF( Ecarts!C145=\"\",\"\",Ecarts!C145),\"\")","v":""},{"$f":"IF( Ecarts!$E145=$A$1, IF(Ecarts!F145=\"\",\"\",Ecarts!F145),\"\")","v":""},{"$f":"IF( Ecarts!$E145=$A$1, IF(Ecarts!I145=\"\",\"\",Ecarts!I145),\"\")","v":""},{"$f":"IF( Ecarts!$E145=$A$1, IF(Ecarts!J145=\"\",\"\",Ecarts!J145),\"\")","v":""},{"$f":"IF( Ecarts!$E145=$A$1, IF(Ecarts!K145=\"\",\"\",Ecarts!K145),\"\")","v":""},{"$f":"IF( Ecarts!$E145=$A$1, IF(Ecarts!L145=\"\",\"\",Ecarts!L145),\"\")","v":""},{"$f":"IF( Ecarts!$E145=$A$1, IF(Ecarts!M145=\"\",\"\",Ecarts!M145),\"\")","v":""},0,0]
[{"$f":"IF( Ecarts!$E146=$A$1,IF( Ecarts!B146=\"\",\"\",Ecarts!A146),\"\")","v":""},{"$f":"IF( Ecarts!$E146=$A$1,IF( Ecarts!C146=\"\",\"\",Ecarts!C146),\"\")","v":""},{"$f":"IF( Ecarts!$E146=$A$1, IF(Ecarts!F146=\"\",\"\",Ecarts!F146),\"\")","v":""},{"$f":"IF( Ecarts!$E146=$A$1, IF(Ecarts!I146=\"\",\"\",Ecarts!I146),\"\")","v":""},{"$f":"IF( Ecarts!$E146=$A$1, IF(Ecarts!J146=\"\",\"\",Ecarts!J146),\"\")","v":""},{"$f":"IF( Ecarts!$E146=$A$1, IF(Ecarts!K146=\"\",\"\",Ecarts!K146),\"\")","v":""},{"$f":"IF( Ecarts!$E146=$A$1, IF(Ecarts!L146=\"\",\"\",Ecarts!L146),\"\")","v":""},{"$f":"IF( Ecarts!$E146=$A$1, IF(Ecarts!M146=\"\",\"\",Ecarts!M146),\"\")","v":""},0,0]
[{"$f":"IF( Ecarts!$E147=$A$1,IF( Ecarts!B147=\"\",\"\",Ecarts!A147),\"\")","v":""},{"$f":"IF( Ecarts!$E147=$A$1,IF( Ecarts!C147=\"\",\"\",Ecarts!C147),\"\")","v":""},{"$f":"IF( Ecarts!$E147=$A$1, IF(Ecarts!F147=\"\",\"\",Ecarts!F147),\"\")","v":""},{"$f":"IF( Ecarts!$E147=$A$1, IF(Ecarts!I147=\"\",\"\",Ecarts!I147),\"\")","v":""},{"$f":"IF( Ecarts!$E147=$A$1, IF(Ecarts!J147=\"\",\"\",Ecarts!J147),\"\")","v":""},{"$f":"IF( Ecarts!$E147=$A$1, IF(Ecarts!K147=\"\",\"\",Ecarts!K147),\"\")","v":""},{"$f":"IF( Ecarts!$E147=$A$1, IF(Ecarts!L147=\"\",\"\",Ecarts!L147),\"\")","v":""},{"$f":"IF( Ecarts!$E147=$A$1, IF(Ecarts!M147=\"\",\"\",Ecarts!M147),\"\")","v":""},0,0]
[{"$f":"IF( Ecarts!$E148=$A$1,IF( Ecarts!B148=\"\",\"\",Ecarts!A148),\"\")","v":""},{"$f":"IF( Ecarts!$E148=$A$1,IF( Ecarts!C148=\"\",\"\",Ecarts!C148),\"\")","v":""},{"$f":"IF( Ecarts!$E148=$A$1, IF(Ecarts!F148=\"\",\"\",Ecarts!F148),\"\")","v":""},{"$f":"IF( Ecarts!$E148=$A$1, IF(Ecarts!I148=\"\",\"\",Ecarts!I148),\"\")","v":""},{"$f":"IF( Ecarts!$E148=$A$1, IF(Ecarts!J148=\"\",\"\",Ecarts!J148),\"\")","v":""},{"$f":"IF( Ecarts!$E148=$A$1, IF(Ecarts!K148=\"\",\"\",Ecarts!K148),\"\")","v":""},{"$f":"IF( Ecarts!$E148=$A$1, IF(Ecarts!L148=\"\",\"\",Ecarts!L148),\"\")","v":""},{"$f":"IF( Ecarts!$E148=$A$1, IF(Ecarts!M148=\"\",\"\",Ecarts!M148),\"\")","v":""},0,0]
[{"$f":"IF( Ecarts!$E149=$A$1,IF( Ecarts!B149=\"\",\"\",Ecarts!A149),\"\")","v":""},{"$f":"IF( Ecarts!$E149=$A$1,IF( Ecarts!C149=\"\",\"\",Ecarts!C149),\"\")","v":""},{"$f":"IF( Ecarts!$E149=$A$1, IF(Ecarts!F149=\"\",\"\",Ecarts!F149),\"\")","v":""},{"$f":"IF( Ecarts!$E149=$A$1, IF(Ecarts!I149=\"\",\"\",Ecarts!I149),\"\")","v":""},{"$f":"IF( Ecarts!$E149=$A$1, IF(Ecarts!J149=\"\",\"\",Ecarts!J149),\"\")","v":""},{"$f":"IF( Ecarts!$E149=$A$1, IF(Ecarts!K149=\"\",\"\",Ecarts!K149),\"\")","v":""},{"$f":"IF( Ecarts!$E149=$A$1, IF(Ecarts!L149=\"\",\"\",Ecarts!L149),\"\")","v":""},{"$f":"IF( Ecarts!$E149=$A$1, IF(Ecarts!M149=\"\",\"\",Ecarts!M149),\"\")","v":""},0,0]
[{"$f":"IF( Ecarts!$E150=$A$1,IF( Ecarts!B150=\"\",\"\",Ecarts!A150),\"\")","v":""},{"$f":"IF( Ecarts!$E150=$A$1,IF( Ecarts!C150=\"\",\"\",Ecarts!C150),\"\")","v":""},{"$f":"IF( Ecarts!$E150=$A$1, IF(Ecarts!F150=\"\",\"\",Ecarts!F150),\"\")","v":""},{"$f":"IF( Ecarts!$E150=$A$1, IF(Ecarts!I150=\"\",\"\",Ecarts!I150),\"\")","v":""},{"$f":"IF( Ecarts!$E150=$A$1, IF(Ecarts!J150=\"\",\"\",Ecarts!J150),\"\")","v":""},{"$f":"IF( Ecarts!$E150=$A$1, IF(Ecarts!K150=\"\",\"\",Ecarts!K150),\"\")","v":""},{"$f":"IF( Ecarts!$E150=$A$1, IF(Ecarts!L150=\"\",\"\",Ecarts!L150),\"\")","v":""},{"$f":"IF( Ecarts!$E150=$A$1, IF(Ecarts!M150=\"\",\"\",Ecarts!M150),\"\")","v":""},0,0]
[{"$f":"IF( Ecarts!$E151=$A$1,IF( Ecarts!B151=\"\",\"\",Ecarts!A151),\"\")","v":""},{"$f":"IF( Ecarts!$E151=$A$1,IF( Ecarts!C151=\"\",\"\",Ecarts!C151),\"\")","v":""},{"$f":"IF( Ecarts!$E151=$A$1, IF(Ecarts!F151=\"\",\"\",Ecarts!F151),\"\")","v":""},{"$f":"IF( Ecarts!$E151=$A$1, IF(Ecarts!I151=\"\",\"\",Ecarts!I151),\"\")","v":""},{"$f":"IF( Ecarts!$E151=$A$1, IF(Ecarts!J151=\"\",\"\",Ecarts!J151),\"\")","v":""},{"$f":"IF( Ecarts!$E151=$A$1, IF(Ecarts!K151=\"\",\"\",Ecarts!K151),\"\")","v":""},{"$f":"IF( Ecarts!$E151=$A$1, IF(Ecarts!L151=\"\",\"\",Ecarts!L151),\"\")","v":""},{"$f":"IF( Ecarts!$E151=$A$1, IF(Ecarts!M151=\"\",\"\",Ecarts!M151),\"\")","v":""},0,0]
[{"$f":"IF( Ecarts!$E152=$A$1,IF( Ecarts!B152=\"\",\"\",Ecarts!A152),\"\")","v":""},{"$f":"IF( Ecarts!$E152=$A$1,IF( Ecarts!C152=\"\",\"\",Ecarts!C152),\"\")","v":""},{"$f":"IF( Ecarts!$E152=$A$1, IF(Ecarts!F152=\"\",\"\",Ecarts!F152),\"\")","v":""},{"$f":"IF( Ecarts!$E152=$A$1, IF(Ecarts!I152=\"\",\"\",Ecarts!I152),\"\")","v":""},{"$f":"IF( Ecarts!$E152=$A$1, IF(Ecarts!J152=\"\",\"\",Ecarts!J152),\"\")","v":""},{"$f":"IF( Ecarts!$E152=$A$1, IF(Ecarts!K152=\"\",\"\",Ecarts!K152),\"\")","v":""},{"$f":"IF( Ecarts!$E152=$A$1, IF(Ecarts!L152=\"\",\"\",Ecarts!L152),\"\")","v":""},{"$f":"IF( Ecarts!$E152=$A$1, IF(Ecarts!M152=\"\",\"\",Ecarts!M152),\"\")","v":""},0,0]
[{"$f":"IF( Ecarts!$E153=$A$1,IF( Ecarts!B153=\"\",\"\",Ecarts!A153),\"\")","v":""},{"$f":"IF( Ecarts!$E153=$A$1,IF( Ecarts!C153=\"\",\"\",Ecarts!C153),\"\")","v":""},{"$f":"IF( Ecarts!$E153=$A$1, IF(Ecarts!F153=\"\",\"\",Ecarts!F153),\"\")","v":""},{"$f":"IF( Ecarts!$E153=$A$1, IF(Ecarts!I153=\"\",\"\",Ecarts!I153),\"\")","v":""},{"$f":"IF( Ecarts!$E153=$A$1, IF(Ecarts!J153=\"\",\"\",Ecarts!J153),\"\")","v":""},{"$f":"IF( Ecarts!$E153=$A$1, IF(Ecarts!K153=\"\",\"\",Ecarts!K153),\"\")","v":""},{"$f":"IF( Ecarts!$E153=$A$1, IF(Ecarts!L153=\"\",\"\",Ecarts!L153),\"\")","v":""},{"$f":"IF( Ecarts!$E153=$A$1, IF(Ecarts!M153=\"\",\"\",Ecarts!M153),\"\")","v":""},0,0]
[{"$f":"IF( Ecarts!$E154=$A$1,IF( Ecarts!B154=\"\",\"\",Ecarts!A154),\"\")","v":""},{"$f":"IF( Ecarts!$E154=$A$1,IF( Ecarts!C154=\"\",\"\",Ecarts!C154),\"\")","v":""},{"$f":"IF( Ecarts!$E154=$A$1, IF(Ecarts!F154=\"\",\"\",Ecarts!F154),\"\")","v":""},{"$f":"IF( Ecarts!$E154=$A$1, IF(Ecarts!I154=\"\",\"\",Ecarts!I154),\"\")","v":""},{"$f":"IF( Ecarts!$E154=$A$1, IF(Ecarts!J154=\"\",\"\",Ecarts!J154),\"\")","v":""},{"$f":"IF( Ecarts!$E154=$A$1, IF(Ecarts!K154=\"\",\"\",Ecarts!K154),\"\")","v":""},{"$f":"IF( Ecarts!$E154=$A$1, IF(Ecarts!L154=\"\",\"\",Ecarts!L154),\"\")","v":""},{"$f":"IF( Ecarts!$E154=$A$1, IF(Ecarts!M154=\"\",\"\",Ecarts!M154),\"\")","v":""},0,0]
[{"$f":"IF( Ecarts!$E155=$A$1,IF( Ecarts!B155=\"\",\"\",Ecarts!A155),\"\")","v":""},{"$f":"IF( Ecarts!$E155=$A$1,IF( Ecarts!C155=\"\",\"\",Ecarts!C155),\"\")","v":""},{"$f":"IF( Ecarts!$E155=$A$1, IF(Ecarts!F155=\"\",\"\",Ecarts!F155),\"\")","v":""},{"$f":"IF( Ecarts!$E155=$A$1, IF(Ecarts!I155=\"\",\"\",Ecarts!I155),\"\")","v":""},{"$f":"IF( Ecarts!$E155=$A$1, IF(Ecarts!J155=\"\",\"\",Ecarts!J155),\"\")","v":""},{"$f":"IF( Ecarts!$E155=$A$1, IF(Ecarts!K155=\"\",\"\",Ecarts!K155),\"\")","v":""},{"$f":"IF( Ecarts!$E155=$A$1, IF(Ecarts!L155=\"\",\"\",Ecarts!L155),\"\")","v":""},{"$f":"IF( Ecarts!$E155=$A$1, IF(Ecarts!M155=\"\",\"\",Ecarts!M155),\"\")","v":""},0,0]
[{"$f":"IF( Ecarts!$E156=$A$1,IF( Ecarts!B156=\"\",\"\",Ecarts!A156),\"\")","v":""},{"$f":"IF( Ecarts!$E156=$A$1,IF( Ecarts!C156=\"\",\"\",Ecarts!C156),\"\")","v":""},{"$f":"IF( Ecarts!$E156=$A$1, IF(Ecarts!F156=\"\",\"\",Ecarts!F156),\"\")","v":""},{"$f":"IF( Ecarts!$E156=$A$1, IF(Ecarts!I156=\"\",\"\",Ecarts!I156),\"\")","v":""},{"$f":"IF( Ecarts!$E156=$A$1, IF(Ecarts!J156=\"\",\"\",Ecarts!J156),\"\")","v":""},{"$f":"IF( Ecarts!$E156=$A$1, IF(Ecarts!K156=\"\",\"\",Ecarts!K156),\"\")","v":""},{"$f":"IF( Ecarts!$E156=$A$1, IF(Ecarts!L156=\"\",\"\",Ecarts!L156),\"\")","v":""},{"$f":"IF( Ecarts!$E156=$A$1, IF(Ecarts!M156=\"\",\"\",Ecarts!M156),\"\")","v":""},0,0]
[{"$f":"IF( Ecarts!$E157=$A$1,IF( Ecarts!B157=\"\",\"\",Ecarts!A157),\"\")","v":""},{"$f":"IF( Ecarts!$E157=$A$1,IF( Ecarts!C157=\"\",\"\",Ecarts!C157),\"\")","v":""},{"$f":"IF( Ecarts!$E157=$A$1, IF(Ecarts!F157=\"\",\"\",Ecarts!F157),\"\")","v":""},{"$f":"IF( Ecarts!$E157=$A$1, IF(Ecarts!I157=\"\",\"\",Ecarts!I157),\"\")","v":""},{"$f":"IF( Ecarts!$E157=$A$1, IF(Ecarts!J157=\"\",\"\",Ecarts!J157),\"\")","v":""},{"$f":"IF( Ecarts!$E157=$A$1, IF(Ecarts!K157=\"\",\"\",Ecarts!K157),\"\")","v":""},{"$f":"IF( Ecarts!$E157=$A$1, IF(Ecarts!L157=\"\",\"\",Ecarts!L157),\"\")","v":""},{"$f":"IF( Ecarts!$E157=$A$1, IF(Ecarts!M157=\"\",\"\",Ecarts!M157),\"\")","v":""},0,0]
[{"$f":"IF( Ecarts!$E158=$A$1,IF( Ecarts!B158=\"\",\"\",Ecarts!A158),\"\")","v":""},{"$f":"IF( Ecarts!$E158=$A$1,IF( Ecarts!C158=\"\",\"\",Ecarts!C158),\"\")","v":""},{"$f":"IF( Ecarts!$E158=$A$1, IF(Ecarts!F158=\"\",\"\",Ecarts!F158),\"\")","v":""},{"$f":"IF( Ecarts!$E158=$A$1, IF(Ecarts!I158=\"\",\"\",Ecarts!I158),\"\")","v":""},{"$f":"IF( Ecarts!$E158=$A$1, IF(Ecarts!J158=\"\",\"\",Ecarts!J158),\"\")","v":""},{"$f":"IF( Ecarts!$E158=$A$1, IF(Ecarts!K158=\"\",\"\",Ecarts!K158),\"\")","v":""},{"$f":"IF( Ecarts!$E158=$A$1, IF(Ecarts!L158=\"\",\"\",Ecarts!L158),\"\")","v":""},{"$f":"IF( Ecarts!$E158=$A$1, IF(Ecarts!M158=\"\",\"\",Ecarts!M158),\"\")","v":""},0,0]
[{"$f":"IF( Ecarts!$E159=$A$1,IF( Ecarts!B159=\"\",\"\",Ecarts!A159),\"\")","v":""},{"$f":"IF( Ecarts!$E159=$A$1,IF( Ecarts!C159=\"\",\"\",Ecarts!C159),\"\")","v":""},{"$f":"IF( Ecarts!$E159=$A$1, IF(Ecarts!F159=\"\",\"\",Ecarts!F159),\"\")","v":""},{"$f":"IF( Ecarts!$E159=$A$1, IF(Ecarts!I159=\"\",\"\",Ecarts!I159),\"\")","v":""},{"$f":"IF( Ecarts!$E159=$A$1, IF(Ecarts!J159=\"\",\"\",Ecarts!J159),\"\")","v":""},{"$f":"IF( Ecarts!$E159=$A$1, IF(Ecarts!K159=\"\",\"\",Ecarts!K159),\"\")","v":""},{"$f":"IF( Ecarts!$E159=$A$1, IF(Ecarts!L159=\"\",\"\",Ecarts!L159),\"\")","v":""},{"$f":"IF( Ecarts!$E159=$A$1, IF(Ecarts!M159=\"\",\"\",Ecarts!M159),\"\")","v":""},0,0]
[{"$f":"IF( Ecarts!$E160=$A$1,IF( Ecarts!B160=\"\",\"\",Ecarts!A160),\"\")","v":""},{"$f":"IF( Ecarts!$E160=$A$1,IF( Ecarts!C160=\"\",\"\",Ecarts!C160),\"\")","v":""},{"$f":"IF( Ecarts!$E160=$A$1, IF(Ecarts!F160=\"\",\"\",Ecarts!F160),\"\")","v":""},{"$f":"IF( Ecarts!$E160=$A$1, IF(Ecarts!I160=\"\",\"\",Ecarts!I160),\"\")","v":""},{"$f":"IF( Ecarts!$E160=$A$1, IF(Ecarts!J160=\"\",\"\",Ecarts!J160),\"\")","v":""},{"$f":"IF( Ecarts!$E160=$A$1, IF(Ecarts!K160=\"\",\"\",Ecarts!K160),\"\")","v":""},{"$f":"IF( Ecarts!$E160=$A$1, IF(Ecarts!L160=\"\",\"\",Ecarts!L160),\"\")","v":""},{"$f":"IF( Ecarts!$E160=$A$1, IF(Ecarts!M160=\"\",\"\",Ecarts!M160),\"\")","v":""},0,0]
[{"$f":"IF( Ecarts!$E161=$A$1,IF( Ecarts!B161=\"\",\"\",Ecarts!A161),\"\")","v":""},{"$f":"IF( Ecarts!$E161=$A$1,IF( Ecarts!C161=\"\",\"\",Ecarts!C161),\"\")","v":""},{"$f":"IF( Ecarts!$E161=$A$1, IF(Ecarts!F161=\"\",\"\",Ecarts!F161),\"\")","v":""},{"$f":"IF( Ecarts!$E161=$A$1, IF(Ecarts!I161=\"\",\"\",Ecarts!I161),\"\")","v":""},{"$f":"IF( Ecarts!$E161=$A$1, IF(Ecarts!J161=\"\",\"\",Ecarts!J161),\"\")","v":""},{"$f":"IF( Ecarts!$E161=$A$1, IF(Ecarts!K161=\"\",\"\",Ecarts!K161),\"\")","v":""},{"$f":"IF( Ecarts!$E161=$A$1, IF(Ecarts!L161=\"\",\"\",Ecarts!L161),\"\")","v":""},{"$f":"IF( Ecarts!$E161=$A$1, IF(Ecarts!M161=\"\",\"\",Ecarts!M161),\"\")","v":""},0,0]
[{"$f":"IF( Ecarts!$E162=$A$1,IF( Ecarts!B162=\"\",\"\",Ecarts!A162),\"\")","v":""},{"$f":"IF( Ecarts!$E162=$A$1,IF( Ecarts!C162=\"\",\"\",Ecarts!C162),\"\")","v":""},{"$f":"IF( Ecarts!$E162=$A$1, IF(Ecarts!F162=\"\",\"\",Ecarts!F162),\"\")","v":""},{"$f":"IF( Ecarts!$E162=$A$1, IF(Ecarts!I162=\"\",\"\",Ecarts!I162),\"\")","v":""},{"$f":"IF( Ecarts!$E162=$A$1, IF(Ecarts!J162=\"\",\"\",Ecarts!J162),\"\")","v":""},{"$f":"IF( Ecarts!$E162=$A$1, IF(Ecarts!K162=\"\",\"\",Ecarts!K162),\"\")","v":""},{"$f":"IF( Ecarts!$E162=$A$1, IF(Ecarts!L162=\"\",\"\",Ecarts!L162),\"\")","v":""},{"$f":"IF( Ecarts!$E162=$A$1, IF(Ecarts!M162=\"\",\"\",Ecarts!M162),\"\")","v":""},0,0]
[{"$f":"IF( Ecarts!$E163=$A$1,IF( Ecarts!B163=\"\",\"\",Ecarts!A163),\"\")","v":""},{"$f":"IF( Ecarts!$E163=$A$1,IF( Ecarts!C163=\"\",\"\",Ecarts!C163),\"\")","v":""},{"$f":"IF( Ecarts!$E163=$A$1, IF(Ecarts!F163=\"\",\"\",Ecarts!F163),\"\")","v":""},{"$f":"IF( Ecarts!$E163=$A$1, IF(Ecarts!I163=\"\",\"\",Ecarts!I163),\"\")","v":""},{"$f":"IF( Ecarts!$E163=$A$1, IF(Ecarts!J163=\"\",\"\",Ecarts!J163),\"\")","v":""},{"$f":"IF( Ecarts!$E163=$A$1, IF(Ecarts!K163=\"\",\"\",Ecarts!K163),\"\")","v":""},{"$f":"IF( Ecarts!$E163=$A$1, IF(Ecarts!L163=\"\",\"\",Ecarts!L163),\"\")","v":""},{"$f":"IF( Ecarts!$E163=$A$1, IF(Ecarts!M163=\"\",\"\",Ecarts!M163),\"\")","v":""},0,0]
[{"$f":"IF( Ecarts!$E164=$A$1,IF( Ecarts!B164=\"\",\"\",Ecarts!A164),\"\")","v":""},{"$f":"IF( Ecarts!$E164=$A$1,IF( Ecarts!C164=\"\",\"\",Ecarts!C164),\"\")","v":""},{"$f":"IF( Ecarts!$E164=$A$1, IF(Ecarts!F164=\"\",\"\",Ecarts!F164),\"\")","v":""},{"$f":"IF( Ecarts!$E164=$A$1, IF(Ecarts!I164=\"\",\"\",Ecarts!I164),\"\")","v":""},{"$f":"IF( Ecarts!$E164=$A$1, IF(Ecarts!J164=\"\",\"\",Ecarts!J164),\"\")","v":""},{"$f":"IF( Ecarts!$E164=$A$1, IF(Ecarts!K164=\"\",\"\",Ecarts!K164),\"\")","v":""},{"$f":"IF( Ecarts!$E164=$A$1, IF(Ecarts!L164=\"\",\"\",Ecarts!L164),\"\")","v":""},{"$f":"IF( Ecarts!$E164=$A$1, IF(Ecarts!M164=\"\",\"\",Ecarts!M164),\"\")","v":""},0,0]
[{"$f":"IF( Ecarts!$E165=$A$1,IF( Ecarts!B165=\"\",\"\",Ecarts!A165),\"\")","v":""},{"$f":"IF( Ecarts!$E165=$A$1,IF( Ecarts!C165=\"\",\"\",Ecarts!C165),\"\")","v":""},{"$f":"IF( Ecarts!$E165=$A$1, IF(Ecarts!F165=\"\",\"\",Ecarts!F165),\"\")","v":""},{"$f":"IF( Ecarts!$E165=$A$1, IF(Ecarts!I165=\"\",\"\",Ecarts!I165),\"\")","v":""},{"$f":"IF( Ecarts!$E165=$A$1, IF(Ecarts!J165=\"\",\"\",Ecarts!J165),\"\")","v":""},{"$f":"IF( Ecarts!$E165=$A$1, IF(Ecarts!K165=\"\",\"\",Ecarts!K165),\"\")","v":""},{"$f":"IF( Ecarts!$E165=$A$1, IF(Ecarts!L165=\"\",\"\",Ecarts!L165),\"\")","v":""},{"$f":"IF( Ecarts!$E165=$A$1, IF(Ecarts!M165=\"\",\"\",Ecarts!M165),\"\")","v":""},0,0]
[{"$f":"IF( Ecarts!$E166=$A$1,IF( Ecarts!B166=\"\",\"\",Ecarts!A166),\"\")","v":""},{"$f":"IF( Ecarts!$E166=$A$1,IF( Ecarts!C166=\"\",\"\",Ecarts!C166),\"\")","v":""},{"$f":"IF( Ecarts!$E166=$A$1, IF(Ecarts!F166=\"\",\"\",Ecarts!F166),\"\")","v":""},{"$f":"IF( Ecarts!$E166=$A$1, IF(Ecarts!I166=\"\",\"\",Ecarts!I166),\"\")","v":""},{"$f":"IF( Ecarts!$E166=$A$1, IF(Ecarts!J166=\"\",\"\",Ecarts!J166),\"\")","v":""},{"$f":"IF( Ecarts!$E166=$A$1, IF(Ecarts!K166=\"\",\"\",Ecarts!K166),\"\")","v":""},{"$f":"IF( Ecarts!$E166=$A$1, IF(Ecarts!L166=\"\",\"\",Ecarts!L166),\"\")","v":""},{"$f":"IF( Ecarts!$E166=$A$1, IF(Ecarts!M166=\"\",\"\",Ecarts!M166),\"\")","v":""},0,0]
[{"$f":"IF( Ecarts!$E167=$A$1,IF( Ecarts!B167=\"\",\"\",Ecarts!A167),\"\")","v":""},{"$f":"IF( Ecarts!$E167=$A$1,IF( Ecarts!C167=\"\",\"\",Ecarts!C167),\"\")","v":""},{"$f":"IF( Ecarts!$E167=$A$1, IF(Ecarts!F167=\"\",\"\",Ecarts!F167),\"\")","v":""},{"$f":"IF( Ecarts!$E167=$A$1, IF(Ecarts!I167=\"\",\"\",Ecarts!I167),\"\")","v":""},{"$f":"IF( Ecarts!$E167=$A$1, IF(Ecarts!J167=\"\",\"\",Ecarts!J167),\"\")","v":""},{"$f":"IF( Ecarts!$E167=$A$1, IF(Ecarts!K167=\"\",\"\",Ecarts!K167),\"\")","v":""},{"$f":"IF( Ecarts!$E167=$A$1, IF(Ecarts!L167=\"\",\"\",Ecarts!L167),\"\")","v":""},{"$f":"IF( Ecarts!$E167=$A$1, IF(Ecarts!M167=\"\",\"\",Ecarts!M167),\"\")","v":""},0,0]
[{"$f":"IF( Ecarts!$E168=$A$1,IF( Ecarts!B168=\"\",\"\",Ecarts!A168),\"\")","v":""},{"$f":"IF( Ecarts!$E168=$A$1,IF( Ecarts!C168=\"\",\"\",Ecarts!C168),\"\")","v":""},{"$f":"IF( Ecarts!$E168=$A$1, IF(Ecarts!F168=\"\",\"\",Ecarts!F168),\"\")","v":""},{"$f":"IF( Ecarts!$E168=$A$1, IF(Ecarts!I168=\"\",\"\",Ecarts!I168),\"\")","v":""},{"$f":"IF( Ecarts!$E168=$A$1, IF(Ecarts!J168=\"\",\"\",Ecarts!J168),\"\")","v":""},{"$f":"IF( Ecarts!$E168=$A$1, IF(Ecarts!K168=\"\",\"\",Ecarts!K168),\"\")","v":""},{"$f":"IF( Ecarts!$E168=$A$1, IF(Ecarts!L168=\"\",\"\",Ecarts!L168),\"\")","v":""},{"$f":"IF( Ecarts!$E168=$A$1, IF(Ecarts!M168=\"\",\"\",Ecarts!M168),\"\")","v":""},0,0]
[{"$f":"IF( Ecarts!$E169=$A$1,IF( Ecarts!B169=\"\",\"\",Ecarts!A169),\"\")","v":""},{"$f":"IF( Ecarts!$E169=$A$1,IF( Ecarts!C169=\"\",\"\",Ecarts!C169),\"\")","v":""},{"$f":"IF( Ecarts!$E169=$A$1, IF(Ecarts!F169=\"\",\"\",Ecarts!F169),\"\")","v":""},{"$f":"IF( Ecarts!$E169=$A$1, IF(Ecarts!I169=\"\",\"\",Ecarts!I169),\"\")","v":""},{"$f":"IF( Ecarts!$E169=$A$1, IF(Ecarts!J169=\"\",\"\",Ecarts!J169),\"\")","v":""},{"$f":"IF( Ecarts!$E169=$A$1, IF(Ecarts!K169=\"\",\"\",Ecarts!K169),\"\")","v":""},{"$f":"IF( Ecarts!$E169=$A$1, IF(Ecarts!L169=\"\",\"\",Ecarts!L169),\"\")","v":""},{"$f":"IF( Ecarts!$E169=$A$1, IF(Ecarts!M169=\"\",\"\",Ecarts!M169),\"\")","v":""},0,0]
[{"$f":"IF( Ecarts!$E170=$A$1,IF( Ecarts!B170=\"\",\"\",Ecarts!A170),\"\")","v":""},{"$f":"IF( Ecarts!$E170=$A$1,IF( Ecarts!C170=\"\",\"\",Ecarts!C170),\"\")","v":""},{"$f":"IF( Ecarts!$E170=$A$1, IF(Ecarts!F170=\"\",\"\",Ecarts!F170),\"\")","v":""},{"$f":"IF( Ecarts!$E170=$A$1, IF(Ecarts!I170=\"\",\"\",Ecarts!I170),\"\")","v":""},{"$f":"IF( Ecarts!$E170=$A$1, IF(Ecarts!J170=\"\",\"\",Ecarts!J170),\"\")","v":""},{"$f":"IF( Ecarts!$E170=$A$1, IF(Ecarts!K170=\"\",\"\",Ecarts!K170),\"\")","v":""},{"$f":"IF( Ecarts!$E170=$A$1, IF(Ecarts!L170=\"\",\"\",Ecarts!L170),\"\")","v":""},{"$f":"IF( Ecarts!$E170=$A$1, IF(Ecarts!M170=\"\",\"\",Ecarts!M170),\"\")","v":""},0,0]
[{"$f":"IF( Ecarts!$E171=$A$1,IF( Ecarts!B171=\"\",\"\",Ecarts!A171),\"\")","v":""},{"$f":"IF( Ecarts!$E171=$A$1,IF( Ecarts!C171=\"\",\"\",Ecarts!C171),\"\")","v":""},{"$f":"IF( Ecarts!$E171=$A$1, IF(Ecarts!F171=\"\",\"\",Ecarts!F171),\"\")","v":""},{"$f":"IF( Ecarts!$E171=$A$1, IF(Ecarts!I171=\"\",\"\",Ecarts!I171),\"\")","v":""},{"$f":"IF( Ecarts!$E171=$A$1, IF(Ecarts!J171=\"\",\"\",Ecarts!J171),\"\")","v":""},{"$f":"IF( Ecarts!$E171=$A$1, IF(Ecarts!K171=\"\",\"\",Ecarts!K171),\"\")","v":""},{"$f":"IF( Ecarts!$E171=$A$1, IF(Ecarts!L171=\"\",\"\",Ecarts!L171),\"\")","v":""},{"$f":"IF( Ecarts!$E171=$A$1, IF(Ecarts!M171=\"\",\"\",Ecarts!M171),\"\")","v":""},0,0]
[{"$f":"IF( Ecarts!$E172=$A$1,IF( Ecarts!B172=\"\",\"\",Ecarts!A172),\"\")","v":""},{"$f":"IF( Ecarts!$E172=$A$1,IF( Ecarts!C172=\"\",\"\",Ecarts!C172),\"\")","v":""},{"$f":"IF( Ecarts!$E172=$A$1, IF(Ecarts!F172=\"\",\"\",Ecarts!F172),\"\")","v":""},{"$f":"IF( Ecarts!$E172=$A$1, IF(Ecarts!I172=\"\",\"\",Ecarts!I172),\"\")","v":""},{"$f":"IF( Ecarts!$E172=$A$1, IF(Ecarts!J172=\"\",\"\",Ecarts!J172),\"\")","v":""},{"$f":"IF( Ecarts!$E172=$A$1, IF(Ecarts!K172=\"\",\"\",Ecarts!K172),\"\")","v":""},{"$f":"IF( Ecarts!$E172=$A$1, IF(Ecarts!L172=\"\",\"\",Ecarts!L172),\"\")","v":""},{"$f":"IF( Ecarts!$E172=$A$1, IF(Ecarts!M172=\"\",\"\",Ecarts!M172),\"\")","v":""},0,0]
[{"$f":"IF( Ecarts!$E173=$A$1,IF( Ecarts!B173=\"\",\"\",Ecarts!A173),\"\")","v":""},{"$f":"IF( Ecarts!$E173=$A$1,IF( Ecarts!C173=\"\",\"\",Ecarts!C173),\"\")","v":""},{"$f":"IF( Ecarts!$E173=$A$1, IF(Ecarts!F173=\"\",\"\",Ecarts!F173),\"\")","v":""},{"$f":"IF( Ecarts!$E173=$A$1, IF(Ecarts!I173=\"\",\"\",Ecarts!I173),\"\")","v":""},{"$f":"IF( Ecarts!$E173=$A$1, IF(Ecarts!J173=\"\",\"\",Ecarts!J173),\"\")","v":""},{"$f":"IF( Ecarts!$E173=$A$1, IF(Ecarts!K173=\"\",\"\",Ecarts!K173),\"\")","v":""},{"$f":"IF( Ecarts!$E173=$A$1, IF(Ecarts!L173=\"\",\"\",Ecarts!L173),\"\")","v":""},{"$f":"IF( Ecarts!$E173=$A$1, IF(Ecarts!M173=\"\",\"\",Ecarts!M173),\"\")","v":""},0,0]
[{"$f":"IF( Ecarts!$E174=$A$1,IF( Ecarts!B174=\"\",\"\",Ecarts!A174),\"\")","v":""},{"$f":"IF( Ecarts!$E174=$A$1,IF( Ecarts!C174=\"\",\"\",Ecarts!C174),\"\")","v":""},{"$f":"IF( Ecarts!$E174=$A$1, IF(Ecarts!F174=\"\",\"\",Ecarts!F174),\"\")","v":""},{"$f":"IF( Ecarts!$E174=$A$1, IF(Ecarts!I174=\"\",\"\",Ecarts!I174),\"\")","v":""},{"$f":"IF( Ecarts!$E174=$A$1, IF(Ecarts!J174=\"\",\"\",Ecarts!J174),\"\")","v":""},{"$f":"IF( Ecarts!$E174=$A$1, IF(Ecarts!K174=\"\",\"\",Ecarts!K174),\"\")","v":""},{"$f":"IF( Ecarts!$E174=$A$1, IF(Ecarts!L174=\"\",\"\",Ecarts!L174),\"\")","v":""},{"$f":"IF( Ecarts!$E174=$A$1, IF(Ecarts!M174=\"\",\"\",Ecarts!M174),\"\")","v":""},0,0]
[{"$f":"IF( Ecarts!$E175=$A$1,IF( Ecarts!B175=\"\",\"\",Ecarts!A175),\"\")","v":""},{"$f":"IF( Ecarts!$E175=$A$1,IF( Ecarts!C175=\"\",\"\",Ecarts!C175),\"\")","v":""},{"$f":"IF( Ecarts!$E175=$A$1, IF(Ecarts!F175=\"\",\"\",Ecarts!F175),\"\")","v":""},{"$f":"IF( Ecarts!$E175=$A$1, IF(Ecarts!I175=\"\",\"\",Ecarts!I175),\"\")","v":""},{"$f":"IF( Ecarts!$E175=$A$1, IF(Ecarts!J175=\"\",\"\",Ecarts!J175),\"\")","v":""},{"$f":"IF( Ecarts!$E175=$A$1, IF(Ecarts!K175=\"\",\"\",Ecarts!K175),\"\")","v":""},{"$f":"IF( Ecarts!$E175=$A$1, IF(Ecarts!L175=\"\",\"\",Ecarts!L175),\"\")","v":""},{"$f":"IF( Ecarts!$E175=$A$1, IF(Ecarts!M175=\"\",\"\",Ecarts!M175),\"\")","v":""},0,0]
[{"$f":"IF( Ecarts!$E176=$A$1,IF( Ecarts!B176=\"\",\"\",Ecarts!A176),\"\")","v":""},{"$f":"IF( Ecarts!$E176=$A$1,IF( Ecarts!C176=\"\",\"\",Ecarts!C176),\"\")","v":""},{"$f":"IF( Ecarts!$E176=$A$1, IF(Ecarts!F176=\"\",\"\",Ecarts!F176),\"\")","v":""},{"$f":"IF( Ecarts!$E176=$A$1, IF(Ecarts!I176=\"\",\"\",Ecarts!I176),\"\")","v":""},{"$f":"IF( Ecarts!$E176=$A$1, IF(Ecarts!J176=\"\",\"\",Ecarts!J176),\"\")","v":""},{"$f":"IF( Ecarts!$E176=$A$1, IF(Ecarts!K176=\"\",\"\",Ecarts!K176),\"\")","v":""},{"$f":"IF( Ecarts!$E176=$A$1, IF(Ecarts!L176=\"\",\"\",Ecarts!L176),\"\")","v":""},{"$f":"IF( Ecarts!$E176=$A$1, IF(Ecarts!M176=\"\",\"\",Ecarts!M176),\"\")","v":""},0,0]
[{"$f":"IF( Ecarts!$E177=$A$1,IF( Ecarts!B177=\"\",\"\",Ecarts!A177),\"\")","v":""},{"$f":"IF( Ecarts!$E177=$A$1,IF( Ecarts!C177=\"\",\"\",Ecarts!C177),\"\")","v":""},{"$f":"IF( Ecarts!$E177=$A$1, IF(Ecarts!F177=\"\",\"\",Ecarts!F177),\"\")","v":""},{"$f":"IF( Ecarts!$E177=$A$1, IF(Ecarts!I177=\"\",\"\",Ecarts!I177),\"\")","v":""},{"$f":"IF( Ecarts!$E177=$A$1, IF(Ecarts!J177=\"\",\"\",Ecarts!J177),\"\")","v":""},{"$f":"IF( Ecarts!$E177=$A$1, IF(Ecarts!K177=\"\",\"\",Ecarts!K177),\"\")","v":""},{"$f":"IF( Ecarts!$E177=$A$1, IF(Ecarts!L177=\"\",\"\",Ecarts!L177),\"\")","v":""},{"$f":"IF( Ecarts!$E177=$A$1, IF(Ecarts!M177=\"\",\"\",Ecarts!M177),\"\")","v":""},0,0]
[{"$f":"IF( Ecarts!$E178=$A$1,IF( Ecarts!B178=\"\",\"\",Ecarts!A178),\"\")","v":""},{"$f":"IF( Ecarts!$E178=$A$1,IF( Ecarts!C178=\"\",\"\",Ecarts!C178),\"\")","v":""},{"$f":"IF( Ecarts!$E178=$A$1, IF(Ecarts!F178=\"\",\"\",Ecarts!F178),\"\")","v":""},{"$f":"IF( Ecarts!$E178=$A$1, IF(Ecarts!I178=\"\",\"\",Ecarts!I178),\"\")","v":""},{"$f":"IF( Ecarts!$E178=$A$1, IF(Ecarts!J178=\"\",\"\",Ecarts!J178),\"\")","v":""},{"$f":"IF( Ecarts!$E178=$A$1, IF(Ecarts!K178=\"\",\"\",Ecarts!K178),\"\")","v":""},{"$f":"IF( Ecarts!$E178=$A$1, IF(Ecarts!L178=\"\",\"\",Ecarts!L178),\"\")","v":""},{"$f":"IF( Ecarts!$E178=$A$1, IF(Ecarts!M178=\"\",\"\",Ecarts!M178),\"\")","v":""},0,0]
[{"$f":"IF( Ecarts!$E179=$A$1,IF( Ecarts!B179=\"\",\"\",Ecarts!A179),\"\")","v":""},{"$f":"IF( Ecarts!$E179=$A$1,IF( Ecarts!C179=\"\",\"\",Ecarts!C179),\"\")","v":""},{"$f":"IF( Ecarts!$E179=$A$1, IF(Ecarts!F179=\"\",\"\",Ecarts!F179),\"\")","v":""},{"$f":"IF( Ecarts!$E179=$A$1, IF(Ecarts!I179=\"\",\"\",Ecarts!I179),\"\")","v":""},{"$f":"IF( Ecarts!$E179=$A$1, IF(Ecarts!J179=\"\",\"\",Ecarts!J179),\"\")","v":""},{"$f":"IF( Ecarts!$E179=$A$1, IF(Ecarts!K179=\"\",\"\",Ecarts!K179),\"\")","v":""},{"$f":"IF( Ecarts!$E179=$A$1, IF(Ecarts!L179=\"\",\"\",Ecarts!L179),\"\")","v":""},{"$f":"IF( Ecarts!$E179=$A$1, IF(Ecarts!M179=\"\",\"\",Ecarts!M179),\"\")","v":""},0,0]
[{"$f":"IF( Ecarts!$E180=$A$1,IF( Ecarts!B180=\"\",\"\",Ecarts!A180),\"\")","v":""},{"$f":"IF( Ecarts!$E180=$A$1,IF( Ecarts!C180=\"\",\"\",Ecarts!C180),\"\")","v":""},{"$f":"IF( Ecarts!$E180=$A$1, IF(Ecarts!F180=\"\",\"\",Ecarts!F180),\"\")","v":""},{"$f":"IF( Ecarts!$E180=$A$1, IF(Ecarts!I180=\"\",\"\",Ecarts!I180),\"\")","v":""},{"$f":"IF( Ecarts!$E180=$A$1, IF(Ecarts!J180=\"\",\"\",Ecarts!J180),\"\")","v":""},{"$f":"IF( Ecarts!$E180=$A$1, IF(Ecarts!K180=\"\",\"\",Ecarts!K180),\"\")","v":""},{"$f":"IF( Ecarts!$E180=$A$1, IF(Ecarts!L180=\"\",\"\",Ecarts!L180),\"\")","v":""},{"$f":"IF( Ecarts!$E180=$A$1, IF(Ecarts!M180=\"\",\"\",Ecarts!M180),\"\")","v":""},0,0]
[{"$f":"IF( Ecarts!$E181=$A$1,IF( Ecarts!B181=\"\",\"\",Ecarts!A181),\"\")","v":""},{"$f":"IF( Ecarts!$E181=$A$1,IF( Ecarts!C181=\"\",\"\",Ecarts!C181),\"\")","v":""},{"$f":"IF( Ecarts!$E181=$A$1, IF(Ecarts!F181=\"\",\"\",Ecarts!F181),\"\")","v":""},{"$f":"IF( Ecarts!$E181=$A$1, IF(Ecarts!I181=\"\",\"\",Ecarts!I181),\"\")","v":""},{"$f":"IF( Ecarts!$E181=$A$1, IF(Ecarts!J181=\"\",\"\",Ecarts!J181),\"\")","v":""},{"$f":"IF( Ecarts!$E181=$A$1, IF(Ecarts!K181=\"\",\"\",Ecarts!K181),\"\")","v":""},{"$f":"IF( Ecarts!$E181=$A$1, IF(Ecarts!L181=\"\",\"\",Ecarts!L181),\"\")","v":""},{"$f":"IF( Ecarts!$E181=$A$1, IF(Ecarts!M181=\"\",\"\",Ecarts!M181),\"\")","v":""},0,0]
[{"$f":"IF( Ecarts!$E182=$A$1,IF( Ecarts!B182=\"\",\"\",Ecarts!A182),\"\")","v":""},{"$f":"IF( Ecarts!$E182=$A$1,IF( Ecarts!C182=\"\",\"\",Ecarts!C182),\"\")","v":""},{"$f":"IF( Ecarts!$E182=$A$1, IF(Ecarts!F182=\"\",\"\",Ecarts!F182),\"\")","v":""},{"$f":"IF( Ecarts!$E182=$A$1, IF(Ecarts!I182=\"\",\"\",Ecarts!I182),\"\")","v":""},{"$f":"IF( Ecarts!$E182=$A$1, IF(Ecarts!J182=\"\",\"\",Ecarts!J182),\"\")","v":""},{"$f":"IF( Ecarts!$E182=$A$1, IF(Ecarts!K182=\"\",\"\",Ecarts!K182),\"\")","v":""},{"$f":"IF( Ecarts!$E182=$A$1, IF(Ecarts!L182=\"\",\"\",Ecarts!L182),\"\")","v":""},{"$f":"IF( Ecarts!$E182=$A$1, IF(Ecarts!M182=\"\",\"\",Ecarts!M182),\"\")","v":""},0,0]
[{"$f":"IF( Ecarts!$E183=$A$1,IF( Ecarts!B183=\"\",\"\",Ecarts!A183),\"\")","v":""},{"$f":"IF( Ecarts!$E183=$A$1,IF( Ecarts!C183=\"\",\"\",Ecarts!C183),\"\")","v":""},{"$f":"IF( Ecarts!$E183=$A$1, IF(Ecarts!F183=\"\",\"\",Ecarts!F183),\"\")","v":""},{"$f":"IF( Ecarts!$E183=$A$1, IF(Ecarts!I183=\"\",\"\",Ecarts!I183),\"\")","v":""},{"$f":"IF( Ecarts!$E183=$A$1, IF(Ecarts!J183=\"\",\"\",Ecarts!J183),\"\")","v":""},{"$f":"IF( Ecarts!$E183=$A$1, IF(Ecarts!K183=\"\",\"\",Ecarts!K183),\"\")","v":""},{"$f":"IF( Ecarts!$E183=$A$1, IF(Ecarts!L183=\"\",\"\",Ecarts!L183),\"\")","v":""},{"$f":"IF( Ecarts!$E183=$A$1, IF(Ecarts!M183=\"\",\"\",Ecarts!M183),\"\")","v":""},0,0]
[{"$f":"IF( Ecarts!$E184=$A$1,IF( Ecarts!B184=\"\",\"\",Ecarts!A184),\"\")","v":""},{"$f":"IF( Ecarts!$E184=$A$1,IF( Ecarts!C184=\"\",\"\",Ecarts!C184),\"\")","v":""},{"$f":"IF( Ecarts!$E184=$A$1, IF(Ecarts!F184=\"\",\"\",Ecarts!F184),\"\")","v":""},{"$f":"IF( Ecarts!$E184=$A$1, IF(Ecarts!I184=\"\",\"\",Ecarts!I184),\"\")","v":""},{"$f":"IF( Ecarts!$E184=$A$1, IF(Ecarts!J184=\"\",\"\",Ecarts!J184),\"\")","v":""},{"$f":"IF( Ecarts!$E184=$A$1, IF(Ecarts!K184=\"\",\"\",Ecarts!K184),\"\")","v":""},{"$f":"IF( Ecarts!$E184=$A$1, IF(Ecarts!L184=\"\",\"\",Ecarts!L184),\"\")","v":""},{"$f":"IF( Ecarts!$E184=$A$1, IF(Ecarts!M184=\"\",\"\",Ecarts!M184),\"\")","v":""},0,0]
[{"$f":"IF( Ecarts!$E185=$A$1,IF( Ecarts!B185=\"\",\"\",Ecarts!A185),\"\")","v":""},{"$f":"IF( Ecarts!$E185=$A$1,IF( Ecarts!C185=\"\",\"\",Ecarts!C185),\"\")","v":""},{"$f":"IF( Ecarts!$E185=$A$1, IF(Ecarts!F185=\"\",\"\",Ecarts!F185),\"\")","v":""},{"$f":"IF( Ecarts!$E185=$A$1, IF(Ecarts!I185=\"\",\"\",Ecarts!I185),\"\")","v":""},{"$f":"IF( Ecarts!$E185=$A$1, IF(Ecarts!J185=\"\",\"\",Ecarts!J185),\"\")","v":""},{"$f":"IF( Ecarts!$E185=$A$1, IF(Ecarts!K185=\"\",\"\",Ecarts!K185),\"\")","v":""},{"$f":"IF( Ecarts!$E185=$A$1, IF(Ecarts!L185=\"\",\"\",Ecarts!L185),\"\")","v":""},{"$f":"IF( Ecarts!$E185=$A$1, IF(Ecarts!M185=\"\",\"\",Ecarts!M185),\"\")","v":""},0,0]
[{"$f":"IF( Ecarts!$E186=$A$1,IF( Ecarts!B186=\"\",\"\",Ecarts!A186),\"\")","v":""},{"$f":"IF( Ecarts!$E186=$A$1,IF( Ecarts!C186=\"\",\"\",Ecarts!C186),\"\")","v":""},{"$f":"IF( Ecarts!$E186=$A$1, IF(Ecarts!F186=\"\",\"\",Ecarts!F186),\"\")","v":""},{"$f":"IF( Ecarts!$E186=$A$1, IF(Ecarts!I186=\"\",\"\",Ecarts!I186),\"\")","v":""},{"$f":"IF( Ecarts!$E186=$A$1, IF(Ecarts!J186=\"\",\"\",Ecarts!J186),\"\")","v":""},{"$f":"IF( Ecarts!$E186=$A$1, IF(Ecarts!K186=\"\",\"\",Ecarts!K186),\"\")","v":""},{"$f":"IF( Ecarts!$E186=$A$1, IF(Ecarts!L186=\"\",\"\",Ecarts!L186),\"\")","v":""},{"$f":"IF( Ecarts!$E186=$A$1, IF(Ecarts!M186=\"\",\"\",Ecarts!M186),\"\")","v":""},0,0]
[{"$f":"IF( Ecarts!$E187=$A$1,IF( Ecarts!B187=\"\",\"\",Ecarts!A187),\"\")","v":""},{"$f":"IF( Ecarts!$E187=$A$1,IF( Ecarts!C187=\"\",\"\",Ecarts!C187),\"\")","v":""},{"$f":"IF( Ecarts!$E187=$A$1, IF(Ecarts!F187=\"\",\"\",Ecarts!F187),\"\")","v":""},{"$f":"IF( Ecarts!$E187=$A$1, IF(Ecarts!I187=\"\",\"\",Ecarts!I187),\"\")","v":""},{"$f":"IF( Ecarts!$E187=$A$1, IF(Ecarts!J187=\"\",\"\",Ecarts!J187),\"\")","v":""},{"$f":"IF( Ecarts!$E187=$A$1, IF(Ecarts!K187=\"\",\"\",Ecarts!K187),\"\")","v":""},{"$f":"IF( Ecarts!$E187=$A$1, IF(Ecarts!L187=\"\",\"\",Ecarts!L187),\"\")","v":""},{"$f":"IF( Ecarts!$E187=$A$1, IF(Ecarts!M187=\"\",\"\",Ecarts!M187),\"\")","v":""},0,0]
[{"$f":"IF( Ecarts!$E188=$A$1,IF( Ecarts!B188=\"\",\"\",Ecarts!A188),\"\")","v":""},{"$f":"IF( Ecarts!$E188=$A$1,IF( Ecarts!C188=\"\",\"\",Ecarts!C188),\"\")","v":""},{"$f":"IF( Ecarts!$E188=$A$1, IF(Ecarts!F188=\"\",\"\",Ecarts!F188),\"\")","v":""},{"$f":"IF( Ecarts!$E188=$A$1, IF(Ecarts!I188=\"\",\"\",Ecarts!I188),\"\")","v":""},{"$f":"IF( Ecarts!$E188=$A$1, IF(Ecarts!J188=\"\",\"\",Ecarts!J188),\"\")","v":""},{"$f":"IF( Ecarts!$E188=$A$1, IF(Ecarts!K188=\"\",\"\",Ecarts!K188),\"\")","v":""},{"$f":"IF( Ecarts!$E188=$A$1, IF(Ecarts!L188=\"\",\"\",Ecarts!L188),\"\")","v":""},{"$f":"IF( Ecarts!$E188=$A$1, IF(Ecarts!M188=\"\",\"\",Ecarts!M188),\"\")","v":""},0,0]
[{"$f":"IF( Ecarts!$E189=$A$1,IF( Ecarts!B189=\"\",\"\",Ecarts!A189),\"\")","v":""},{"$f":"IF( Ecarts!$E189=$A$1,IF( Ecarts!C189=\"\",\"\",Ecarts!C189),\"\")","v":""},{"$f":"IF( Ecarts!$E189=$A$1, IF(Ecarts!F189=\"\",\"\",Ecarts!F189),\"\")","v":""},{"$f":"IF( Ecarts!$E189=$A$1, IF(Ecarts!I189=\"\",\"\",Ecarts!I189),\"\")","v":""},{"$f":"IF( Ecarts!$E189=$A$1, IF(Ecarts!J189=\"\",\"\",Ecarts!J189),\"\")","v":""},{"$f":"IF( Ecarts!$E189=$A$1, IF(Ecarts!K189=\"\",\"\",Ecarts!K189),\"\")","v":""},{"$f":"IF( Ecarts!$E189=$A$1, IF(Ecarts!L189=\"\",\"\",Ecarts!L189),\"\")","v":""},{"$f":"IF( Ecarts!$E189=$A$1, IF(Ecarts!M189=\"\",\"\",Ecarts!M189),\"\")","v":""},0,0]
[{"$f":"IF( Ecarts!$E190=$A$1,IF( Ecarts!B190=\"\",\"\",Ecarts!A190),\"\")","v":""},{"$f":"IF( Ecarts!$E190=$A$1,IF( Ecarts!C190=\"\",\"\",Ecarts!C190),\"\")","v":""},{"$f":"IF( Ecarts!$E190=$A$1, IF(Ecarts!F190=\"\",\"\",Ecarts!F190),\"\")","v":""},{"$f":"IF( Ecarts!$E190=$A$1, IF(Ecarts!I190=\"\",\"\",Ecarts!I190),\"\")","v":""},{"$f":"IF( Ecarts!$E190=$A$1, IF(Ecarts!J190=\"\",\"\",Ecarts!J190),\"\")","v":""},{"$f":"IF( Ecarts!$E190=$A$1, IF(Ecarts!K190=\"\",\"\",Ecarts!K190),\"\")","v":""},{"$f":"IF( Ecarts!$E190=$A$1, IF(Ecarts!L190=\"\",\"\",Ecarts!L190),\"\")","v":""},{"$f":"IF( Ecarts!$E190=$A$1, IF(Ecarts!M190=\"\",\"\",Ecarts!M190),\"\")","v":""},0,0]
[{"$f":"IF( Ecarts!$E191=$A$1,IF( Ecarts!B191=\"\",\"\",Ecarts!A191),\"\")","v":""},{"$f":"IF( Ecarts!$E191=$A$1,IF( Ecarts!C191=\"\",\"\",Ecarts!C191),\"\")","v":""},{"$f":"IF( Ecarts!$E191=$A$1, IF(Ecarts!F191=\"\",\"\",Ecarts!F191),\"\")","v":""},{"$f":"IF( Ecarts!$E191=$A$1, IF(Ecarts!I191=\"\",\"\",Ecarts!I191),\"\")","v":""},{"$f":"IF( Ecarts!$E191=$A$1, IF(Ecarts!J191=\"\",\"\",Ecarts!J191),\"\")","v":""},{"$f":"IF( Ecarts!$E191=$A$1, IF(Ecarts!K191=\"\",\"\",Ecarts!K191),\"\")","v":""},{"$f":"IF( Ecarts!$E191=$A$1, IF(Ecarts!L191=\"\",\"\",Ecarts!L191),\"\")","v":""},{"$f":"IF( Ecarts!$E191=$A$1, IF(Ecarts!M191=\"\",\"\",Ecarts!M191),\"\")","v":""},0,0]
[{"$f":"IF( Ecarts!$E192=$A$1,IF( Ecarts!B192=\"\",\"\",Ecarts!A192),\"\")","v":""},{"$f":"IF( Ecarts!$E192=$A$1,IF( Ecarts!C192=\"\",\"\",Ecarts!C192),\"\")","v":""},{"$f":"IF( Ecarts!$E192=$A$1, IF(Ecarts!F192=\"\",\"\",Ecarts!F192),\"\")","v":""},{"$f":"IF( Ecarts!$E192=$A$1, IF(Ecarts!I192=\"\",\"\",Ecarts!I192),\"\")","v":""},{"$f":"IF( Ecarts!$E192=$A$1, IF(Ecarts!J192=\"\",\"\",Ecarts!J192),\"\")","v":""},{"$f":"IF( Ecarts!$E192=$A$1, IF(Ecarts!K192=\"\",\"\",Ecarts!K192),\"\")","v":""},{"$f":"IF( Ecarts!$E192=$A$1, IF(Ecarts!L192=\"\",\"\",Ecarts!L192),\"\")","v":""},{"$f":"IF( Ecarts!$E192=$A$1, IF(Ecarts!M192=\"\",\"\",Ecarts!M192),\"\")","v":""},0,0]
[{"$f":"IF( Ecarts!$E193=$A$1,IF( Ecarts!B193=\"\",\"\",Ecarts!A193),\"\")","v":""},{"$f":"IF( Ecarts!$E193=$A$1,IF( Ecarts!C193=\"\",\"\",Ecarts!C193),\"\")","v":""},{"$f":"IF( Ecarts!$E193=$A$1, IF(Ecarts!F193=\"\",\"\",Ecarts!F193),\"\")","v":""},{"$f":"IF( Ecarts!$E193=$A$1, IF(Ecarts!I193=\"\",\"\",Ecarts!I193),\"\")","v":""},{"$f":"IF( Ecarts!$E193=$A$1, IF(Ecarts!J193=\"\",\"\",Ecarts!J193),\"\")","v":""},{"$f":"IF( Ecarts!$E193=$A$1, IF(Ecarts!K193=\"\",\"\",Ecarts!K193),\"\")","v":""},{"$f":"IF( Ecarts!$E193=$A$1, IF(Ecarts!L193=\"\",\"\",Ecarts!L193),\"\")","v":""},{"$f":"IF( Ecarts!$E193=$A$1, IF(Ecarts!M193=\"\",\"\",Ecarts!M193),\"\")","v":""},0,0]
[{"$f":"IF( Ecarts!$E194=$A$1,IF( Ecarts!B194=\"\",\"\",Ecarts!A194),\"\")","v":""},{"$f":"IF( Ecarts!$E194=$A$1,IF( Ecarts!C194=\"\",\"\",Ecarts!C194),\"\")","v":""},{"$f":"IF( Ecarts!$E194=$A$1, IF(Ecarts!F194=\"\",\"\",Ecarts!F194),\"\")","v":""},{"$f":"IF( Ecarts!$E194=$A$1, IF(Ecarts!I194=\"\",\"\",Ecarts!I194),\"\")","v":""},{"$f":"IF( Ecarts!$E194=$A$1, IF(Ecarts!J194=\"\",\"\",Ecarts!J194),\"\")","v":""},{"$f":"IF( Ecarts!$E194=$A$1, IF(Ecarts!K194=\"\",\"\",Ecarts!K194),\"\")","v":""},{"$f":"IF( Ecarts!$E194=$A$1, IF(Ecarts!L194=\"\",\"\",Ecarts!L194),\"\")","v":""},{"$f":"IF( Ecarts!$E194=$A$1, IF(Ecarts!M194=\"\",\"\",Ecarts!M194),\"\")","v":""},0,0]
[{"$f":"IF( Ecarts!$E195=$A$1,IF( Ecarts!B195=\"\",\"\",Ecarts!A195),\"\")","v":""},{"$f":"IF( Ecarts!$E195=$A$1,IF( Ecarts!C195=\"\",\"\",Ecarts!C195),\"\")","v":""},{"$f":"IF( Ecarts!$E195=$A$1, IF(Ecarts!F195=\"\",\"\",Ecarts!F195),\"\")","v":""},{"$f":"IF( Ecarts!$E195=$A$1, IF(Ecarts!I195=\"\",\"\",Ecarts!I195),\"\")","v":""},{"$f":"IF( Ecarts!$E195=$A$1, IF(Ecarts!J195=\"\",\"\",Ecarts!J195),\"\")","v":""},{"$f":"IF( Ecarts!$E195=$A$1, IF(Ecarts!K195=\"\",\"\",Ecarts!K195),\"\")","v":""},{"$f":"IF( Ecarts!$E195=$A$1, IF(Ecarts!L195=\"\",\"\",Ecarts!L195),\"\")","v":""},{"$f":"IF( Ecarts!$E195=$A$1, IF(Ecarts!M195=\"\",\"\",Ecarts!M195),\"\")","v":""},0,0]
[{"$f":"IF( Ecarts!$E196=$A$1,IF( Ecarts!B196=\"\",\"\",Ecarts!A196),\"\")","v":""},{"$f":"IF( Ecarts!$E196=$A$1,IF( Ecarts!C196=\"\",\"\",Ecarts!C196),\"\")","v":""},{"$f":"IF( Ecarts!$E196=$A$1, IF(Ecarts!F196=\"\",\"\",Ecarts!F196),\"\")","v":""},{"$f":"IF( Ecarts!$E196=$A$1, IF(Ecarts!I196=\"\",\"\",Ecarts!I196),\"\")","v":""},{"$f":"IF( Ecarts!$E196=$A$1, IF(Ecarts!J196=\"\",\"\",Ecarts!J196),\"\")","v":""},{"$f":"IF( Ecarts!$E196=$A$1, IF(Ecarts!K196=\"\",\"\",Ecarts!K196),\"\")","v":""},{"$f":"IF( Ecarts!$E196=$A$1, IF(Ecarts!L196=\"\",\"\",Ecarts!L196),\"\")","v":""},{"$f":"IF( Ecarts!$E196=$A$1, IF(Ecarts!M196=\"\",\"\",Ecarts!M196),\"\")","v":""},{"$f":"IF(B197=\"\",0,IF(G197=1,0,1))","v":0},{"$f":"IF(F197=\"\",0,IF(F197>(TODAY()-60),1,0))","v":0}]
[{"$f":"IF( Ecarts!$E197=$A$1,IF( Ecarts!B197=\"\",\"\",Ecarts!A197),\"\")","v":""},{"$f":"IF( Ecarts!$E197=$A$1,IF( Ecarts!C197=\"\",\"\",Ecarts!C197),\"\")","v":""},{"$f":"IF( Ecarts!$E197=$A$1, IF(Ecarts!F197=\"\",\"\",Ecarts!F197),\"\")","v":""},{"$f":"IF( Ecarts!$E197=$A$1, IF(Ecarts!I197=\"\",\"\",Ecarts!I197),\"\")","v":""},{"$f":"IF( Ecarts!$E197=$A$1, IF(Ecarts!J197=\"\",\"\",Ecarts!J197),\"\")","v":""},{"$f":"IF( Ecarts!$E197=$A$1, IF(Ecarts!K197=\"\",\"\",Ecarts!K197),\"\")","v":""},{"$f":"IF( Ecarts!$E197=$A$1, IF(Ecarts!L197=\"\",\"\",Ecarts!L197),\"\")","v":""},{"$f":"IF( Ecarts!$E197=$A$1, IF(Ecarts!M197=\"\",\"\",Ecarts!M197),\"\")","v":""},0,0]
[{"$f":"IF( Ecarts!$E198=$A$1,IF( Ecarts!B198=\"\",\"\",Ecarts!A198),\"\")","v":""},{"$f":"IF( Ecarts!$E198=$A$1,IF( Ecarts!C198=\"\",\"\",Ecarts!C198),\"\")","v":""},{"$f":"IF( Ecarts!$E198=$A$1, IF(Ecarts!F198=\"\",\"\",Ecarts!F198),\"\")","v":""},{"$f":"IF( Ecarts!$E198=$A$1, IF(Ecarts!I198=\"\",\"\",Ecarts!I198),\"\")","v":""},{"$f":"IF( Ecarts!$E198=$A$1, IF(Ecarts!J198=\"\",\"\",Ecarts!J198),\"\")","v":""},{"$f":"IF( Ecarts!$E198=$A$1, IF(Ecarts!K198=\"\",\"\",Ecarts!K198),\"\")","v":""},{"$f":"IF( Ecarts!$E198=$A$1, IF(Ecarts!L198=\"\",\"\",Ecarts!L198),\"\")","v":""},{"$f":"IF( Ecarts!$E198=$A$1, IF(Ecarts!M198=\"\",\"\",Ecarts!M198),\"\")","v":""},0,0]
[{"$f":"IF( Ecarts!$E199=$A$1,IF( Ecarts!B199=\"\",\"\",Ecarts!A199),\"\")","v":""},{"$f":"IF( Ecarts!$E199=$A$1,IF( Ecarts!C199=\"\",\"\",Ecarts!C199),\"\")","v":""},{"$f":"IF( Ecarts!$E199=$A$1, IF(Ecarts!F199=\"\",\"\",Ecarts!F199),\"\")","v":""},{"$f":"IF( Ecarts!$E199=$A$1, IF(Ecarts!I199=\"\",\"\",Ecarts!I199),\"\")","v":""},{"$f":"IF( Ecarts!$E199=$A$1, IF(Ecarts!J199=\"\",\"\",Ecarts!J199),\"\")","v":""},{"$f":"IF( Ecarts!$E199=$A$1, IF(Ecarts!K199=\"\",\"\",Ecarts!K199),\"\")","v":""},{"$f":"IF( Ecarts!$E199=$A$1, IF(Ecarts!L199=\"\",\"\",Ecarts!L199),\"\")","v":""},{"$f":"IF( Ecarts!$E199=$A$1, IF(Ecarts!M199=\"\",\"\",Ecarts!M199),\"\")","v":""},0,0]
[{"$f":"IF( Ecarts!$E200=$A$1,IF( Ecarts!B200=\"\",\"\",Ecarts!A200),\"\")","v":""},{"$f":"IF( Ecarts!$E200=$A$1,IF( Ecarts!C200=\"\",\"\",Ecarts!C200),\"\")","v":""},{"$f":"IF( Ecarts!$E200=$A$1, IF(Ecarts!F200=\"\",\"\",Ecarts!F200),\"\")","v":""},{"$f":"IF( Ecarts!$E200=$A$1, IF(Ecarts!I200=\"\",\"\",Ecarts!I200),\"\")","v":""},{"$f":"IF( Ecarts!$E200=$A$1, IF(Ecarts!J200=\"\",\"\",Ecarts!J200),\"\")","v":""},{"$f":"IF( Ecarts!$E200=$A$1, IF(Ecarts!K200=\"\",\"\",Ecarts!K200),\"\")","v":""},{"$f":"IF( Ecarts!$E200=$A$1, IF(Ecarts!L200=\"\",\"\",Ecarts!L200),\"\")","v":""},{"$f":"IF( Ecarts!$E200=$A$1, IF(Ecarts!M200=\"\",\"\",Ecarts!M200),\"\")","v":""},0,0]
[{"$f":"IF( Ecarts!$E201=$A$1,IF( Ecarts!B201=\"\",\"\",Ecarts!A201),\"\")","v":""},{"$f":"IF( Ecarts!$E201=$A$1,IF( Ecarts!C201=\"\",\"\",Ecarts!C201),\"\")","v":""},{"$f":"IF( Ecarts!$E201=$A$1, IF(Ecarts!F201=\"\",\"\",Ecarts!F201),\"\")","v":""},{"$f":"IF( Ecarts!$E201=$A$1, IF(Ecarts!I201=\"\",\"\",Ecarts!I201),\"\")","v":""},{"$f":"IF( Ecarts!$E201=$A$1, IF(Ecarts!J201=\"\",\"\",Ecarts!J201),\"\")","v":""},{"$f":"IF( Ecarts!$E201=$A$1, IF(Ecarts!K201=\"\",\"\",Ecarts!K201),\"\")","v":""},{"$f":"IF( Ecarts!$E201=$A$1, IF(Ecarts!L201=\"\",\"\",Ecarts!L201),\"\")","v":""},{"$f":"IF( Ecarts!$E201=$A$1, IF(Ecarts!M201=\"\",\"\",Ecarts!M201),\"\")","v":""},0,0]
[{"$f":"IF( Ecarts!$E202=$A$1,IF( Ecarts!B202=\"\",\"\",Ecarts!A202),\"\")","v":""},{"$f":"IF( Ecarts!$E202=$A$1,IF( Ecarts!C202=\"\",\"\",Ecarts!C202),\"\")","v":""},{"$f":"IF( Ecarts!$E202=$A$1, IF(Ecarts!F202=\"\",\"\",Ecarts!F202),\"\")","v":""},{"$f":"IF( Ecarts!$E202=$A$1, IF(Ecarts!I202=\"\",\"\",Ecarts!I202),\"\")","v":""},{"$f":"IF( Ecarts!$E202=$A$1, IF(Ecarts!J202=\"\",\"\",Ecarts!J202),\"\")","v":""},{"$f":"IF( Ecarts!$E202=$A$1, IF(Ecarts!K202=\"\",\"\",Ecarts!K202),\"\")","v":""},{"$f":"IF( Ecarts!$E202=$A$1, IF(Ecarts!L202=\"\",\"\",Ecarts!L202),\"\")","v":""},{"$f":"IF( Ecarts!$E202=$A$1, IF(Ecarts!M202=\"\",\"\",Ecarts!M202),\"\")","v":""},0,0]
[{"$f":"IF( Ecarts!$E203=$A$1,IF( Ecarts!B203=\"\",\"\",Ecarts!A203),\"\")","v":""},{"$f":"IF( Ecarts!$E203=$A$1,IF( Ecarts!C203=\"\",\"\",Ecarts!C203),\"\")","v":""},{"$f":"IF( Ecarts!$E203=$A$1, IF(Ecarts!F203=\"\",\"\",Ecarts!F203),\"\")","v":""},{"$f":"IF( Ecarts!$E203=$A$1, IF(Ecarts!I203=\"\",\"\",Ecarts!I203),\"\")","v":""},{"$f":"IF( Ecarts!$E203=$A$1, IF(Ecarts!J203=\"\",\"\",Ecarts!J203),\"\")","v":""},{"$f":"IF( Ecarts!$E203=$A$1, IF(Ecarts!K203=\"\",\"\",Ecarts!K203),\"\")","v":""},{"$f":"IF( Ecarts!$E203=$A$1, IF(Ecarts!L203=\"\",\"\",Ecarts!L203),\"\")","v":""},{"$f":"IF( Ecarts!$E203=$A$1, IF(Ecarts!M203=\"\",\"\",Ecarts!M203),\"\")","v":""},0,0]
[{"$f":"IF( Ecarts!$E204=$A$1,IF( Ecarts!B204=\"\",\"\",Ecarts!A204),\"\")","v":""},{"$f":"IF( Ecarts!$E204=$A$1,IF( Ecarts!C204=\"\",\"\",Ecarts!C204),\"\")","v":""},{"$f":"IF( Ecarts!$E204=$A$1, IF(Ecarts!F204=\"\",\"\",Ecarts!F204),\"\")","v":""},{"$f":"IF( Ecarts!$E204=$A$1, IF(Ecarts!I204=\"\",\"\",Ecarts!I204),\"\")","v":""},{"$f":"IF( Ecarts!$E204=$A$1, IF(Ecarts!J204=\"\",\"\",Ecarts!J204),\"\")","v":""},{"$f":"IF( Ecarts!$E204=$A$1, IF(Ecarts!K204=\"\",\"\",Ecarts!K204),\"\")","v":""},{"$f":"IF( Ecarts!$E204=$A$1, IF(Ecarts!L204=\"\",\"\",Ecarts!L204),\"\")","v":""},{"$f":"IF( Ecarts!$E204=$A$1, IF(Ecarts!M204=\"\",\"\",Ecarts!M204),\"\")","v":""},0,0]
[{"$f":"IF( Ecarts!$E205=$A$1,IF( Ecarts!B205=\"\",\"\",Ecarts!A205),\"\")","v":""},{"$f":"IF( Ecarts!$E205=$A$1,IF( Ecarts!C205=\"\",\"\",Ecarts!C205),\"\")","v":""},{"$f":"IF( Ecarts!$E205=$A$1, IF(Ecarts!F205=\"\",\"\",Ecarts!F205),\"\")","v":""},{"$f":"IF( Ecarts!$E205=$A$1, IF(Ecarts!I205=\"\",\"\",Ecarts!I205),\"\")","v":""},{"$f":"IF( Ecarts!$E205=$A$1, IF(Ecarts!J205=\"\",\"\",Ecarts!J205),\"\")","v":""},{"$f":"IF( Ecarts!$E205=$A$1, IF(Ecarts!K205=\"\",\"\",Ecarts!K205),\"\")","v":""},{"$f":"IF( Ecarts!$E205=$A$1, IF(Ecarts!L205=\"\",\"\",Ecarts!L205),\"\")","v":""},{"$f":"IF( Ecarts!$E205=$A$1, IF(Ecarts!M205=\"\",\"\",Ecarts!M205),\"\")","v":""},0,0]
[{"$f":"IF( Ecarts!$E206=$A$1,IF( Ecarts!B206=\"\",\"\",Ecarts!A206),\"\")","v":""},{"$f":"IF( Ecarts!$E206=$A$1,IF( Ecarts!C206=\"\",\"\",Ecarts!C206),\"\")","v":""},{"$f":"IF( Ecarts!$E206=$A$1, IF(Ecarts!F206=\"\",\"\",Ecarts!F206),\"\")","v":""},{"$f":"IF( Ecarts!$E206=$A$1, IF(Ecarts!I206=\"\",\"\",Ecarts!I206),\"\")","v":""},{"$f":"IF( Ecarts!$E206=$A$1, IF(Ecarts!J206=\"\",\"\",Ecarts!J206),\"\")","v":""},{"$f":"IF( Ecarts!$E206=$A$1, IF(Ecarts!K206=\"\",\"\",Ecarts!K206),\"\")","v":""},{"$f":"IF( Ecarts!$E206=$A$1, IF(Ecarts!L206=\"\",\"\",Ecarts!L206),\"\")","v":""},{"$f":"IF( Ecarts!$E206=$A$1, IF(Ecarts!M206=\"\",\"\",Ecarts!M206),\"\")","v":""},0,0]
[{"$f":"IF( Ecarts!$E207=$A$1,IF( Ecarts!B207=\"\",\"\",Ecarts!A207),\"\")","v":""},{"$f":"IF( Ecarts!$E207=$A$1,IF( Ecarts!C207=\"\",\"\",Ecarts!C207),\"\")","v":""},{"$f":"IF( Ecarts!$E207=$A$1, IF(Ecarts!F207=\"\",\"\",Ecarts!F207),\"\")","v":""},{"$f":"IF( Ecarts!$E207=$A$1, IF(Ecarts!I207=\"\",\"\",Ecarts!I207),\"\")","v":""},{"$f":"IF( Ecarts!$E207=$A$1, IF(Ecarts!J207=\"\",\"\",Ecarts!J207),\"\")","v":""},{"$f":"IF( Ecarts!$E207=$A$1, IF(Ecarts!K207=\"\",\"\",Ecarts!K207),\"\")","v":""},{"$f":"IF( Ecarts!$E207=$A$1, IF(Ecarts!L207=\"\",\"\",Ecarts!L207),\"\")","v":""},{"$f":"IF( Ecarts!$E207=$A$1, IF(Ecarts!M207=\"\",\"\",Ecarts!M207),\"\")","v":""},0,0]
[{"$f":"IF( Ecarts!$E208=$A$1,IF( Ecarts!B208=\"\",\"\",Ecarts!A208),\"\")","v":""},{"$f":"IF( Ecarts!$E208=$A$1,IF( Ecarts!C208=\"\",\"\",Ecarts!C208),\"\")","v":""},{"$f":"IF( Ecarts!$E208=$A$1, IF(Ecarts!F208=\"\",\"\",Ecarts!F208),\"\")","v":""},{"$f":"IF( Ecarts!$E208=$A$1, IF(Ecarts!I208=\"\",\"\",Ecarts!I208),\"\")","v":""},{"$f":"IF( Ecarts!$E208=$A$1, IF(Ecarts!J208=\"\",\"\",Ecarts!J208),\"\")","v":""},{"$f":"IF( Ecarts!$E208=$A$1, IF(Ecarts!K208=\"\",\"\",Ecarts!K208),\"\")","v":""},{"$f":"IF( Ecarts!$E208=$A$1, IF(Ecarts!L208=\"\",\"\",Ecarts!L208),\"\")","v":""},{"$f":"IF( Ecarts!$E208=$A$1, IF(Ecarts!M208=\"\",\"\",Ecarts!M208),\"\")","v":""},0,0]
[{"$f":"IF( Ecarts!$E209=$A$1,IF( Ecarts!B209=\"\",\"\",Ecarts!A209),\"\")","v":""},{"$f":"IF( Ecarts!$E209=$A$1,IF( Ecarts!C209=\"\",\"\",Ecarts!C209),\"\")","v":""},{"$f":"IF( Ecarts!$E209=$A$1, IF(Ecarts!F209=\"\",\"\",Ecarts!F209),\"\")","v":""},{"$f":"IF( Ecarts!$E209=$A$1, IF(Ecarts!I209=\"\",\"\",Ecarts!I209),\"\")","v":""},{"$f":"IF( Ecarts!$E209=$A$1, IF(Ecarts!J209=\"\",\"\",Ecarts!J209),\"\")","v":""},{"$f":"IF( Ecarts!$E209=$A$1, IF(Ecarts!K209=\"\",\"\",Ecarts!K209),\"\")","v":""},{"$f":"IF( Ecarts!$E209=$A$1, IF(Ecarts!L209=\"\",\"\",Ecarts!L209),\"\")","v":""},{"$f":"IF( Ecarts!$E209=$A$1, IF(Ecarts!M209=\"\",\"\",Ecarts!M209),\"\")","v":""},0,0]
[{"$f":"IF( Ecarts!$E210=$A$1,IF( Ecarts!B210=\"\",\"\",Ecarts!A210),\"\")","v":""},{"$f":"IF( Ecarts!$E210=$A$1,IF( Ecarts!C210=\"\",\"\",Ecarts!C210),\"\")","v":""},{"$f":"IF( Ecarts!$E210=$A$1, IF(Ecarts!F210=\"\",\"\",Ecarts!F210),\"\")","v":""},{"$f":"IF( Ecarts!$E210=$A$1, IF(Ecarts!I210=\"\",\"\",Ecarts!I210),\"\")","v":""},{"$f":"IF( Ecarts!$E210=$A$1, IF(Ecarts!J210=\"\",\"\",Ecarts!J210),\"\")","v":""},{"$f":"IF( Ecarts!$E210=$A$1, IF(Ecarts!K210=\"\",\"\",Ecarts!K210),\"\")","v":""},{"$f":"IF( Ecarts!$E210=$A$1, IF(Ecarts!L210=\"\",\"\",Ecarts!L210),\"\")","v":""},{"$f":"IF( Ecarts!$E210=$A$1, IF(Ecarts!M210=\"\",\"\",Ecarts!M210),\"\")","v":""},0,0]
[{"$f":"IF( Ecarts!$E211=$A$1,IF( Ecarts!B211=\"\",\"\",Ecarts!A211),\"\")","v":""},{"$f":"IF( Ecarts!$E211=$A$1,IF( Ecarts!C211=\"\",\"\",Ecarts!C211),\"\")","v":""},{"$f":"IF( Ecarts!$E211=$A$1, IF(Ecarts!F211=\"\",\"\",Ecarts!F211),\"\")","v":""},{"$f":"IF( Ecarts!$E211=$A$1, IF(Ecarts!I211=\"\",\"\",Ecarts!I211),\"\")","v":""},{"$f":"IF( Ecarts!$E211=$A$1, IF(Ecarts!J211=\"\",\"\",Ecarts!J211),\"\")","v":""},{"$f":"IF( Ecarts!$E211=$A$1, IF(Ecarts!K211=\"\",\"\",Ecarts!K211),\"\")","v":""},{"$f":"IF( Ecarts!$E211=$A$1, IF(Ecarts!L211=\"\",\"\",Ecarts!L211),\"\")","v":""},{"$f":"IF( Ecarts!$E211=$A$1, IF(Ecarts!M211=\"\",\"\",Ecarts!M211),\"\")","v":""},0,0]
[{"$f":"IF( Ecarts!$E212=$A$1,IF( Ecarts!B212=\"\",\"\",Ecarts!A212),\"\")","v":""},{"$f":"IF( Ecarts!$E212=$A$1,IF( Ecarts!C212=\"\",\"\",Ecarts!C212),\"\")","v":""},{"$f":"IF( Ecarts!$E212=$A$1, IF(Ecarts!F212=\"\",\"\",Ecarts!F212),\"\")","v":""},{"$f":"IF( Ecarts!$E212=$A$1, IF(Ecarts!I212=\"\",\"\",Ecarts!I212),\"\")","v":""},{"$f":"IF( Ecarts!$E212=$A$1, IF(Ecarts!J212=\"\",\"\",Ecarts!J212),\"\")","v":""},{"$f":"IF( Ecarts!$E212=$A$1, IF(Ecarts!K212=\"\",\"\",Ecarts!K212),\"\")","v":""},{"$f":"IF( Ecarts!$E212=$A$1, IF(Ecarts!L212=\"\",\"\",Ecarts!L212),\"\")","v":""},{"$f":"IF( Ecarts!$E212=$A$1, IF(Ecarts!M212=\"\",\"\",Ecarts!M212),\"\")","v":""},0,0]
[{"$f":"IF( Ecarts!$E213=$A$1,IF( Ecarts!B213=\"\",\"\",Ecarts!A213),\"\")","v":""},{"$f":"IF( Ecarts!$E213=$A$1,IF( Ecarts!C213=\"\",\"\",Ecarts!C213),\"\")","v":""},{"$f":"IF( Ecarts!$E213=$A$1, IF(Ecarts!F213=\"\",\"\",Ecarts!F213),\"\")","v":""},{"$f":"IF( Ecarts!$E213=$A$1, IF(Ecarts!I213=\"\",\"\",Ecarts!I213),\"\")","v":""},{"$f":"IF( Ecarts!$E213=$A$1, IF(Ecarts!J213=\"\",\"\",Ecarts!J213),\"\")","v":""},{"$f":"IF( Ecarts!$E213=$A$1, IF(Ecarts!K213=\"\",\"\",Ecarts!K213),\"\")","v":""},{"$f":"IF( Ecarts!$E213=$A$1, IF(Ecarts!L213=\"\",\"\",Ecarts!L213),\"\")","v":""},{"$f":"IF( Ecarts!$E213=$A$1, IF(Ecarts!M213=\"\",\"\",Ecarts!M213),\"\")","v":""},0,0]
[{"$f":"IF( Ecarts!$E214=$A$1,IF( Ecarts!B214=\"\",\"\",Ecarts!A214),\"\")","v":""},{"$f":"IF( Ecarts!$E214=$A$1,IF( Ecarts!C214=\"\",\"\",Ecarts!C214),\"\")","v":""},{"$f":"IF( Ecarts!$E214=$A$1, IF(Ecarts!F214=\"\",\"\",Ecarts!F214),\"\")","v":""},{"$f":"IF( Ecarts!$E214=$A$1, IF(Ecarts!I214=\"\",\"\",Ecarts!I214),\"\")","v":""},{"$f":"IF( Ecarts!$E214=$A$1, IF(Ecarts!J214=\"\",\"\",Ecarts!J214),\"\")","v":""},{"$f":"IF( Ecarts!$E214=$A$1, IF(Ecarts!K214=\"\",\"\",Ecarts!K214),\"\")","v":""},{"$f":"IF( Ecarts!$E214=$A$1, IF(Ecarts!L214=\"\",\"\",Ecarts!L214),\"\")","v":""},{"$f":"IF( Ecarts!$E214=$A$1, IF(Ecarts!M214=\"\",\"\",Ecarts!M214),\"\")","v":""},0,0]
[{"$f":"IF( Ecarts!$E215=$A$1,IF( Ecarts!B215=\"\",\"\",Ecarts!A215),\"\")","v":""},{"$f":"IF( Ecarts!$E215=$A$1,IF( Ecarts!C215=\"\",\"\",Ecarts!C215),\"\")","v":""},{"$f":"IF( Ecarts!$E215=$A$1, IF(Ecarts!F215=\"\",\"\",Ecarts!F215),\"\")","v":""},{"$f":"IF( Ecarts!$E215=$A$1, IF(Ecarts!I215=\"\",\"\",Ecarts!I215),\"\")","v":""},{"$f":"IF( Ecarts!$E215=$A$1, IF(Ecarts!J215=\"\",\"\",Ecarts!J215),\"\")","v":""},{"$f":"IF( Ecarts!$E215=$A$1, IF(Ecarts!K215=\"\",\"\",Ecarts!K215),\"\")","v":""},{"$f":"IF( Ecarts!$E215=$A$1, IF(Ecarts!L215=\"\",\"\",Ecarts!L215),\"\")","v":""},{"$f":"IF( Ecarts!$E215=$A$1, IF(Ecarts!M215=\"\",\"\",Ecarts!M215),\"\")","v":""},0,0]
[{"$f":"IF( Ecarts!$E216=$A$1,IF( Ecarts!B216=\"\",\"\",Ecarts!A216),\"\")","v":""},{"$f":"IF( Ecarts!$E216=$A$1,IF( Ecarts!C216=\"\",\"\",Ecarts!C216),\"\")","v":""},{"$f":"IF( Ecarts!$E216=$A$1, IF(Ecarts!F216=\"\",\"\",Ecarts!F216),\"\")","v":""},{"$f":"IF( Ecarts!$E216=$A$1, IF(Ecarts!I216=\"\",\"\",Ecarts!I216),\"\")","v":""},{"$f":"IF( Ecarts!$E216=$A$1, IF(Ecarts!J216=\"\",\"\",Ecarts!J216),\"\")","v":""},{"$f":"IF( Ecarts!$E216=$A$1, IF(Ecarts!K216=\"\",\"\",Ecarts!K216),\"\")","v":""},{"$f":"IF( Ecarts!$E216=$A$1, IF(Ecarts!L216=\"\",\"\",Ecarts!L216),\"\")","v":""},{"$f":"IF( Ecarts!$E216=$A$1, IF(Ecarts!M216=\"\",\"\",Ecarts!M216),\"\")","v":""},0,0]
[{"$f":"IF( Ecarts!$E217=$A$1,IF( Ecarts!B217=\"\",\"\",Ecarts!A217),\"\")","v":""},{"$f":"IF( Ecarts!$E217=$A$1,IF( Ecarts!C217=\"\",\"\",Ecarts!C217),\"\")","v":""},{"$f":"IF( Ecarts!$E217=$A$1, IF(Ecarts!F217=\"\",\"\",Ecarts!F217),\"\")","v":""},{"$f":"IF( Ecarts!$E217=$A$1, IF(Ecarts!I217=\"\",\"\",Ecarts!I217),\"\")","v":""},{"$f":"IF( Ecarts!$E217=$A$1, IF(Ecarts!J217=\"\",\"\",Ecarts!J217),\"\")","v":""},{"$f":"IF( Ecarts!$E217=$A$1, IF(Ecarts!K217=\"\",\"\",Ecarts!K217),\"\")","v":""},{"$f":"IF( Ecarts!$E217=$A$1, IF(Ecarts!L217=\"\",\"\",Ecarts!L217),\"\")","v":""},{"$f":"IF( Ecarts!$E217=$A$1, IF(Ecarts!M217=\"\",\"\",Ecarts!M217),\"\")","v":""},0,0]
[{"$f":"IF( Ecarts!$E218=$A$1,IF( Ecarts!B218=\"\",\"\",Ecarts!A218),\"\")","v":""},{"$f":"IF( Ecarts!$E218=$A$1,IF( Ecarts!C218=\"\",\"\",Ecarts!C218),\"\")","v":""},{"$f":"IF( Ecarts!$E218=$A$1, IF(Ecarts!F218=\"\",\"\",Ecarts!F218),\"\")","v":""},{"$f":"IF( Ecarts!$E218=$A$1, IF(Ecarts!I218=\"\",\"\",Ecarts!I218),\"\")","v":""},{"$f":"IF( Ecarts!$E218=$A$1, IF(Ecarts!J218=\"\",\"\",Ecarts!J218),\"\")","v":""},{"$f":"IF( Ecarts!$E218=$A$1, IF(Ecarts!K218=\"\",\"\",Ecarts!K218),\"\")","v":""},{"$f":"IF( Ecarts!$E218=$A$1, IF(Ecarts!L218=\"\",\"\",Ecarts!L218),\"\")","v":""},{"$f":"IF( Ecarts!$E218=$A$1, IF(Ecarts!M218=\"\",\"\",Ecarts!M218),\"\")","v":""},0,0]
[{"$f":"IF( Ecarts!$E219=$A$1,IF( Ecarts!B219=\"\",\"\",Ecarts!A219),\"\")","v":""},{"$f":"IF( Ecarts!$E219=$A$1,IF( Ecarts!C219=\"\",\"\",Ecarts!C219),\"\")","v":""},{"$f":"IF( Ecarts!$E219=$A$1, IF(Ecarts!F219=\"\",\"\",Ecarts!F219),\"\")","v":""},{"$f":"IF( Ecarts!$E219=$A$1, IF(Ecarts!I219=\"\",\"\",Ecarts!I219),\"\")","v":""},{"$f":"IF( Ecarts!$E219=$A$1, IF(Ecarts!J219=\"\",\"\",Ecarts!J219),\"\")","v":""},{"$f":"IF( Ecarts!$E219=$A$1, IF(Ecarts!K219=\"\",\"\",Ecarts!K219),\"\")","v":""},{"$f":"IF( Ecarts!$E219=$A$1, IF(Ecarts!L219=\"\",\"\",Ecarts!L219),\"\")","v":""},{"$f":"IF( Ecarts!$E219=$A$1, IF(Ecarts!M219=\"\",\"\",Ecarts!M219),\"\")","v":""},0,0]
[{"$f":"IF( Ecarts!$E220=$A$1,IF( Ecarts!B220=\"\",\"\",Ecarts!A220),\"\")","v":""},{"$f":"IF( Ecarts!$E220=$A$1,IF( Ecarts!C220=\"\",\"\",Ecarts!C220),\"\")","v":""},{"$f":"IF( Ecarts!$E220=$A$1, IF(Ecarts!F220=\"\",\"\",Ecarts!F220),\"\")","v":""},{"$f":"IF( Ecarts!$E220=$A$1, IF(Ecarts!I220=\"\",\"\",Ecarts!I220),\"\")","v":""},{"$f":"IF( Ecarts!$E220=$A$1, IF(Ecarts!J220=\"\",\"\",Ecarts!J220),\"\")","v":""},{"$f":"IF( Ecarts!$E220=$A$1, IF(Ecarts!K220=\"\",\"\",Ecarts!K220),\"\")","v":""},{"$f":"IF( Ecarts!$E220=$A$1, IF(Ecarts!L220=\"\",\"\",Ecarts!L220),\"\")","v":""},{"$f":"IF( Ecarts!$E220=$A$1, IF(Ecarts!M220=\"\",\"\",Ecarts!M220),\"\")","v":""},0,0]
[{"$f":"IF( Ecarts!$E221=$A$1,IF( Ecarts!B221=\"\",\"\",Ecarts!A221),\"\")","v":""},{"$f":"IF( Ecarts!$E221=$A$1,IF( Ecarts!C221=\"\",\"\",Ecarts!C221),\"\")","v":""},{"$f":"IF( Ecarts!$E221=$A$1, IF(Ecarts!F221=\"\",\"\",Ecarts!F221),\"\")","v":""},{"$f":"IF( Ecarts!$E221=$A$1, IF(Ecarts!I221=\"\",\"\",Ecarts!I221),\"\")","v":""},{"$f":"IF( Ecarts!$E221=$A$1, IF(Ecarts!J221=\"\",\"\",Ecarts!J221),\"\")","v":""},{"$f":"IF( Ecarts!$E221=$A$1, IF(Ecarts!K221=\"\",\"\",Ecarts!K221),\"\")","v":""},{"$f":"IF( Ecarts!$E221=$A$1, IF(Ecarts!L221=\"\",\"\",Ecarts!L221),\"\")","v":""},{"$f":"IF( Ecarts!$E221=$A$1, IF(Ecarts!M221=\"\",\"\",Ecarts!M221),\"\")","v":""},0,0]
[{"$f":"IF( Ecarts!$E222=$A$1,IF( Ecarts!B222=\"\",\"\",Ecarts!A222),\"\")","v":""},{"$f":"IF( Ecarts!$E222=$A$1,IF( Ecarts!C222=\"\",\"\",Ecarts!C222),\"\")","v":""},{"$f":"IF( Ecarts!$E222=$A$1, IF(Ecarts!F222=\"\",\"\",Ecarts!F222),\"\")","v":""},{"$f":"IF( Ecarts!$E222=$A$1, IF(Ecarts!I222=\"\",\"\",Ecarts!I222),\"\")","v":""},{"$f":"IF( Ecarts!$E222=$A$1, IF(Ecarts!J222=\"\",\"\",Ecarts!J222),\"\")","v":""},{"$f":"IF( Ecarts!$E222=$A$1, IF(Ecarts!K222=\"\",\"\",Ecarts!K222),\"\")","v":""},{"$f":"IF( Ecarts!$E222=$A$1, IF(Ecarts!L222=\"\",\"\",Ecarts!L222),\"\")","v":""},{"$f":"IF( Ecarts!$E222=$A$1, IF(Ecarts!M222=\"\",\"\",Ecarts!M222),\"\")","v":""},0,0]
[{"$f":"IF( Ecarts!$E223=$A$1,IF( Ecarts!B223=\"\",\"\",Ecarts!A223),\"\")","v":""},{"$f":"IF( Ecarts!$E223=$A$1,IF( Ecarts!C223=\"\",\"\",Ecarts!C223),\"\")","v":""},{"$f":"IF( Ecarts!$E223=$A$1, IF(Ecarts!F223=\"\",\"\",Ecarts!F223),\"\")","v":""},{"$f":"IF( Ecarts!$E223=$A$1, IF(Ecarts!I223=\"\",\"\",Ecarts!I223),\"\")","v":""},{"$f":"IF( Ecarts!$E223=$A$1, IF(Ecarts!J223=\"\",\"\",Ecarts!J223),\"\")","v":""},{"$f":"IF( Ecarts!$E223=$A$1, IF(Ecarts!K223=\"\",\"\",Ecarts!K223),\"\")","v":""},{"$f":"IF( Ecarts!$E223=$A$1, IF(Ecarts!L223=\"\",\"\",Ecarts!L223),\"\")","v":""},{"$f":"IF( Ecarts!$E223=$A$1, IF(Ecarts!M223=\"\",\"\",Ecarts!M223),\"\")","v":""},0,0]
[{"$f":"IF( Ecarts!$E224=$A$1,IF( Ecarts!B224=\"\",\"\",Ecarts!A224),\"\")","v":""},{"$f":"IF( Ecarts!$E224=$A$1,IF( Ecarts!C224=\"\",\"\",Ecarts!C224),\"\")","v":""},{"$f":"IF( Ecarts!$E224=$A$1, IF(Ecarts!F224=\"\",\"\",Ecarts!F224),\"\")","v":""},{"$f":"IF( Ecarts!$E224=$A$1, IF(Ecarts!I224=\"\",\"\",Ecarts!I224),\"\")","v":""},{"$f":"IF( Ecarts!$E224=$A$1, IF(Ecarts!J224=\"\",\"\",Ecarts!J224),\"\")","v":""},{"$f":"IF( Ecarts!$E224=$A$1, IF(Ecarts!K224=\"\",\"\",Ecarts!K224),\"\")","v":""},{"$f":"IF( Ecarts!$E224=$A$1, IF(Ecarts!L224=\"\",\"\",Ecarts!L224),\"\")","v":""},{"$f":"IF( Ecarts!$E224=$A$1, IF(Ecarts!M224=\"\",\"\",Ecarts!M224),\"\")","v":""},0,0]
[{"$f":"IF( Ecarts!$E225=$A$1,IF( Ecarts!B225=\"\",\"\",Ecarts!A225),\"\")","v":""},{"$f":"IF( Ecarts!$E225=$A$1,IF( Ecarts!C225=\"\",\"\",Ecarts!C225),\"\")","v":""},{"$f":"IF( Ecarts!$E225=$A$1, IF(Ecarts!F225=\"\",\"\",Ecarts!F225),\"\")","v":""},{"$f":"IF( Ecarts!$E225=$A$1, IF(Ecarts!I225=\"\",\"\",Ecarts!I225),\"\")","v":""},{"$f":"IF( Ecarts!$E225=$A$1, IF(Ecarts!J225=\"\",\"\",Ecarts!J225),\"\")","v":""},{"$f":"IF( Ecarts!$E225=$A$1, IF(Ecarts!K225=\"\",\"\",Ecarts!K225),\"\")","v":""},{"$f":"IF( Ecarts!$E225=$A$1, IF(Ecarts!L225=\"\",\"\",Ecarts!L225),\"\")","v":""},{"$f":"IF( Ecarts!$E225=$A$1, IF(Ecarts!M225=\"\",\"\",Ecarts!M225),\"\")","v":""},0,0]
[{"$f":"IF( Ecarts!$E226=$A$1,IF( Ecarts!B226=\"\",\"\",Ecarts!A226),\"\")","v":""},{"$f":"IF( Ecarts!$E226=$A$1,IF( Ecarts!C226=\"\",\"\",Ecarts!C226),\"\")","v":""},{"$f":"IF( Ecarts!$E226=$A$1, IF(Ecarts!F226=\"\",\"\",Ecarts!F226),\"\")","v":""},{"$f":"IF( Ecarts!$E226=$A$1, IF(Ecarts!I226=\"\",\"\",Ecarts!I226),\"\")","v":""},{"$f":"IF( Ecarts!$E226=$A$1, IF(Ecarts!J226=\"\",\"\",Ecarts!J226),\"\")","v":""},{"$f":"IF( Ecarts!$E226=$A$1, IF(Ecarts!K226=\"\",\"\",Ecarts!K226),\"\")","v":""},{"$f":"IF( Ecarts!$E226=$A$1, IF(Ecarts!L226=\"\",\"\",Ecarts!L226),\"\")","v":""},{"$f":"IF( Ecarts!$E226=$A$1, IF(Ecarts!M226=\"\",\"\",Ecarts!M226),\"\")","v":""},0,0]
[{"$f":"IF( Ecarts!$E227=$A$1,IF( Ecarts!B227=\"\",\"\",Ecarts!A227),\"\")","v":""},{"$f":"IF( Ecarts!$E227=$A$1,IF( Ecarts!C227=\"\",\"\",Ecarts!C227),\"\")","v":""},{"$f":"IF( Ecarts!$E227=$A$1, IF(Ecarts!F227=\"\",\"\",Ecarts!F227),\"\")","v":""},{"$f":"IF( Ecarts!$E227=$A$1, IF(Ecarts!I227=\"\",\"\",Ecarts!I227),\"\")","v":""},{"$f":"IF( Ecarts!$E227=$A$1, IF(Ecarts!J227=\"\",\"\",Ecarts!J227),\"\")","v":""},{"$f":"IF( Ecarts!$E227=$A$1, IF(Ecarts!K227=\"\",\"\",Ecarts!K227),\"\")","v":""},{"$f":"IF( Ecarts!$E227=$A$1, IF(Ecarts!L227=\"\",\"\",Ecarts!L227),\"\")","v":""},{"$f":"IF( Ecarts!$E227=$A$1, IF(Ecarts!M227=\"\",\"\",Ecarts!M227),\"\")","v":""},0,0]
[{"$f":"IF( Ecarts!$E228=$A$1,IF( Ecarts!B228=\"\",\"\",Ecarts!A228),\"\")","v":""},{"$f":"IF( Ecarts!$E228=$A$1,IF( Ecarts!C228=\"\",\"\",Ecarts!C228),\"\")","v":""},{"$f":"IF( Ecarts!$E228=$A$1, IF(Ecarts!F228=\"\",\"\",Ecarts!F228),\"\")","v":""},{"$f":"IF( Ecarts!$E228=$A$1, IF(Ecarts!I228=\"\",\"\",Ecarts!I228),\"\")","v":""},{"$f":"IF( Ecarts!$E228=$A$1, IF(Ecarts!J228=\"\",\"\",Ecarts!J228),\"\")","v":""},{"$f":"IF( Ecarts!$E228=$A$1, IF(Ecarts!K228=\"\",\"\",Ecarts!K228),\"\")","v":""},{"$f":"IF( Ecarts!$E228=$A$1, IF(Ecarts!L228=\"\",\"\",Ecarts!L228),\"\")","v":""},{"$f":"IF( Ecarts!$E228=$A$1, IF(Ecarts!M228=\"\",\"\",Ecarts!M228),\"\")","v":""},0,0]
[{"$f":"IF( Ecarts!$E229=$A$1,IF( Ecarts!B229=\"\",\"\",Ecarts!A229),\"\")","v":""},{"$f":"IF( Ecarts!$E229=$A$1,IF( Ecarts!C229=\"\",\"\",Ecarts!C229),\"\")","v":""},{"$f":"IF( Ecarts!$E229=$A$1, IF(Ecarts!F229=\"\",\"\",Ecarts!F229),\"\")","v":""},{"$f":"IF( Ecarts!$E229=$A$1, IF(Ecarts!I229=\"\",\"\",Ecarts!I229),\"\")","v":""},{"$f":"IF( Ecarts!$E229=$A$1, IF(Ecarts!J229=\"\",\"\",Ecarts!J229),\"\")","v":""},{"$f":"IF( Ecarts!$E229=$A$1, IF(Ecarts!K229=\"\",\"\",Ecarts!K229),\"\")","v":""},{"$f":"IF( Ecarts!$E229=$A$1, IF(Ecarts!L229=\"\",\"\",Ecarts!L229),\"\")","v":""},{"$f":"IF( Ecarts!$E229=$A$1, IF(Ecarts!M229=\"\",\"\",Ecarts!M229),\"\")","v":""},0,0]
[{"$f":"IF( Ecarts!$E230=$A$1,IF( Ecarts!B230=\"\",\"\",Ecarts!A230),\"\")","v":""},{"$f":"IF( Ecarts!$E230=$A$1,IF( Ecarts!C230=\"\",\"\",Ecarts!C230),\"\")","v":""},{"$f":"IF( Ecarts!$E230=$A$1, IF(Ecarts!F230=\"\",\"\",Ecarts!F230),\"\")","v":""},{"$f":"IF( Ecarts!$E230=$A$1, IF(Ecarts!I230=\"\",\"\",Ecarts!I230),\"\")","v":""},{"$f":"IF( Ecarts!$E230=$A$1, IF(Ecarts!J230=\"\",\"\",Ecarts!J230),\"\")","v":""},{"$f":"IF( Ecarts!$E230=$A$1, IF(Ecarts!K230=\"\",\"\",Ecarts!K230),\"\")","v":""},{"$f":"IF( Ecarts!$E230=$A$1, IF(Ecarts!L230=\"\",\"\",Ecarts!L230),\"\")","v":""},{"$f":"IF( Ecarts!$E230=$A$1, IF(Ecarts!M230=\"\",\"\",Ecarts!M230),\"\")","v":""},0,0]
[{"$f":"IF( Ecarts!$E231=$A$1,IF( Ecarts!B231=\"\",\"\",Ecarts!A231),\"\")","v":""},{"$f":"IF( Ecarts!$E231=$A$1,IF( Ecarts!C231=\"\",\"\",Ecarts!C231),\"\")","v":""},{"$f":"IF( Ecarts!$E231=$A$1, IF(Ecarts!F231=\"\",\"\",Ecarts!F231),\"\")","v":""},{"$f":"IF( Ecarts!$E231=$A$1, IF(Ecarts!I231=\"\",\"\",Ecarts!I231),\"\")","v":""},{"$f":"IF( Ecarts!$E231=$A$1, IF(Ecarts!J231=\"\",\"\",Ecarts!J231),\"\")","v":""},{"$f":"IF( Ecarts!$E231=$A$1, IF(Ecarts!K231=\"\",\"\",Ecarts!K231),\"\")","v":""},{"$f":"IF( Ecarts!$E231=$A$1, IF(Ecarts!L231=\"\",\"\",Ecarts!L231),\"\")","v":""},{"$f":"IF( Ecarts!$E231=$A$1, IF(Ecarts!M231=\"\",\"\",Ecarts!M231),\"\")","v":""},0,0]
[{"$f":"IF( Ecarts!$E232=$A$1,IF( Ecarts!B232=\"\",\"\",Ecarts!A232),\"\")","v":""},{"$f":"IF( Ecarts!$E232=$A$1,IF( Ecarts!C232=\"\",\"\",Ecarts!C232),\"\")","v":""},{"$f":"IF( Ecarts!$E232=$A$1, IF(Ecarts!F232=\"\",\"\",Ecarts!F232),\"\")","v":""},{"$f":"IF( Ecarts!$E232=$A$1, IF(Ecarts!I232=\"\",\"\",Ecarts!I232),\"\")","v":""},{"$f":"IF( Ecarts!$E232=$A$1, IF(Ecarts!J232=\"\",\"\",Ecarts!J232),\"\")","v":""},{"$f":"IF( Ecarts!$E232=$A$1, IF(Ecarts!K232=\"\",\"\",Ecarts!K232),\"\")","v":""},{"$f":"IF( Ecarts!$E232=$A$1, IF(Ecarts!L232=\"\",\"\",Ecarts!L232),\"\")","v":""},{"$f":"IF( Ecarts!$E232=$A$1, IF(Ecarts!M232=\"\",\"\",Ecarts!M232),\"\")","v":""},0,0]
[{"$f":"IF( Ecarts!$E233=$A$1,IF( Ecarts!B233=\"\",\"\",Ecarts!A233),\"\")","v":""},{"$f":"IF( Ecarts!$E233=$A$1,IF( Ecarts!C233=\"\",\"\",Ecarts!C233),\"\")","v":""},{"$f":"IF( Ecarts!$E233=$A$1, IF(Ecarts!F233=\"\",\"\",Ecarts!F233),\"\")","v":""},{"$f":"IF( Ecarts!$E233=$A$1, IF(Ecarts!I233=\"\",\"\",Ecarts!I233),\"\")","v":""},{"$f":"IF( Ecarts!$E233=$A$1, IF(Ecarts!J233=\"\",\"\",Ecarts!J233),\"\")","v":""},{"$f":"IF( Ecarts!$E233=$A$1, IF(Ecarts!K233=\"\",\"\",Ecarts!K233),\"\")","v":""},{"$f":"IF( Ecarts!$E233=$A$1, IF(Ecarts!L233=\"\",\"\",Ecarts!L233),\"\")","v":""},{"$f":"IF( Ecarts!$E233=$A$1, IF(Ecarts!M233=\"\",\"\",Ecarts!M233),\"\")","v":""},0,0]
[{"$f":"IF( Ecarts!$E234=$A$1,IF( Ecarts!B234=\"\",\"\",Ecarts!A234),\"\")","v":""},{"$f":"IF( Ecarts!$E234=$A$1,IF( Ecarts!C234=\"\",\"\",Ecarts!C234),\"\")","v":""},{"$f":"IF( Ecarts!$E234=$A$1, IF(Ecarts!F234=\"\",\"\",Ecarts!F234),\"\")","v":""},{"$f":"IF( Ecarts!$E234=$A$1, IF(Ecarts!I234=\"\",\"\",Ecarts!I234),\"\")","v":""},{"$f":"IF( Ecarts!$E234=$A$1, IF(Ecarts!J234=\"\",\"\",Ecarts!J234),\"\")","v":""},{"$f":"IF( Ecarts!$E234=$A$1, IF(Ecarts!K234=\"\",\"\",Ecarts!K234),\"\")","v":""},{"$f":"IF( Ecarts!$E234=$A$1, IF(Ecarts!L234=\"\",\"\",Ecarts!L234),\"\")","v":""},{"$f":"IF( Ecarts!$E234=$A$1, IF(Ecarts!M234=\"\",\"\",Ecarts!M234),\"\")","v":""},0,0]
[{"$f":"IF( Ecarts!$E235=$A$1,IF( Ecarts!B235=\"\",\"\",Ecarts!A235),\"\")","v":""},{"$f":"IF( Ecarts!$E235=$A$1,IF( Ecarts!C235=\"\",\"\",Ecarts!C235),\"\")","v":""},{"$f":"IF( Ecarts!$E235=$A$1, IF(Ecarts!F235=\"\",\"\",Ecarts!F235),\"\")","v":""},{"$f":"IF( Ecarts!$E235=$A$1, IF(Ecarts!I235=\"\",\"\",Ecarts!I235),\"\")","v":""},{"$f":"IF( Ecarts!$E235=$A$1, IF(Ecarts!J235=\"\",\"\",Ecarts!J235),\"\")","v":""},{"$f":"IF( Ecarts!$E235=$A$1, IF(Ecarts!K235=\"\",\"\",Ecarts!K235),\"\")","v":""},{"$f":"IF( Ecarts!$E235=$A$1, IF(Ecarts!L235=\"\",\"\",Ecarts!L235),\"\")","v":""},{"$f":"IF( Ecarts!$E235=$A$1, IF(Ecarts!M235=\"\",\"\",Ecarts!M235),\"\")","v":""},0,0]
[{"$f":"IF( Ecarts!$E236=$A$1,IF( Ecarts!B236=\"\",\"\",Ecarts!A236),\"\")","v":""},{"$f":"IF( Ecarts!$E236=$A$1,IF( Ecarts!C236=\"\",\"\",Ecarts!C236),\"\")","v":""},{"$f":"IF( Ecarts!$E236=$A$1, IF(Ecarts!F236=\"\",\"\",Ecarts!F236),\"\")","v":""},{"$f":"IF( Ecarts!$E236=$A$1, IF(Ecarts!I236=\"\",\"\",Ecarts!I236),\"\")","v":""},{"$f":"IF( Ecarts!$E236=$A$1, IF(Ecarts!J236=\"\",\"\",Ecarts!J236),\"\")","v":""},{"$f":"IF( Ecarts!$E236=$A$1, IF(Ecarts!K236=\"\",\"\",Ecarts!K236),\"\")","v":""},{"$f":"IF( Ecarts!$E236=$A$1, IF(Ecarts!L236=\"\",\"\",Ecarts!L236),\"\")","v":""},{"$f":"IF( Ecarts!$E236=$A$1, IF(Ecarts!M236=\"\",\"\",Ecarts!M236),\"\")","v":""},0,0]
[{"$f":"IF( Ecarts!$E237=$A$1,IF( Ecarts!B237=\"\",\"\",Ecarts!A237),\"\")","v":""},{"$f":"IF( Ecarts!$E237=$A$1,IF( Ecarts!C237=\"\",\"\",Ecarts!C237),\"\")","v":""},{"$f":"IF( Ecarts!$E237=$A$1, IF(Ecarts!F237=\"\",\"\",Ecarts!F237),\"\")","v":""},{"$f":"IF( Ecarts!$E237=$A$1, IF(Ecarts!I237=\"\",\"\",Ecarts!I237),\"\")","v":""},{"$f":"IF( Ecarts!$E237=$A$1, IF(Ecarts!J237=\"\",\"\",Ecarts!J237),\"\")","v":""},{"$f":"IF( Ecarts!$E237=$A$1, IF(Ecarts!K237=\"\",\"\",Ecarts!K237),\"\")","v":""},{"$f":"IF( Ecarts!$E237=$A$1, IF(Ecarts!L237=\"\",\"\",Ecarts!L237),\"\")","v":""},{"$f":"IF( Ecarts!$E237=$A$1, IF(Ecarts!M237=\"\",\"\",Ecarts!M237),\"\")","v":""},0,0]
[{"$f":"IF( Ecarts!$E238=$A$1,IF( Ecarts!B238=\"\",\"\",Ecarts!A238),\"\")","v":""},{"$f":"IF( Ecarts!$E238=$A$1,IF( Ecarts!C238=\"\",\"\",Ecarts!C238),\"\")","v":""},{"$f":"IF( Ecarts!$E238=$A$1, IF(Ecarts!F238=\"\",\"\",Ecarts!F238),\"\")","v":""},{"$f":"IF( Ecarts!$E238=$A$1, IF(Ecarts!I238=\"\",\"\",Ecarts!I238),\"\")","v":""},{"$f":"IF( Ecarts!$E238=$A$1, IF(Ecarts!J238=\"\",\"\",Ecarts!J238),\"\")","v":""},{"$f":"IF( Ecarts!$E238=$A$1, IF(Ecarts!K238=\"\",\"\",Ecarts!K238),\"\")","v":""},{"$f":"IF( Ecarts!$E238=$A$1, IF(Ecarts!L238=\"\",\"\",Ecarts!L238),\"\")","v":""},{"$f":"IF( Ecarts!$E238=$A$1, IF(Ecarts!M238=\"\",\"\",Ecarts!M238),\"\")","v":""},0,0]
[{"$f":"IF( Ecarts!$E239=$A$1,IF( Ecarts!B239=\"\",\"\",Ecarts!A239),\"\")","v":""},{"$f":"IF( Ecarts!$E239=$A$1,IF( Ecarts!C239=\"\",\"\",Ecarts!C239),\"\")","v":""},{"$f":"IF( Ecarts!$E239=$A$1, IF(Ecarts!F239=\"\",\"\",Ecarts!F239),\"\")","v":""},{"$f":"IF( Ecarts!$E239=$A$1, IF(Ecarts!I239=\"\",\"\",Ecarts!I239),\"\")","v":""},{"$f":"IF( Ecarts!$E239=$A$1, IF(Ecarts!J239=\"\",\"\",Ecarts!J239),\"\")","v":""},{"$f":"IF( Ecarts!$E239=$A$1, IF(Ecarts!K239=\"\",\"\",Ecarts!K239),\"\")","v":""},{"$f":"IF( Ecarts!$E239=$A$1, IF(Ecarts!L239=\"\",\"\",Ecarts!L239),\"\")","v":""},{"$f":"IF( Ecarts!$E239=$A$1, IF(Ecarts!M239=\"\",\"\",Ecarts!M239),\"\")","v":""},0,0]
[{"$f":"IF( Ecarts!$E240=$A$1,IF( Ecarts!B240=\"\",\"\",Ecarts!A240),\"\")","v":""},{"$f":"IF( Ecarts!$E240=$A$1,IF( Ecarts!C240=\"\",\"\",Ecarts!C240),\"\")","v":""},{"$f":"IF( Ecarts!$E240=$A$1, IF(Ecarts!F240=\"\",\"\",Ecarts!F240),\"\")","v":""},{"$f":"IF( Ecarts!$E240=$A$1, IF(Ecarts!I240=\"\",\"\",Ecarts!I240),\"\")","v":""},{"$f":"IF( Ecarts!$E240=$A$1, IF(Ecarts!J240=\"\",\"\",Ecarts!J240),\"\")","v":""},{"$f":"IF( Ecarts!$E240=$A$1, IF(Ecarts!K240=\"\",\"\",Ecarts!K240),\"\")","v":""},{"$f":"IF( Ecarts!$E240=$A$1, IF(Ecarts!L240=\"\",\"\",Ecarts!L240),\"\")","v":""},{"$f":"IF( Ecarts!$E240=$A$1, IF(Ecarts!M240=\"\",\"\",Ecarts!M240),\"\")","v":""},0,0]
[{"$f":"IF( Ecarts!$E241=$A$1,IF( Ecarts!B241=\"\",\"\",Ecarts!A241),\"\")","v":""},{"$f":"IF( Ecarts!$E241=$A$1,IF( Ecarts!C241=\"\",\"\",Ecarts!C241),\"\")","v":""},{"$f":"IF( Ecarts!$E241=$A$1, IF(Ecarts!F241=\"\",\"\",Ecarts!F241),\"\")","v":""},{"$f":"IF( Ecarts!$E241=$A$1, IF(Ecarts!I241=\"\",\"\",Ecarts!I241),\"\")","v":""},{"$f":"IF( Ecarts!$E241=$A$1, IF(Ecarts!J241=\"\",\"\",Ecarts!J241),\"\")","v":""},{"$f":"IF( Ecarts!$E241=$A$1, IF(Ecarts!K241=\"\",\"\",Ecarts!K241),\"\")","v":""},{"$f":"IF( Ecarts!$E241=$A$1, IF(Ecarts!L241=\"\",\"\",Ecarts!L241),\"\")","v":""},{"$f":"IF( Ecarts!$E241=$A$1, IF(Ecarts!M241=\"\",\"\",Ecarts!M241),\"\")","v":""},0,0]
[{"$f":"IF( Ecarts!$E242=$A$1,IF( Ecarts!B242=\"\",\"\",Ecarts!A242),\"\")","v":""},{"$f":"IF( Ecarts!$E242=$A$1,IF( Ecarts!C242=\"\",\"\",Ecarts!C242),\"\")","v":""},{"$f":"IF( Ecarts!$E242=$A$1, IF(Ecarts!F242=\"\",\"\",Ecarts!F242),\"\")","v":""},{"$f":"IF( Ecarts!$E242=$A$1, IF(Ecarts!I242=\"\",\"\",Ecarts!I242),\"\")","v":""},{"$f":"IF( Ecarts!$E242=$A$1, IF(Ecarts!J242=\"\",\"\",Ecarts!J242),\"\")","v":""},{"$f":"IF( Ecarts!$E242=$A$1, IF(Ecarts!K242=\"\",\"\",Ecarts!K242),\"\")","v":""},{"$f":"IF( Ecarts!$E242=$A$1, IF(Ecarts!L242=\"\",\"\",Ecarts!L242),\"\")","v":""},{"$f":"IF( Ecarts!$E242=$A$1, IF(Ecarts!M242=\"\",\"\",Ecarts!M242),\"\")","v":""},0,0]
[{"$f":"IF( Ecarts!$E243=$A$1,IF( Ecarts!B243=\"\",\"\",Ecarts!A243),\"\")","v":""},{"$f":"IF( Ecarts!$E243=$A$1,IF( Ecarts!C243=\"\",\"\",Ecarts!C243),\"\")","v":""},{"$f":"IF( Ecarts!$E243=$A$1, IF(Ecarts!F243=\"\",\"\",Ecarts!F243),\"\")","v":""},{"$f":"IF( Ecarts!$E243=$A$1, IF(Ecarts!I243=\"\",\"\",Ecarts!I243),\"\")","v":""},{"$f":"IF( Ecarts!$E243=$A$1, IF(Ecarts!J243=\"\",\"\",Ecarts!J243),\"\")","v":""},{"$f":"IF( Ecarts!$E243=$A$1, IF(Ecarts!K243=\"\",\"\",Ecarts!K243),\"\")","v":""},{"$f":"IF( Ecarts!$E243=$A$1, IF(Ecarts!L243=\"\",\"\",Ecarts!L243),\"\")","v":""},{"$f":"IF( Ecarts!$E243=$A$1, IF(Ecarts!M243=\"\",\"\",Ecarts!M243),\"\")","v":""},0,0]
[{"$f":"IF( Ecarts!$E244=$A$1,IF( Ecarts!B244=\"\",\"\",Ecarts!A244),\"\")","v":""},{"$f":"IF( Ecarts!$E244=$A$1,IF( Ecarts!C244=\"\",\"\",Ecarts!C244),\"\")","v":""},{"$f":"IF( Ecarts!$E244=$A$1, IF(Ecarts!F244=\"\",\"\",Ecarts!F244),\"\")","v":""},{"$f":"IF( Ecarts!$E244=$A$1, IF(Ecarts!I244=\"\",\"\",Ecarts!I244),\"\")","v":""},{"$f":"IF( Ecarts!$E244=$A$1, IF(Ecarts!J244=\"\",\"\",Ecarts!J244),\"\")","v":""},{"$f":"IF( Ecarts!$E244=$A$1, IF(Ecarts!K244=\"\",\"\",Ecarts!K244),\"\")","v":""},{"$f":"IF( Ecarts!$E244=$A$1, IF(Ecarts!L244=\"\",\"\",Ecarts!L244),\"\")","v":""},{"$f":"IF( Ecarts!$E244=$A$1, IF(Ecarts!M244=\"\",\"\",Ecarts!M244),\"\")","v":""},0,0]
[{"$f":"IF( Ecarts!$E245=$A$1,IF( Ecarts!B245=\"\",\"\",Ecarts!A245),\"\")","v":""},{"$f":"IF( Ecarts!$E245=$A$1,IF( Ecarts!C245=\"\",\"\",Ecarts!C245),\"\")","v":""},{"$f":"IF( Ecarts!$E245=$A$1, IF(Ecarts!F245=\"\",\"\",Ecarts!F245),\"\")","v":""},{"$f":"IF( Ecarts!$E245=$A$1, IF(Ecarts!I245=\"\",\"\",Ecarts!I245),\"\")","v":""},{"$f":"IF( Ecarts!$E245=$A$1, IF(Ecarts!J245=\"\",\"\",Ecarts!J245),\"\")","v":""},{"$f":"IF( Ecarts!$E245=$A$1, IF(Ecarts!K245=\"\",\"\",Ecarts!K245),\"\")","v":""},{"$f":"IF( Ecarts!$E245=$A$1, IF(Ecarts!L245=\"\",\"\",Ecarts!L245),\"\")","v":""},{"$f":"IF( Ecarts!$E245=$A$1, IF(Ecarts!M245=\"\",\"\",Ecarts!M245),\"\")","v":""},0,0]
[{"$f":"IF( Ecarts!$E246=$A$1,IF( Ecarts!B246=\"\",\"\",Ecarts!A246),\"\")","v":""},{"$f":"IF( Ecarts!$E246=$A$1,IF( Ecarts!C246=\"\",\"\",Ecarts!C246),\"\")","v":""},{"$f":"IF( Ecarts!$E246=$A$1, IF(Ecarts!F246=\"\",\"\",Ecarts!F246),\"\")","v":""},{"$f":"IF( Ecarts!$E246=$A$1, IF(Ecarts!I246=\"\",\"\",Ecarts!I246),\"\")","v":""},{"$f":"IF( Ecarts!$E246=$A$1, IF(Ecarts!J246=\"\",\"\",Ecarts!J246),\"\")","v":""},{"$f":"IF( Ecarts!$E246=$A$1, IF(Ecarts!K246=\"\",\"\",Ecarts!K246),\"\")","v":""},{"$f":"IF( Ecarts!$E246=$A$1, IF(Ecarts!L246=\"\",\"\",Ecarts!L246),\"\")","v":""},{"$f":"IF( Ecarts!$E246=$A$1, IF(Ecarts!M246=\"\",\"\",Ecarts!M246),\"\")","v":""},0,0]
[{"$f":"IF( Ecarts!$E247=$A$1,IF( Ecarts!B247=\"\",\"\",Ecarts!A247),\"\")","v":""},{"$f":"IF( Ecarts!$E247=$A$1,IF( Ecarts!C247=\"\",\"\",Ecarts!C247),\"\")","v":""},{"$f":"IF( Ecarts!$E247=$A$1, IF(Ecarts!F247=\"\",\"\",Ecarts!F247),\"\")","v":""},{"$f":"IF( Ecarts!$E247=$A$1, IF(Ecarts!I247=\"\",\"\",Ecarts!I247),\"\")","v":""},{"$f":"IF( Ecarts!$E247=$A$1, IF(Ecarts!J247=\"\",\"\",Ecarts!J247),\"\")","v":""},{"$f":"IF( Ecarts!$E247=$A$1, IF(Ecarts!K247=\"\",\"\",Ecarts!K247),\"\")","v":""},{"$f":"IF( Ecarts!$E247=$A$1, IF(Ecarts!L247=\"\",\"\",Ecarts!L247),\"\")","v":""},{"$f":"IF( Ecarts!$E247=$A$1, IF(Ecarts!M247=\"\",\"\",Ecarts!M247),\"\")","v":""},0,0]
[{"$f":"IF( Ecarts!$E248=$A$1,IF( Ecarts!B248=\"\",\"\",Ecarts!A248),\"\")","v":""},{"$f":"IF( Ecarts!$E248=$A$1,IF( Ecarts!C248=\"\",\"\",Ecarts!C248),\"\")","v":""},{"$f":"IF( Ecarts!$E248=$A$1, IF(Ecarts!F248=\"\",\"\",Ecarts!F248),\"\")","v":""},{"$f":"IF( Ecarts!$E248=$A$1, IF(Ecarts!I248=\"\",\"\",Ecarts!I248),\"\")","v":""},{"$f":"IF( Ecarts!$E248=$A$1, IF(Ecarts!J248=\"\",\"\",Ecarts!J248),\"\")","v":""},{"$f":"IF( Ecarts!$E248=$A$1, IF(Ecarts!K248=\"\",\"\",Ecarts!K248),\"\")","v":""},{"$f":"IF( Ecarts!$E248=$A$1, IF(Ecarts!L248=\"\",\"\",Ecarts!L248),\"\")","v":""},{"$f":"IF( Ecarts!$E248=$A$1, IF(Ecarts!M248=\"\",\"\",Ecarts!M248),\"\")","v":""},0,0]
[{"$f":"IF( Ecarts!$E249=$A$1,IF( Ecarts!B249=\"\",\"\",Ecarts!A249),\"\")","v":""},{"$f":"IF( Ecarts!$E249=$A$1,IF( Ecarts!C249=\"\",\"\",Ecarts!C249),\"\")","v":""},{"$f":"IF( Ecarts!$E249=$A$1, IF(Ecarts!F249=\"\",\"\",Ecarts!F249),\"\")","v":""},{"$f":"IF( Ecarts!$E249=$A$1, IF(Ecarts!I249=\"\",\"\",Ecarts!I249),\"\")","v":""},{"$f":"IF( Ecarts!$E249=$A$1, IF(Ecarts!J249=\"\",\"\",Ecarts!J249),\"\")","v":""},{"$f":"IF( Ecarts!$E249=$A$1, IF(Ecarts!K249=\"\",\"\",Ecarts!K249),\"\")","v":""},{"$f":"IF( Ecarts!$E249=$A$1, IF(Ecarts!L249=\"\",\"\",Ecarts!L249),\"\")","v":""},{"$f":"IF( Ecarts!$E249=$A$1, IF(Ecarts!M249=\"\",\"\",Ecarts!M249),\"\")","v":""},0,0]
[{"$f":"IF( Ecarts!$E250=$A$1,IF( Ecarts!B250=\"\",\"\",Ecarts!A250),\"\")","v":""},{"$f":"IF( Ecarts!$E250=$A$1,IF( Ecarts!C250=\"\",\"\",Ecarts!C250),\"\")","v":""},{"$f":"IF( Ecarts!$E250=$A$1, IF(Ecarts!F250=\"\",\"\",Ecarts!F250),\"\")","v":""},{"$f":"IF( Ecarts!$E250=$A$1, IF(Ecarts!I250=\"\",\"\",Ecarts!I250),\"\")","v":""},{"$f":"IF( Ecarts!$E250=$A$1, IF(Ecarts!J250=\"\",\"\",Ecarts!J250),\"\")","v":""},{"$f":"IF( Ecarts!$E250=$A$1, IF(Ecarts!K250=\"\",\"\",Ecarts!K250),\"\")","v":""},{"$f":"IF( Ecarts!$E250=$A$1, IF(Ecarts!L250=\"\",\"\",Ecarts!L250),\"\")","v":""},{"$f":"IF( Ecarts!$E250=$A$1, IF(Ecarts!M250=\"\",\"\",Ecarts!M250),\"\")","v":""},0,0]
[{"$f":"IF( Ecarts!$E251=$A$1,IF( Ecarts!B251=\"\",\"\",Ecarts!A251),\"\")","v":""},{"$f":"IF( Ecarts!$E251=$A$1,IF( Ecarts!C251=\"\",\"\",Ecarts!C251),\"\")","v":""},{"$f":"IF( Ecarts!$E251=$A$1, IF(Ecarts!F251=\"\",\"\",Ecarts!F251),\"\")","v":""},{"$f":"IF( Ecarts!$E251=$A$1, IF(Ecarts!I251=\"\",\"\",Ecarts!I251),\"\")","v":""},{"$f":"IF( Ecarts!$E251=$A$1, IF(Ecarts!J251=\"\",\"\",Ecarts!J251),\"\")","v":""},{"$f":"IF( Ecarts!$E251=$A$1, IF(Ecarts!K251=\"\",\"\",Ecarts!K251),\"\")","v":""},{"$f":"IF( Ecarts!$E251=$A$1, IF(Ecarts!L251=\"\",\"\",Ecarts!L251),\"\")","v":""},{"$f":"IF( Ecarts!$E251=$A$1, IF(Ecarts!M251=\"\",\"\",Ecarts!M251),\"\")","v":""},0,0]
[{"$f":"IF( Ecarts!$E252=$A$1,IF( Ecarts!B252=\"\",\"\",Ecarts!A252),\"\")","v":""},{"$f":"IF( Ecarts!$E252=$A$1,IF( Ecarts!C252=\"\",\"\",Ecarts!C252),\"\")","v":""},{"$f":"IF( Ecarts!$E252=$A$1, IF(Ecarts!F252=\"\",\"\",Ecarts!F252),\"\")","v":""},{"$f":"IF( Ecarts!$E252=$A$1, IF(Ecarts!I252=\"\",\"\",Ecarts!I252),\"\")","v":""},{"$f":"IF( Ecarts!$E252=$A$1, IF(Ecarts!J252=\"\",\"\",Ecarts!J252),\"\")","v":""},{"$f":"IF( Ecarts!$E252=$A$1, IF(Ecarts!K252=\"\",\"\",Ecarts!K252),\"\")","v":""},{"$f":"IF( Ecarts!$E252=$A$1, IF(Ecarts!L252=\"\",\"\",Ecarts!L252),\"\")","v":""},{"$f":"IF( Ecarts!$E252=$A$1, IF(Ecarts!M252=\"\",\"\",Ecarts!M252),\"\")","v":""},0,0]
[{"$f":"IF( Ecarts!$E253=$A$1,IF( Ecarts!B253=\"\",\"\",Ecarts!A253),\"\")","v":""},{"$f":"IF( Ecarts!$E253=$A$1,IF( Ecarts!C253=\"\",\"\",Ecarts!C253),\"\")","v":""},{"$f":"IF( Ecarts!$E253=$A$1, IF(Ecarts!F253=\"\",\"\",Ecarts!F253),\"\")","v":""},{"$f":"IF( Ecarts!$E253=$A$1, IF(Ecarts!I253=\"\",\"\",Ecarts!I253),\"\")","v":""},{"$f":"IF( Ecarts!$E253=$A$1, IF(Ecarts!J253=\"\",\"\",Ecarts!J253),\"\")","v":""},{"$f":"IF( Ecarts!$E253=$A$1, IF(Ecarts!K253=\"\",\"\",Ecarts!K253),\"\")","v":""},{"$f":"IF( Ecarts!$E253=$A$1, IF(Ecarts!L253=\"\",\"\",Ecarts!L253),\"\")","v":""},{"$f":"IF( Ecarts!$E253=$A$1, IF(Ecarts!M253=\"\",\"\",Ecarts!M253),\"\")","v":""},0,0]
[{"$f":"IF( Ecarts!$E254=$A$1,IF( Ecarts!B254=\"\",\"\",Ecarts!A254),\"\")","v":""},{"$f":"IF( Ecarts!$E254=$A$1,IF( Ecarts!C254=\"\",\"\",Ecarts!C254),\"\")","v":""},{"$f":"IF( Ecarts!$E254=$A$1, IF(Ecarts!F254=\"\",\"\",Ecarts!F254),\"\")","v":""},{"$f":"IF( Ecarts!$E254=$A$1, IF(Ecarts!I254=\"\",\"\",Ecarts!I254),\"\")","v":""},{"$f":"IF( Ecarts!$E254=$A$1, IF(Ecarts!J254=\"\",\"\",Ecarts!J254),\"\")","v":""},{"$f":"IF( Ecarts!$E254=$A$1, IF(Ecarts!K254=\"\",\"\",Ecarts!K254),\"\")","v":""},{"$f":"IF( Ecarts!$E254=$A$1, IF(Ecarts!L254=\"\",\"\",Ecarts!L254),\"\")","v":""},{"$f":"IF( Ecarts!$E254=$A$1, IF(Ecarts!M254=\"\",\"\",Ecarts!M254),\"\")","v":""},0,0]
[{"$f":"IF( Ecarts!$E255=$A$1,IF( Ecarts!B255=\"\",\"\",Ecarts!A255),\"\")","v":""},{"$f":"IF( Ecarts!$E255=$A$1,IF( Ecarts!C255=\"\",\"\",Ecarts!C255),\"\")","v":""},{"$f":"IF( Ecarts!$E255=$A$1, IF(Ecarts!F255=\"\",\"\",Ecarts!F255),\"\")","v":""},{"$f":"IF( Ecarts!$E255=$A$1, IF(Ecarts!I255=\"\",\"\",Ecarts!I255),\"\")","v":""},{"$f":"IF( Ecarts!$E255=$A$1, IF(Ecarts!J255=\"\",\"\",Ecarts!J255),\"\")","v":""},{"$f":"IF( Ecarts!$E255=$A$1, IF(Ecarts!K255=\"\",\"\",Ecarts!K255),\"\")","v":""},{"$f":"IF( Ecarts!$E255=$A$1, IF(Ecarts!L255=\"\",\"\",Ecarts!L255),\"\")","v":""},{"$f":"IF( Ecarts!$E255=$A$1, IF(Ecarts!M255=\"\",\"\",Ecarts!M255),\"\")","v":""},0,0]
[{"$f":"IF( Ecarts!$E256=$A$1,IF( Ecarts!B256=\"\",\"\",Ecarts!A256),\"\")","v":""},{"$f":"IF( Ecarts!$E256=$A$1,IF( Ecarts!C256=\"\",\"\",Ecarts!C256),\"\")","v":""},{"$f":"IF( Ecarts!$E256=$A$1, IF(Ecarts!F256=\"\",\"\",Ecarts!F256),\"\")","v":""},{"$f":"IF( Ecarts!$E256=$A$1, IF(Ecarts!I256=\"\",\"\",Ecarts!I256),\"\")","v":""},{"$f":"IF( Ecarts!$E256=$A$1, IF(Ecarts!J256=\"\",\"\",Ecarts!J256),\"\")","v":""},{"$f":"IF( Ecarts!$E256=$A$1, IF(Ecarts!K256=\"\",\"\",Ecarts!K256),\"\")","v":""},{"$f":"IF( Ecarts!$E256=$A$1, IF(Ecarts!L256=\"\",\"\",Ecarts!L256),\"\")","v":""},{"$f":"IF( Ecarts!$E256=$A$1, IF(Ecarts!M256=\"\",\"\",Ecarts!M256),\"\")","v":""},0,0]
[{"$f":"IF( Ecarts!$E257=$A$1,IF( Ecarts!B257=\"\",\"\",Ecarts!A257),\"\")","v":""},{"$f":"IF( Ecarts!$E257=$A$1,IF( Ecarts!C257=\"\",\"\",Ecarts!C257),\"\")","v":""},{"$f":"IF( Ecarts!$E257=$A$1, IF(Ecarts!F257=\"\",\"\",Ecarts!F257),\"\")","v":""},{"$f":"IF( Ecarts!$E257=$A$1, IF(Ecarts!I257=\"\",\"\",Ecarts!I257),\"\")","v":""},{"$f":"IF( Ecarts!$E257=$A$1, IF(Ecarts!J257=\"\",\"\",Ecarts!J257),\"\")","v":""},{"$f":"IF( Ecarts!$E257=$A$1, IF(Ecarts!K257=\"\",\"\",Ecarts!K257),\"\")","v":""},{"$f":"IF( Ecarts!$E257=$A$1, IF(Ecarts!L257=\"\",\"\",Ecarts!L257),\"\")","v":""},{"$f":"IF( Ecarts!$E257=$A$1, IF(Ecarts!M257=\"\",\"\",Ecarts!M257),\"\")","v":""},0,0]
[{"$f":"IF( Ecarts!$E258=$A$1,IF( Ecarts!B258=\"\",\"\",Ecarts!A258),\"\")","v":""},{"$f":"IF( Ecarts!$E258=$A$1,IF( Ecarts!C258=\"\",\"\",Ecarts!C258),\"\")","v":""},{"$f":"IF( Ecarts!$E258=$A$1, IF(Ecarts!F258=\"\",\"\",Ecarts!F258),\"\")","v":""},{"$f":"IF( Ecarts!$E258=$A$1, IF(Ecarts!I258=\"\",\"\",Ecarts!I258),\"\")","v":""},{"$f":"IF( Ecarts!$E258=$A$1, IF(Ecarts!J258=\"\",\"\",Ecarts!J258),\"\")","v":""},{"$f":"IF( Ecarts!$E258=$A$1, IF(Ecarts!K258=\"\",\"\",Ecarts!K258),\"\")","v":""},{"$f":"IF( Ecarts!$E258=$A$1, IF(Ecarts!L258=\"\",\"\",Ecarts!L258),\"\")","v":""},{"$f":"IF( Ecarts!$E258=$A$1, IF(Ecarts!M258=\"\",\"\",Ecarts!M258),\"\")","v":""},0,0]
[{"$f":"IF( Ecarts!$E259=$A$1,IF( Ecarts!B259=\"\",\"\",Ecarts!A259),\"\")","v":""},{"$f":"IF( Ecarts!$E259=$A$1,IF( Ecarts!C259=\"\",\"\",Ecarts!C259),\"\")","v":""},{"$f":"IF( Ecarts!$E259=$A$1, IF(Ecarts!F259=\"\",\"\",Ecarts!F259),\"\")","v":""},{"$f":"IF( Ecarts!$E259=$A$1, IF(Ecarts!I259=\"\",\"\",Ecarts!I259),\"\")","v":""},{"$f":"IF( Ecarts!$E259=$A$1, IF(Ecarts!J259=\"\",\"\",Ecarts!J259),\"\")","v":""},{"$f":"IF( Ecarts!$E259=$A$1, IF(Ecarts!K259=\"\",\"\",Ecarts!K259),\"\")","v":""},{"$f":"IF( Ecarts!$E259=$A$1, IF(Ecarts!L259=\"\",\"\",Ecarts!L259),\"\")","v":""},{"$f":"IF( Ecarts!$E259=$A$1, IF(Ecarts!M259=\"\",\"\",Ecarts!M259),\"\")","v":""},0,0]
[{"$f":"IF( Ecarts!$E260=$A$1,IF( Ecarts!B260=\"\",\"\",Ecarts!A260),\"\")","v":""},{"$f":"IF( Ecarts!$E260=$A$1,IF( Ecarts!C260=\"\",\"\",Ecarts!C260),\"\")","v":""},{"$f":"IF( Ecarts!$E260=$A$1, IF(Ecarts!F260=\"\",\"\",Ecarts!F260),\"\")","v":""},{"$f":"IF( Ecarts!$E260=$A$1, IF(Ecarts!I260=\"\",\"\",Ecarts!I260),\"\")","v":""},{"$f":"IF( Ecarts!$E260=$A$1, IF(Ecarts!J260=\"\",\"\",Ecarts!J260),\"\")","v":""},{"$f":"IF( Ecarts!$E260=$A$1, IF(Ecarts!K260=\"\",\"\",Ecarts!K260),\"\")","v":""},{"$f":"IF( Ecarts!$E260=$A$1, IF(Ecarts!L260=\"\",\"\",Ecarts!L260),\"\")","v":""},{"$f":"IF( Ecarts!$E260=$A$1, IF(Ecarts!M260=\"\",\"\",Ecarts!M260),\"\")","v":""},{"$f":"IF(B261=\"\",0,IF(G261=1,0,1))","v":0},{"$f":"IF(F261=\"\",0,IF(F261>(TODAY()-60),1,0))","v":0}]
[{"$f":"IF( Ecarts!$E261=$A$1,IF( Ecarts!B261=\"\",\"\",Ecarts!A261),\"\")","v":""},{"$f":"IF( Ecarts!$E261=$A$1,IF( Ecarts!C261=\"\",\"\",Ecarts!C261),\"\")","v":""},{"$f":"IF( Ecarts!$E261=$A$1, IF(Ecarts!F261=\"\",\"\",Ecarts!F261),\"\")","v":""},{"$f":"IF( Ecarts!$E261=$A$1, IF(Ecarts!I261=\"\",\"\",Ecarts!I261),\"\")","v":""},{"$f":"IF( Ecarts!$E261=$A$1, IF(Ecarts!J261=\"\",\"\",Ecarts!J261),\"\")","v":""},{"$f":"IF( Ecarts!$E261=$A$1, IF(Ecarts!K261=\"\",\"\",Ecarts!K261),\"\")","v":""},{"$f":"IF( Ecarts!$E261=$A$1, IF(Ecarts!L261=\"\",\"\",Ecarts!L261),\"\")","v":""},{"$f":"IF( Ecarts!$E261=$A$1, IF(Ecarts!M261=\"\",\"\",Ecarts!M261),\"\")","v":""},0,0]
[{"$f":"IF( Ecarts!$E262=$A$1,IF( Ecarts!B262=\"\",\"\",Ecarts!A262),\"\")","v":""},{"$f":"IF( Ecarts!$E262=$A$1,IF( Ecarts!C262=\"\",\"\",Ecarts!C262),\"\")","v":""},{"$f":"IF( Ecarts!$E262=$A$1, IF(Ecarts!F262=\"\",\"\",Ecarts!F262),\"\")","v":""},{"$f":"IF( Ecarts!$E262=$A$1, IF(Ecarts!I262=\"\",\"\",Ecarts!I262),\"\")","v":""},{"$f":"IF( Ecarts!$E262=$A$1, IF(Ecarts!J262=\"\",\"\",Ecarts!J262),\"\")","v":""},{"$f":"IF( Ecarts!$E262=$A$1, IF(Ecarts!K262=\"\",\"\",Ecarts!K262),\"\")","v":""},{"$f":"IF( Ecarts!$E262=$A$1, IF(Ecarts!L262=\"\",\"\",Ecarts!L262),\"\")","v":""},{"$f":"IF( Ecarts!$E262=$A$1, IF(Ecarts!M262=\"\",\"\",Ecarts!M262),\"\")","v":""},0,0]
[{"$f":"IF( Ecarts!$E263=$A$1,IF( Ecarts!B263=\"\",\"\",Ecarts!A263),\"\")","v":""},{"$f":"IF( Ecarts!$E263=$A$1,IF( Ecarts!C263=\"\",\"\",Ecarts!C263),\"\")","v":""},{"$f":"IF( Ecarts!$E263=$A$1, IF(Ecarts!F263=\"\",\"\",Ecarts!F263),\"\")","v":""},{"$f":"IF( Ecarts!$E263=$A$1, IF(Ecarts!I263=\"\",\"\",Ecarts!I263),\"\")","v":""},{"$f":"IF( Ecarts!$E263=$A$1, IF(Ecarts!J263=\"\",\"\",Ecarts!J263),\"\")","v":""},{"$f":"IF( Ecarts!$E263=$A$1, IF(Ecarts!K263=\"\",\"\",Ecarts!K263),\"\")","v":""},{"$f":"IF( Ecarts!$E263=$A$1, IF(Ecarts!L263=\"\",\"\",Ecarts!L263),\"\")","v":""},{"$f":"IF( Ecarts!$E263=$A$1, IF(Ecarts!M263=\"\",\"\",Ecarts!M263),\"\")","v":""},0,0]
[{"$f":"IF( Ecarts!$E264=$A$1,IF( Ecarts!B264=\"\",\"\",Ecarts!A264),\"\")","v":""},{"$f":"IF( Ecarts!$E264=$A$1,IF( Ecarts!C264=\"\",\"\",Ecarts!C264),\"\")","v":""},{"$f":"IF( Ecarts!$E264=$A$1, IF(Ecarts!F264=\"\",\"\",Ecarts!F264),\"\")","v":""},{"$f":"IF( Ecarts!$E264=$A$1, IF(Ecarts!I264=\"\",\"\",Ecarts!I264),\"\")","v":""},{"$f":"IF( Ecarts!$E264=$A$1, IF(Ecarts!J264=\"\",\"\",Ecarts!J264),\"\")","v":""},{"$f":"IF( Ecarts!$E264=$A$1, IF(Ecarts!K264=\"\",\"\",Ecarts!K264),\"\")","v":""},{"$f":"IF( Ecarts!$E264=$A$1, IF(Ecarts!L264=\"\",\"\",Ecarts!L264),\"\")","v":""},{"$f":"IF( Ecarts!$E264=$A$1, IF(Ecarts!M264=\"\",\"\",Ecarts!M264),\"\")","v":""},0,0]
[{"$f":"IF( Ecarts!$E265=$A$1,IF( Ecarts!B265=\"\",\"\",Ecarts!A265),\"\")","v":""},{"$f":"IF( Ecarts!$E265=$A$1,IF( Ecarts!C265=\"\",\"\",Ecarts!C265),\"\")","v":""},{"$f":"IF( Ecarts!$E265=$A$1, IF(Ecarts!F265=\"\",\"\",Ecarts!F265),\"\")","v":""},{"$f":"IF( Ecarts!$E265=$A$1, IF(Ecarts!I265=\"\",\"\",Ecarts!I265),\"\")","v":""},{"$f":"IF( Ecarts!$E265=$A$1, IF(Ecarts!J265=\"\",\"\",Ecarts!J265),\"\")","v":""},{"$f":"IF( Ecarts!$E265=$A$1, IF(Ecarts!K265=\"\",\"\",Ecarts!K265),\"\")","v":""},{"$f":"IF( Ecarts!$E265=$A$1, IF(Ecarts!L265=\"\",\"\",Ecarts!L265),\"\")","v":""},{"$f":"IF( Ecarts!$E265=$A$1, IF(Ecarts!M265=\"\",\"\",Ecarts!M265),\"\")","v":""},0,0]
[{"$f":"IF( Ecarts!$E266=$A$1,IF( Ecarts!B266=\"\",\"\",Ecarts!A266),\"\")","v":""},{"$f":"IF( Ecarts!$E266=$A$1,IF( Ecarts!C266=\"\",\"\",Ecarts!C266),\"\")","v":""},{"$f":"IF( Ecarts!$E266=$A$1, IF(Ecarts!F266=\"\",\"\",Ecarts!F266),\"\")","v":""},{"$f":"IF( Ecarts!$E266=$A$1, IF(Ecarts!I266=\"\",\"\",Ecarts!I266),\"\")","v":""},{"$f":"IF( Ecarts!$E266=$A$1, IF(Ecarts!J266=\"\",\"\",Ecarts!J266),\"\")","v":""},{"$f":"IF( Ecarts!$E266=$A$1, IF(Ecarts!K266=\"\",\"\",Ecarts!K266),\"\")","v":""},{"$f":"IF( Ecarts!$E266=$A$1, IF(Ecarts!L266=\"\",\"\",Ecarts!L266),\"\")","v":""},{"$f":"IF( Ecarts!$E266=$A$1, IF(Ecarts!M266=\"\",\"\",Ecarts!M266),\"\")","v":""},0,0]
[{"$f":"IF( Ecarts!$E267=$A$1,IF( Ecarts!B267=\"\",\"\",Ecarts!A267),\"\")","v":""},{"$f":"IF( Ecarts!$E267=$A$1,IF( Ecarts!C267=\"\",\"\",Ecarts!C267),\"\")","v":""},{"$f":"IF( Ecarts!$E267=$A$1, IF(Ecarts!F267=\"\",\"\",Ecarts!F267),\"\")","v":""},{"$f":"IF( Ecarts!$E267=$A$1, IF(Ecarts!I267=\"\",\"\",Ecarts!I267),\"\")","v":""},{"$f":"IF( Ecarts!$E267=$A$1, IF(Ecarts!J267=\"\",\"\",Ecarts!J267),\"\")","v":""},{"$f":"IF( Ecarts!$E267=$A$1, IF(Ecarts!K267=\"\",\"\",Ecarts!K267),\"\")","v":""},{"$f":"IF( Ecarts!$E267=$A$1, IF(Ecarts!L267=\"\",\"\",Ecarts!L267),\"\")","v":""},{"$f":"IF( Ecarts!$E267=$A$1, IF(Ecarts!M267=\"\",\"\",Ecarts!M267),\"\")","v":""},0,0]
[{"$f":"IF( Ecarts!$E268=$A$1,IF( Ecarts!B268=\"\",\"\",Ecarts!A268),\"\")","v":""},{"$f":"IF( Ecarts!$E268=$A$1,IF( Ecarts!C268=\"\",\"\",Ecarts!C268),\"\")","v":""},{"$f":"IF( Ecarts!$E268=$A$1, IF(Ecarts!F268=\"\",\"\",Ecarts!F268),\"\")","v":""},{"$f":"IF( Ecarts!$E268=$A$1, IF(Ecarts!I268=\"\",\"\",Ecarts!I268),\"\")","v":""},{"$f":"IF( Ecarts!$E268=$A$1, IF(Ecarts!J268=\"\",\"\",Ecarts!J268),\"\")","v":""},{"$f":"IF( Ecarts!$E268=$A$1, IF(Ecarts!K268=\"\",\"\",Ecarts!K268),\"\")","v":""},{"$f":"IF( Ecarts!$E268=$A$1, IF(Ecarts!L268=\"\",\"\",Ecarts!L268),\"\")","v":""},{"$f":"IF( Ecarts!$E268=$A$1, IF(Ecarts!M268=\"\",\"\",Ecarts!M268),\"\")","v":""},0,0]
[{"$f":"IF( Ecarts!$E269=$A$1,IF( Ecarts!B269=\"\",\"\",Ecarts!A269),\"\")","v":""},{"$f":"IF( Ecarts!$E269=$A$1,IF( Ecarts!C269=\"\",\"\",Ecarts!C269),\"\")","v":""},{"$f":"IF( Ecarts!$E269=$A$1, IF(Ecarts!F269=\"\",\"\",Ecarts!F269),\"\")","v":""},{"$f":"IF( Ecarts!$E269=$A$1, IF(Ecarts!I269=\"\",\"\",Ecarts!I269),\"\")","v":""},{"$f":"IF( Ecarts!$E269=$A$1, IF(Ecarts!J269=\"\",\"\",Ecarts!J269),\"\")","v":""},{"$f":"IF( Ecarts!$E269=$A$1, IF(Ecarts!K269=\"\",\"\",Ecarts!K269),\"\")","v":""},{"$f":"IF( Ecarts!$E269=$A$1, IF(Ecarts!L269=\"\",\"\",Ecarts!L269),\"\")","v":""},{"$f":"IF( Ecarts!$E269=$A$1, IF(Ecarts!M269=\"\",\"\",Ecarts!M269),\"\")","v":""},0,0]
[{"$f":"IF( Ecarts!$E270=$A$1,IF( Ecarts!B270=\"\",\"\",Ecarts!A270),\"\")","v":""},{"$f":"IF( Ecarts!$E270=$A$1,IF( Ecarts!C270=\"\",\"\",Ecarts!C270),\"\")","v":""},{"$f":"IF( Ecarts!$E270=$A$1, IF(Ecarts!F270=\"\",\"\",Ecarts!F270),\"\")","v":""},{"$f":"IF( Ecarts!$E270=$A$1, IF(Ecarts!I270=\"\",\"\",Ecarts!I270),\"\")","v":""},{"$f":"IF( Ecarts!$E270=$A$1, IF(Ecarts!J270=\"\",\"\",Ecarts!J270),\"\")","v":""},{"$f":"IF( Ecarts!$E270=$A$1, IF(Ecarts!K270=\"\",\"\",Ecarts!K270),\"\")","v":""},{"$f":"IF( Ecarts!$E270=$A$1, IF(Ecarts!L270=\"\",\"\",Ecarts!L270),\"\")","v":""},{"$f":"IF( Ecarts!$E270=$A$1, IF(Ecarts!M270=\"\",\"\",Ecarts!M270),\"\")","v":""},0,0]
[{"$f":"IF( Ecarts!$E271=$A$1,IF( Ecarts!B271=\"\",\"\",Ecarts!A271),\"\")","v":""},{"$f":"IF( Ecarts!$E271=$A$1,IF( Ecarts!C271=\"\",\"\",Ecarts!C271),\"\")","v":""},{"$f":"IF( Ecarts!$E271=$A$1, IF(Ecarts!F271=\"\",\"\",Ecarts!F271),\"\")","v":""},{"$f":"IF( Ecarts!$E271=$A$1, IF(Ecarts!I271=\"\",\"\",Ecarts!I271),\"\")","v":""},{"$f":"IF( Ecarts!$E271=$A$1, IF(Ecarts!J271=\"\",\"\",Ecarts!J271),\"\")","v":""},{"$f":"IF( Ecarts!$E271=$A$1, IF(Ecarts!K271=\"\",\"\",Ecarts!K271),\"\")","v":""},{"$f":"IF( Ecarts!$E271=$A$1, IF(Ecarts!L271=\"\",\"\",Ecarts!L271),\"\")","v":""},{"$f":"IF( Ecarts!$E271=$A$1, IF(Ecarts!M271=\"\",\"\",Ecarts!M271),\"\")","v":""},0,0]
[{"$f":"IF( Ecarts!$E272=$A$1,IF( Ecarts!B272=\"\",\"\",Ecarts!A272),\"\")","v":""},{"$f":"IF( Ecarts!$E272=$A$1,IF( Ecarts!C272=\"\",\"\",Ecarts!C272),\"\")","v":""},{"$f":"IF( Ecarts!$E272=$A$1, IF(Ecarts!F272=\"\",\"\",Ecarts!F272),\"\")","v":""},{"$f":"IF( Ecarts!$E272=$A$1, IF(Ecarts!I272=\"\",\"\",Ecarts!I272),\"\")","v":""},{"$f":"IF( Ecarts!$E272=$A$1, IF(Ecarts!J272=\"\",\"\",Ecarts!J272),\"\")","v":""},{"$f":"IF( Ecarts!$E272=$A$1, IF(Ecarts!K272=\"\",\"\",Ecarts!K272),\"\")","v":""},{"$f":"IF( Ecarts!$E272=$A$1, IF(Ecarts!L272=\"\",\"\",Ecarts!L272),\"\")","v":""},{"$f":"IF( Ecarts!$E272=$A$1, IF(Ecarts!M272=\"\",\"\",Ecarts!M272),\"\")","v":""},0,0]
[{"$f":"IF( Ecarts!$E273=$A$1,IF( Ecarts!B273=\"\",\"\",Ecarts!A273),\"\")","v":""},{"$f":"IF( Ecarts!$E273=$A$1,IF( Ecarts!C273=\"\",\"\",Ecarts!C273),\"\")","v":""},{"$f":"IF( Ecarts!$E273=$A$1, IF(Ecarts!F273=\"\",\"\",Ecarts!F273),\"\")","v":""},{"$f":"IF( Ecarts!$E273=$A$1, IF(Ecarts!I273=\"\",\"\",Ecarts!I273),\"\")","v":""},{"$f":"IF( Ecarts!$E273=$A$1, IF(Ecarts!J273=\"\",\"\",Ecarts!J273),\"\")","v":""},{"$f":"IF( Ecarts!$E273=$A$1, IF(Ecarts!K273=\"\",\"\",Ecarts!K273),\"\")","v":""},{"$f":"IF( Ecarts!$E273=$A$1, IF(Ecarts!L273=\"\",\"\",Ecarts!L273),\"\")","v":""},{"$f":"IF( Ecarts!$E273=$A$1, IF(Ecarts!M273=\"\",\"\",Ecarts!M273),\"\")","v":""},0,0]
[{"$f":"IF( Ecarts!$E274=$A$1,IF( Ecarts!B274=\"\",\"\",Ecarts!A274),\"\")","v":""},{"$f":"IF( Ecarts!$E274=$A$1,IF( Ecarts!C274=\"\",\"\",Ecarts!C274),\"\")","v":""},{"$f":"IF( Ecarts!$E274=$A$1, IF(Ecarts!F274=\"\",\"\",Ecarts!F274),\"\")","v":""},{"$f":"IF( Ecarts!$E274=$A$1, IF(Ecarts!I274=\"\",\"\",Ecarts!I274),\"\")","v":""},{"$f":"IF( Ecarts!$E274=$A$1, IF(Ecarts!J274=\"\",\"\",Ecarts!J274),\"\")","v":""},{"$f":"IF( Ecarts!$E274=$A$1, IF(Ecarts!K274=\"\",\"\",Ecarts!K274),\"\")","v":""},{"$f":"IF( Ecarts!$E274=$A$1, IF(Ecarts!L274=\"\",\"\",Ecarts!L274),\"\")","v":""},{"$f":"IF( Ecarts!$E274=$A$1, IF(Ecarts!M274=\"\",\"\",Ecarts!M274),\"\")","v":""},0,0]
[{"$f":"IF( Ecarts!$E275=$A$1,IF( Ecarts!B275=\"\",\"\",Ecarts!A275),\"\")","v":""},{"$f":"IF( Ecarts!$E275=$A$1,IF( Ecarts!C275=\"\",\"\",Ecarts!C275),\"\")","v":""},{"$f":"IF( Ecarts!$E275=$A$1, IF(Ecarts!F275=\"\",\"\",Ecarts!F275),\"\")","v":""},{"$f":"IF( Ecarts!$E275=$A$1, IF(Ecarts!I275=\"\",\"\",Ecarts!I275),\"\")","v":""},{"$f":"IF( Ecarts!$E275=$A$1, IF(Ecarts!J275=\"\",\"\",Ecarts!J275),\"\")","v":""},{"$f":"IF( Ecarts!$E275=$A$1, IF(Ecarts!K275=\"\",\"\",Ecarts!K275),\"\")","v":""},{"$f":"IF( Ecarts!$E275=$A$1, IF(Ecarts!L275=\"\",\"\",Ecarts!L275),\"\")","v":""},{"$f":"IF( Ecarts!$E275=$A$1, IF(Ecarts!M275=\"\",\"\",Ecarts!M275),\"\")","v":""},0,0]
[{"$f":"IF( Ecarts!$E276=$A$1,IF( Ecarts!B276=\"\",\"\",Ecarts!A276),\"\")","v":""},{"$f":"IF( Ecarts!$E276=$A$1,IF( Ecarts!C276=\"\",\"\",Ecarts!C276),\"\")","v":""},{"$f":"IF( Ecarts!$E276=$A$1, IF(Ecarts!F276=\"\",\"\",Ecarts!F276),\"\")","v":""},{"$f":"IF( Ecarts!$E276=$A$1, IF(Ecarts!I276=\"\",\"\",Ecarts!I276),\"\")","v":""},{"$f":"IF( Ecarts!$E276=$A$1, IF(Ecarts!J276=\"\",\"\",Ecarts!J276),\"\")","v":""},{"$f":"IF( Ecarts!$E276=$A$1, IF(Ecarts!K276=\"\",\"\",Ecarts!K276),\"\")","v":""},{"$f":"IF( Ecarts!$E276=$A$1, IF(Ecarts!L276=\"\",\"\",Ecarts!L276),\"\")","v":""},{"$f":"IF( Ecarts!$E276=$A$1, IF(Ecarts!M276=\"\",\"\",Ecarts!M276),\"\")","v":""},0,0]
[{"$f":"IF( Ecarts!$E277=$A$1,IF( Ecarts!B277=\"\",\"\",Ecarts!A277),\"\")","v":""},{"$f":"IF( Ecarts!$E277=$A$1,IF( Ecarts!C277=\"\",\"\",Ecarts!C277),\"\")","v":""},{"$f":"IF( Ecarts!$E277=$A$1, IF(Ecarts!F277=\"\",\"\",Ecarts!F277),\"\")","v":""},{"$f":"IF( Ecarts!$E277=$A$1, IF(Ecarts!I277=\"\",\"\",Ecarts!I277),\"\")","v":""},{"$f":"IF( Ecarts!$E277=$A$1, IF(Ecarts!J277=\"\",\"\",Ecarts!J277),\"\")","v":""},{"$f":"IF( Ecarts!$E277=$A$1, IF(Ecarts!K277=\"\",\"\",Ecarts!K277),\"\")","v":""},{"$f":"IF( Ecarts!$E277=$A$1, IF(Ecarts!L277=\"\",\"\",Ecarts!L277),\"\")","v":""},{"$f":"IF( Ecarts!$E277=$A$1, IF(Ecarts!M277=\"\",\"\",Ecarts!M277),\"\")","v":""},0,0]
[{"$f":"IF( Ecarts!$E278=$A$1,IF( Ecarts!B278=\"\",\"\",Ecarts!A278),\"\")","v":""},{"$f":"IF( Ecarts!$E278=$A$1,IF( Ecarts!C278=\"\",\"\",Ecarts!C278),\"\")","v":""},{"$f":"IF( Ecarts!$E278=$A$1, IF(Ecarts!F278=\"\",\"\",Ecarts!F278),\"\")","v":""},{"$f":"IF( Ecarts!$E278=$A$1, IF(Ecarts!I278=\"\",\"\",Ecarts!I278),\"\")","v":""},{"$f":"IF( Ecarts!$E278=$A$1, IF(Ecarts!J278=\"\",\"\",Ecarts!J278),\"\")","v":""},{"$f":"IF( Ecarts!$E278=$A$1, IF(Ecarts!K278=\"\",\"\",Ecarts!K278),\"\")","v":""},{"$f":"IF( Ecarts!$E278=$A$1, IF(Ecarts!L278=\"\",\"\",Ecarts!L278),\"\")","v":""},{"$f":"IF( Ecarts!$E278=$A$1, IF(Ecarts!M278=\"\",\"\",Ecarts!M278),\"\")","v":""},0,0]
[{"$f":"IF( Ecarts!$E279=$A$1,IF( Ecarts!B279=\"\",\"\",Ecarts!A279),\"\")","v":""},{"$f":"IF( Ecarts!$E279=$A$1,IF( Ecarts!C279=\"\",\"\",Ecarts!C279),\"\")","v":""},{"$f":"IF( Ecarts!$E279=$A$1, IF(Ecarts!F279=\"\",\"\",Ecarts!F279),\"\")","v":""},{"$f":"IF( Ecarts!$E279=$A$1, IF(Ecarts!I279=\"\",\"\",Ecarts!I279),\"\")","v":""},{"$f":"IF( Ecarts!$E279=$A$1, IF(Ecarts!J279=\"\",\"\",Ecarts!J279),\"\")","v":""},{"$f":"IF( Ecarts!$E279=$A$1, IF(Ecarts!K279=\"\",\"\",Ecarts!K279),\"\")","v":""},{"$f":"IF( Ecarts!$E279=$A$1, IF(Ecarts!L279=\"\",\"\",Ecarts!L279),\"\")","v":""},{"$f":"IF( Ecarts!$E279=$A$1, IF(Ecarts!M279=\"\",\"\",Ecarts!M279),\"\")","v":""},0,0]
[{"$f":"IF( Ecarts!$E280=$A$1,IF( Ecarts!B280=\"\",\"\",Ecarts!A280),\"\")","v":""},{"$f":"IF( Ecarts!$E280=$A$1,IF( Ecarts!C280=\"\",\"\",Ecarts!C280),\"\")","v":""},{"$f":"IF( Ecarts!$E280=$A$1, IF(Ecarts!F280=\"\",\"\",Ecarts!F280),\"\")","v":""},{"$f":"IF( Ecarts!$E280=$A$1, IF(Ecarts!I280=\"\",\"\",Ecarts!I280),\"\")","v":""},{"$f":"IF( Ecarts!$E280=$A$1, IF(Ecarts!J280=\"\",\"\",Ecarts!J280),\"\")","v":""},{"$f":"IF( Ecarts!$E280=$A$1, IF(Ecarts!K280=\"\",\"\",Ecarts!K280),\"\")","v":""},{"$f":"IF( Ecarts!$E280=$A$1, IF(Ecarts!L280=\"\",\"\",Ecarts!L280),\"\")","v":""},{"$f":"IF( Ecarts!$E280=$A$1, IF(Ecarts!M280=\"\",\"\",Ecarts!M280),\"\")","v":""},0,0]
[{"$f":"IF( Ecarts!$E281=$A$1,IF( Ecarts!B281=\"\",\"\",Ecarts!A281),\"\")","v":""},{"$f":"IF( Ecarts!$E281=$A$1,IF( Ecarts!C281=\"\",\"\",Ecarts!C281),\"\")","v":""},{"$f":"IF( Ecarts!$E281=$A$1, IF(Ecarts!F281=\"\",\"\",Ecarts!F281),\"\")","v":""},{"$f":"IF( Ecarts!$E281=$A$1, IF(Ecarts!I281=\"\",\"\",Ecarts!I281),\"\")","v":""},{"$f":"IF( Ecarts!$E281=$A$1, IF(Ecarts!J281=\"\",\"\",Ecarts!J281),\"\")","v":""},{"$f":"IF( Ecarts!$E281=$A$1, IF(Ecarts!K281=\"\",\"\",Ecarts!K281),\"\")","v":""},{"$f":"IF( Ecarts!$E281=$A$1, IF(Ecarts!L281=\"\",\"\",Ecarts!L281),\"\")","v":""},{"$f":"IF( Ecarts!$E281=$A$1, IF(Ecarts!M281=\"\",\"\",Ecarts!M281),\"\")","v":""},0,0]
[{"$f":"IF( Ecarts!$E282=$A$1,IF( Ecarts!B282=\"\",\"\",Ecarts!A282),\"\")","v":""},{"$f":"IF( Ecarts!$E282=$A$1,IF( Ecarts!C282=\"\",\"\",Ecarts!C282),\"\")","v":""},{"$f":"IF( Ecarts!$E282=$A$1, IF(Ecarts!F282=\"\",\"\",Ecarts!F282),\"\")","v":""},{"$f":"IF( Ecarts!$E282=$A$1, IF(Ecarts!I282=\"\",\"\",Ecarts!I282),\"\")","v":""},{"$f":"IF( Ecarts!$E282=$A$1, IF(Ecarts!J282=\"\",\"\",Ecarts!J282),\"\")","v":""},{"$f":"IF( Ecarts!$E282=$A$1, IF(Ecarts!K282=\"\",\"\",Ecarts!K282),\"\")","v":""},{"$f":"IF( Ecarts!$E282=$A$1, IF(Ecarts!L282=\"\",\"\",Ecarts!L282),\"\")","v":""},{"$f":"IF( Ecarts!$E282=$A$1, IF(Ecarts!M282=\"\",\"\",Ecarts!M282),\"\")","v":""},0,0]
[{"$f":"IF( Ecarts!$E283=$A$1,IF( Ecarts!B283=\"\",\"\",Ecarts!A283),\"\")","v":""},{"$f":"IF( Ecarts!$E283=$A$1,IF( Ecarts!C283=\"\",\"\",Ecarts!C283),\"\")","v":""},{"$f":"IF( Ecarts!$E283=$A$1, IF(Ecarts!F283=\"\",\"\",Ecarts!F283),\"\")","v":""},{"$f":"IF( Ecarts!$E283=$A$1, IF(Ecarts!I283=\"\",\"\",Ecarts!I283),\"\")","v":""},{"$f":"IF( Ecarts!$E283=$A$1, IF(Ecarts!J283=\"\",\"\",Ecarts!J283),\"\")","v":""},{"$f":"IF( Ecarts!$E283=$A$1, IF(Ecarts!K283=\"\",\"\",Ecarts!K283),\"\")","v":""},{"$f":"IF( Ecarts!$E283=$A$1, IF(Ecarts!L283=\"\",\"\",Ecarts!L283),\"\")","v":""},{"$f":"IF( Ecarts!$E283=$A$1, IF(Ecarts!M283=\"\",\"\",Ecarts!M283),\"\")","v":""},0,0]
[{"$f":"IF( Ecarts!$E284=$A$1,IF( Ecarts!B284=\"\",\"\",Ecarts!A284),\"\")","v":""},{"$f":"IF( Ecarts!$E284=$A$1,IF( Ecarts!C284=\"\",\"\",Ecarts!C284),\"\")","v":""},{"$f":"IF( Ecarts!$E284=$A$1, IF(Ecarts!F284=\"\",\"\",Ecarts!F284),\"\")","v":""},{"$f":"IF( Ecarts!$E284=$A$1, IF(Ecarts!I284=\"\",\"\",Ecarts!I284),\"\")","v":""},{"$f":"IF( Ecarts!$E284=$A$1, IF(Ecarts!J284=\"\",\"\",Ecarts!J284),\"\")","v":""},{"$f":"IF( Ecarts!$E284=$A$1, IF(Ecarts!K284=\"\",\"\",Ecarts!K284),\"\")","v":""},{"$f":"IF( Ecarts!$E284=$A$1, IF(Ecarts!L284=\"\",\"\",Ecarts!L284),\"\")","v":""},{"$f":"IF( Ecarts!$E284=$A$1, IF(Ecarts!M284=\"\",\"\",Ecarts!M284),\"\")","v":""},0,0]
[{"$f":"IF( Ecarts!$E285=$A$1,IF( Ecarts!B285=\"\",\"\",Ecarts!A285),\"\")","v":""},{"$f":"IF( Ecarts!$E285=$A$1,IF( Ecarts!C285=\"\",\"\",Ecarts!C285),\"\")","v":""},{"$f":"IF( Ecarts!$E285=$A$1, IF(Ecarts!F285=\"\",\"\",Ecarts!F285),\"\")","v":""},{"$f":"IF( Ecarts!$E285=$A$1, IF(Ecarts!I285=\"\",\"\",Ecarts!I285),\"\")","v":""},{"$f":"IF( Ecarts!$E285=$A$1, IF(Ecarts!J285=\"\",\"\",Ecarts!J285),\"\")","v":""},{"$f":"IF( Ecarts!$E285=$A$1, IF(Ecarts!K285=\"\",\"\",Ecarts!K285),\"\")","v":""},{"$f":"IF( Ecarts!$E285=$A$1, IF(Ecarts!L285=\"\",\"\",Ecarts!L285),\"\")","v":""},{"$f":"IF( Ecarts!$E285=$A$1, IF(Ecarts!M285=\"\",\"\",Ecarts!M285),\"\")","v":""},0,0]
[{"$f":"IF( Ecarts!$E286=$A$1,IF( Ecarts!B286=\"\",\"\",Ecarts!A286),\"\")","v":""},{"$f":"IF( Ecarts!$E286=$A$1,IF( Ecarts!C286=\"\",\"\",Ecarts!C286),\"\")","v":""},{"$f":"IF( Ecarts!$E286=$A$1, IF(Ecarts!F286=\"\",\"\",Ecarts!F286),\"\")","v":""},{"$f":"IF( Ecarts!$E286=$A$1, IF(Ecarts!I286=\"\",\"\",Ecarts!I286),\"\")","v":""},{"$f":"IF( Ecarts!$E286=$A$1, IF(Ecarts!J286=\"\",\"\",Ecarts!J286),\"\")","v":""},{"$f":"IF( Ecarts!$E286=$A$1, IF(Ecarts!K286=\"\",\"\",Ecarts!K286),\"\")","v":""},{"$f":"IF( Ecarts!$E286=$A$1, IF(Ecarts!L286=\"\",\"\",Ecarts!L286),\"\")","v":""},{"$f":"IF( Ecarts!$E286=$A$1, IF(Ecarts!M286=\"\",\"\",Ecarts!M286),\"\")","v":""},0,0]
[{"$f":"IF( Ecarts!$E287=$A$1,IF( Ecarts!B287=\"\",\"\",Ecarts!A287),\"\")","v":""},{"$f":"IF( Ecarts!$E287=$A$1,IF( Ecarts!C287=\"\",\"\",Ecarts!C287),\"\")","v":""},{"$f":"IF( Ecarts!$E287=$A$1, IF(Ecarts!F287=\"\",\"\",Ecarts!F287),\"\")","v":""},{"$f":"IF( Ecarts!$E287=$A$1, IF(Ecarts!I287=\"\",\"\",Ecarts!I287),\"\")","v":""},{"$f":"IF( Ecarts!$E287=$A$1, IF(Ecarts!J287=\"\",\"\",Ecarts!J287),\"\")","v":""},{"$f":"IF( Ecarts!$E287=$A$1, IF(Ecarts!K287=\"\",\"\",Ecarts!K287),\"\")","v":""},{"$f":"IF( Ecarts!$E287=$A$1, IF(Ecarts!L287=\"\",\"\",Ecarts!L287),\"\")","v":""},{"$f":"IF( Ecarts!$E287=$A$1, IF(Ecarts!M287=\"\",\"\",Ecarts!M287),\"\")","v":""},0,0]
[{"$f":"IF( Ecarts!$E288=$A$1,IF( Ecarts!B288=\"\",\"\",Ecarts!A288),\"\")","v":""},{"$f":"IF( Ecarts!$E288=$A$1,IF( Ecarts!C288=\"\",\"\",Ecarts!C288),\"\")","v":""},{"$f":"IF( Ecarts!$E288=$A$1, IF(Ecarts!F288=\"\",\"\",Ecarts!F288),\"\")","v":""},{"$f":"IF( Ecarts!$E288=$A$1, IF(Ecarts!I288=\"\",\"\",Ecarts!I288),\"\")","v":""},{"$f":"IF( Ecarts!$E288=$A$1, IF(Ecarts!J288=\"\",\"\",Ecarts!J288),\"\")","v":""},{"$f":"IF( Ecarts!$E288=$A$1, IF(Ecarts!K288=\"\",\"\",Ecarts!K288),\"\")","v":""},{"$f":"IF( Ecarts!$E288=$A$1, IF(Ecarts!L288=\"\",\"\",Ecarts!L288),\"\")","v":""},{"$f":"IF( Ecarts!$E288=$A$1, IF(Ecarts!M288=\"\",\"\",Ecarts!M288),\"\")","v":""},0,0]
[{"$f":"IF( Ecarts!$E289=$A$1,IF( Ecarts!B289=\"\",\"\",Ecarts!A289),\"\")","v":""},{"$f":"IF( Ecarts!$E289=$A$1,IF( Ecarts!C289=\"\",\"\",Ecarts!C289),\"\")","v":""},{"$f":"IF( Ecarts!$E289=$A$1, IF(Ecarts!F289=\"\",\"\",Ecarts!F289),\"\")","v":""},{"$f":"IF( Ecarts!$E289=$A$1, IF(Ecarts!I289=\"\",\"\",Ecarts!I289),\"\")","v":""},{"$f":"IF( Ecarts!$E289=$A$1, IF(Ecarts!J289=\"\",\"\",Ecarts!J289),\"\")","v":""},{"$f":"IF( Ecarts!$E289=$A$1, IF(Ecarts!K289=\"\",\"\",Ecarts!K289),\"\")","v":""},{"$f":"IF( Ecarts!$E289=$A$1, IF(Ecarts!L289=\"\",\"\",Ecarts!L289),\"\")","v":""},{"$f":"IF( Ecarts!$E289=$A$1, IF(Ecarts!M289=\"\",\"\",Ecarts!M289),\"\")","v":""},0,0]
[{"$f":"IF( Ecarts!$E290=$A$1,IF( Ecarts!B290=\"\",\"\",Ecarts!A290),\"\")","v":""},{"$f":"IF( Ecarts!$E290=$A$1,IF( Ecarts!C290=\"\",\"\",Ecarts!C290),\"\")","v":""},{"$f":"IF( Ecarts!$E290=$A$1, IF(Ecarts!F290=\"\",\"\",Ecarts!F290),\"\")","v":""},{"$f":"IF( Ecarts!$E290=$A$1, IF(Ecarts!I290=\"\",\"\",Ecarts!I290),\"\")","v":""},{"$f":"IF( Ecarts!$E290=$A$1, IF(Ecarts!J290=\"\",\"\",Ecarts!J290),\"\")","v":""},{"$f":"IF( Ecarts!$E290=$A$1, IF(Ecarts!K290=\"\",\"\",Ecarts!K290),\"\")","v":""},{"$f":"IF( Ecarts!$E290=$A$1, IF(Ecarts!L290=\"\",\"\",Ecarts!L290),\"\")","v":""},{"$f":"IF( Ecarts!$E290=$A$1, IF(Ecarts!M290=\"\",\"\",Ecarts!M290),\"\")","v":""},0,0]
[{"$f":"IF( Ecarts!$E291=$A$1,IF( Ecarts!B291=\"\",\"\",Ecarts!A291),\"\")","v":""},{"$f":"IF( Ecarts!$E291=$A$1,IF( Ecarts!C291=\"\",\"\",Ecarts!C291),\"\")","v":""},{"$f":"IF( Ecarts!$E291=$A$1, IF(Ecarts!F291=\"\",\"\",Ecarts!F291),\"\")","v":""},{"$f":"IF( Ecarts!$E291=$A$1, IF(Ecarts!I291=\"\",\"\",Ecarts!I291),\"\")","v":""},{"$f":"IF( Ecarts!$E291=$A$1, IF(Ecarts!J291=\"\",\"\",Ecarts!J291),\"\")","v":""},{"$f":"IF( Ecarts!$E291=$A$1, IF(Ecarts!K291=\"\",\"\",Ecarts!K291),\"\")","v":""},{"$f":"IF( Ecarts!$E291=$A$1, IF(Ecarts!L291=\"\",\"\",Ecarts!L291),\"\")","v":""},{"$f":"IF( Ecarts!$E291=$A$1, IF(Ecarts!M291=\"\",\"\",Ecarts!M291),\"\")","v":""},0,0]
[{"$f":"IF( Ecarts!$E292=$A$1,IF( Ecarts!B292=\"\",\"\",Ecarts!A292),\"\")","v":""},{"$f":"IF( Ecarts!$E292=$A$1,IF( Ecarts!C292=\"\",\"\",Ecarts!C292),\"\")","v":""},{"$f":"IF( Ecarts!$E292=$A$1, IF(Ecarts!F292=\"\",\"\",Ecarts!F292),\"\")","v":""},{"$f":"IF( Ecarts!$E292=$A$1, IF(Ecarts!I292=\"\",\"\",Ecarts!I292),\"\")","v":""},{"$f":"IF( Ecarts!$E292=$A$1, IF(Ecarts!J292=\"\",\"\",Ecarts!J292),\"\")","v":""},{"$f":"IF( Ecarts!$E292=$A$1, IF(Ecarts!K292=\"\",\"\",Ecarts!K292),\"\")","v":""},{"$f":"IF( Ecarts!$E292=$A$1, IF(Ecarts!L292=\"\",\"\",Ecarts!L292),\"\")","v":""},{"$f":"IF( Ecarts!$E292=$A$1, IF(Ecarts!M292=\"\",\"\",Ecarts!M292),\"\")","v":""},0,0]
[{"$f":"IF( Ecarts!$E293=$A$1,IF( Ecarts!B293=\"\",\"\",Ecarts!A293),\"\")","v":""},{"$f":"IF( Ecarts!$E293=$A$1,IF( Ecarts!C293=\"\",\"\",Ecarts!C293),\"\")","v":""},{"$f":"IF( Ecarts!$E293=$A$1, IF(Ecarts!F293=\"\",\"\",Ecarts!F293),\"\")","v":""},{"$f":"IF( Ecarts!$E293=$A$1, IF(Ecarts!I293=\"\",\"\",Ecarts!I293),\"\")","v":""},{"$f":"IF( Ecarts!$E293=$A$1, IF(Ecarts!J293=\"\",\"\",Ecarts!J293),\"\")","v":""},{"$f":"IF( Ecarts!$E293=$A$1, IF(Ecarts!K293=\"\",\"\",Ecarts!K293),\"\")","v":""},{"$f":"IF( Ecarts!$E293=$A$1, IF(Ecarts!L293=\"\",\"\",Ecarts!L293),\"\")","v":""},{"$f":"IF( Ecarts!$E293=$A$1, IF(Ecarts!M293=\"\",\"\",Ecarts!M293),\"\")","v":""},0,0]
[{"$f":"IF( Ecarts!$E294=$A$1,IF( Ecarts!B294=\"\",\"\",Ecarts!A294),\"\")","v":""},{"$f":"IF( Ecarts!$E294=$A$1,IF( Ecarts!C294=\"\",\"\",Ecarts!C294),\"\")","v":""},{"$f":"IF( Ecarts!$E294=$A$1, IF(Ecarts!F294=\"\",\"\",Ecarts!F294),\"\")","v":""},{"$f":"IF( Ecarts!$E294=$A$1, IF(Ecarts!I294=\"\",\"\",Ecarts!I294),\"\")","v":""},{"$f":"IF( Ecarts!$E294=$A$1, IF(Ecarts!J294=\"\",\"\",Ecarts!J294),\"\")","v":""},{"$f":"IF( Ecarts!$E294=$A$1, IF(Ecarts!K294=\"\",\"\",Ecarts!K294),\"\")","v":""},{"$f":"IF( Ecarts!$E294=$A$1, IF(Ecarts!L294=\"\",\"\",Ecarts!L294),\"\")","v":""},{"$f":"IF( Ecarts!$E294=$A$1, IF(Ecarts!M294=\"\",\"\",Ecarts!M294),\"\")","v":""},0,0]
[{"$f":"IF( Ecarts!$E295=$A$1,IF( Ecarts!B295=\"\",\"\",Ecarts!A295),\"\")","v":""},{"$f":"IF( Ecarts!$E295=$A$1,IF( Ecarts!C295=\"\",\"\",Ecarts!C295),\"\")","v":""},{"$f":"IF( Ecarts!$E295=$A$1, IF(Ecarts!F295=\"\",\"\",Ecarts!F295),\"\")","v":""},{"$f":"IF( Ecarts!$E295=$A$1, IF(Ecarts!I295=\"\",\"\",Ecarts!I295),\"\")","v":""},{"$f":"IF( Ecarts!$E295=$A$1, IF(Ecarts!J295=\"\",\"\",Ecarts!J295),\"\")","v":""},{"$f":"IF( Ecarts!$E295=$A$1, IF(Ecarts!K295=\"\",\"\",Ecarts!K295),\"\")","v":""},{"$f":"IF( Ecarts!$E295=$A$1, IF(Ecarts!L295=\"\",\"\",Ecarts!L295),\"\")","v":""},{"$f":"IF( Ecarts!$E295=$A$1, IF(Ecarts!M295=\"\",\"\",Ecarts!M295),\"\")","v":""},0,0]
[{"$f":"IF( Ecarts!$E296=$A$1,IF( Ecarts!B296=\"\",\"\",Ecarts!A296),\"\")","v":""},{"$f":"IF( Ecarts!$E296=$A$1,IF( Ecarts!C296=\"\",\"\",Ecarts!C296),\"\")","v":""},{"$f":"IF( Ecarts!$E296=$A$1, IF(Ecarts!F296=\"\",\"\",Ecarts!F296),\"\")","v":""},{"$f":"IF( Ecarts!$E296=$A$1, IF(Ecarts!I296=\"\",\"\",Ecarts!I296),\"\")","v":""},{"$f":"IF( Ecarts!$E296=$A$1, IF(Ecarts!J296=\"\",\"\",Ecarts!J296),\"\")","v":""},{"$f":"IF( Ecarts!$E296=$A$1, IF(Ecarts!K296=\"\",\"\",Ecarts!K296),\"\")","v":""},{"$f":"IF( Ecarts!$E296=$A$1, IF(Ecarts!L296=\"\",\"\",Ecarts!L296),\"\")","v":""},{"$f":"IF( Ecarts!$E296=$A$1, IF(Ecarts!M296=\"\",\"\",Ecarts!M296),\"\")","v":""},0,0]
[{"$f":"IF( Ecarts!$E297=$A$1,IF( Ecarts!B297=\"\",\"\",Ecarts!A297),\"\")","v":""},{"$f":"IF( Ecarts!$E297=$A$1,IF( Ecarts!C297=\"\",\"\",Ecarts!C297),\"\")","v":""},{"$f":"IF( Ecarts!$E297=$A$1, IF(Ecarts!F297=\"\",\"\",Ecarts!F297),\"\")","v":""},{"$f":"IF( Ecarts!$E297=$A$1, IF(Ecarts!I297=\"\",\"\",Ecarts!I297),\"\")","v":""},{"$f":"IF( Ecarts!$E297=$A$1, IF(Ecarts!J297=\"\",\"\",Ecarts!J297),\"\")","v":""},{"$f":"IF( Ecarts!$E297=$A$1, IF(Ecarts!K297=\"\",\"\",Ecarts!K297),\"\")","v":""},{"$f":"IF( Ecarts!$E297=$A$1, IF(Ecarts!L297=\"\",\"\",Ecarts!L297),\"\")","v":""},{"$f":"IF( Ecarts!$E297=$A$1, IF(Ecarts!M297=\"\",\"\",Ecarts!M297),\"\")","v":""},0,0]
[{"$f":"IF( Ecarts!$E298=$A$1,IF( Ecarts!B298=\"\",\"\",Ecarts!A298),\"\")","v":""},{"$f":"IF( Ecarts!$E298=$A$1,IF( Ecarts!C298=\"\",\"\",Ecarts!C298),\"\")","v":""},{"$f":"IF( Ecarts!$E298=$A$1, IF(Ecarts!F298=\"\",\"\",Ecarts!F298),\"\")","v":""},{"$f":"IF( Ecarts!$E298=$A$1, IF(Ecarts!I298=\"\",\"\",Ecarts!I298),\"\")","v":""},{"$f":"IF( Ecarts!$E298=$A$1, IF(Ecarts!J298=\"\",\"\",Ecarts!J298),\"\")","v":""},{"$f":"IF( Ecarts!$E298=$A$1, IF(Ecarts!K298=\"\",\"\",Ecarts!K298),\"\")","v":""},{"$f":"IF( Ecarts!$E298=$A$1, IF(Ecarts!L298=\"\",\"\",Ecarts!L298),\"\")","v":""},{"$f":"IF( Ecarts!$E298=$A$1, IF(Ecarts!M298=\"\",\"\",Ecarts!M298),\"\")","v":""},0,0]
[{"$f":"IF( Ecarts!$E299=$A$1,IF( Ecarts!B299=\"\",\"\",Ecarts!A299),\"\")","v":""},{"$f":"IF( Ecarts!$E299=$A$1,IF( Ecarts!C299=\"\",\"\",Ecarts!C299),\"\")","v":""},{"$f":"IF( Ecarts!$E299=$A$1, IF(Ecarts!F299=\"\",\"\",Ecarts!F299),\"\")","v":""},{"$f":"IF( Ecarts!$E299=$A$1, IF(Ecarts!I299=\"\",\"\",Ecarts!I299),\"\")","v":""},{"$f":"IF( Ecarts!$E299=$A$1, IF(Ecarts!J299=\"\",\"\",Ecarts!J299),\"\")","v":""},{"$f":"IF( Ecarts!$E299=$A$1, IF(Ecarts!K299=\"\",\"\",Ecarts!K299),\"\")","v":""},{"$f":"IF( Ecarts!$E299=$A$1, IF(Ecarts!L299=\"\",\"\",Ecarts!L299),\"\")","v":""},{"$f":"IF( Ecarts!$E299=$A$1, IF(Ecarts!M299=\"\",\"\",Ecarts!M299),\"\")","v":""},0,0]
[{"$f":"IF( Ecarts!$E300=$A$1,IF( Ecarts!B300=\"\",\"\",Ecarts!A300),\"\")","v":""},{"$f":"IF( Ecarts!$E300=$A$1,IF( Ecarts!C300=\"\",\"\",Ecarts!C300),\"\")","v":""},{"$f":"IF( Ecarts!$E300=$A$1, IF(Ecarts!F300=\"\",\"\",Ecarts!F300),\"\")","v":""},{"$f":"IF( Ecarts!$E300=$A$1, IF(Ecarts!I300=\"\",\"\",Ecarts!I300),\"\")","v":""},{"$f":"IF( Ecarts!$E300=$A$1, IF(Ecarts!J300=\"\",\"\",Ecarts!J300),\"\")","v":""},{"$f":"IF( Ecarts!$E300=$A$1, IF(Ecarts!K300=\"\",\"\",Ecarts!K300),\"\")","v":""},{"$f":"IF( Ecarts!$E300=$A$1, IF(Ecarts!L300=\"\",\"\",Ecarts!L300),\"\")","v":""},{"$f":"IF( Ecarts!$E300=$A$1, IF(Ecarts!M300=\"\",\"\",Ecarts!M300),\"\")","v":""},0,0]
[{"$f":"IF( Ecarts!$E301=$A$1,IF( Ecarts!B301=\"\",\"\",Ecarts!A301),\"\")","v":""},{"$f":"IF( Ecarts!$E301=$A$1,IF( Ecarts!C301=\"\",\"\",Ecarts!C301),\"\")","v":""},{"$f":"IF( Ecarts!$E301=$A$1, IF(Ecarts!F301=\"\",\"\",Ecarts!F301),\"\")","v":""},{"$f":"IF( Ecarts!$E301=$A$1, IF(Ecarts!I301=\"\",\"\",Ecarts!I301),\"\")","v":""},{"$f":"IF( Ecarts!$E301=$A$1, IF(Ecarts!J301=\"\",\"\",Ecarts!J301),\"\")","v":""},{"$f":"IF( Ecarts!$E301=$A$1, IF(Ecarts!K301=\"\",\"\",Ecarts!K301),\"\")","v":""},{"$f":"IF( Ecarts!$E301=$A$1, IF(Ecarts!L301=\"\",\"\",Ecarts!L301),\"\")","v":""},{"$f":"IF( Ecarts!$E301=$A$1, IF(Ecarts!M301=\"\",\"\",Ecarts!M301),\"\")","v":""},0,0]
[{"$f":"IF( Ecarts!$E360=$A$1,IF( Ecarts!B360=\"\",\"\",Ecarts!A360),\"\")","v":""},{"$f":"IF( Ecarts!$E360=$A$1,IF( Ecarts!C360=\"\",\"\",Ecarts!C360),\"\")","v":""},{"$f":"IF( Ecarts!$E360=$A$1, IF(Ecarts!F360=\"\",\"\",Ecarts!F360),\"\")","v":""},{"$f":"IF( Ecarts!$E360=$A$1, IF(Ecarts!I360=\"\",\"\",Ecarts!I360),\"\")","v":""},{"$f":"IF( Ecarts!$E360=$A$1, IF(Ecarts!J360=\"\",\"\",Ecarts!J360),\"\")","v":""},{"$f":"IF( Ecarts!$E302=$A$1, IF(Ecarts!K302=\"\",\"\",Ecarts!K302),\"\")","v":""},{"$f":"IF( Ecarts!$E302=$A$1, IF(Ecarts!L302=\"\",\"\",Ecarts!L302),\"\")","v":""},{"$f":"IF( Ecarts!$E302=$A$1, IF(Ecarts!M302=\"\",\"\",Ecarts!M302),\"\")","v":""},0,0]

{"sheet":"Monia","index":3,"n_rows":303,"n_cols":10,"rows_kept":303,"cut":false,"hidden":true,"merged":[[0,0,1,1]]}
[{"$f":"MID(CELL(\"nomfichier\",J1),FIND(\"]\",CELL(\"nomfichier\",J1),20)+1,32)","v":"Monia"},null,null,{"$f":"IF(SUM(I$1:I$64839)=0,\"Aucune action ouverte\",IF(SUM(I$1:I$64839)>1,CONCATENATE(SUM(I$1:I$64839),\" actions ouvertes\"),\"Une action ouverte\"))","v":"Aucune action ouverte"}]
[null,null,41,{"$f":"IF(SUM(J$1:J$64839)=0,\"Aucune action clôturée en 2 mois\",IF(SUM(J$1:J$64839)>1,CONCATENATE(SUM(J$1:J$64839),\" actions réglées en 2 mois\"),\"Une action réglée en 2 mois\"))","v":"Aucune action clôturée en 2 mois"}]
["N°","Libellé","Date enregistrement","Actions","Date objectif","Date clôture","Efficacité","Commentaires"]
[{"$f":"IF( Ecarts!$E3=$A$1,IF( Ecarts!B3=\"\",\"\",Ecarts!A3),\"\")","v":""},{"$f":"IF( Ecarts!$E3=$A$1,IF( Ecarts!C3=\"\",\"\",Ecarts!C3),\"\")","v":""},{"$f":"IF( Ecarts!$E3=$A$1, IF(Ecarts!F3=\"\",\"\",Ecarts!F3),\"\")","v":""},{"$f":"IF( Ecarts!$E3=$A$1, IF(Ecarts!I3=\"\",\"\",Ecarts!I3),\"\")","v":""},{"$f":"IF( Ecarts!$E3=$A$1, IF(Ecarts!J3=\"\",\"\",Ecarts!J3),\"\")","v":""},{"$f":"IF( Ecarts!$E3=$A$1, IF(Ecarts!K3=\"\",\"\",Ecarts!K3),\"\")","v":""},{"$f":"IF( Ecarts!$E3=$A$1, IF(Ecarts!L3=\"\",\"\",Ecarts!L3),\"\")","v":""},{"$f":"IF( Ecarts!$E3=$A$1, IF(Ecarts!M3=\"\",\"\",Ecarts!M3),\"\")","v":""},{"$f":"IF(B4=\"\",0,IF(G4=1,0,1))","v":0},{"$f":"IF(F4=\"\",0,IF(F4>(TODAY()-60),1,0))","v":0}]
[{"$f":"IF( Ecarts!$E4=$A$1,IF( Ecarts!B4=\"\",\"\",Ecarts!A4),\"\")","v":""},{"$f":"IF( Ecarts!$E4=$A$1,IF( Ecarts!C4=\"\",\"\",Ecarts!C4),\"\")","v":""},{"$f":"IF( Ecarts!$E4=$A$1, IF(Ecarts!F4=\"\",\"\",Ecarts!F4),\"\")","v":""},{"$f":"IF( Ecarts!$E4=$A$1, IF(Ecarts!I4=\"\",\"\",Ecarts!I4),\"\")","v":""},{"$f":"IF( Ecarts!$E4=$A$1, IF(Ecarts!J4=\"\",\"\",Ecarts!J4),\"\")","v":""},{"$f":"IF( Ecarts!$E4=$A$1, IF(Ecarts!K4=\"\",\"\",Ecarts!K4),\"\")","v":""},{"$f":"IF( Ecarts!$E4=$A$1, IF(Ecarts!L4=\"\",\"\",Ecarts!L4),\"\")","v":""},{"$f":"IF( Ecarts!$E4=$A$1, IF(Ecarts!M4=\"\",\"\",Ecarts!M4),\"\")","v":""},{"$f":"IF(B5=\"\",0,IF(G5=1,0,1))","v":0},{"$f":"IF(F5=\"\",0,IF(F5>(TODAY()-60),1,0))","v":0}]
[{"$f":"IF( Ecarts!$E5=$A$1,IF( Ecarts!B5=\"\",\"\",Ecarts!A5),\"\")","v":""},{"$f":"IF( Ecarts!$E5=$A$1,IF( Ecarts!C5=\"\",\"\",Ecarts!C5),\"\")","v":""},{"$f":"IF( Ecarts!$E5=$A$1, IF(Ecarts!F5=\"\",\"\",Ecarts!F5),\"\")","v":""},{"$f":"IF( Ecarts!$E5=$A$1, IF(Ecarts!I5=\"\",\"\",Ecarts!I5),\"\")","v":""},{"$f":"IF( Ecarts!$E5=$A$1, IF(Ecarts!J5=\"\",\"\",Ecarts!J5),\"\")","v":""},{"$f":"IF( Ecarts!$E5=$A$1, IF(Ecarts!K5=\"\",\"\",Ecarts!K5),\"\")","v":""},{"$f":"IF( Ecarts!$E5=$A$1, IF(Ecarts!L5=\"\",\"\",Ecarts!L5),\"\")","v":""},{"$f":"IF( Ecarts!$E5=$A$1, IF(Ecarts!M5=\"\",\"\",Ecarts!M5),\"\")","v":""},0,0]
[{"$f":"IF( Ecarts!$E6=$A$1,IF( Ecarts!B6=\"\",\"\",Ecarts!A6),\"\")","v":""},{"$f":"IF( Ecarts!$E6=$A$1,IF( Ecarts!C6=\"\",\"\",Ecarts!C6),\"\")","v":""},{"$f":"IF( Ecarts!$E6=$A$1, IF(Ecarts!F6=\"\",\"\",Ecarts!F6),\"\")","v":""},{"$f":"IF( Ecarts!$E6=$A$1, IF(Ecarts!I6=\"\",\"\",Ecarts!I6),\"\")","v":""},{"$f":"IF( Ecarts!$E6=$A$1, IF(Ecarts!J6=\"\",\"\",Ecarts!J6),\"\")","v":""},{"$f":"IF( Ecarts!$E6=$A$1, IF(Ecarts!K6=\"\",\"\",Ecarts!K6),\"\")","v":""},{"$f":"IF( Ecarts!$E6=$A$1, IF(Ecarts!L6=\"\",\"\",Ecarts!L6),\"\")","v":""},{"$f":"IF( Ecarts!$E6=$A$1, IF(Ecarts!M6=\"\",\"\",Ecarts!M6),\"\")","v":""},0,0]
[{"$f":"IF( Ecarts!$E7=$A$1,IF( Ecarts!B7=\"\",\"\",Ecarts!A7),\"\")","v":""},{"$f":"IF( Ecarts!$E7=$A$1,IF( Ecarts!C7=\"\",\"\",Ecarts!C7),\"\")","v":""},{"$f":"IF( Ecarts!$E7=$A$1, IF(Ecarts!F7=\"\",\"\",Ecarts!F7),\"\")","v":""},{"$f":"IF( Ecarts!$E7=$A$1, IF(Ecarts!I7=\"\",\"\",Ecarts!I7),\"\")","v":""},{"$f":"IF( Ecarts!$E7=$A$1, IF(Ecarts!J7=\"\",\"\",Ecarts!J7),\"\")","v":""},{"$f":"IF( Ecarts!$E7=$A$1, IF(Ecarts!K7=\"\",\"\",Ecarts!K7),\"\")","v":""},{"$f":"IF( Ecarts!$E7=$A$1, IF(Ecarts!L7=\"\",\"\",Ecarts!L7),\"\")","v":""},{"$f":"IF( Ecarts!$E7=$A$1, IF(Ecarts!M7=\"\",\"\",Ecarts!M7),\"\")","v":""},0,0]
[{"$f":"IF( Ecarts!$E8=$A$1,IF( Ecarts!B8=\"\",\"\",Ecarts!A8),\"\")","v":""},{"$f":"IF( Ecarts!$E8=$A$1,IF( Ecarts!C8=\"\",\"\",Ecarts!C8),\"\")","v":""},{"$f":"IF( Ecarts!$E8=$A$1, IF(Ecarts!F8=\"\",\"\",Ecarts!F8),\"\")","v":""},{"$f":"IF( Ecarts!$E8=$A$1, IF(Ecarts!I8=\"\",\"\",Ecarts!I8),\"\")","v":""},{"$f":"IF( Ecarts!$E8=$A$1, IF(Ecarts!J8=\"\",\"\",Ecarts!J8),\"\")","v":""},{"$f":"IF( Ecarts!$E8=$A$1, IF(Ecarts!K8=\"\",\"\",Ecarts!K8),\"\")","v":""},{"$f":"IF( Ecarts!$E8=$A$1, IF(Ecarts!L8=\"\",\"\",Ecarts!L8),\"\")","v":""},{"$f":"IF( Ecarts!$E8=$A$1, IF(Ecarts!M8=\"\",\"\",Ecarts!M8),\"\")","v":""},0,0]
[{"$f":"IF( Ecarts!$E9=$A$1,IF( Ecarts!B9=\"\",\"\",Ecarts!A9),\"\")","v":""},{"$f":"IF( Ecarts!$E9=$A$1,IF( Ecarts!C9=\"\",\"\",Ecarts!C9),\"\")","v":""},{"$f":"IF( Ecarts!$E9=$A$1, IF(Ecarts!F9=\"\",\"\",Ecarts!F9),\"\")","v":""},{"$f":"IF( Ecarts!$E9=$A$1, IF(Ecarts!I9=\"\",\"\",Ecarts!I9),\"\")","v":""},{"$f":"IF( Ecarts!$E9=$A$1, IF(Ecarts!J9=\"\",\"\",Ecarts!J9),\"\")","v":""},{"$f":"IF( Ecarts!$E9=$A$1, IF(Ecarts!K9=\"\",\"\",Ecarts!K9),\"\")","v":""},{"$f":"IF( Ecarts!$E9=$A$1, IF(Ecarts!L9=\"\",\"\",Ecarts!L9),\"\")","v":""},{"$f":"IF( Ecarts!$E9=$A$1, IF(Ecarts!M9=\"\",\"\",Ecarts!M9),\"\")","v":""},0,0]
[{"$f":"IF( Ecarts!$E10=$A$1,IF( Ecarts!B10=\"\",\"\",Ecarts!A10),\"\")","v":""},{"$f":"IF( Ecarts!$E10=$A$1,IF( Ecarts!C10=\"\",\"\",Ecarts!C10),\"\")","v":""},{"$f":"IF( Ecarts!$E10=$A$1, IF(Ecarts!F10=\"\",\"\",Ecarts!F10),\"\")","v":""},{"$f":"IF( Ecarts!$E10=$A$1, IF(Ecarts!I10=\"\",\"\",Ecarts!I10),\"\")","v":""},{"$f":"IF( Ecarts!$E10=$A$1, IF(Ecarts!J10=\"\",\"\",Ecarts!J10),\"\")","v":""},{"$f":"IF( Ecarts!$E10=$A$1, IF(Ecarts!K10=\"\",\"\",Ecarts!K10),\"\")","v":""},{"$f":"IF( Ecarts!$E10=$A$1, IF(Ecarts!L10=\"\",\"\",Ecarts!L10),\"\")","v":""},{"$f":"IF( Ecarts!$E10=$A$1, IF(Ecarts!M10=\"\",\"\",Ecarts!M10),\"\")","v":""},0,0]
[{"$f":"IF( Ecarts!$E11=$A$1,IF( Ecarts!B11=\"\",\"\",Ecarts!A11),\"\")","v":""},{"$f":"IF( Ecarts!$E11=$A$1,IF( Ecarts!C11=\"\",\"\",Ecarts!C11),\"\")","v":""},{"$f":"IF( Ecarts!$E11=$A$1, IF(Ecarts!F11=\"\",\"\",Ecarts!F11),\"\")","v":""},{"$f":"IF( Ecarts!$E11=$A$1, IF(Ecarts!I11=\"\",\"\",Ecarts!I11),\"\")","v":""},{"$f":"IF( Ecarts!$E11=$A$1, IF(Ecarts!J11=\"\",\"\",Ecarts!J11),\"\")","v":""},{"$f":"IF( Ecarts!$E11=$A$1, IF(Ecarts!K11=\"\",\"\",Ecarts!K11),\"\")","v":""},{"$f":"IF( Ecarts!$E11=$A$1, IF(Ecarts!L11=\"\",\"\",Ecarts!L11),\"\")","v":""},{"$f":"IF( Ecarts!$E11=$A$1, IF(Ecarts!M11=\"\",\"\",Ecarts!M11),\"\")","v":""},0,0]
[{"$f":"IF( Ecarts!$E12=$A$1,IF( Ecarts!B12=\"\",\"\",Ecarts!A12),\"\")","v":""},{"$f":"IF( Ecarts!$E12=$A$1,IF( Ecarts!C12=\"\",\"\",Ecarts!C12),\"\")","v":""},{"$f":"IF( Ecarts!$E12=$A$1, IF(Ecarts!F12=\"\",\"\",Ecarts!F12),\"\")","v":""},{"$f":"IF( Ecarts!$E12=$A$1, IF(Ecarts!I12=\"\",\"\",Ecarts!I12),\"\")","v":""},{"$f":"IF( Ecarts!$E12=$A$1, IF(Ecarts!J12=\"\",\"\",Ecarts!J12),\"\")","v":""},{"$f":"IF( Ecarts!$E12=$A$1, IF(Ecarts!K12=\"\",\"\",Ecarts!K12),\"\")","v":""},{"$f":"IF( Ecarts!$E12=$A$1, IF(Ecarts!L12=\"\",\"\",Ecarts!L12),\"\")","v":""},{"$f":"IF( Ecarts!$E12=$A$1, IF(Ecarts!M12=\"\",\"\",Ecarts!M12),\"\")","v":""},0,0]
[{"$f":"IF( Ecarts!$E13=$A$1,IF( Ecarts!B13=\"\",\"\",Ecarts!A13),\"\")","v":""},{"$f":"IF( Ecarts!$E13=$A$1,IF( Ecarts!C13=\"\",\"\",Ecarts!C13),\"\")","v":""},{"$f":"IF( Ecarts!$E13=$A$1, IF(Ecarts!F13=\"\",\"\",Ecarts!F13),\"\")","v":""},{"$f":"IF( Ecarts!$E13=$A$1, IF(Ecarts!I13=\"\",\"\",Ecarts!I13),\"\")","v":""},{"$f":"IF( Ecarts!$E13=$A$1, IF(Ecarts!J13=\"\",\"\",Ecarts!J13),\"\")","v":""},{"$f":"IF( Ecarts!$E13=$A$1, IF(Ecarts!K13=\"\",\"\",Ecarts!K13),\"\")","v":""},{"$f":"IF( Ecarts!$E13=$A$1, IF(Ecarts!L13=\"\",\"\",Ecarts!L13),\"\")","v":""},{"$f":"IF( Ecarts!$E13=$A$1, IF(Ecarts!M13=\"\",\"\",Ecarts!M13),\"\")","v":""},0,0]
[{"$f":"IF( Ecarts!$E14=$A$1,IF( Ecarts!B14=\"\",\"\",Ecarts!A14),\"\")","v":""},{"$f":"IF( Ecarts!$E14=$A$1,IF( Ecarts!C14=\"\",\"\",Ecarts!C14),\"\")","v":""},{"$f":"IF( Ecarts!$E14=$A$1, IF(Ecarts!F14=\"\",\"\",Ecarts!F14),\"\")","v":""},{"$f":"IF( Ecarts!$E14=$A$1, IF(Ecarts!I14=\"\",\"\",Ecarts!I14),\"\")","v":""},{"$f":"IF( Ecarts!$E14=$A$1, IF(Ecarts!J14=\"\",\"\",Ecarts!J14),\"\")","v":""},{"$f":"IF( Ecarts!$E14=$A$1, IF(Ecarts!K14=\"\",\"\",Ecarts!K14),\"\")","v":""},{"$f":"IF( Ecarts!$E14=$A$1, IF(Ecarts!L14=\"\",\"\",Ecarts!L14),\"\")","v":""},{"$f":"IF( Ecarts!$E14=$A$1, IF(Ecarts!M14=\"\",\"\",Ecarts!M14),\"\")","v":""},0,0]
[{"$f":"IF( Ecarts!$E15=$A$1,IF( Ecarts!B15=\"\",\"\",Ecarts!A15),\"\")","v":""},{"$f":"IF( Ecarts!$E15=$A$1,IF( Ecarts!C15=\"\",\"\",Ecarts!C15),\"\")","v":""},{"$f":"IF( Ecarts!$E15=$A$1, IF(Ecarts!F15=\"\",\"\",Ecarts!F15),\"\")","v":""},{"$f":"IF( Ecarts!$E15=$A$1, IF(Ecarts!I15=\"\",\"\",Ecarts!I15),\"\")","v":""},{"$f":"IF( Ecarts!$E15=$A$1, IF(Ecarts!J15=\"\",\"\",Ecarts!J15),\"\")","v":""},{"$f":"IF( Ecarts!$E15=$A$1, IF(Ecarts!K15=\"\",\"\",Ecarts!K15),\"\")","v":""},{"$f":"IF( Ecarts!$E15=$A$1, IF(Ecarts!L15=\"\",\"\",Ecarts!L15),\"\")","v":""},{"$f":"IF( Ecarts!$E15=$A$1, IF(Ecarts!M15=\"\",\"\",Ecarts!M15),\"\")","v":""},0,0]
[{"$f":"IF( Ecarts!$E16=$A$1,IF( Ecarts!B16=\"\",\"\",Ecarts!A16),\"\")","v":""},{"$f":"IF( Ecarts!$E16=$A$1,IF( Ecarts!C16=\"\",\"\",Ecarts!C16),\"\")","v":""},{"$f":"IF( Ecarts!$E16=$A$1, IF(Ecarts!F16=\"\",\"\",Ecarts!F16),\"\")","v":""},{"$f":"IF( Ecarts!$E16=$A$1, IF(Ecarts!I16=\"\",\"\",Ecarts!I16),\"\")","v":""},{"$f":"IF( Ecarts!$E16=$A$1, IF(Ecarts!J16=\"\",\"\",Ecarts!J16),\"\")","v":""},{"$f":"IF( Ecarts!$E16=$A$1, IF(Ecarts!K16=\"\",\"\",Ecarts!K16),\"\")","v":""},{"$f":"IF( Ecarts!$E16=$A$1, IF(Ecarts!L16=\"\",\"\",Ecarts!L16),\"\")","v":""},{"$f":"IF( Ecarts!$E16=$A$1, IF(Ecarts!M16=\"\",\"\",Ecarts!M16),\"\")","v":""},0,0]
[{"$f":"IF( Ecarts!$E17=$A$1,IF( Ecarts!B17=\"\",\"\",Ecarts!A17),\"\")","v":""},{"$f":"IF( Ecarts!$E17=$A$1,IF( Ecarts!C17=\"\",\"\",Ecarts!C17),\"\")","v":""},{"$f":"IF( Ecarts!$E17=$A$1, IF(Ecarts!F17=\"\",\"\",Ecarts!F17),\"\")","v":""},{"$f":"IF( Ecarts!$E17=$A$1, IF(Ecarts!I17=\"\",\"\",Ecarts!I17),\"\")","v":""},{"$f":"IF( Ecarts!$E17=$A$1, IF(Ecarts!J17=\"\",\"\",Ecarts!J17),\"\")","v":""},{"$f":"IF( Ecarts!$E17=$A$1, IF(Ecarts!K17=\"\",\"\",Ecarts!K17),\"\")","v":""},{"$f":"IF( Ecarts!$E17=$A$1, IF(Ecarts!L17=\"\",\"\",Ecarts!L17),\"\")","v":""},{"$f":"IF( Ecarts!$E17=$A$1, IF(Ecarts!M17=\"\",\"\",Ecarts!M17),\"\")","v":""},0,0]
[{"$f":"IF( Ecarts!$E18=$A$1,IF( Ecarts!B18=\"\",\"\",Ecarts!A18),\"\")","v":""},{"$f":"IF( Ecarts!$E18=$A$1,IF( Ecarts!C18=\"\",\"\",Ecarts!C18),\"\")","v":""},{"$f":"IF( Ecarts!$E18=$A$1, IF(Ecarts!F18=\"\",\"\",Ecarts!F18),\"\")","v":""},{"$f":"IF( Ecarts!$E18=$A$1, IF(Ecarts!I18=\"\",\"\",Ecarts!I18),\"\")","v":""},{"$f":"IF( Ecarts!$E18=$A$1, IF(Ecarts!J18=\"\",\"\",Ecarts!J18),\"\")","v":""},{"$f":"IF( Ecarts!$E18=$A$1, IF(Ecarts!K18=\"\",\"\",Ecarts!K18),\"\")","v":""},{"$f":"IF( Ecarts!$E18=$A$1, IF(Ecarts!L18=\"\",\"\",Ecarts!L18),\"\")","v":""},{"$f":"IF( Ecarts!$E18=$A$1, IF(Ecarts!M18=\"\",\"\",Ecarts!M18),\"\")","v":""},0,0]
[{"$f":"IF( Ecarts!$E19=$A$1,IF( Ecarts!B19=\"\",\"\",Ecarts!A19),\"\")","v":""},{"$f":"IF( Ecarts!$E19=$A$1,IF( Ecarts!C19=\"\",\"\",Ecarts!C19),\"\")","v":""},{"$f":"IF( Ecarts!$E19=$A$1, IF(Ecarts!F19=\"\",\"\",Ecarts!F19),\"\")","v":""},{"$f":"IF( Ecarts!$E19=$A$1, IF(Ecarts!I19=\"\",\"\",Ecarts!I19),\"\")","v":""},{"$f":"IF( Ecarts!$E19=$A$1, IF(Ecarts!J19=\"\",\"\",Ecarts!J19),\"\")","v":""},{"$f":"IF( Ecarts!$E19=$A$1, IF(Ecarts!K19=\"\",\"\",Ecarts!K19),\"\")","v":""},{"$f":"IF( Ecarts!$E19=$A$1, IF(Ecarts!L19=\"\",\"\",Ecarts!L19),\"\")","v":""},{"$f":"IF( Ecarts!$E19=$A$1, IF(Ecarts!M19=\"\",\"\",Ecarts!M19),\"\")","v":""},0,0]
[{"$f":"IF( Ecarts!$E20=$A$1,IF( Ecarts!B20=\"\",\"\",Ecarts!A20),\"\")","v":""},{"$f":"IF( Ecarts!$E20=$A$1,IF( Ecarts!C20=\"\",\"\",Ecarts!C20),\"\")","v":""},{"$f":"IF( Ecarts!$E20=$A$1, IF(Ecarts!F20=\"\",\"\",Ecarts!F20),\"\")","v":""},{"$f":"IF( Ecarts!$E20=$A$1, IF(Ecarts!I20=\"\",\"\",Ecarts!I20),\"\")","v":""},{"$f":"IF( Ecarts!$E20=$A$1, IF(Ecarts!J20=\"\",\"\",Ecarts!J20),\"\")","v":""},{"$f":"IF( Ecarts!$E20=$A$1, IF(Ecarts!K20=\"\",\"\",Ecarts!K20),\"\")","v":""},{"$f":"IF( Ecarts!$E20=$A$1, IF(Ecarts!L20=\"\",\"\",Ecarts!L20),\"\")","v":""},{"$f":"IF( Ecarts!$E20=$A$1, IF(Ecarts!M20=\"\",\"\",Ecarts!M20),\"\")","v":""},0,0]
[{"$f":"IF( Ecarts!$E21=$A$1,IF( Ecarts!B21=\"\",\"\",Ecarts!A21),\"\")","v":""},{"$f":"IF( Ecarts!$E21=$A$1,IF( Ecarts!C21=\"\",\"\",Ecarts!C21),\"\")","v":""},{"$f":"IF( Ecarts!$E21=$A$1, IF(Ecarts!F21=\"\",\"\",Ecarts!F21),\"\")","v":""},{"$f":"IF( Ecarts!$E21=$A$1, IF(Ecarts!I21=\"\",\"\",Ecarts!I21),\"\")","v":""},{"$f":"IF( Ecarts!$E21=$A$1, IF(Ecarts!J21=\"\",\"\",Ecarts!J21),\"\")","v":""},{"$f":"IF( Ecarts!$E21=$A$1, IF(Ecarts!K21=\"\",\"\",Ecarts!K21),\"\")","v":""},{"$f":"IF( Ecarts!$E21=$A$1, IF(Ecarts!L21=\"\",\"\",Ecarts!L21),\"\")","v":""},{"$f":"IF( Ecarts!$E21=$A$1, IF(Ecarts!M21=\"\",\"\",Ecarts!M21),\"\")","v":""},0,0]
[{"$f":"IF( Ecarts!$E22=$A$1,IF( Ecarts!B22=\"\",\"\",Ecarts!A22),\"\")","v":""},{"$f":"IF( Ecarts!$E22=$A$1,IF( Ecarts!C22=\"\",\"\",Ecarts!C22),\"\")","v":""},{"$f":"IF( Ecarts!$E22=$A$1, IF(Ecarts!F22=\"\",\"\",Ecarts!F22),\"\")","v":""},{"$f":"IF( Ecarts!$E22=$A$1, IF(Ecarts!I22=\"\",\"\",Ecarts!I22),\"\")","v":""},{"$f":"IF( Ecarts!$E22=$A$1, IF(Ecarts!J22=\"\",\"\",Ecarts!J22),\"\")","v":""},{"$f":"IF( Ecarts!$E22=$A$1, IF(Ecarts!K22=\"\",\"\",Ecarts!K22),\"\")","v":""},{"$f":"IF( Ecarts!$E22=$A$1, IF(Ecarts!L22=\"\",\"\",Ecarts!L22),\"\")","v":""},{"$f":"IF( Ecarts!$E22=$A$1, IF(Ecarts!M22=\"\",\"\",Ecarts!M22),\"\")","v":""},0,0]
[{"$f":"IF( Ecarts!$E23=$A$1,IF( Ecarts!B23=\"\",\"\",Ecarts!A23),\"\")","v":""},{"$f":"IF( Ecarts!$E23=$A$1,IF( Ecarts!C23=\"\",\"\",Ecarts!C23),\"\")","v":""},{"$f":"IF( Ecarts!$E23=$A$1, IF(Ecarts!F23=\"\",\"\",Ecarts!F23),\"\")","v":""},{"$f":"IF( Ecarts!$E23=$A$1, IF(Ecarts!I23=\"\",\"\",Ecarts!I23),\"\")","v":""},{"$f":"IF( Ecarts!$E23=$A$1, IF(Ecarts!J23=\"\",\"\",Ecarts!J23),\"\")","v":""},{"$f":"IF( Ecarts!$E23=$A$1, IF(Ecarts!K23=\"\",\"\",Ecarts!K23),\"\")","v":""},{"$f":"IF( Ecarts!$E23=$A$1, IF(Ecarts!L23=\"\",\"\",Ecarts!L23),\"\")","v":""},{"$f":"IF( Ecarts!$E23=$A$1, IF(Ecarts!M23=\"\",\"\",Ecarts!M23),\"\")","v":""},0,0]
[{"$f":"IF( Ecarts!$E24=$A$1,IF( Ecarts!B24=\"\",\"\",Ecarts!A24),\"\")","v":""},{"$f":"IF( Ecarts!$E24=$A$1,IF( Ecarts!C24=\"\",\"\",Ecarts!C24),\"\")","v":""},{"$f":"IF( Ecarts!$E24=$A$1, IF(Ecarts!F24=\"\",\"\",Ecarts!F24),\"\")","v":""},{"$f":"IF( Ecarts!$E24=$A$1, IF(Ecarts!I24=\"\",\"\",Ecarts!I24),\"\")","v":""},{"$f":"IF( Ecarts!$E24=$A$1, IF(Ecarts!J24=\"\",\"\",Ecarts!J24),\"\")","v":""},{"$f":"IF( Ecarts!$E24=$A$1, IF(Ecarts!K24=\"\",\"\",Ecarts!K24),\"\")","v":""},{"$f":"IF( Ecarts!$E24=$A$1, IF(Ecarts!L24=\"\",\"\",Ecarts!L24),\"\")","v":""},{"$f":"IF( Ecarts!$E24=$A$1, IF(Ecarts!M24=\"\",\"\",Ecarts!M24),\"\")","v":""},0,0]
[{"$f":"IF( Ecarts!$E25=$A$1,IF( Ecarts!B25=\"\",\"\",Ecarts!A25),\"\")","v":""},{"$f":"IF( Ecarts!$E25=$A$1,IF( Ecarts!C25=\"\",\"\",Ecarts!C25),\"\")","v":""},{"$f":"IF( Ecarts!$E25=$A$1, IF(Ecarts!F25=\"\",\"\",Ecarts!F25),\"\")","v":""},{"$f":"IF( Ecarts!$E25=$A$1, IF(Ecarts!I25=\"\",\"\",Ecarts!I25),\"\")","v":""},{"$f":"IF( Ecarts!$E25=$A$1, IF(Ecarts!J25=\"\",\"\",Ecarts!J25),\"\")","v":""},{"$f":"IF( Ecarts!$E25=$A$1, IF(Ecarts!K25=\"\",\"\",Ecarts!K25),\"\")","v":""},{"$f":"IF( Ecarts!$E25=$A$1, IF(Ecarts!L25=\"\",\"\",Ecarts!L25),\"\")","v":""},{"$f":"IF( Ecarts!$E25=$A$1, IF(Ecarts!M25=\"\",\"\",Ecarts!M25),\"\")","v":""},0,0]
[{"$f":"IF( Ecarts!$E26=$A$1,IF( Ecarts!B26=\"\",\"\",Ecarts!A26),\"\")","v":""},{"$f":"IF( Ecarts!$E26=$A$1,IF( Ecarts!C26=\"\",\"\",Ecarts!C26),\"\")","v":""},{"$f":"IF( Ecarts!$E26=$A$1, IF(Ecarts!F26=\"\",\"\",Ecarts!F26),\"\")","v":""},{"$f":"IF( Ecarts!$E26=$A$1, IF(Ecarts!I26=\"\",\"\",Ecarts!I26),\"\")","v":""},{"$f":"IF( Ecarts!$E26=$A$1, IF(Ecarts!J26=\"\",\"\",Ecarts!J26),\"\")","v":""},{"$f":"IF( Ecarts!$E26=$A$1, IF(Ecarts!K26=\"\",\"\",Ecarts!K26),\"\")","v":""},{"$f":"IF( Ecarts!$E26=$A$1, IF(Ecarts!L26=\"\",\"\",Ecarts!L26),\"\")","v":""},{"$f":"IF( Ecarts!$E26=$A$1, IF(Ecarts!M26=\"\",\"\",Ecarts!M26),\"\")","v":""},0,0]
[{"$f":"IF( Ecarts!$E27=$A$1,IF( Ecarts!B27=\"\",\"\",Ecarts!A27),\"\")","v":""},{"$f":"IF( Ecarts!$E27=$A$1,IF( Ecarts!C27=\"\",\"\",Ecarts!C27),\"\")","v":""},{"$f":"IF( Ecarts!$E27=$A$1, IF(Ecarts!F27=\"\",\"\",Ecarts!F27),\"\")","v":""},{"$f":"IF( Ecarts!$E27=$A$1, IF(Ecarts!I27=\"\",\"\",Ecarts!I27),\"\")","v":""},{"$f":"IF( Ecarts!$E27=$A$1, IF(Ecarts!J27=\"\",\"\",Ecarts!J27),\"\")","v":""},{"$f":"IF( Ecarts!$E27=$A$1, IF(Ecarts!K27=\"\",\"\",Ecarts!K27),\"\")","v":""},{"$f":"IF( Ecarts!$E27=$A$1, IF(Ecarts!L27=\"\",\"\",Ecarts!L27),\"\")","v":""},{"$f":"IF( Ecarts!$E27=$A$1, IF(Ecarts!M27=\"\",\"\",Ecarts!M27),\"\")","v":""},0,0]
[{"$f":"IF( Ecarts!$E28=$A$1,IF( Ecarts!B28=\"\",\"\",Ecarts!A28),\"\")","v":""},{"$f":"IF( Ecarts!$E28=$A$1,IF( Ecarts!C28=\"\",\"\",Ecarts!C28),\"\")","v":""},{"$f":"IF( Ecarts!$E28=$A$1, IF(Ecarts!F28=\"\",\"\",Ecarts!F28),\"\")","v":""},{"$f":"IF( Ecarts!$E28=$A$1, IF(Ecarts!I28=\"\",\"\",Ecarts!I28),\"\")","v":""},{"$f":"IF( Ecarts!$E28=$A$1, IF(Ecarts!J28=\"\",\"\",Ecarts!J28),\"\")","v":""},{"$f":"IF( Ecarts!$E28=$A$1, IF(Ecarts!K28=\"\",\"\",Ecarts!K28),\"\")","v":""},{"$f":"IF( Ecarts!$E28=$A$1, IF(Ecarts!L28=\"\",\"\",Ecarts!L28),\"\")","v":""},{"$f":"IF( Ecarts!$E28=$A$1, IF(Ecarts!M28=\"\",\"\",Ecarts!M28),\"\")","v":""},0,0]
[{"$f":"IF( Ecarts!$E29=$A$1,IF( Ecarts!B29=\"\",\"\",Ecarts!A29),\"\")","v":""},{"$f":"IF( Ecarts!$E29=$A$1,IF( Ecarts!C29=\"\",\"\",Ecarts!C29),\"\")","v":""},{"$f":"IF( Ecarts!$E29=$A$1, IF(Ecarts!F29=\"\",\"\",Ecarts!F29),\"\")","v":""},{"$f":"IF( Ecarts!$E29=$A$1, IF(Ecarts!I29=\"\",\"\",Ecarts!I29),\"\")","v":""},{"$f":"IF( Ecarts!$E29=$A$1, IF(Ecarts!J29=\"\",\"\",Ecarts!J29),\"\")","v":""},{"$f":"IF( Ecarts!$E29=$A$1, IF(Ecarts!K29=\"\",\"\",Ecarts!K29),\"\")","v":""},{"$f":"IF( Ecarts!$E29=$A$1, IF(Ecarts!L29=\"\",\"\",Ecarts!L29),\"\")","v":""},{"$f":"IF( Ecarts!$E29=$A$1, IF(Ecarts!M29=\"\",\"\",Ecarts!M29),\"\")","v":""},0,0]
[{"$f":"IF( Ecarts!$E30=$A$1,IF( Ecarts!B30=\"\",\"\",Ecarts!A30),\"\")","v":""},{"$f":"IF( Ecarts!$E30=$A$1,IF( Ecarts!C30=\"\",\"\",Ecarts!C30),\"\")","v":""},{"$f":"IF( Ecarts!$E30=$A$1, IF(Ecarts!F30=\"\",\"\",Ecarts!F30),\"\")","v":""},{"$f":"IF( Ecarts!$E30=$A$1, IF(Ecarts!I30=\"\",\"\",Ecarts!I30),\"\")","v":""},{"$f":"IF( Ecarts!$E30=$A$1, IF(Ecarts!J30=\"\",\"\",Ecarts!J30),\"\")","v":""},{"$f":"IF( Ecarts!$E30=$A$1, IF(Ecarts!K30=\"\",\"\",Ecarts!K30),\"\")","v":""},{"$f":"IF( Ecarts!$E30=$A$1, IF(Ecarts!L30=\"\",\"\",Ecarts!L30),\"\")","v":""},{"$f":"IF( Ecarts!$E30=$A$1, IF(Ecarts!M30=\"\",\"\",Ecarts!M30),\"\")","v":""},0,0]
[{"$f":"IF( Ecarts!$E31=$A$1,IF( Ecarts!B31=\"\",\"\",Ecarts!A31),\"\")","v":""},{"$f":"IF( Ecarts!$E31=$A$1,IF( Ecarts!C31=\"\",\"\",Ecarts!C31),\"\")","v":""},{"$f":"IF( Ecarts!$E31=$A$1, IF(Ecarts!F31=\"\",\"\",Ecarts!F31),\"\")","v":""},{"$f":"IF( Ecarts!$E31=$A$1, IF(Ecarts!I31=\"\",\"\",Ecarts!I31),\"\")","v":""},{"$f":"IF( Ecarts!$E31=$A$1, IF(Ecarts!J31=\"\",\"\",Ecarts!J31),\"\")","v":""},{"$f":"IF( Ecarts!$E31=$A$1, IF(Ecarts!K31=\"\",\"\",Ecarts!K31),\"\")","v":""},{"$f":"IF( Ecarts!$E31=$A$1, IF(Ecarts!L31=\"\",\"\",Ecarts!L31),\"\")","v":""},{"$f":"IF( Ecarts!$E31=$A$1, IF(Ecarts!M31=\"\",\"\",Ecarts!M31),\"\")","v":""},0,0]
[{"$f":"IF( Ecarts!$E32=$A$1,IF( Ecarts!B32=\"\",\"\",Ecarts!A32),\"\")","v":""},{"$f":"IF( Ecarts!$E32=$A$1,IF( Ecarts!C32=\"\",\"\",Ecarts!C32),\"\")","v":""},{"$f":"IF( Ecarts!$E32=$A$1, IF(Ecarts!F32=\"\",\"\",Ecarts!F32),\"\")","v":""},{"$f":"IF( Ecarts!$E32=$A$1, IF(Ecarts!I32=\"\",\"\",Ecarts!I32),\"\")","v":""},{"$f":"IF( Ecarts!$E32=$A$1, IF(Ecarts!J32=\"\",\"\",Ecarts!J32),\"\")","v":""},{"$f":"IF( Ecarts!$E32=$A$1, IF(Ecarts!K32=\"\",\"\",Ecarts!K32),\"\")","v":""},{"$f":"IF( Ecarts!$E32=$A$1, IF(Ecarts!L32=\"\",\"\",Ecarts!L32),\"\")","v":""},{"$f":"IF( Ecarts!$E32=$A$1, IF(Ecarts!M32=\"\",\"\",Ecarts!M32),\"\")","v":""},0,0]
[{"$f":"IF( Ecarts!$E33=$A$1,IF( Ecarts!B33=\"\",\"\",Ecarts!A33),\"\")","v":""},{"$f":"IF( Ecarts!$E33=$A$1,IF( Ecarts!C33=\"\",\"\",Ecarts!C33),\"\")","v":""},{"$f":"IF( Ecarts!$E33=$A$1, IF(Ecarts!F33=\"\",\"\",Ecarts!F33),\"\")","v":""},{"$f":"IF( Ecarts!$E33=$A$1, IF(Ecarts!I33=\"\",\"\",Ecarts!I33),\"\")","v":""},{"$f":"IF( Ecarts!$E33=$A$1, IF(Ecarts!J33=\"\",\"\",Ecarts!J33),\"\")","v":""},{"$f":"IF( Ecarts!$E33=$A$1, IF(Ecarts!K33=\"\",\"\",Ecarts!K33),\"\")","v":""},{"$f":"IF( Ecarts!$E33=$A$1, IF(Ecarts!L33=\"\",\"\",Ecarts!L33),\"\")","v":""},{"$f":"IF( Ecarts!$E33=$A$1, IF(Ecarts!M33=\"\",\"\",Ecarts!M33),\"\")","v":""},0,0]
[{"$f":"IF( Ecarts!$E34=$A$1,IF( Ecarts!B34=\"\",\"\",Ecarts!A34),\"\")","v":""},{"$f":"IF( Ecarts!$E34=$A$1,IF( Ecarts!C34=\"\",\"\",Ecarts!C34),\"\")","v":""},{"$f":"IF( Ecarts!$E34=$A$1, IF(Ecarts!F34=\"\",\"\",Ecarts!F34),\"\")","v":""},{"$f":"IF( Ecarts!$E34=$A$1, IF(Ecarts!I34=\"\",\"\",Ecarts!I34),\"\")","v":""},{"$f":"IF( Ecarts!$E34=$A$1, IF(Ecarts!J34=\"\",\"\",Ecarts!J34),\"\")","v":""},{"$f":"IF( Ecarts!$E34=$A$1, IF(Ecarts!K34=\"\",\"\",Ecarts!K34),\"\")","v":""},{"$f":"IF( Ecarts!$E34=$A$1, IF(Ecarts!L34=\"\",\"\",Ecarts!L34),\"\")","v":""},{"$f":"IF( Ecarts!$E34=$A$1, IF(Ecarts!M34=\"\",\"\",Ecarts!M34),\"\")","v":""},0,0]
[{"$f":"IF( Ecarts!$E35=$A$1,IF( Ecarts!B35=\"\",\"\",Ecarts!A35),\"\")","v":""},{"$f":"IF( Ecarts!$E35=$A$1,IF( Ecarts!C35=\"\",\"\",Ecarts!C35),\"\")","v":""},{"$f":"IF( Ecarts!$E35=$A$1, IF(Ecarts!F35=\"\",\"\",Ecarts!F35),\"\")","v":""},{"$f":"IF( Ecarts!$E35=$A$1, IF(Ecarts!I35=\"\",\"\",Ecarts!I35),\"\")","v":""},{"$f":"IF( Ecarts!$E35=$A$1, IF(Ecarts!J35=\"\",\"\",Ecarts!J35),\"\")","v":""},{"$f":"IF( Ecarts!$E35=$A$1, IF(Ecarts!K35=\"\",\"\",Ecarts!K35),\"\")","v":""},{"$f":"IF( Ecarts!$E35=$A$1, IF(Ecarts!L35=\"\",\"\",Ecarts!L35),\"\")","v":""},{"$f":"IF( Ecarts!$E35=$A$1, IF(Ecarts!M35=\"\",\"\",Ecarts!M35),\"\")","v":""},0,0]
[{"$f":"IF( Ecarts!$E36=$A$1,IF( Ecarts!B36=\"\",\"\",Ecarts!A36),\"\")","v":""},{"$f":"IF( Ecarts!$E36=$A$1,IF( Ecarts!C36=\"\",\"\",Ecarts!C36),\"\")","v":""},{"$f":"IF( Ecarts!$E36=$A$1, IF(Ecarts!F36=\"\",\"\",Ecarts!F36),\"\")","v":""},{"$f":"IF( Ecarts!$E36=$A$1, IF(Ecarts!I36=\"\",\"\",Ecarts!I36),\"\")","v":""},{"$f":"IF( Ecarts!$E36=$A$1, IF(Ecarts!J36=\"\",\"\",Ecarts!J36),\"\")","v":""},{"$f":"IF( Ecarts!$E36=$A$1, IF(Ecarts!K36=\"\",\"\",Ecarts!K36),\"\")","v":""},{"$f":"IF( Ecarts!$E36=$A$1, IF(Ecarts!L36=\"\",\"\",Ecarts!L36),\"\")","v":""},{"$f":"IF( Ecarts!$E36=$A$1, IF(Ecarts!M36=\"\",\"\",Ecarts!M36),\"\")","v":""},0,0]
[{"$f":"IF( Ecarts!$E37=$A$1,IF( Ecarts!B37=\"\",\"\",Ecarts!A37),\"\")","v":""},{"$f":"IF( Ecarts!$E37=$A$1,IF( Ecarts!C37=\"\",\"\",Ecarts!C37),\"\")","v":""},{"$f":"IF( Ecarts!$E37=$A$1, IF(Ecarts!F37=\"\",\"\",Ecarts!F37),\"\")","v":""},{"$f":"IF( Ecarts!$E37=$A$1, IF(Ecarts!I37=\"\",\"\",Ecarts!I37),\"\")","v":""},{"$f":"IF( Ecarts!$E37=$A$1, IF(Ecarts!J37=\"\",\"\",Ecarts!J37),\"\")","v":""},{"$f":"IF( Ecarts!$E37=$A$1, IF(Ecarts!K37=\"\",\"\",Ecarts!K37),\"\")","v":""},{"$f":"IF( Ecarts!$E37=$A$1, IF(Ecarts!L37=\"\",\"\",Ecarts!L37),\"\")","v":""},{"$f":"IF( Ecarts!$E37=$A$1, IF(Ecarts!M37=\"\",\"\",Ecarts!M37),\"\")","v":""},0,0]
[{"$f":"IF( Ecarts!$E38=$A$1,IF( Ecarts!B38=\"\",\"\",Ecarts!A38),\"\")","v":""},{"$f":"IF( Ecarts!$E38=$A$1,IF( Ecarts!C38=\"\",\"\",Ecarts!C38),\"\")","v":""},{"$f":"IF( Ecarts!$E38=$A$1, IF(Ecarts!F38=\"\",\"\",Ecarts!F38),\"\")","v":""},{"$f":"IF( Ecarts!$E38=$A$1, IF(Ecarts!I38=\"\",\"\",Ecarts!I38),\"\")","v":""},{"$f":"IF( Ecarts!$E38=$A$1, IF(Ecarts!J38=\"\",\"\",Ecarts!J38),\"\")","v":""},{"$f":"IF( Ecarts!$E38=$A$1, IF(Ecarts!K38=\"\",\"\",Ecarts!K38),\"\")","v":""},{"$f":"IF( Ecarts!$E38=$A$1, IF(Ecarts!L38=\"\",\"\",Ecarts!L38),\"\")","v":""},{"$f":"IF( Ecarts!$E38=$A$1, IF(Ecarts!M38=\"\",\"\",Ecarts!M38),\"\")","v":""},0,0]
[{"$f":"IF( Ecarts!$E39=$A$1,IF( Ecarts!B39=\"\",\"\",Ecarts!A39),\"\")","v":""},{"$f":"IF( Ecarts!$E39=$A$1,IF( Ecarts!C39=\"\",\"\",Ecarts!C39),\"\")","v":""},{"$f":"IF( Ecarts!$E39=$A$1, IF(Ecarts!F39=\"\",\"\",Ecarts!F39),\"\")","v":""},{"$f":"IF( Ecarts!$E39=$A$1, IF(Ecarts!I39=\"\",\"\",Ecarts!I39),\"\")","v":""},{"$f":"IF( Ecarts!$E39=$A$1, IF(Ecarts!J39=\"\",\"\",Ecarts!J39),\"\")","v":""},{"$f":"IF( Ecarts!$E39=$A$1, IF(Ecarts!K39=\"\",\"\",Ecarts!K39),\"\")","v":""},{"$f":"IF( Ecarts!$E39=$A$1, IF(Ecarts!L39=\"\",\"\",Ecarts!L39),\"\")","v":""},{"$f":"IF( Ecarts!$E39=$A$1, IF(Ecarts!M39=\"\",\"\",Ecarts!M39),\"\")","v":""},0,0]
[{"$f":"IF( Ecarts!$E40=$A$1,IF( Ecarts!B40=\"\",\"\",Ecarts!A40),\"\")","v":""},{"$f":"IF( Ecarts!$E40=$A$1,IF( Ecarts!C40=\"\",\"\",Ecarts!C40),\"\")","v":""},{"$f":"IF( Ecarts!$E40=$A$1, IF(Ecarts!F40=\"\",\"\",Ecarts!F40),\"\")","v":""},{"$f":"IF( Ecarts!$E40=$A$1, IF(Ecarts!I40=\"\",\"\",Ecarts!I40),\"\")","v":""},{"$f":"IF( Ecarts!$E40=$A$1, IF(Ecarts!J40=\"\",\"\",Ecarts!J40),\"\")","v":""},{"$f":"IF( Ecarts!$E40=$A$1, IF(Ecarts!K40=\"\",\"\",Ecarts!K40),\"\")","v":""},{"$f":"IF( Ecarts!$E40=$A$1, IF(Ecarts!L40=\"\",\"\",Ecarts!L40),\"\")","v":""},{"$f":"IF( Ecarts!$E40=$A$1, IF(Ecarts!M40=\"\",\"\",Ecarts!M40),\"\")","v":""},0,0]
[{"$f":"IF( Ecarts!$E41=$A$1,IF( Ecarts!B41=\"\",\"\",Ecarts!A41),\"\")","v":""},{"$f":"IF( Ecarts!$E41=$A$1,IF( Ecarts!C41=\"\",\"\",Ecarts!C41),\"\")","v":""},{"$f":"IF( Ecarts!$E41=$A$1, IF(Ecarts!F41=\"\",\"\",Ecarts!F41),\"\")","v":""},{"$f":"IF( Ecarts!$E41=$A$1, IF(Ecarts!I41=\"\",\"\",Ecarts!I41),\"\")","v":""},{"$f":"IF( Ecarts!$E41=$A$1, IF(Ecarts!J41=\"\",\"\",Ecarts!J41),\"\")","v":""},{"$f":"IF( Ecarts!$E41=$A$1, IF(Ecarts!K41=\"\",\"\",Ecarts!K41),\"\")","v":""},{"$f":"IF( Ecarts!$E41=$A$1, IF(Ecarts!L41=\"\",\"\",Ecarts!L41),\"\")","v":""},{"$f":"IF( Ecarts!$E41=$A$1, IF(Ecarts!M41=\"\",\"\",Ecarts!M41),\"\")","v":""},0,0]
[{"$f":"IF( Ecarts!$E42=$A$1,IF( Ecarts!B42=\"\",\"\",Ecarts!A42),\"\")","v":""},{"$f":"IF( Ecarts!$E42=$A$1,IF( Ecarts!C42=\"\",\"\",Ecarts!C42),\"\")","v":""},{"$f":"IF( Ecarts!$E42=$A$1, IF(Ecarts!F42=\"\",\"\",Ecarts!F42),\"\")","v":""},{"$f":"IF( Ecarts!$E42=$A$1, IF(Ecarts!I42=\"\",\"\",Ecarts!I42),\"\")","v":""},{"$f":"IF( Ecarts!$E42=$A$1, IF(Ecarts!J42=\"\",\"\",Ecarts!J42),\"\")","v":""},{"$f":"IF( Ecarts!$E42=$A$1, IF(Ecarts!K42=\"\",\"\",Ecarts!K42),\"\")","v":""},{"$f":"IF( Ecarts!$E42=$A$1, IF(Ecarts!L42=\"\",\"\",Ecarts!L42),\"\")","v":""},{"$f":"IF( Ecarts!$E42=$A$1, IF(Ecarts!M42=\"\",\"\",Ecarts!M42),\"\")","v":""},0,0]
[{"$f":"IF( Ecarts!$E43=$A$1,IF( Ecarts!B43=\"\",\"\",Ecarts!A43),\"\")","v":""},{"$f":"IF( Ecarts!$E43=$A$1,IF( Ecarts!C43=\"\",\"\",Ecarts!C43),\"\")","v":""},{"$f":"IF( Ecarts!$E43=$A$1, IF(Ecarts!F43=\"\",\"\",Ecarts!F43),\"\")","v":""},{"$f":"IF( Ecarts!$E43=$A$1, IF(Ecarts!I43=\"\",\"\",Ecarts!I43),\"\")","v":""},{"$f":"IF( Ecarts!$E43=$A$1, IF(Ecarts!J43=\"\",\"\",Ecarts!J43),\"\")","v":""},{"$f":"IF( Ecarts!$E43=$A$1, IF(Ecarts!K43=\"\",\"\",Ecarts!K43),\"\")","v":""},{"$f":"IF( Ecarts!$E43=$A$1, IF(Ecarts!L43=\"\",\"\",Ecarts!L43),\"\")","v":""},{"$f":"IF( Ecarts!$E43=$A$1, IF(Ecarts!M43=\"\",\"\",Ecarts!M43),\"\")","v":""},0,0]
[{"$f":"IF( Ecarts!$E44=$A$1,IF( Ecarts!B44=\"\",\"\",Ecarts!A44),\"\")","v":""},{"$f":"IF( Ecarts!$E44=$A$1,IF( Ecarts!C44=\"\",\"\",Ecarts!C44),\"\")","v":""},{"$f":"IF( Ecarts!$E44=$A$1, IF(Ecarts!F44=\"\",\"\",Ecarts!F44),\"\")","v":""},{"$f":"IF( Ecarts!$E44=$A$1, IF(Ecarts!I44=\"\",\"\",Ecarts!I44),\"\")","v":""},{"$f":"IF( Ecarts!$E44=$A$1, IF(Ecarts!J44=\"\",\"\",Ecarts!J44),\"\")","v":""},{"$f":"IF( Ecarts!$E44=$A$1, IF(Ecarts!K44=\"\",\"\",Ecarts!K44),\"\")","v":""},{"$f":"IF( Ecarts!$E44=$A$1, IF(Ecarts!L44=\"\",\"\",Ecarts!L44),\"\")","v":""},{"$f":"IF( Ecarts!$E44=$A$1, IF(Ecarts!M44=\"\",\"\",Ecarts!M44),\"\")","v":""},0,0]
[{"$f":"IF( Ecarts!$E45=$A$1,IF( Ecarts!B45=\"\",\"\",Ecarts!A45),\"\")","v":""},{"$f":"IF( Ecarts!$E45=$A$1,IF( Ecarts!C45=\"\",\"\",Ecarts!C45),\"\")","v":""},{"$f":"IF( Ecarts!$E45=$A$1, IF(Ecarts!F45=\"\",\"\",Ecarts!F45),\"\")","v":""},{"$f":"IF( Ecarts!$E45=$A$1, IF(Ecarts!I45=\"\",\"\",Ecarts!I45),\"\")","v":""},{"$f":"IF( Ecarts!$E45=$A$1, IF(Ecarts!J45=\"\",\"\",Ecarts!J45),\"\")","v":""},{"$f":"IF( Ecarts!$E45=$A$1, IF(Ecarts!K45=\"\",\"\",Ecarts!K45),\"\")","v":""},{"$f":"IF( Ecarts!$E45=$A$1, IF(Ecarts!L45=\"\",\"\",Ecarts!L45),\"\")","v":""},{"$f":"IF( Ecarts!$E45=$A$1, IF(Ecarts!M45=\"\",\"\",Ecarts!M45),\"\")","v":""},0,0]
[{"$f":"IF( Ecarts!$E46=$A$1,IF( Ecarts!B46=\"\",\"\",Ecarts!A46),\"\")","v":""},{"$f":"IF( Ecarts!$E46=$A$1,IF( Ecarts!C46=\"\",\"\",Ecarts!C46),\"\")","v":""},{"$f":"IF( Ecarts!$E46=$A$1, IF(Ecarts!F46=\"\",\"\",Ecarts!F46),\"\")","v":""},{"$f":"IF( Ecarts!$E46=$A$1, IF(Ecarts!I46=\"\",\"\",Ecarts!I46),\"\")","v":""},{"$f":"IF( Ecarts!$E46=$A$1, IF(Ecarts!J46=\"\",\"\",Ecarts!J46),\"\")","v":""},{"$f":"IF( Ecarts!$E46=$A$1, IF(Ecarts!K46=\"\",\"\",Ecarts!K46),\"\")","v":""},{"$f":"IF( Ecarts!$E46=$A$1, IF(Ecarts!L46=\"\",\"\",Ecarts!L46),\"\")","v":""},{"$f":"IF( Ecarts!$E46=$A$1, IF(Ecarts!M46=\"\",\"\",Ecarts!M46),\"\")","v":""},0,0]
[{"$f":"IF( Ecarts!$E47=$A$1,IF( Ecarts!B47=\"\",\"\",Ecarts!A47),\"\")","v":""},{"$f":"IF( Ecarts!$E47=$A$1,IF( Ecarts!C47=\"\",\"\",Ecarts!C47),\"\")","v":""},{"$f":"IF( Ecarts!$E47=$A$1, IF(Ecarts!F47=\"\",\"\",Ecarts!F47),\"\")","v":""},{"$f":"IF( Ecarts!$E47=$A$1, IF(Ecarts!I47=\"\",\"\",Ecarts!I47),\"\")","v":""},{"$f":"IF( Ecarts!$E47=$A$1, IF(Ecarts!J47=\"\",\"\",Ecarts!J47),\"\")","v":""},{"$f":"IF( Ecarts!$E47=$A$1, IF(Ecarts!K47=\"\",\"\",Ecarts!K47),\"\")","v":""},{"$f":"IF( Ecarts!$E47=$A$1, IF(Ecarts!L47=\"\",\"\",Ecarts!L47),\"\")","v":""},{"$f":"IF( Ecarts!$E47=$A$1, IF(Ecarts!M47=\"\",\"\",Ecarts!M47),\"\")","v":""},0,0]
[{"$f":"IF( Ecarts!$E48=$A$1,IF( Ecarts!B48=\"\",\"\",Ecarts!A48),\"\")","v":""},{"$f":"IF( Ecarts!$E48=$A$1,IF( Ecarts!C48=\"\",\"\",Ecarts!C48),\"\")","v":""},{"$f":"IF( Ecarts!$E48=$A$1, IF(Ecarts!F48=\"\",\"\",Ecarts!F48),\"\")","v":""},{"$f":"IF( Ecarts!$E48=$A$1, IF(Ecarts!I48=\"\",\"\",Ecarts!I48),\"\")","v":""},{"$f":"IF( Ecarts!$E48=$A$1, IF(Ecarts!J48=\"\",\"\",Ecarts!J48),\"\")","v":""},{"$f":"IF( Ecarts!$E48=$A$1, IF(Ecarts!K48=\"\",\"\",Ecarts!K48),\"\")","v":""},{"$f":"IF( Ecarts!$E48=$A$1, IF(Ecarts!L48=\"\",\"\",Ecarts!L48),\"\")","v":""},{"$f":"IF( Ecarts!$E48=$A$1, IF(Ecarts!M48=\"\",\"\",Ecarts!M48),\"\")","v":""},0,0]
[{"$f":"IF( Ecarts!$E49=$A$1,IF( Ecarts!B49=\"\",\"\",Ecarts!A49),\"\")","v":""},{"$f":"IF( Ecarts!$E49=$A$1,IF( Ecarts!C49=\"\",\"\",Ecarts!C49),\"\")","v":""},{"$f":"IF( Ecarts!$E49=$A$1, IF(Ecarts!F49=\"\",\"\",Ecarts!F49),\"\")","v":""},{"$f":"IF( Ecarts!$E49=$A$1, IF(Ecarts!I49=\"\",\"\",Ecarts!I49),\"\")","v":""},{"$f":"IF( Ecarts!$E49=$A$1, IF(Ecarts!J49=\"\",\"\",Ecarts!J49),\"\")","v":""},{"$f":"IF( Ecarts!$E49=$A$1, IF(Ecarts!K49=\"\",\"\",Ecarts!K49),\"\")","v":""},{"$f":"IF( Ecarts!$E49=$A$1, IF(Ecarts!L49=\"\",\"\",Ecarts!L49),\"\")","v":""},{"$f":"IF( Ecarts!$E49=$A$1, IF(Ecarts!M49=\"\",\"\",Ecarts!M49),\"\")","v":""},0,0]
[{"$f":"IF( Ecarts!$E50=$A$1,IF( Ecarts!B50=\"\",\"\",Ecarts!A50),\"\")","v":""},{"$f":"IF( Ecarts!$E50=$A$1,IF( Ecarts!C50=\"\",\"\",Ecarts!C50),\"\")","v":""},{"$f":"IF( Ecarts!$E50=$A$1, IF(Ecarts!F50=\"\",\"\",Ecarts!F50),\"\")","v":""},{"$f":"IF( Ecarts!$E50=$A$1, IF(Ecarts!I50=\"\",\"\",Ecarts!I50),\"\")","v":""},{"$f":"IF( Ecarts!$E50=$A$1, IF(Ecarts!J50=\"\",\"\",Ecarts!J50),\"\")","v":""},{"$f":"IF( Ecarts!$E50=$A$1, IF(Ecarts!K50=\"\",\"\",Ecarts!K50),\"\")","v":""},{"$f":"IF( Ecarts!$E50=$A$1, IF(Ecarts!L50=\"\",\"\",Ecarts!L50),\"\")","v":""},{"$f":"IF( Ecarts!$E50=$A$1, IF(Ecarts!M50=\"\",\"\",Ecarts!M50),\"\")","v":""},0,0]
[{"$f":"IF( Ecarts!$E51=$A$1,IF( Ecarts!B51=\"\",\"\",Ecarts!A51),\"\")","v":""},{"$f":"IF( Ecarts!$E51=$A$1,IF( Ecarts!C51=\"\",\"\",Ecarts!C51),\"\")","v":""},{"$f":"IF( Ecarts!$E51=$A$1, IF(Ecarts!F51=\"\",\"\",Ecarts!F51),\"\")","v":""},{"$f":"IF( Ecarts!$E51=$A$1, IF(Ecarts!I51=\"\",\"\",Ecarts!I51),\"\")","v":""},{"$f":"IF( Ecarts!$E51=$A$1, IF(Ecarts!J51=\"\",\"\",Ecarts!J51),\"\")","v":""},{"$f":"IF( Ecarts!$E51=$A$1, IF(Ecarts!K51=\"\",\"\",Ecarts!K51),\"\")","v":""},{"$f":"IF( Ecarts!$E51=$A$1, IF(Ecarts!L51=\"\",\"\",Ecarts!L51),\"\")","v":""},{"$f":"IF( Ecarts!$E51=$A$1, IF(Ecarts!M51=\"\",\"\",Ecarts!M51),\"\")","v":""},0,0]
[{"$f":"IF( Ecarts!$E52=$A$1,IF( Ecarts!B52=\"\",\"\",Ecarts!A52),\"\")","v":""},{"$f":"IF( Ecarts!$E52=$A$1,IF( Ecarts!C52=\"\",\"\",Ecarts!C52),\"\")","v":""},{"$f":"IF( Ecarts!$E52=$A$1, IF(Ecarts!F52=\"\",\"\",Ecarts!F52),\"\")","v":""},{"$f":"IF( Ecarts!$E52=$A$1, IF(Ecarts!I52=\"\",\"\",Ecarts!I52),\"\")","v":""},{"$f":"IF( Ecarts!$E52=$A$1, IF(Ecarts!J52=\"\",\"\",Ecarts!J52),\"\")","v":""},{"$f":"IF( Ecarts!$E52=$A$1, IF(Ecarts!K52=\"\",\"\",Ecarts!K52),\"\")","v":""},{"$f":"IF( Ecarts!$E52=$A$1, IF(Ecarts!L52=\"\",\"\",Ecarts!L52),\"\")","v":""},{"$f":"IF( Ecarts!$E52=$A$1, IF(Ecarts!M52=\"\",\"\",Ecarts!M52),\"\")","v":""},0,0]
[{"$f":"IF( Ecarts!$E53=$A$1,IF( Ecarts!B53=\"\",\"\",Ecarts!A53),\"\")","v":""},{"$f":"IF( Ecarts!$E53=$A$1,IF( Ecarts!C53=\"\",\"\",Ecarts!C53),\"\")","v":""},{"$f":"IF( Ecarts!$E53=$A$1, IF(Ecarts!F53=\"\",\"\",Ecarts!F53),\"\")","v":""},{"$f":"IF( Ecarts!$E53=$A$1, IF(Ecarts!I53=\"\",\"\",Ecarts!I53),\"\")","v":""},{"$f":"IF( Ecarts!$E53=$A$1, IF(Ecarts!J53=\"\",\"\",Ecarts!J53),\"\")","v":""},{"$f":"IF( Ecarts!$E53=$A$1, IF(Ecarts!K53=\"\",\"\",Ecarts!K53),\"\")","v":""},{"$f":"IF( Ecarts!$E53=$A$1, IF(Ecarts!L53=\"\",\"\",Ecarts!L53),\"\")","v":""},{"$f":"IF( Ecarts!$E53=$A$1, IF(Ecarts!M53=\"\",\"\",Ecarts!M53),\"\")","v":""},0,0]
[{"$f":"IF( Ecarts!$E54=$A$1,IF( Ecarts!B54=\"\",\"\",Ecarts!A54),\"\")","v":""},{"$f":"IF( Ecarts!$E54=$A$1,IF( Ecarts!C54=\"\",\"\",Ecarts!C54),\"\")","v":""},{"$f":"IF( Ecarts!$E54=$A$1, IF(Ecarts!F54=\"\",\"\",Ecarts!F54),\"\")","v":""},{"$f":"IF( Ecarts!$E54=$A$1, IF(Ecarts!I54=\"\",\"\",Ecarts!I54),\"\")","v":""},{"$f":"IF( Ecarts!$E54=$A$1, IF(Ecarts!J54=\"\",\"\",Ecarts!J54),\"\")","v":""},{"$f":"IF( Ecarts!$E54=$A$1, IF(Ecarts!K54=\"\",\"\",Ecarts!K54),\"\")","v":""},{"$f":"IF( Ecarts!$E54=$A$1, IF(Ecarts!L54=\"\",\"\",Ecarts!L54),\"\")","v":""},{"$f":"IF( Ecarts!$E54=$A$1, IF(Ecarts!M54=\"\",\"\",Ecarts!M54),\"\")","v":""},0,0]
[{"$f":"IF( Ecarts!$E55=$A$1,IF( Ecarts!B55=\"\",\"\",Ecarts!A55),\"\")","v":""},{"$f":"IF( Ecarts!$E55=$A$1,IF( Ecarts!C55=\"\",\"\",Ecarts!C55),\"\")","v":""},{"$f":"IF( Ecarts!$E55=$A$1, IF(Ecarts!F55=\"\",\"\",Ecarts!F55),\"\")","v":""},{"$f":"IF( Ecarts!$E55=$A$1, IF(Ecarts!I55=\"\",\"\",Ecarts!I55),\"\")","v":""},{"$f":"IF( Ecarts!$E55=$A$1, IF(Ecarts!J55=\"\",\"\",Ecarts!J55),\"\")","v":""},{"$f":"IF( Ecarts!$E55=$A$1, IF(Ecarts!K55=\"\",\"\",Ecarts!K55),\"\")","v":""},{"$f":"IF( Ecarts!$E55=$A$1, IF(Ecarts!L55=\"\",\"\",Ecarts!L55),\"\")","v":""},{"$f":"IF( Ecarts!$E55=$A$1, IF(Ecarts!M55=\"\",\"\",Ecarts!M55),\"\")","v":""},0,0]
[{"$f":"IF( Ecarts!$E56=$A$1,IF( Ecarts!B56=\"\",\"\",Ecarts!A56),\"\")","v":""},{"$f":"IF( Ecarts!$E56=$A$1,IF( Ecarts!C56=\"\",\"\",Ecarts!C56),\"\")","v":""},{"$f":"IF( Ecarts!$E56=$A$1, IF(Ecarts!F56=\"\",\"\",Ecarts!F56),\"\")","v":""},{"$f":"IF( Ecarts!$E56=$A$1, IF(Ecarts!I56=\"\",\"\",Ecarts!I56),\"\")","v":""},{"$f":"IF( Ecarts!$E56=$A$1, IF(Ecarts!J56=\"\",\"\",Ecarts!J56),\"\")","v":""},{"$f":"IF( Ecarts!$E56=$A$1, IF(Ecarts!K56=\"\",\"\",Ecarts!K56),\"\")","v":""},{"$f":"IF( Ecarts!$E56=$A$1, IF(Ecarts!L56=\"\",\"\",Ecarts!L56),\"\")","v":""},{"$f":"IF( Ecarts!$E56=$A$1, IF(Ecarts!M56=\"\",\"\",Ecarts!M56),\"\")","v":""},0,0]
[{"$f":"IF( Ecarts!$E57=$A$1,IF( Ecarts!B57=\"\",\"\",Ecarts!A57),\"\")","v":""},{"$f":"IF( Ecarts!$E57=$A$1,IF( Ecarts!C57=\"\",\"\",Ecarts!C57),\"\")","v":""},{"$f":"IF( Ecarts!$E57=$A$1, IF(Ecarts!F57=\"\",\"\",Ecarts!F57),\"\")","v":""},{"$f":"IF( Ecarts!$E57=$A$1, IF(Ecarts!I57=\"\",\"\",Ecarts!I57),\"\")","v":""},{"$f":"IF( Ecarts!$E57=$A$1, IF(Ecarts!J57=\"\",\"\",Ecarts!J57),\"\")","v":""},{"$f":"IF( Ecarts!$E57=$A$1, IF(Ecarts!K57=\"\",\"\",Ecarts!K57),\"\")","v":""},{"$f":"IF( Ecarts!$E57=$A$1, IF(Ecarts!L57=\"\",\"\",Ecarts!L57),\"\")","v":""},{"$f":"IF( Ecarts!$E57=$A$1, IF(Ecarts!M57=\"\",\"\",Ecarts!M57),\"\")","v":""},0,0]
[{"$f":"IF( Ecarts!$E58=$A$1,IF( Ecarts!B58=\"\",\"\",Ecarts!A58),\"\")","v":""},{"$f":"IF( Ecarts!$E58=$A$1,IF( Ecarts!C58=\"\",\"\",Ecarts!C58),\"\")","v":""},{"$f":"IF( Ecarts!$E58=$A$1, IF(Ecarts!F58=\"\",\"\",Ecarts!F58),\"\")","v":""},{"$f":"IF( Ecarts!$E58=$A$1, IF(Ecarts!I58=\"\",\"\",Ecarts!I58),\"\")","v":""},{"$f":"IF( Ecarts!$E58=$A$1, IF(Ecarts!J58=\"\",\"\",Ecarts!J58),\"\")","v":""},{"$f":"IF( Ecarts!$E58=$A$1, IF(Ecarts!K58=\"\",\"\",Ecarts!K58),\"\")","v":""},{"$f":"IF( Ecarts!$E58=$A$1, IF(Ecarts!L58=\"\",\"\",Ecarts!L58),\"\")","v":""},{"$f":"IF( Ecarts!$E58=$A$1, IF(Ecarts!M58=\"\",\"\",Ecarts!M58),\"\")","v":""},0,0]
[{"$f":"IF( Ecarts!$E59=$A$1,IF( Ecarts!B59=\"\",\"\",Ecarts!A59),\"\")","v":""},{"$f":"IF( Ecarts!$E59=$A$1,IF( Ecarts!C59=\"\",\"\",Ecarts!C59),\"\")","v":""},{"$f":"IF( Ecarts!$E59=$A$1, IF(Ecarts!F59=\"\",\"\",Ecarts!F59),\"\")","v":""},{"$f":"IF( Ecarts!$E59=$A$1, IF(Ecarts!I59=\"\",\"\",Ecarts!I59),\"\")","v":""},{"$f":"IF( Ecarts!$E59=$A$1, IF(Ecarts!J59=\"\",\"\",Ecarts!J59),\"\")","v":""},{"$f":"IF( Ecarts!$E59=$A$1, IF(Ecarts!K59=\"\",\"\",Ecarts!K59),\"\")","v":""},{"$f":"IF( Ecarts!$E59=$A$1, IF(Ecarts!L59=\"\",\"\",Ecarts!L59),\"\")","v":""},{"$f":"IF( Ecarts!$E59=$A$1, IF(Ecarts!M59=\"\",\"\",Ecarts!M59),\"\")","v":""},0,0]
[{"$f":"IF( Ecarts!$E60=$A$1,IF( Ecarts!B60=\"\",\"\",Ecarts!A60),\"\")","v":""},{"$f":"IF( Ecarts!$E60=$A$1,IF( Ecarts!C60=\"\",\"\",Ecarts!C60),\"\")","v":""},{"$f":"IF( Ecarts!$E60=$A$1, IF(Ecarts!F60=\"\",\"\",Ecarts!F60),\"\")","v":""},{"$f":"IF( Ecarts!$E60=$A$1, IF(Ecarts!I60=\"\",\"\",Ecarts!I60),\"\")","v":""},{"$f":"IF( Ecarts!$E60=$A$1, IF(Ecarts!J60=\"\",\"\",Ecarts!J60),\"\")","v":""},{"$f":"IF( Ecarts!$E60=$A$1, IF(Ecarts!K60=\"\",\"\",Ecarts!K60),\"\")","v":""},{"$f":"IF( Ecarts!$E60=$A$1, IF(Ecarts!L60=\"\",\"\",Ecarts!L60),\"\")","v":""},{"$f":"IF( Ecarts!$E60=$A$1, IF(Ecarts!M60=\"\",\"\",Ecarts!M60),\"\")","v":""},0,0]
[{"$f":"IF( Ecarts!$E61=$A$1,IF( Ecarts!B61=\"\",\"\",Ecarts!A61),\"\")","v":""},{"$f":"IF( Ecarts!$E61=$A$1,IF( Ecarts!C61=\"\",\"\",Ecarts!C61),\"\")","v":""},{"$f":"IF( Ecarts!$E61=$A$1, IF(Ecarts!F61=\"\",\"\",Ecarts!F61),\"\")","v":""},{"$f":"IF( Ecarts!$E61=$A$1, IF(Ecarts!I61=\"\",\"\",Ecarts!I61),\"\")","v":""},{"$f":"IF( Ecarts!$E61=$A$1, IF(Ecarts!J61=\"\",\"\",Ecarts!J61),\"\")","v":""},{"$f":"IF( Ecarts!$E61=$A$1, IF(Ecarts!K61=\"\",\"\",Ecarts!K61),\"\")","v":""},{"$f":"IF( Ecarts!$E61=$A$1, IF(Ecarts!L61=\"\",\"\",Ecarts!L61),\"\")","v":""},{"$f":"IF( Ecarts!$E61=$A$1, IF(Ecarts!M61=\"\",\"\",Ecarts!M61),\"\")","v":""},0,0]
[{"$f":"IF( Ecarts!$E62=$A$1,IF( Ecarts!B62=\"\",\"\",Ecarts!A62),\"\")","v":""},{"$f":"IF( Ecarts!$E62=$A$1,IF( Ecarts!C62=\"\",\"\",Ecarts!C62),\"\")","v":""},{"$f":"IF( Ecarts!$E62=$A$1, IF(Ecarts!F62=\"\",\"\",Ecarts!F62),\"\")","v":""},{"$f":"IF( Ecarts!$E62=$A$1, IF(Ecarts!I62=\"\",\"\",Ecarts!I62),\"\")","v":""},{"$f":"IF( Ecarts!$E62=$A$1, IF(Ecarts!J62=\"\",\"\",Ecarts!J62),\"\")","v":""},{"$f":"IF( Ecarts!$E62=$A$1, IF(Ecarts!K62=\"\",\"\",Ecarts!K62),\"\")","v":""},{"$f":"IF( Ecarts!$E62=$A$1, IF(Ecarts!L62=\"\",\"\",Ecarts!L62),\"\")","v":""},{"$f":"IF( Ecarts!$E62=$A$1, IF(Ecarts!M62=\"\",\"\",Ecarts!M62),\"\")","v":""},0,0]
[{"$f":"IF( Ecarts!$E63=$A$1,IF( Ecarts!B63=\"\",\"\",Ecarts!A63),\"\")","v":""},{"$f":"IF( Ecarts!$E63=$A$1,IF( Ecarts!C63=\"\",\"\",Ecarts!C63),\"\")","v":""},{"$f":"IF( Ecarts!$E63=$A$1, IF(Ecarts!F63=\"\",\"\",Ecarts!F63),\"\")","v":""},{"$f":"IF( Ecarts!$E63=$A$1, IF(Ecarts!I63=\"\",\"\",Ecarts!I63),\"\")","v":""},{"$f":"IF( Ecarts!$E63=$A$1, IF(Ecarts!J63=\"\",\"\",Ecarts!J63),\"\")","v":""},{"$f":"IF( Ecarts!$E63=$A$1, IF(Ecarts!K63=\"\",\"\",Ecarts!K63),\"\")","v":""},{"$f":"IF( Ecarts!$E63=$A$1, IF(Ecarts!L63=\"\",\"\",Ecarts!L63),\"\")","v":""},{"$f":"IF( Ecarts!$E63=$A$1, IF(Ecarts!M63=\"\",\"\",Ecarts!M63),\"\")","v":""},0,0]
[{"$f":"IF( Ecarts!$E64=$A$1,IF( Ecarts!B64=\"\",\"\",Ecarts!A64),\"\")","v":""},{"$f":"IF( Ecarts!$E64=$A$1,IF( Ecarts!C64=\"\",\"\",Ecarts!C64),\"\")","v":""},{"$f":"IF( Ecarts!$E64=$A$1, IF(Ecarts!F64=\"\",\"\",Ecarts!F64),\"\")","v":""},{"$f":"IF( Ecarts!$E64=$A$1, IF(Ecarts!I64=\"\",\"\",Ecarts!I64),\"\")","v":""},{"$f":"IF( Ecarts!$E64=$A$1, IF(Ecarts!J64=\"\",\"\",Ecarts!J64),\"\")","v":""},{"$f":"IF( Ecarts!$E64=$A$1, IF(Ecarts!K64=\"\",\"\",Ecarts!K64),\"\")","v":""},{"$f":"IF( Ecarts!$E64=$A$1, IF(Ecarts!L64=\"\",\"\",Ecarts!L64),\"\")","v":""},{"$f":"IF( Ecarts!$E64=$A$1, IF(Ecarts!M64=\"\",\"\",Ecarts!M64),\"\")","v":""},0,0]
[{"$f":"IF( Ecarts!$E65=$A$1,IF( Ecarts!B65=\"\",\"\",Ecarts!A65),\"\")","v":""},{"$f":"IF( Ecarts!$E65=$A$1,IF( Ecarts!C65=\"\",\"\",Ecarts!C65),\"\")","v":""},{"$f":"IF( Ecarts!$E65=$A$1, IF(Ecarts!F65=\"\",\"\",Ecarts!F65),\"\")","v":""},{"$f":"IF( Ecarts!$E65=$A$1, IF(Ecarts!I65=\"\",\"\",Ecarts!I65),\"\")","v":""},{"$f":"IF( Ecarts!$E65=$A$1, IF(Ecarts!J65=\"\",\"\",Ecarts!J65),\"\")","v":""},{"$f":"IF( Ecarts!$E65=$A$1, IF(Ecarts!K65=\"\",\"\",Ecarts!K65),\"\")","v":""},{"$f":"IF( Ecarts!$E65=$A$1, IF(Ecarts!L65=\"\",\"\",Ecarts!L65),\"\")","v":""},{"$f":"IF( Ecarts!$E65=$A$1, IF(Ecarts!M65=\"\",\"\",Ecarts!M65),\"\")","v":""},0,0]
[{"$f":"IF( Ecarts!$E66=$A$1,IF( Ecarts!B66=\"\",\"\",Ecarts!A66),\"\")","v":""},{"$f":"IF( Ecarts!$E66=$A$1,IF( Ecarts!C66=\"\",\"\",Ecarts!C66),\"\")","v":""},{"$f":"IF( Ecarts!$E66=$A$1, IF(Ecarts!F66=\"\",\"\",Ecarts!F66),\"\")","v":""},{"$f":"IF( Ecarts!$E66=$A$1, IF(Ecarts!I66=\"\",\"\",Ecarts!I66),\"\")","v":""},{"$f":"IF( Ecarts!$E66=$A$1, IF(Ecarts!J66=\"\",\"\",Ecarts!J66),\"\")","v":""},{"$f":"IF( Ecarts!$E66=$A$1, IF(Ecarts!K66=\"\",\"\",Ecarts!K66),\"\")","v":""},{"$f":"IF( Ecarts!$E66=$A$1, IF(Ecarts!L66=\"\",\"\",Ecarts!L66),\"\")","v":""},{"$f":"IF( Ecarts!$E66=$A$1, IF(Ecarts!M66=\"\",\"\",Ecarts!M66),\"\")","v":""},0,0]
[{"$f":"IF( Ecarts!$E67=$A$1,IF( Ecarts!B67=\"\",\"\",Ecarts!A67),\"\")","v":""},{"$f":"IF( Ecarts!$E67=$A$1,IF( Ecarts!C67=\"\",\"\",Ecarts!C67),\"\")","v":""},{"$f":"IF( Ecarts!$E67=$A$1, IF(Ecarts!F67=\"\",\"\",Ecarts!F67),\"\")","v":""},{"$f":"IF( Ecarts!$E67=$A$1, IF(Ecarts!I67=\"\",\"\",Ecarts!I67),\"\")","v":""},{"$f":"IF( Ecarts!$E67=$A$1, IF(Ecarts!J67=\"\",\"\",Ecarts!J67),\"\")","v":""},{"$f":"IF( Ecarts!$E67=$A$1, IF(Ecarts!K67=\"\",\"\",Ecarts!K67),\"\")","v":""},{"$f":"IF( Ecarts!$E67=$A$1, IF(Ecarts!L67=\"\",\"\",Ecarts!L67),\"\")","v":""},{"$f":"IF( Ecarts!$E67=$A$1, IF(Ecarts!M67=\"\",\"\",Ecarts!M67),\"\")","v":""},0,0]
[{"$f":"IF( Ecarts!$E68=$A$1,IF( Ecarts!B68=\"\",\"\",Ecarts!A68),\"\")","v":""},{"$f":"IF( Ecarts!$E68=$A$1,IF( Ecarts!C68=\"\",\"\",Ecarts!C68),\"\")","v":""},{"$f":"IF( Ecarts!$E68=$A$1, IF(Ecarts!F68=\"\",\"\",Ecarts!F68),\"\")","v":""},{"$f":"IF( Ecarts!$E68=$A$1, IF(Ecarts!I68=\"\",\"\",Ecarts!I68),\"\")","v":""},{"$f":"IF( Ecarts!$E68=$A$1, IF(Ecarts!J68=\"\",\"\",Ecarts!J68),\"\")","v":""},{"$f":"IF( Ecarts!$E68=$A$1, IF(Ecarts!K68=\"\",\"\",Ecarts!K68),\"\")","v":""},{"$f":"IF( Ecarts!$E68=$A$1, IF(Ecarts!L68=\"\",\"\",Ecarts!L68),\"\")","v":""},{"$f":"IF( Ecarts!$E68=$A$1, IF(Ecarts!M68=\"\",\"\",Ecarts!M68),\"\")","v":""},{"$f":"IF(B69=\"\",0,IF(G69=1,0,1))","v":0},{"$f":"IF(F69=\"\",0,IF(F69>(TODAY()-60),1,0))","v":0}]
[{"$f":"IF( Ecarts!$E69=$A$1,IF( Ecarts!B69=\"\",\"\",Ecarts!A69),\"\")","v":""},{"$f":"IF( Ecarts!$E69=$A$1,IF( Ecarts!C69=\"\",\"\",Ecarts!C69),\"\")","v":""},{"$f":"IF( Ecarts!$E69=$A$1, IF(Ecarts!F69=\"\",\"\",Ecarts!F69),\"\")","v":""},{"$f":"IF( Ecarts!$E69=$A$1, IF(Ecarts!I69=\"\",\"\",Ecarts!I69),\"\")","v":""},{"$f":"IF( Ecarts!$E69=$A$1, IF(Ecarts!J69=\"\",\"\",Ecarts!J69),\"\")","v":""},{"$f":"IF( Ecarts!$E69=$A$1, IF(Ecarts!K69=\"\",\"\",Ecarts!K69),\"\")","v":""},{"$f":"IF( Ecarts!$E69=$A$1, IF(Ecarts!L69=\"\",\"\",Ecarts!L69),\"\")","v":""},{"$f":"IF( Ecarts!$E69=$A$1, IF(Ecarts!M69=\"\",\"\",Ecarts!M69),\"\")","v":""},0,0]
[{"$f":"IF( Ecarts!$E70=$A$1,IF( Ecarts!B70=\"\",\"\",Ecarts!A70),\"\")","v":""},{"$f":"IF( Ecarts!$E70=$A$1,IF( Ecarts!C70=\"\",\"\",Ecarts!C70),\"\")","v":""},{"$f":"IF( Ecarts!$E70=$A$1, IF(Ecarts!F70=\"\",\"\",Ecarts!F70),\"\")","v":""},{"$f":"IF( Ecarts!$E70=$A$1, IF(Ecarts!I70=\"\",\"\",Ecarts!I70),\"\")","v":""},{"$f":"IF( Ecarts!$E70=$A$1, IF(Ecarts!J70=\"\",\"\",Ecarts!J70),\"\")","v":""},{"$f":"IF( Ecarts!$E70=$A$1, IF(Ecarts!K70=\"\",\"\",Ecarts!K70),\"\")","v":""},{"$f":"IF( Ecarts!$E70=$A$1, IF(Ecarts!L70=\"\",\"\",Ecarts!L70),\"\")","v":""},{"$f":"IF( Ecarts!$E70=$A$1, IF(Ecarts!M70=\"\",\"\",Ecarts!M70),\"\")","v":""},0,0]
[{"$f":"IF( Ecarts!$E71=$A$1,IF( Ecarts!B71=\"\",\"\",Ecarts!A71),\"\")","v":""},{"$f":"IF( Ecarts!$E71=$A$1,IF( Ecarts!C71=\"\",\"\",Ecarts!C71),\"\")","v":""},{"$f":"IF( Ecarts!$E71=$A$1, IF(Ecarts!F71=\"\",\"\",Ecarts!F71),\"\")","v":""},{"$f":"IF( Ecarts!$E71=$A$1, IF(Ecarts!I71=\"\",\"\",Ecarts!I71),\"\")","v":""},{"$f":"IF( Ecarts!$E71=$A$1, IF(Ecarts!J71=\"\",\"\",Ecarts!J71),\"\")","v":""},{"$f":"IF( Ecarts!$E71=$A$1, IF(Ecarts!K71=\"\",\"\",Ecarts!K71),\"\")","v":""},{"$f":"IF( Ecarts!$E71=$A$1, IF(Ecarts!L71=\"\",\"\",Ecarts!L71),\"\")","v":""},{"$f":"IF( Ecarts!$E71=$A$1, IF(Ecarts!M71=\"\",\"\",Ecarts!M71),\"\")","v":""},0,0]
[{"$f":"IF( Ecarts!$E72=$A$1,IF( Ecarts!B72=\"\",\"\",Ecarts!A72),\"\")","v":""},{"$f":"IF( Ecarts!$E72=$A$1,IF( Ecarts!C72=\"\",\"\",Ecarts!C72),\"\")","v":""},{"$f":"IF( Ecarts!$E72=$A$1, IF(Ecarts!F72=\"\",\"\",Ecarts!F72),\"\")","v":""},{"$f":"IF( Ecarts!$E72=$A$1, IF(Ecarts!I72=\"\",\"\",Ecarts!I72),\"\")","v":""},{"$f":"IF( Ecarts!$E72=$A$1, IF(Ecarts!J72=\"\",\"\",Ecarts!J72),\"\")","v":""},{"$f":"IF( Ecarts!$E72=$A$1, IF(Ecarts!K72=\"\",\"\",Ecarts!K72),\"\")","v":""},{"$f":"IF( Ecarts!$E72=$A$1, IF(Ecarts!L72=\"\",\"\",Ecarts!L72),\"\")","v":""},{"$f":"IF( Ecarts!$E72=$A$1, IF(Ecarts!M72=\"\",\"\",Ecarts!M72),\"\")","v":""},0,0]
[{"$f":"IF( Ecarts!$E73=$A$1,IF( Ecarts!B73=\"\",\"\",Ecarts!A73),\"\")","v":""},{"$f":"IF( Ecarts!$E73=$A$1,IF( Ecarts!C73=\"\",\"\",Ecarts!C73),\"\")","v":""},{"$f":"IF( Ecarts!$E73=$A$1, IF(Ecarts!F73=\"\",\"\",Ecarts!F73),\"\")","v":""},{"$f":"IF( Ecarts!$E73=$A$1, IF(Ecarts!I73=\"\",\"\",Ecarts!I73),\"\")","v":""},{"$f":"IF( Ecarts!$E73=$A$1, IF(Ecarts!J73=\"\",\"\",Ecarts!J73),\"\")","v":""},{"$f":"IF( Ecarts!$E73=$A$1, IF(Ecarts!K73=\"\",\"\",Ecarts!K73),\"\")","v":""},{"$f":"IF( Ecarts!$E73=$A$1, IF(Ecarts!L73=\"\",\"\",Ecarts!L73),\"\")","v":""},{"$f":"IF( Ecarts!$E73=$A$1, IF(Ecarts!M73=\"\",\"\",Ecarts!M73),\"\")","v":""},0,0]
[{"$f":"IF( Ecarts!$E74=$A$1,IF( Ecarts!B74=\"\",\"\",Ecarts!A74),\"\")","v":""},{"$f":"IF( Ecarts!$E74=$A$1,IF( Ecarts!C74=\"\",\"\",Ecarts!C74),\"\")","v":""},{"$f":"IF( Ecarts!$E74=$A$1, IF(Ecarts!F74=\"\",\"\",Ecarts!F74),\"\")","v":""},{"$f":"IF( Ecarts!$E74=$A$1, IF(Ecarts!I74=\"\",\"\",Ecarts!I74),\"\")","v":""},{"$f":"IF( Ecarts!$E74=$A$1, IF(Ecarts!J74=\"\",\"\",Ecarts!J74),\"\")","v":""},{"$f":"IF( Ecarts!$E74=$A$1, IF(Ecarts!K74=\"\",\"\",Ecarts!K74),\"\")","v":""},{"$f":"IF( Ecarts!$E74=$A$1, IF(Ecarts!L74=\"\",\"\",Ecarts!L74),\"\")","v":""},{"$f":"IF( Ecarts!$E74=$A$1, IF(Ecarts!M74=\"\",\"\",Ecarts!M74),\"\")","v":""},0,0]
[{"$f":"IF( Ecarts!$E75=$A$1,IF( Ecarts!B75=\"\",\"\",Ecarts!A75),\"\")","v":""},{"$f":"IF( Ecarts!$E75=$A$1,IF( Ecarts!C75=\"\",\"\",Ecarts!C75),\"\")","v":""},{"$f":"IF( Ecarts!$E75=$A$1, IF(Ecarts!F75=\"\",\"\",Ecarts!F75),\"\")","v":""},{"$f":"IF( Ecarts!$E75=$A$1, IF(Ecarts!I75=\"\",\"\",Ecarts!I75),\"\")","v":""},{"$f":"IF( Ecarts!$E75=$A$1, IF(Ecarts!J75=\"\",\"\",Ecarts!J75),\"\")","v":""},{"$f":"IF( Ecarts!$E75=$A$1, IF(Ecarts!K75=\"\",\"\",Ecarts!K75),\"\")","v":""},{"$f":"IF( Ecarts!$E75=$A$1, IF(Ecarts!L75=\"\",\"\",Ecarts!L75),\"\")","v":""},{"$f":"IF( Ecarts!$E75=$A$1, IF(Ecarts!M75=\"\",\"\",Ecarts!M75),\"\")","v":""},0,0]
[{"$f":"IF( Ecarts!$E76=$A$1,IF( Ecarts!B76=\"\",\"\",Ecarts!A76),\"\")","v":""},{"$f":"IF( Ecarts!$E76=$A$1,IF( Ecarts!C76=\"\",\"\",Ecarts!C76),\"\")","v":""},{"$f":"IF( Ecarts!$E76=$A$1, IF(Ecarts!F76=\"\",\"\",Ecarts!F76),\"\")","v":""},{"$f":"IF( Ecarts!$E76=$A$1, IF(Ecarts!I76=\"\",\"\",Ecarts!I76),\"\")","v":""},{"$f":"IF( Ecarts!$E76=$A$1, IF(Ecarts!J76=\"\",\"\",Ecarts!J76),\"\")","v":""},{"$f":"IF( Ecarts!$E76=$A$1, IF(Ecarts!K76=\"\",\"\",Ecarts!K76),\"\")","v":""},{"$f":"IF( Ecarts!$E76=$A$1, IF(Ecarts!L76=\"\",\"\",Ecarts!L76),\"\")","v":""},{"$f":"IF( Ecarts!$E76=$A$1, IF(Ecarts!M76=\"\",\"\",Ecarts!M76),\"\")","v":""},0,0]
[{"$f":"IF( Ecarts!$E77=$A$1,IF( Ecarts!B77=\"\",\"\",Ecarts!A77),\"\")","v":""},{"$f":"IF( Ecarts!$E77=$A$1,IF( Ecarts!C77=\"\",\"\",Ecarts!C77),\"\")","v":""},{"$f":"IF( Ecarts!$E77=$A$1, IF(Ecarts!F77=\"\",\"\",Ecarts!F77),\"\")","v":""},{"$f":"IF( Ecarts!$E77=$A$1, IF(Ecarts!I77=\"\",\"\",Ecarts!I77),\"\")","v":""},{"$f":"IF( Ecarts!$E77=$A$1, IF(Ecarts!J77=\"\",\"\",Ecarts!J77),\"\")","v":""},{"$f":"IF( Ecarts!$E77=$A$1, IF(Ecarts!K77=\"\",\"\",Ecarts!K77),\"\")","v":""},{"$f":"IF( Ecarts!$E77=$A$1, IF(Ecarts!L77=\"\",\"\",Ecarts!L77),\"\")","v":""},{"$f":"IF( Ecarts!$E77=$A$1, IF(Ecarts!M77=\"\",\"\",Ecarts!M77),\"\")","v":""},0,0]
[{"$f":"IF( Ecarts!$E78=$A$1,IF( Ecarts!B78=\"\",\"\",Ecarts!A78),\"\")","v":""},{"$f":"IF( Ecarts!$E78=$A$1,IF( Ecarts!C78=\"\",\"\",Ecarts!C78),\"\")","v":""},{"$f":"IF( Ecarts!$E78=$A$1, IF(Ecarts!F78=\"\",\"\",Ecarts!F78),\"\")","v":""},{"$f":"IF( Ecarts!$E78=$A$1, IF(Ecarts!I78=\"\",\"\",Ecarts!I78),\"\")","v":""},{"$f":"IF( Ecarts!$E78=$A$1, IF(Ecarts!J78=\"\",\"\",Ecarts!J78),\"\")","v":""},{"$f":"IF( Ecarts!$E78=$A$1, IF(Ecarts!K78=\"\",\"\",Ecarts!K78),\"\")","v":""},{"$f":"IF( Ecarts!$E78=$A$1, IF(Ecarts!L78=\"\",\"\",Ecarts!L78),\"\")","v":""},{"$f":"IF( Ecarts!$E78=$A$1, IF(Ecarts!M78=\"\",\"\",Ecarts!M78),\"\")","v":""},0,0]
[{"$f":"IF( Ecarts!$E79=$A$1,IF( Ecarts!B79=\"\",\"\",Ecarts!A79),\"\")","v":""},{"$f":"IF( Ecarts!$E79=$A$1,IF( Ecarts!C79=\"\",\"\",Ecarts!C79),\"\")","v":""},{"$f":"IF( Ecarts!$E79=$A$1, IF(Ecarts!F79=\"\",\"\",Ecarts!F79),\"\")","v":""},{"$f":"IF( Ecarts!$E79=$A$1, IF(Ecarts!I79=\"\",\"\",Ecarts!I79),\"\")","v":""},{"$f":"IF( Ecarts!$E79=$A$1, IF(Ecarts!J79=\"\",\"\",Ecarts!J79),\"\")","v":""},{"$f":"IF( Ecarts!$E79=$A$1, IF(Ecarts!K79=\"\",\"\",Ecarts!K79),\"\")","v":""},{"$f":"IF( Ecarts!$E79=$A$1, IF(Ecarts!L79=\"\",\"\",Ecarts!L79),\"\")","v":""},{"$f":"IF( Ecarts!$E79=$A$1, IF(Ecarts!M79=\"\",\"\",Ecarts!M79),\"\")","v":""},0,0]
[{"$f":"IF( Ecarts!$E80=$A$1,IF( Ecarts!B80=\"\",\"\",Ecarts!A80),\"\")","v":""},{"$f":"IF( Ecarts!$E80=$A$1,IF( Ecarts!C80=\"\",\"\",Ecarts!C80),\"\")","v":""},{"$f":"IF( Ecarts!$E80=$A$1, IF(Ecarts!F80=\"\",\"\",Ecarts!F80),\"\")","v":""},{"$f":"IF( Ecarts!$E80=$A$1, IF(Ecarts!I80=\"\",\"\",Ecarts!I80),\"\")","v":""},{"$f":"IF( Ecarts!$E80=$A$1, IF(Ecarts!J80=\"\",\"\",Ecarts!J80),\"\")","v":""},{"$f":"IF( Ecarts!$E80=$A$1, IF(Ecarts!K80=\"\",\"\",Ecarts!K80),\"\")","v":""},{"$f":"IF( Ecarts!$E80=$A$1, IF(Ecarts!L80=\"\",\"\",Ecarts!L80),\"\")","v":""},{"$f":"IF( Ecarts!$E80=$A$1, IF(Ecarts!M80=\"\",\"\",Ecarts!M80),\"\")","v":""},0,0]
[{"$f":"IF( Ecarts!$E81=$A$1,IF( Ecarts!B81=\"\",\"\",Ecarts!A81),\"\")","v":""},{"$f":"IF( Ecarts!$E81=$A$1,IF( Ecarts!C81=\"\",\"\",Ecarts!C81),\"\")","v":""},{"$f":"IF( Ecarts!$E81=$A$1, IF(Ecarts!F81=\"\",\"\",Ecarts!F81),\"\")","v":""},{"$f":"IF( Ecarts!$E81=$A$1, IF(Ecarts!I81=\"\",\"\",Ecarts!I81),\"\")","v":""},{"$f":"IF( Ecarts!$E81=$A$1, IF(Ecarts!J81=\"\",\"\",Ecarts!J81),\"\")","v":""},{"$f":"IF( Ecarts!$E81=$A$1, IF(Ecarts!K81=\"\",\"\",Ecarts!K81),\"\")","v":""},{"$f":"IF( Ecarts!$E81=$A$1, IF(Ecarts!L81=\"\",\"\",Ecarts!L81),\"\")","v":""},{"$f":"IF( Ecarts!$E81=$A$1, IF(Ecarts!M81=\"\",\"\",Ecarts!M81),\"\")","v":""},0,0]
[{"$f":"IF( Ecarts!$E82=$A$1,IF( Ecarts!B82=\"\",\"\",Ecarts!A82),\"\")","v":""},{"$f":"IF( Ecarts!$E82=$A$1,IF( Ecarts!C82=\"\",\"\",Ecarts!C82),\"\")","v":""},{"$f":"IF( Ecarts!$E82=$A$1, IF(Ecarts!F82=\"\",\"\",Ecarts!F82),\"\")","v":""},{"$f":"IF( Ecarts!$E82=$A$1, IF(Ecarts!I82=\"\",\"\",Ecarts!I82),\"\")","v":""},{"$f":"IF( Ecarts!$E82=$A$1, IF(Ecarts!J82=\"\",\"\",Ecarts!J82),\"\")","v":""},{"$f":"IF( Ecarts!$E82=$A$1, IF(Ecarts!K82=\"\",\"\",Ecarts!K82),\"\")","v":""},{"$f":"IF( Ecarts!$E82=$A$1, IF(Ecarts!L82=\"\",\"\",Ecarts!L82),\"\")","v":""},{"$f":"IF( Ecarts!$E82=$A$1, IF(Ecarts!M82=\"\",\"\",Ecarts!M82),\"\")","v":""},0,0]
[{"$f":"IF( Ecarts!$E83=$A$1,IF( Ecarts!B83=\"\",\"\",Ecarts!A83),\"\")","v":""},{"$f":"IF( Ecarts!$E83=$A$1,IF( Ecarts!C83=\"\",\"\",Ecarts!C83),\"\")","v":""},{"$f":"IF( Ecarts!$E83=$A$1, IF(Ecarts!F83=\"\",\"\",Ecarts!F83),\"\")","v":""},{"$f":"IF( Ecarts!$E83=$A$1, IF(Ecarts!I83=\"\",\"\",Ecarts!I83),\"\")","v":""},{"$f":"IF( Ecarts!$E83=$A$1, IF(Ecarts!J83=\"\",\"\",Ecarts!J83),\"\")","v":""},{"$f":"IF( Ecarts!$E83=$A$1, IF(Ecarts!K83=\"\",\"\",Ecarts!K83),\"\")","v":""},{"$f":"IF( Ecarts!$E83=$A$1, IF(Ecarts!L83=\"\",\"\",Ecarts!L83),\"\")","v":""},{"$f":"IF( Ecarts!$E83=$A$1, IF(Ecarts!M83=\"\",\"\",Ecarts!M83),\"\")","v":""},0,0]
[{"$f":"IF( Ecarts!$E84=$A$1,IF( Ecarts!B84=\"\",\"\",Ecarts!A84),\"\")","v":""},{"$f":"IF( Ecarts!$E84=$A$1,IF( Ecarts!C84=\"\",\"\",Ecarts!C84),\"\")","v":""},{"$f":"IF( Ecarts!$E84=$A$1, IF(Ecarts!F84=\"\",\"\",Ecarts!F84),\"\")","v":""},{"$f":"IF( Ecarts!$E84=$A$1, IF(Ecarts!I84=\"\",\"\",Ecarts!I84),\"\")","v":""},{"$f":"IF( Ecarts!$E84=$A$1, IF(Ecarts!J84=\"\",\"\",Ecarts!J84),\"\")","v":""},{"$f":"IF( Ecarts!$E84=$A$1, IF(Ecarts!K84=\"\",\"\",Ecarts!K84),\"\")","v":""},{"$f":"IF( Ecarts!$E84=$A$1, IF(Ecarts!L84=\"\",\"\",Ecarts!L84),\"\")","v":""},{"$f":"IF( Ecarts!$E84=$A$1, IF(Ecarts!M84=\"\",\"\",Ecarts!M84),\"\")","v":""},0,0]
[{"$f":"IF( Ecarts!$E85=$A$1,IF( Ecarts!B85=\"\",\"\",Ecarts!A85),\"\")","v":""},{"$f":"IF( Ecarts!$E85=$A$1,IF( Ecarts!C85=\"\",\"\",Ecarts!C85),\"\")","v":""},{"$f":"IF( Ecarts!$E85=$A$1, IF(Ecarts!F85=\"\",\"\",Ecarts!F85),\"\")","v":""},{"$f":"IF( Ecarts!$E85=$A$1, IF(Ecarts!I85=\"\",\"\",Ecarts!I85),\"\")","v":""},{"$f":"IF( Ecarts!$E85=$A$1, IF(Ecarts!J85=\"\",\"\",Ecarts!J85),\"\")","v":""},{"$f":"IF( Ecarts!$E85=$A$1, IF(Ecarts!K85=\"\",\"\",Ecarts!K85),\"\")","v":""},{"$f":"IF( Ecarts!$E85=$A$1, IF(Ecarts!L85=\"\",\"\",Ecarts!L85),\"\")","v":""},{"$f":"IF( Ecarts!$E85=$A$1, IF(Ecarts!M85=\"\",\"\",Ecarts!M85),\"\")","v":""},0,0]
[{"$f":"IF( Ecarts!$E86=$A$1,IF( Ecarts!B86=\"\",\"\",Ecarts!A86),\"\")","v":""},{"$f":"IF( Ecarts!$E86=$A$1,IF( Ecarts!C86=\"\",\"\",Ecarts!C86),\"\")","v":""},{"$f":"IF( Ecarts!$E86=$A$1, IF(Ecarts!F86=\"\",\"\",Ecarts!F86),\"\")","v":""},{"$f":"IF( Ecarts!$E86=$A$1, IF(Ecarts!I86=\"\",\"\",Ecarts!I86),\"\")","v":""},{"$f":"IF( Ecarts!$E86=$A$1, IF(Ecarts!J86=\"\",\"\",Ecarts!J86),\"\")","v":""},{"$f":"IF( Ecarts!$E86=$A$1, IF(Ecarts!K86=\"\",\"\",Ecarts!K86),\"\")","v":""},{"$f":"IF( Ecarts!$E86=$A$1, IF(Ecarts!L86=\"\",\"\",Ecarts!L86),\"\")","v":""},{"$f":"IF( Ecarts!$E86=$A$1, IF(Ecarts!M86=\"\",\"\",Ecarts!M86),\"\")","v":""},0,0]
[{"$f":"IF( Ecarts!$E87=$A$1,IF( Ecarts!B87=\"\",\"\",Ecarts!A87),\"\")","v":""},{"$f":"IF( Ecarts!$E87=$A$1,IF( Ecarts!C87=\"\",\"\",Ecarts!C87),\"\")","v":""},{"$f":"IF( Ecarts!$E87=$A$1, IF(Ecarts!F87=\"\",\"\",Ecarts!F87),\"\")","v":""},{"$f":"IF( Ecarts!$E87=$A$1, IF(Ecarts!I87=\"\",\"\",Ecarts!I87),\"\")","v":""},{"$f":"IF( Ecarts!$E87=$A$1, IF(Ecarts!J87=\"\",\"\",Ecarts!J87),\"\")","v":""},{"$f":"IF( Ecarts!$E87=$A$1, IF(Ecarts!K87=\"\",\"\",Ecarts!K87),\"\")","v":""},{"$f":"IF( Ecarts!$E87=$A$1, IF(Ecarts!L87=\"\",\"\",Ecarts!L87),\"\")","v":""},{"$f":"IF( Ecarts!$E87=$A$1, IF(Ecarts!M87=\"\",\"\",Ecarts!M87),\"\")","v":""},0,0]
[{"$f":"IF( Ecarts!$E88=$A$1,IF( Ecarts!B88=\"\",\"\",Ecarts!A88),\"\")","v":""},{"$f":"IF( Ecarts!$E88=$A$1,IF( Ecarts!C88=\"\",\"\",Ecarts!C88),\"\")","v":""},{"$f":"IF( Ecarts!$E88=$A$1, IF(Ecarts!F88=\"\",\"\",Ecarts!F88),\"\")","v":""},{"$f":"IF( Ecarts!$E88=$A$1, IF(Ecarts!I88=\"\",\"\",Ecarts!I88),\"\")","v":""},{"$f":"IF( Ecarts!$E88=$A$1, IF(Ecarts!J88=\"\",\"\",Ecarts!J88),\"\")","v":""},{"$f":"IF( Ecarts!$E88=$A$1, IF(Ecarts!K88=\"\",\"\",Ecarts!K88),\"\")","v":""},{"$f":"IF( Ecarts!$E88=$A$1, IF(Ecarts!L88=\"\",\"\",Ecarts!L88),\"\")","v":""},{"$f":"IF( Ecarts!$E88=$A$1, IF(Ecarts!M88=\"\",\"\",Ecarts!M88),\"\")","v":""},0,0]
[{"$f":"IF( Ecarts!$E89=$A$1,IF( Ecarts!B89=\"\",\"\",Ecarts!A89),\"\")","v":""},{"$f":"IF( Ecarts!$E89=$A$1,IF( Ecarts!C89=\"\",\"\",Ecarts!C89),\"\")","v":""},{"$f":"IF( Ecarts!$E89=$A$1, IF(Ecarts!F89=\"\",\"\",Ecarts!F89),\"\")","v":""},{"$f":"IF( Ecarts!$E89=$A$1, IF(Ecarts!I89=\"\",\"\",Ecarts!I89),\"\")","v":""},{"$f":"IF( Ecarts!$E89=$A$1, IF(Ecarts!J89=\"\",\"\",Ecarts!J89),\"\")","v":""},{"$f":"IF( Ecarts!$E89=$A$1, IF(Ecarts!K89=\"\",\"\",Ecarts!K89),\"\")","v":""},{"$f":"IF( Ecarts!$E89=$A$1, IF(Ecarts!L89=\"\",\"\",Ecarts!L89),\"\")","v":""},{"$f":"IF( Ecarts!$E89=$A$1, IF(Ecarts!M89=\"\",\"\",Ecarts!M89),\"\")","v":""},0,0]
[{"$f":"IF( Ecarts!$E90=$A$1,IF( Ecarts!B90=\"\",\"\",Ecarts!A90),\"\")","v":""},{"$f":"IF( Ecarts!$E90=$A$1,IF( Ecarts!C90=\"\",\"\",Ecarts!C90),\"\")","v":""},{"$f":"IF( Ecarts!$E90=$A$1, IF(Ecarts!F90=\"\",\"\",Ecarts!F90),\"\")","v":""},{"$f":"IF( Ecarts!$E90=$A$1, IF(Ecarts!I90=\"\",\"\",Ecarts!I90),\"\")","v":""},{"$f":"IF( Ecarts!$E90=$A$1, IF(Ecarts!J90=\"\",\"\",Ecarts!J90),\"\")","v":""},{"$f":"IF( Ecarts!$E90=$A$1, IF(Ecarts!K90=\"\",\"\",Ecarts!K90),\"\")","v":""},{"$f":"IF( Ecarts!$E90=$A$1, IF(Ecarts!L90=\"\",\"\",Ecarts!L90),\"\")","v":""},{"$f":"IF( Ecarts!$E90=$A$1, IF(Ecarts!M90=\"\",\"\",Ecarts!M90),\"\")","v":""},0,0]
[{"$f":"IF( Ecarts!$E91=$A$1,IF( Ecarts!B91=\"\",\"\",Ecarts!A91),\"\")","v":""},{"$f":"IF( Ecarts!$E91=$A$1,IF( Ecarts!C91=\"\",\"\",Ecarts!C91),\"\")","v":""},{"$f":"IF( Ecarts!$E91=$A$1, IF(Ecarts!F91=\"\",\"\",Ecarts!F91),\"\")","v":""},{"$f":"IF( Ecarts!$E91=$A$1, IF(Ecarts!I91=\"\",\"\",Ecarts!I91),\"\")","v":""},{"$f":"IF( Ecarts!$E91=$A$1, IF(Ecarts!J91=\"\",\"\",Ecarts!J91),\"\")","v":""},{"$f":"IF( Ecarts!$E91=$A$1, IF(Ecarts!K91=\"\",\"\",Ecarts!K91),\"\")","v":""},{"$f":"IF( Ecarts!$E91=$A$1, IF(Ecarts!L91=\"\",\"\",Ecarts!L91),\"\")","v":""},{"$f":"IF( Ecarts!$E91=$A$1, IF(Ecarts!M91=\"\",\"\",Ecarts!M91),\"\")","v":""},0,0]
[{"$f":"IF( Ecarts!$E92=$A$1,IF( Ecarts!B92=\"\",\"\",Ecarts!A92),\"\")","v":""},{"$f":"IF( Ecarts!$E92=$A$1,IF( Ecarts!C92=\"\",\"\",Ecarts!C92),\"\")","v":""},{"$f":"IF( Ecarts!$E92=$A$1, IF(Ecarts!F92=\"\",\"\",Ecarts!F92),\"\")","v":""},{"$f":"IF( Ecarts!$E92=$A$1, IF(Ecarts!I92=\"\",\"\",Ecarts!I92),\"\")","v":""},{"$f":"IF( Ecarts!$E92=$A$1, IF(Ecarts!J92=\"\",\"\",Ecarts!J92),\"\")","v":""},{"$f":"IF( Ecarts!$E92=$A$1, IF(Ecarts!K92=\"\",\"\",Ecarts!K92),\"\")","v":""},{"$f":"IF( Ecarts!$E92=$A$1, IF(Ecarts!L92=\"\",\"\",Ecarts!L92),\"\")","v":""},{"$f":"IF( Ecarts!$E92=$A$1, IF(Ecarts!M92=\"\",\"\",Ecarts!M92),\"\")","v":""},0,0]
[{"$f":"IF( Ecarts!$E93=$A$1,IF( Ecarts!B93=\"\",\"\",Ecarts!A93),\"\")","v":""},{"$f":"IF( Ecarts!$E93=$A$1,IF( Ecarts!C93=\"\",\"\",Ecarts!C93),\"\")","v":""},{"$f":"IF( Ecarts!$E93=$A$1, IF(Ecarts!F93=\"\",\"\",Ecarts!F93),\"\")","v":""},{"$f":"IF( Ecarts!$E93=$A$1, IF(Ecarts!I93=\"\",\"\",Ecarts!I93),\"\")","v":""},{"$f":"IF( Ecarts!$E93=$A$1, IF(Ecarts!J93=\"\",\"\",Ecarts!J93),\"\")","v":""},{"$f":"IF( Ecarts!$E93=$A$1, IF(Ecarts!K93=\"\",\"\",Ecarts!K93),\"\")","v":""},{"$f":"IF( Ecarts!$E93=$A$1, IF(Ecarts!L93=\"\",\"\",Ecarts!L93),\"\")","v":""},{"$f":"IF( Ecarts!$E93=$A$1, IF(Ecarts!M93=\"\",\"\",Ecarts!M93),\"\")","v":""},0,0]
[{"$f":"IF( Ecarts!$E94=$A$1,IF( Ecarts!B94=\"\",\"\",Ecarts!A94),\"\")","v":""},{"$f":"IF( Ecarts!$E94=$A$1,IF( Ecarts!C94=\"\",\"\",Ecarts!C94),\"\")","v":""},{"$f":"IF( Ecarts!$E94=$A$1, IF(Ecarts!F94=\"\",\"\",Ecarts!F94),\"\")","v":""},{"$f":"IF( Ecarts!$E94=$A$1, IF(Ecarts!I94=\"\",\"\",Ecarts!I94),\"\")","v":""},{"$f":"IF( Ecarts!$E94=$A$1, IF(Ecarts!J94=\"\",\"\",Ecarts!J94),\"\")","v":""},{"$f":"IF( Ecarts!$E94=$A$1, IF(Ecarts!K94=\"\",\"\",Ecarts!K94),\"\")","v":""},{"$f":"IF( Ecarts!$E94=$A$1, IF(Ecarts!L94=\"\",\"\",Ecarts!L94),\"\")","v":""},{"$f":"IF( Ecarts!$E94=$A$1, IF(Ecarts!M94=\"\",\"\",Ecarts!M94),\"\")","v":""},0,0]
[{"$f":"IF( Ecarts!$E95=$A$1,IF( Ecarts!B95=\"\",\"\",Ecarts!A95),\"\")","v":""},{"$f":"IF( Ecarts!$E95=$A$1,IF( Ecarts!C95=\"\",\"\",Ecarts!C95),\"\")","v":""},{"$f":"IF( Ecarts!$E95=$A$1, IF(Ecarts!F95=\"\",\"\",Ecarts!F95),\"\")","v":""},{"$f":"IF( Ecarts!$E95=$A$1, IF(Ecarts!I95=\"\",\"\",Ecarts!I95),\"\")","v":""},{"$f":"IF( Ecarts!$E95=$A$1, IF(Ecarts!J95=\"\",\"\",Ecarts!J95),\"\")","v":""},{"$f":"IF( Ecarts!$E95=$A$1, IF(Ecarts!K95=\"\",\"\",Ecarts!K95),\"\")","v":""},{"$f":"IF( Ecarts!$E95=$A$1, IF(Ecarts!L95=\"\",\"\",Ecarts!L95),\"\")","v":""},{"$f":"IF( Ecarts!$E95=$A$1, IF(Ecarts!M95=\"\",\"\",Ecarts!M95),\"\")","v":""},0,0]
[{"$f":"IF( Ecarts!$E96=$A$1,IF( Ecarts!B96=\"\",\"\",Ecarts!A96),\"\")","v":""},{"$f":"IF( Ecarts!$E96=$A$1,IF( Ecarts!C96=\"\",\"\",Ecarts!C96),\"\")","v":""},{"$f":"IF( Ecarts!$E96=$A$1, IF(Ecarts!F96=\"\",\"\",Ecarts!F96),\"\")","v":""},{"$f":"IF( Ecarts!$E96=$A$1, IF(Ecarts!I96=\"\",\"\",Ecarts!I96),\"\")","v":""},{"$f":"IF( Ecarts!$E96=$A$1, IF(Ecarts!J96=\"\",\"\",Ecarts!J96),\"\")","v":""},{"$f":"IF( Ecarts!$E96=$A$1, IF(Ecarts!K96=\"\",\"\",Ecarts!K96),\"\")","v":""},{"$f":"IF( Ecarts!$E96=$A$1, IF(Ecarts!L96=\"\",\"\",Ecarts!L96),\"\")","v":""},{"$f":"IF( Ecarts!$E96=$A$1, IF(Ecarts!M96=\"\",\"\",Ecarts!M96),\"\")","v":""},0,0]
[{"$f":"IF( Ecarts!$E97=$A$1,IF( Ecarts!B97=\"\",\"\",Ecarts!A97),\"\")","v":""},{"$f":"IF( Ecarts!$E97=$A$1,IF( Ecarts!C97=\"\",\"\",Ecarts!C97),\"\")","v":""},{"$f":"IF( Ecarts!$E97=$A$1, IF(Ecarts!F97=\"\",\"\",Ecarts!F97),\"\")","v":""},{"$f":"IF( Ecarts!$E97=$A$1, IF(Ecarts!I97=\"\",\"\",Ecarts!I97),\"\")","v":""},{"$f":"IF( Ecarts!$E97=$A$1, IF(Ecarts!J97=\"\",\"\",Ecarts!J97),\"\")","v":""},{"$f":"IF( Ecarts!$E97=$A$1, IF(Ecarts!K97=\"\",\"\",Ecarts!K97),\"\")","v":""},{"$f":"IF( Ecarts!$E97=$A$1, IF(Ecarts!L97=\"\",\"\",Ecarts!L97),\"\")","v":""},{"$f":"IF( Ecarts!$E97=$A$1, IF(Ecarts!M97=\"\",\"\",Ecarts!M97),\"\")","v":""},0,0]
[{"$f":"IF( Ecarts!$E98=$A$1,IF( Ecarts!B98=\"\",\"\",Ecarts!A98),\"\")","v":""},{"$f":"IF( Ecarts!$E98=$A$1,IF( Ecarts!C98=\"\",\"\",Ecarts!C98),\"\")","v":""},{"$f":"IF( Ecarts!$E98=$A$1, IF(Ecarts!F98=\"\",\"\",Ecarts!F98),\"\")","v":""},{"$f":"IF( Ecarts!$E98=$A$1, IF(Ecarts!I98=\"\",\"\",Ecarts!I98),\"\")","v":""},{"$f":"IF( Ecarts!$E98=$A$1, IF(Ecarts!J98=\"\",\"\",Ecarts!J98),\"\")","v":""},{"$f":"IF( Ecarts!$E98=$A$1, IF(Ecarts!K98=\"\",\"\",Ecarts!K98),\"\")","v":""},{"$f":"IF( Ecarts!$E98=$A$1, IF(Ecarts!L98=\"\",\"\",Ecarts!L98),\"\")","v":""},{"$f":"IF( Ecarts!$E98=$A$1, IF(Ecarts!M98=\"\",\"\",Ecarts!M98),\"\")","v":""},0,0]
[{"$f":"IF( Ecarts!$E99=$A$1,IF( Ecarts!B99=\"\",\"\",Ecarts!A99),\"\")","v":""},{"$f":"IF( Ecarts!$E99=$A$1,IF( Ecarts!C99=\"\",\"\",Ecarts!C99),\"\")","v":""},{"$f":"IF( Ecarts!$E99=$A$1, IF(Ecarts!F99=\"\",\"\",Ecarts!F99),\"\")","v":""},{"$f":"IF( Ecarts!$E99=$A$1, IF(Ecarts!I99=\"\",\"\",Ecarts!I99),\"\")","v":""},{"$f":"IF( Ecarts!$E99=$A$1, IF(Ecarts!J99=\"\",\"\",Ecarts!J99),\"\")","v":""},{"$f":"IF( Ecarts!$E99=$A$1, IF(Ecarts!K99=\"\",\"\",Ecarts!K99),\"\")","v":""},{"$f":"IF( Ecarts!$E99=$A$1, IF(Ecarts!L99=\"\",\"\",Ecarts!L99),\"\")","v":""},{"$f":"IF( Ecarts!$E99=$A$1, IF(Ecarts!M99=\"\",\"\",Ecarts!M99),\"\")","v":""},0,0]
[{"$f":"IF( Ecarts!$E100=$A$1,IF( Ecarts!B100=\"\",\"\",Ecarts!A100),\"\")","v":""},{"$f":"IF( Ecarts!$E100=$A$1,IF( Ecarts!C100=\"\",\"\",Ecarts!C100),\"\")","v":""},{"$f":"IF( Ecarts!$E100=$A$1, IF(Ecarts!F100=\"\",\"\",Ecarts!F100),\"\")","v":""},{"$f":"IF( Ecarts!$E100=$A$1, IF(Ecarts!I100=\"\",\"\",Ecarts!I100),\"\")","v":""},{"$f":"IF( Ecarts!$E100=$A$1, IF(Ecarts!J100=\"\",\"\",Ecarts!J100),\"\")","v":""},{"$f":"IF( Ecarts!$E100=$A$1, IF(Ecarts!K100=\"\",\"\",Ecarts!K100),\"\")","v":""},{"$f":"IF( Ecarts!$E100=$A$1, IF(Ecarts!L100=\"\",\"\",Ecarts!L100),\"\")","v":""},{"$f":"IF( Ecarts!$E100=$A$1, IF(Ecarts!M100=\"\",\"\",Ecarts!M100),\"\")","v":""},0,0]
[{"$f":"IF( Ecarts!$E101=$A$1,IF( Ecarts!B101=\"\",\"\",Ecarts!A101),\"\")","v":""},{"$f":"IF( Ecarts!$E101=$A$1,IF( Ecarts!C101=\"\",\"\",Ecarts!C101),\"\")","v":""},{"$f":"IF( Ecarts!$E101=$A$1, IF(Ecarts!F101=\"\",\"\",Ecarts!F101),\"\")","v":""},{"$f":"IF( Ecarts!$E101=$A$1, IF(Ecarts!I101=\"\",\"\",Ecarts!I101),\"\")","v":""},{"$f":"IF( Ecarts!$E101=$A$1, IF(Ecarts!J101=\"\",\"\",Ecarts!J101),\"\")","v":""},{"$f":"IF( Ecarts!$E101=$A$1, IF(Ecarts!K101=\"\",\"\",Ecarts!K101),\"\")","v":""},{"$f":"IF( Ecarts!$E101=$A$1, IF(Ecarts!L101=\"\",\"\",Ecarts!L101),\"\")","v":""},{"$f":"IF( Ecarts!$E101=$A$1, IF(Ecarts!M101=\"\",\"\",Ecarts!M101),\"\")","v":""},0,0]
[{"$f":"IF( Ecarts!$E102=$A$1,IF( Ecarts!B102=\"\",\"\",Ecarts!A102),\"\")","v":""},{"$f":"IF( Ecarts!$E102=$A$1,IF( Ecarts!C102=\"\",\"\",Ecarts!C102),\"\")","v":""},{"$f":"IF( Ecarts!$E102=$A$1, IF(Ecarts!F102=\"\",\"\",Ecarts!F102),\"\")","v":""},{"$f":"IF( Ecarts!$E102=$A$1, IF(Ecarts!I102=\"\",\"\",Ecarts!I102),\"\")","v":""},{"$f":"IF( Ecarts!$E102=$A$1, IF(Ecarts!J102=\"\",\"\",Ecarts!J102),\"\")","v":""},{"$f":"IF( Ecarts!$E102=$A$1, IF(Ecarts!K102=\"\",\"\",Ecarts!K102),\"\")","v":""},{"$f":"IF( Ecarts!$E102=$A$1, IF(Ecarts!L102=\"\",\"\",Ecarts!L102),\"\")","v":""},{"$f":"IF( Ecarts!$E102=$A$1, IF(Ecarts!M102=\"\",\"\",Ecarts!M102),\"\")","v":""},0,0]
[{"$f":"IF( Ecarts!$E103=$A$1,IF( Ecarts!B103=\"\",\"\",Ecarts!A103),\"\")","v":""},{"$f":"IF( Ecarts!$E103=$A$1,IF( Ecarts!C103=\"\",\"\",Ecarts!C103),\"\")","v":""},{"$f":"IF( Ecarts!$E103=$A$1, IF(Ecarts!F103=\"\",\"\",Ecarts!F103),\"\")","v":""},{"$f":"IF( Ecarts!$E103=$A$1, IF(Ecarts!I103=\"\",\"\",Ecarts!I103),\"\")","v":""},{"$f":"IF( Ecarts!$E103=$A$1, IF(Ecarts!J103=\"\",\"\",Ecarts!J103),\"\")","v":""},{"$f":"IF( Ecarts!$E103=$A$1, IF(Ecarts!K103=\"\",\"\",Ecarts!K103),\"\")","v":""},{"$f":"IF( Ecarts!$E103=$A$1, IF(Ecarts!L103=\"\",\"\",Ecarts!L103),\"\")","v":""},{"$f":"IF( Ecarts!$E103=$A$1, IF(Ecarts!M103=\"\",\"\",Ecarts!M103),\"\")","v":""},0,0]
[{"$f":"IF( Ecarts!$E104=$A$1,IF( Ecarts!B104=\"\",\"\",Ecarts!A104),\"\")","v":""},{"$f":"IF( Ecarts!$E104=$A$1,IF( Ecarts!C104=\"\",\"\",Ecarts!C104),\"\")","v":""},{"$f":"IF( Ecarts!$E104=$A$1, IF(Ecarts!F104=\"\",\"\",Ecarts!F104),\"\")","v":""},{"$f":"IF( Ecarts!$E104=$A$1, IF(Ecarts!I104=\"\",\"\",Ecarts!I104),\"\")","v":""},{"$f":"IF( Ecarts!$E104=$A$1, IF(Ecarts!J104=\"\",\"\",Ecarts!J104),\"\")","v":""},{"$f":"IF( Ecarts!$E104=$A$1, IF(Ecarts!K104=\"\",\"\",Ecarts!K104),\"\")","v":""},{"$f":"IF( Ecarts!$E104=$A$1, IF(Ecarts!L104=\"\",\"\",Ecarts!L104),\"\")","v":""},{"$f":"IF( Ecarts!$E104=$A$1, IF(Ecarts!M104=\"\",\"\",Ecarts!M104),\"\")","v":""},0,0]
[{"$f":"IF( Ecarts!$E105=$A$1,IF( Ecarts!B105=\"\",\"\",Ecarts!A105),\"\")","v":""},{"$f":"IF( Ecarts!$E105=$A$1,IF( Ecarts!C105=\"\",\"\",Ecarts!C105),\"\")","v":""},{"$f":"IF( Ecarts!$E105=$A$1, IF(Ecarts!F105=\"\",\"\",Ecarts!F105),\"\")","v":""},{"$f":"IF( Ecarts!$E105=$A$1, IF(Ecarts!I105=\"\",\"\",Ecarts!I105),\"\")","v":""},{"$f":"IF( Ecarts!$E105=$A$1, IF(Ecarts!J105=\"\",\"\",Ecarts!J105),\"\")","v":""},{"$f":"IF( Ecarts!$E105=$A$1, IF(Ecarts!K105=\"\",\"\",Ecarts!K105),\"\")","v":""},{"$f":"IF( Ecarts!$E105=$A$1, IF(Ecarts!L105=\"\",\"\",Ecarts!L105),\"\")","v":""},{"$f":"IF( Ecarts!$E105=$A$1, IF(Ecarts!M105=\"\",\"\",Ecarts!M105),\"\")","v":""},0,0]
[{"$f":"IF( Ecarts!$E106=$A$1,IF( Ecarts!B106=\"\",\"\",Ecarts!A106),\"\")","v":""},{"$f":"IF( Ecarts!$E106=$A$1,IF( Ecarts!C106=\"\",\"\",Ecarts!C106),\"\")","v":""},{"$f":"IF( Ecarts!$E106=$A$1, IF(Ecarts!F106=\"\",\"\",Ecarts!F106),\"\")","v":""},{"$f":"IF( Ecarts!$E106=$A$1, IF(Ecarts!I106=\"\",\"\",Ecarts!I106),\"\")","v":""},{"$f":"IF( Ecarts!$E106=$A$1, IF(Ecarts!J106=\"\",\"\",Ecarts!J106),\"\")","v":""},{"$f":"IF( Ecarts!$E106=$A$1, IF(Ecarts!K106=\"\",\"\",Ecarts!K106),\"\")","v":""},{"$f":"IF( Ecarts!$E106=$A$1, IF(Ecarts!L106=\"\",\"\",Ecarts!L106),\"\")","v":""},{"$f":"IF( Ecarts!$E106=$A$1, IF(Ecarts!M106=\"\",\"\",Ecarts!M106),\"\")","v":""},0,0]
[{"$f":"IF( Ecarts!$E107=$A$1,IF( Ecarts!B107=\"\",\"\",Ecarts!A107),\"\")","v":""},{"$f":"IF( Ecarts!$E107=$A$1,IF( Ecarts!C107=\"\",\"\",Ecarts!C107),\"\")","v":""},{"$f":"IF( Ecarts!$E107=$A$1, IF(Ecarts!F107=\"\",\"\",Ecarts!F107),\"\")","v":""},{"$f":"IF( Ecarts!$E107=$A$1, IF(Ecarts!I107=\"\",\"\",Ecarts!I107),\"\")","v":""},{"$f":"IF( Ecarts!$E107=$A$1, IF(Ecarts!J107=\"\",\"\",Ecarts!J107),\"\")","v":""},{"$f":"IF( Ecarts!$E107=$A$1, IF(Ecarts!K107=\"\",\"\",Ecarts!K107),\"\")","v":""},{"$f":"IF( Ecarts!$E107=$A$1, IF(Ecarts!L107=\"\",\"\",Ecarts!L107),\"\")","v":""},{"$f":"IF( Ecarts!$E107=$A$1, IF(Ecarts!M107=\"\",\"\",Ecarts!M107),\"\")","v":""},0,0]
[{"$f":"IF( Ecarts!$E108=$A$1,IF( Ecarts!B108=\"\",\"\",Ecarts!A108),\"\")","v":""},{"$f":"IF( Ecarts!$E108=$A$1,IF( Ecarts!C108=\"\",\"\",Ecarts!C108),\"\")","v":""},{"$f":"IF( Ecarts!$E108=$A$1, IF(Ecarts!F108=\"\",\"\",Ecarts!F108),\"\")","v":""},{"$f":"IF( Ecarts!$E108=$A$1, IF(Ecarts!I108=\"\",\"\",Ecarts!I108),\"\")","v":""},{"$f":"IF( Ecarts!$E108=$A$1, IF(Ecarts!J108=\"\",\"\",Ecarts!J108),\"\")","v":""},{"$f":"IF( Ecarts!$E108=$A$1, IF(Ecarts!K108=\"\",\"\",Ecarts!K108),\"\")","v":""},{"$f":"IF( Ecarts!$E108=$A$1, IF(Ecarts!L108=\"\",\"\",Ecarts!L108),\"\")","v":""},{"$f":"IF( Ecarts!$E108=$A$1, IF(Ecarts!M108=\"\",\"\",Ecarts!M108),\"\")","v":""},0,0]
[{"$f":"IF( Ecarts!$E109=$A$1,IF( Ecarts!B109=\"\",\"\",Ecarts!A109),\"\")","v":""},{"$f":"IF( Ecarts!$E109=$A$1,IF( Ecarts!C109=\"\",\"\",Ecarts!C109),\"\")","v":""},{"$f":"IF( Ecarts!$E109=$A$1, IF(Ecarts!F109=\"\",\"\",Ecarts!F109),\"\")","v":""},{"$f":"IF( Ecarts!$E109=$A$1, IF(Ecarts!I109=\"\",\"\",Ecarts!I109),\"\")","v":""},{"$f":"IF( Ecarts!$E109=$A$1, IF(Ecarts!J109=\"\",\"\",Ecarts!J109),\"\")","v":""},{"$f":"IF( Ecarts!$E109=$A$1, IF(Ecarts!K109=\"\",\"\",Ecarts!K109),\"\")","v":""},{"$f":"IF( Ecarts!$E109=$A$1, IF(Ecarts!L109=\"\",\"\",Ecarts!L109),\"\")","v":""},{"$f":"IF( Ecarts!$E109=$A$1, IF(Ecarts!M109=\"\",\"\",Ecarts!M109),\"\")","v":""},0,0]
[{"$f":"IF( Ecarts!$E110=$A$1,IF( Ecarts!B110=\"\",\"\",Ecarts!A110),\"\")","v":""},{"$f":"IF( Ecarts!$E110=$A$1,IF( Ecarts!C110=\"\",\"\",Ecarts!C110),\"\")","v":""},{"$f":"IF( Ecarts!$E110=$A$1, IF(Ecarts!F110=\"\",\"\",Ecarts!F110),\"\")","v":""},{"$f":"IF( Ecarts!$E110=$A$1, IF(Ecarts!I110=\"\",\"\",Ecarts!I110),\"\")","v":""},{"$f":"IF( Ecarts!$E110=$A$1, IF(Ecarts!J110=\"\",\"\",Ecarts!J110),\"\")","v":""},{"$f":"IF( Ecarts!$E110=$A$1, IF(Ecarts!K110=\"\",\"\",Ecarts!K110),\"\")","v":""},{"$f":"IF( Ecarts!$E110=$A$1, IF(Ecarts!L110=\"\",\"\",Ecarts!L110),\"\")","v":""},{"$f":"IF( Ecarts!$E110=$A$1, IF(Ecarts!M110=\"\",\"\",Ecarts!M110),\"\")","v":""},0,0]
[{"$f":"IF( Ecarts!$E111=$A$1,IF( Ecarts!B111=\"\",\"\",Ecarts!A111),\"\")","v":""},{"$f":"IF( Ecarts!$E111=$A$1,IF( Ecarts!C111=\"\",\"\",Ecarts!C111),\"\")","v":""},{"$f":"IF( Ecarts!$E111=$A$1, IF(Ecarts!F111=\"\",\"\",Ecarts!F111),\"\")","v":""},{"$f":"IF( Ecarts!$E111=$A$1, IF(Ecarts!I111=\"\",\"\",Ecarts!I111),\"\")","v":""},{"$f":"IF( Ecarts!$E111=$A$1, IF(Ecarts!J111=\"\",\"\",Ecarts!J111),\"\")","v":""},{"$f":"IF( Ecarts!$E111=$A$1, IF(Ecarts!K111=\"\",\"\",Ecarts!K111),\"\")","v":""},{"$f":"IF( Ecarts!$E111=$A$1, IF(Ecarts!L111=\"\",\"\",Ecarts!L111),\"\")","v":""},{"$f":"IF( Ecarts!$E111=$A$1, IF(Ecarts!M111=\"\",\"\",Ecarts!M111),\"\")","v":""},0,0]
[{"$f":"IF( Ecarts!$E112=$A$1,IF( Ecarts!B112=\"\",\"\",Ecarts!A112),\"\")","v":""},{"$f":"IF( Ecarts!$E112=$A$1,IF( Ecarts!C112=\"\",\"\",Ecarts!C112),\"\")","v":""},{"$f":"IF( Ecarts!$E112=$A$1, IF(Ecarts!F112=\"\",\"\",Ecarts!F112),\"\")","v":""},{"$f":"IF( Ecarts!$E112=$A$1, IF(Ecarts!I112=\"\",\"\",Ecarts!I112),\"\")","v":""},{"$f":"IF( Ecarts!$E112=$A$1, IF(Ecarts!J112=\"\",\"\",Ecarts!J112),\"\")","v":""},{"$f":"IF( Ecarts!$E112=$A$1, IF(Ecarts!K112=\"\",\"\",Ecarts!K112),\"\")","v":""},{"$f":"IF( Ecarts!$E112=$A$1, IF(Ecarts!L112=\"\",\"\",Ecarts!L112),\"\")","v":""},{"$f":"IF( Ecarts!$E112=$A$1, IF(Ecarts!M112=\"\",\"\",Ecarts!M112),\"\")","v":""},0,0]
[{"$f":"IF( Ecarts!$E113=$A$1,IF( Ecarts!B113=\"\",\"\",Ecarts!A113),\"\")","v":""},{"$f":"IF( Ecarts!$E113=$A$1,IF( Ecarts!C113=\"\",\"\",Ecarts!C113),\"\")","v":""},{"$f":"IF( Ecarts!$E113=$A$1, IF(Ecarts!F113=\"\",\"\",Ecarts!F113),\"\")","v":""},{"$f":"IF( Ecarts!$E113=$A$1, IF(Ecarts!I113=\"\",\"\",Ecarts!I113),\"\")","v":""},{"$f":"IF( Ecarts!$E113=$A$1, IF(Ecarts!J113=\"\",\"\",Ecarts!J113),\"\")","v":""},{"$f":"IF( Ecarts!$E113=$A$1, IF(Ecarts!K113=\"\",\"\",Ecarts!K113),\"\")","v":""},{"$f":"IF( Ecarts!$E113=$A$1, IF(Ecarts!L113=\"\",\"\",Ecarts!L113),\"\")","v":""},{"$f":"IF( Ecarts!$E113=$A$1, IF(Ecarts!M113=\"\",\"\",Ecarts!M113),\"\")","v":""},0,0]
[{"$f":"IF( Ecarts!$E114=$A$1,IF( Ecarts!B114=\"\",\"\",Ecarts!A114),\"\")","v":""},{"$f":"IF( Ecarts!$E114=$A$1,IF( Ecarts!C114=\"\",\"\",Ecarts!C114),\"\")","v":""},{"$f":"IF( Ecarts!$E114=$A$1, IF(Ecarts!F114=\"\",\"\",Ecarts!F114),\"\")","v":""},{"$f":"IF( Ecarts!$E114=$A$1, IF(Ecarts!I114=\"\",\"\",Ecarts!I114),\"\")","v":""},{"$f":"IF( Ecarts!$E114=$A$1, IF(Ecarts!J114=\"\",\"\",Ecarts!J114),\"\")","v":""},{"$f":"IF( Ecarts!$E114=$A$1, IF(Ecarts!K114=\"\",\"\",Ecarts!K114),\"\")","v":""},{"$f":"IF( Ecarts!$E114=$A$1, IF(Ecarts!L114=\"\",\"\",Ecarts!L114),\"\")","v":""},{"$f":"IF( Ecarts!$E114=$A$1, IF(Ecarts!M114=\"\",\"\",Ecarts!M114),\"\")","v":""},0,0]
[{"$f":"IF( Ecarts!$E115=$A$1,IF( Ecarts!B115=\"\",\"\",Ecarts!A115),\"\")","v":""},{"$f":"IF( Ecarts!$E115=$A$1,IF( Ecarts!C115=\"\",\"\",Ecarts!C115),\"\")","v":""},{"$f":"IF( Ecarts!$E115=$A$1, IF(Ecarts!F115=\"\",\"\",Ecarts!F115),\"\")","v":""},{"$f":"IF( Ecarts!$E115=$A$1, IF(Ecarts!I115=\"\",\"\",Ecarts!I115),\"\")","v":""},{"$f":"IF( Ecarts!$E115=$A$1, IF(Ecarts!J115=\"\",\"\",Ecarts!J115),\"\")","v":""},{"$f":"IF( Ecarts!$E115=$A$1, IF(Ecarts!K115=\"\",\"\",Ecarts!K115),\"\")","v":""},{"$f":"IF( Ecarts!$E115=$A$1, IF(Ecarts!L115=\"\",\"\",Ecarts!L115),\"\")","v":""},{"$f":"IF( Ecarts!$E115=$A$1, IF(Ecarts!M115=\"\",\"\",Ecarts!M115),\"\")","v":""},0,0]
[{"$f":"IF( Ecarts!$E116=$A$1,IF( Ecarts!B116=\"\",\"\",Ecarts!A116),\"\")","v":""},{"$f":"IF( Ecarts!$E116=$A$1,IF( Ecarts!C116=\"\",\"\",Ecarts!C116),\"\")","v":""},{"$f":"IF( Ecarts!$E116=$A$1, IF(Ecarts!F116=\"\",\"\",Ecarts!F116),\"\")","v":""},{"$f":"IF( Ecarts!$E116=$A$1, IF(Ecarts!I116=\"\",\"\",Ecarts!I116),\"\")","v":""},{"$f":"IF( Ecarts!$E116=$A$1, IF(Ecarts!J116=\"\",\"\",Ecarts!J116),\"\")","v":""},{"$f":"IF( Ecarts!$E116=$A$1, IF(Ecarts!K116=\"\",\"\",Ecarts!K116),\"\")","v":""},{"$f":"IF( Ecarts!$E116=$A$1, IF(Ecarts!L116=\"\",\"\",Ecarts!L116),\"\")","v":""},{"$f":"IF( Ecarts!$E116=$A$1, IF(Ecarts!M116=\"\",\"\",Ecarts!M116),\"\")","v":""},0,0]
[{"$f":"IF( Ecarts!$E117=$A$1,IF( Ecarts!B117=\"\",\"\",Ecarts!A117),\"\")","v":""},{"$f":"IF( Ecarts!$E117=$A$1,IF( Ecarts!C117=\"\",\"\",Ecarts!C117),\"\")","v":""},{"$f":"IF( Ecarts!$E117=$A$1, IF(Ecarts!F117=\"\",\"\",Ecarts!F117),\"\")","v":""},{"$f":"IF( Ecarts!$E117=$A$1, IF(Ecarts!I117=\"\",\"\",Ecarts!I117),\"\")","v":""},{"$f":"IF( Ecarts!$E117=$A$1, IF(Ecarts!J117=\"\",\"\",Ecarts!J117),\"\")","v":""},{"$f":"IF( Ecarts!$E117=$A$1, IF(Ecarts!K117=\"\",\"\",Ecarts!K117),\"\")","v":""},{"$f":"IF( Ecarts!$E117=$A$1, IF(Ecarts!L117=\"\",\"\",Ecarts!L117),\"\")","v":""},{"$f":"IF( Ecarts!$E117=$A$1, IF(Ecarts!M117=\"\",\"\",Ecarts!M117),\"\")","v":""},0,0]
[{"$f":"IF( Ecarts!$E118=$A$1,IF( Ecarts!B118=\"\",\"\",Ecarts!A118),\"\")","v":""},{"$f":"IF( Ecarts!$E118=$A$1,IF( Ecarts!C118=\"\",\"\",Ecarts!C118),\"\")","v":""},{"$f":"IF( Ecarts!$E118=$A$1, IF(Ecarts!F118=\"\",\"\",Ecarts!F118),\"\")","v":""},{"$f":"IF( Ecarts!$E118=$A$1, IF(Ecarts!I118=\"\",\"\",Ecarts!I118),\"\")","v":""},{"$f":"IF( Ecarts!$E118=$A$1, IF(Ecarts!J118=\"\",\"\",Ecarts!J118),\"\")","v":""},{"$f":"IF( Ecarts!$E118=$A$1, IF(Ecarts!K118=\"\",\"\",Ecarts!K118),\"\")","v":""},{"$f":"IF( Ecarts!$E118=$A$1, IF(Ecarts!L118=\"\",\"\",Ecarts!L118),\"\")","v":""},{"$f":"IF( Ecarts!$E118=$A$1, IF(Ecarts!M118=\"\",\"\",Ecarts!M118),\"\")","v":""},0,0]
[{"$f":"IF( Ecarts!$E119=$A$1,IF( Ecarts!B119=\"\",\"\",Ecarts!A119),\"\")","v":""},{"$f":"IF( Ecarts!$E119=$A$1,IF( Ecarts!C119=\"\",\"\",Ecarts!C119),\"\")","v":""},{"$f":"IF( Ecarts!$E119=$A$1, IF(Ecarts!F119=\"\",\"\",Ecarts!F119),\"\")","v":""},{"$f":"IF( Ecarts!$E119=$A$1, IF(Ecarts!I119=\"\",\"\",Ecarts!I119),\"\")","v":""},{"$f":"IF( Ecarts!$E119=$A$1, IF(Ecarts!J119=\"\",\"\",Ecarts!J119),\"\")","v":""},{"$f":"IF( Ecarts!$E119=$A$1, IF(Ecarts!K119=\"\",\"\",Ecarts!K119),\"\")","v":""},{"$f":"IF( Ecarts!$E119=$A$1, IF(Ecarts!L119=\"\",\"\",Ecarts!L119),\"\")","v":""},{"$f":"IF( Ecarts!$E119=$A$1, IF(Ecarts!M119=\"\",\"\",Ecarts!M119),\"\")","v":""},0,0]
[{"$f":"IF( Ecarts!$E120=$A$1,IF( Ecarts!B120=\"\",\"\",Ecarts!A120),\"\")","v":""},{"$f":"IF( Ecarts!$E120=$A$1,IF( Ecarts!C120=\"\",\"\",Ecarts!C120),\"\")","v":""},{"$f":"IF( Ecarts!$E120=$A$1, IF(Ecarts!F120=\"\",\"\",Ecarts!F120),\"\")","v":""},{"$f":"IF( Ecarts!$E120=$A$1, IF(Ecarts!I120=\"\",\"\",Ecarts!I120),\"\")","v":""},{"$f":"IF( Ecarts!$E120=$A$1, IF(Ecarts!J120=\"\",\"\",Ecarts!J120),\"\")","v":""},{"$f":"IF( Ecarts!$E120=$A$1, IF(Ecarts!K120=\"\",\"\",Ecarts!K120),\"\")","v":""},{"$f":"IF( Ecarts!$E120=$A$1, IF(Ecarts!L120=\"\",\"\",Ecarts!L120),\"\")","v":""},{"$f":"IF( Ecarts!$E120=$A$1, IF(Ecarts!M120=\"\",\"\",Ecarts!M120),\"\")","v":""},0,0]
[{"$f":"IF( Ecarts!$E121=$A$1,IF( Ecarts!B121=\"\",\"\",Ecarts!A121),\"\")","v":""},{"$f":"IF( Ecarts!$E121=$A$1,IF( Ecarts!C121=\"\",\"\",Ecarts!C121),\"\")","v":""},{"$f":"IF( Ecarts!$E121=$A$1, IF(Ecarts!F121=\"\",\"\",Ecarts!F121),\"\")","v":""},{"$f":"IF( Ecarts!$E121=$A$1, IF(Ecarts!I121=\"\",\"\",Ecarts!I121),\"\")","v":""},{"$f":"IF( Ecarts!$E121=$A$1, IF(Ecarts!J121=\"\",\"\",Ecarts!J121),\"\")","v":""},{"$f":"IF( Ecarts!$E121=$A$1, IF(Ecarts!K121=\"\",\"\",Ecarts!K121),\"\")","v":""},{"$f":"IF( Ecarts!$E121=$A$1, IF(Ecarts!L121=\"\",\"\",Ecarts!L121),\"\")","v":""},{"$f":"IF( Ecarts!$E121=$A$1, IF(Ecarts!M121=\"\",\"\",Ecarts!M121),\"\")","v":""},0,0]
[{"$f":"IF( Ecarts!$E122=$A$1,IF( Ecarts!B122=\"\",\"\",Ecarts!A122),\"\")","v":""},{"$f":"IF( Ecarts!$E122=$A$1,IF( Ecarts!C122=\"\",\"\",Ecarts!C122),\"\")","v":""},{"$f":"IF( Ecarts!$E122=$A$1, IF(Ecarts!F122=\"\",\"\",Ecarts!F122),\"\")","v":""},{"$f":"IF( Ecarts!$E122=$A$1, IF(Ecarts!I122=\"\",\"\",Ecarts!I122),\"\")","v":""},{"$f":"IF( Ecarts!$E122=$A$1, IF(Ecarts!J122=\"\",\"\",Ecarts!J122),\"\")","v":""},{"$f":"IF( Ecarts!$E122=$A$1, IF(Ecarts!K122=\"\",\"\",Ecarts!K122),\"\")","v":""},{"$f":"IF( Ecarts!$E122=$A$1, IF(Ecarts!L122=\"\",\"\",Ecarts!L122),\"\")","v":""},{"$f":"IF( Ecarts!$E122=$A$1, IF(Ecarts!M122=\"\",\"\",Ecarts!M122),\"\")","v":""},0,0]
[{"$f":"IF( Ecarts!$E123=$A$1,IF( Ecarts!B123=\"\",\"\",Ecarts!A123),\"\")","v":""},{"$f":"IF( Ecarts!$E123=$A$1,IF( Ecarts!C123=\"\",\"\",Ecarts!C123),\"\")","v":""},{"$f":"IF( Ecarts!$E123=$A$1, IF(Ecarts!F123=\"\",\"\",Ecarts!F123),\"\")","v":""},{"$f":"IF( Ecarts!$E123=$A$1, IF(Ecarts!I123=\"\",\"\",Ecarts!I123),\"\")","v":""},{"$f":"IF( Ecarts!$E123=$A$1, IF(Ecarts!J123=\"\",\"\",Ecarts!J123),\"\")","v":""},{"$f":"IF( Ecarts!$E123=$A$1, IF(Ecarts!K123=\"\",\"\",Ecarts!K123),\"\")","v":""},{"$f":"IF( Ecarts!$E123=$A$1, IF(Ecarts!L123=\"\",\"\",Ecarts!L123),\"\")","v":""},{"$f":"IF( Ecarts!$E123=$A$1, IF(Ecarts!M123=\"\",\"\",Ecarts!M123),\"\")","v":""},0,0]
[{"$f":"IF( Ecarts!$E124=$A$1,IF( Ecarts!B124=\"\",\"\",Ecarts!A124),\"\")","v":""},{"$f":"IF( Ecarts!$E124=$A$1,IF( Ecarts!C124=\"\",\"\",Ecarts!C124),\"\")","v":""},{"$f":"IF( Ecarts!$E124=$A$1, IF(Ecarts!F124=\"\",\"\",Ecarts!F124),\"\")","v":""},{"$f":"IF( Ecarts!$E124=$A$1, IF(Ecarts!I124=\"\",\"\",Ecarts!I124),\"\")","v":""},{"$f":"IF( Ecarts!$E124=$A$1, IF(Ecarts!J124=\"\",\"\",Ecarts!J124),\"\")","v":""},{"$f":"IF( Ecarts!$E124=$A$1, IF(Ecarts!K124=\"\",\"\",Ecarts!K124),\"\")","v":""},{"$f":"IF( Ecarts!$E124=$A$1, IF(Ecarts!L124=\"\",\"\",Ecarts!L124),\"\")","v":""},{"$f":"IF( Ecarts!$E124=$A$1, IF(Ecarts!M124=\"\",\"\",Ecarts!M124),\"\")","v":""},0,0]
[{"$f":"IF( Ecarts!$E125=$A$1,IF( Ecarts!B125=\"\",\"\",Ecarts!A125),\"\")","v":""},{"$f":"IF( Ecarts!$E125=$A$1,IF( Ecarts!C125=\"\",\"\",Ecarts!C125),\"\")","v":""},{"$f":"IF( Ecarts!$E125=$A$1, IF(Ecarts!F125=\"\",\"\",Ecarts!F125),\"\")","v":""},{"$f":"IF( Ecarts!$E125=$A$1, IF(Ecarts!I125=\"\",\"\",Ecarts!I125),\"\")","v":""},{"$f":"IF( Ecarts!$E125=$A$1, IF(Ecarts!J125=\"\",\"\",Ecarts!J125),\"\")","v":""},{"$f":"IF( Ecarts!$E125=$A$1, IF(Ecarts!K125=\"\",\"\",Ecarts!K125),\"\")","v":""},{"$f":"IF( Ecarts!$E125=$A$1, IF(Ecarts!L125=\"\",\"\",Ecarts!L125),\"\")","v":""},{"$f":"IF( Ecarts!$E125=$A$1, IF(Ecarts!M125=\"\",\"\",Ecarts!M125),\"\")","v":""},0,0]
[{"$f":"IF( Ecarts!$E126=$A$1,IF( Ecarts!B126=\"\",\"\",Ecarts!A126),\"\")","v":""},{"$f":"IF( Ecarts!$E126=$A$1,IF( Ecarts!C126=\"\",\"\",Ecarts!C126),\"\")","v":""},{"$f":"IF( Ecarts!$E126=$A$1, IF(Ecarts!F126=\"\",\"\",Ecarts!F126),\"\")","v":""},{"$f":"IF( Ecarts!$E126=$A$1, IF(Ecarts!I126=\"\",\"\",Ecarts!I126),\"\")","v":""},{"$f":"IF( Ecarts!$E126=$A$1, IF(Ecarts!J126=\"\",\"\",Ecarts!J126),\"\")","v":""},{"$f":"IF( Ecarts!$E126=$A$1, IF(Ecarts!K126=\"\",\"\",Ecarts!K126),\"\")","v":""},{"$f":"IF( Ecarts!$E126=$A$1, IF(Ecarts!L126=\"\",\"\",Ecarts!L126),\"\")","v":""},{"$f":"IF( Ecarts!$E126=$A$1, IF(Ecarts!M126=\"\",\"\",Ecarts!M126),\"\")","v":""},0,0]
[{"$f":"IF( Ecarts!$E127=$A$1,IF( Ecarts!B127=\"\",\"\",Ecarts!A127),\"\")","v":""},{"$f":"IF( Ecarts!$E127=$A$1,IF( Ecarts!C127=\"\",\"\",Ecarts!C127),\"\")","v":""},{"$f":"IF( Ecarts!$E127=$A$1, IF(Ecarts!F127=\"\",\"\",Ecarts!F127),\"\")","v":""},{"$f":"IF( Ecarts!$E127=$A$1, IF(Ecarts!I127=\"\",\"\",Ecarts!I127),\"\")","v":""},{"$f":"IF( Ecarts!$E127=$A$1, IF(Ecarts!J127=\"\",\"\",Ecarts!J127),\"\")","v":""},{"$f":"IF( Ecarts!$E127=$A$1, IF(Ecarts!K127=\"\",\"\",Ecarts!K127),\"\")","v":""},{"$f":"IF( Ecarts!$E127=$A$1, IF(Ecarts!L127=\"\",\"\",Ecarts!L127),\"\")","v":""},{"$f":"IF( Ecarts!$E127=$A$1, IF(Ecarts!M127=\"\",\"\",Ecarts!M127),\"\")","v":""},0,0]
[{"$f":"IF( Ecarts!$E128=$A$1,IF( Ecarts!B128=\"\",\"\",Ecarts!A128),\"\")","v":""},{"$f":"IF( Ecarts!$E128=$A$1,IF( Ecarts!C128=\"\",\"\",Ecarts!C128),\"\")","v":""},{"$f":"IF( Ecarts!$E128=$A$1, IF(Ecarts!F128=\"\",\"\",Ecarts!F128),\"\")","v":""},{"$f":"IF( Ecarts!$E128=$A$1, IF(Ecarts!I128=\"\",\"\",Ecarts!I128),\"\")","v":""},{"$f":"IF( Ecarts!$E128=$A$1, IF(Ecarts!J128=\"\",\"\",Ecarts!J128),\"\")","v":""},{"$f":"IF( Ecarts!$E128=$A$1, IF(Ecarts!K128=\"\",\"\",Ecarts!K128),\"\")","v":""},{"$f":"IF( Ecarts!$E128=$A$1, IF(Ecarts!L128=\"\",\"\",Ecarts!L128),\"\")","v":""},{"$f":"IF( Ecarts!$E128=$A$1, IF(Ecarts!M128=\"\",\"\",Ecarts!M128),\"\")","v":""},0,0]
[{"$f":"IF( Ecarts!$E129=$A$1,IF( Ecarts!B129=\"\",\"\",Ecarts!A129),\"\")","v":""},{"$f":"IF( Ecarts!$E129=$A$1,IF( Ecarts!C129=\"\",\"\",Ecarts!C129),\"\")","v":""},{"$f":"IF( Ecarts!$E129=$A$1, IF(Ecarts!F129=\"\",\"\",Ecarts!F129),\"\")","v":""},{"$f":"IF( Ecarts!$E129=$A$1, IF(Ecarts!I129=\"\",\"\",Ecarts!I129),\"\")","v":""},{"$f":"IF( Ecarts!$E129=$A$1, IF(Ecarts!J129=\"\",\"\",Ecarts!J129),\"\")","v":""},{"$f":"IF( Ecarts!$E129=$A$1, IF(Ecarts!K129=\"\",\"\",Ecarts!K129),\"\")","v":""},{"$f":"IF( Ecarts!$E129=$A$1, IF(Ecarts!L129=\"\",\"\",Ecarts!L129),\"\")","v":""},{"$f":"IF( Ecarts!$E129=$A$1, IF(Ecarts!M129=\"\",\"\",Ecarts!M129),\"\")","v":""},0,0]
[{"$f":"IF( Ecarts!$E130=$A$1,IF( Ecarts!B130=\"\",\"\",Ecarts!A130),\"\")","v":""},{"$f":"IF( Ecarts!$E130=$A$1,IF( Ecarts!C130=\"\",\"\",Ecarts!C130),\"\")","v":""},{"$f":"IF( Ecarts!$E130=$A$1, IF(Ecarts!F130=\"\",\"\",Ecarts!F130),\"\")","v":""},{"$f":"IF( Ecarts!$E130=$A$1, IF(Ecarts!I130=\"\",\"\",Ecarts!I130),\"\")","v":""},{"$f":"IF( Ecarts!$E130=$A$1, IF(Ecarts!J130=\"\",\"\",Ecarts!J130),\"\")","v":""},{"$f":"IF( Ecarts!$E130=$A$1, IF(Ecarts!K130=\"\",\"\",Ecarts!K130),\"\")","v":""},{"$f":"IF( Ecarts!$E130=$A$1, IF(Ecarts!L130=\"\",\"\",Ecarts!L130),\"\")","v":""},{"$f":"IF( Ecarts!$E130=$A$1, IF(Ecarts!M130=\"\",\"\",Ecarts!M130),\"\")","v":""},0,0]
[{"$f":"IF( Ecarts!$E131=$A$1,IF( Ecarts!B131=\"\",\"\",Ecarts!A131),\"\")","v":""},{"$f":"IF( Ecarts!$E131=$A$1,IF( Ecarts!C131=\"\",\"\",Ecarts!C131),\"\")","v":""},{"$f":"IF( Ecarts!$E131=$A$1, IF(Ecarts!F131=\"\",\"\",Ecarts!F131),\"\")","v":""},{"$f":"IF( Ecarts!$E131=$A$1, IF(Ecarts!I131=\"\",\"\",Ecarts!I131),\"\")","v":""},{"$f":"IF( Ecarts!$E131=$A$1, IF(Ecarts!J131=\"\",\"\",Ecarts!J131),\"\")","v":""},{"$f":"IF( Ecarts!$E131=$A$1, IF(Ecarts!K131=\"\",\"\",Ecarts!K131),\"\")","v":""},{"$f":"IF( Ecarts!$E131=$A$1, IF(Ecarts!L131=\"\",\"\",Ecarts!L131),\"\")","v":""},{"$f":"IF( Ecarts!$E131=$A$1, IF(Ecarts!M131=\"\",\"\",Ecarts!M131),\"\")","v":""},0,0]
[{"$f":"IF( Ecarts!$E132=$A$1,IF( Ecarts!B132=\"\",\"\",Ecarts!A132),\"\")","v":""},{"$f":"IF( Ecarts!$E132=$A$1,IF( Ecarts!C132=\"\",\"\",Ecarts!C132),\"\")","v":""},{"$f":"IF( Ecarts!$E132=$A$1, IF(Ecarts!F132=\"\",\"\",Ecarts!F132),\"\")","v":""},{"$f":"IF( Ecarts!$E132=$A$1, IF(Ecarts!I132=\"\",\"\",Ecarts!I132),\"\")","v":""},{"$f":"IF( Ecarts!$E132=$A$1, IF(Ecarts!J132=\"\",\"\",Ecarts!J132),\"\")","v":""},{"$f":"IF( Ecarts!$E132=$A$1, IF(Ecarts!K132=\"\",\"\",Ecarts!K132),\"\")","v":""},{"$f":"IF( Ecarts!$E132=$A$1, IF(Ecarts!L132=\"\",\"\",Ecarts!L132),\"\")","v":""},{"$f":"IF( Ecarts!$E132=$A$1, IF(Ecarts!M132=\"\",\"\",Ecarts!M132),\"\")","v":""},{"$f":"IF(B133=\"\",0,IF(G133=1,0,1))","v":0},{"$f":"IF(F133=\"\",0,IF(F133>(TODAY()-60),1,0))","v":0}]
[{"$f":"IF( Ecarts!$E133=$A$1,IF( Ecarts!B133=\"\",\"\",Ecarts!A133),\"\")","v":""},{"$f":"IF( Ecarts!$E133=$A$1,IF( Ecarts!C133=\"\",\"\",Ecarts!C133),\"\")","v":""},{"$f":"IF( Ecarts!$E133=$A$1, IF(Ecarts!F133=\"\",\"\",Ecarts!F133),\"\")","v":""},{"$f":"IF( Ecarts!$E133=$A$1, IF(Ecarts!I133=\"\",\"\",Ecarts!I133),\"\")","v":""},{"$f":"IF( Ecarts!$E133=$A$1, IF(Ecarts!J133=\"\",\"\",Ecarts!J133),\"\")","v":""},{"$f":"IF( Ecarts!$E133=$A$1, IF(Ecarts!K133=\"\",\"\",Ecarts!K133),\"\")","v":""},{"$f":"IF( Ecarts!$E133=$A$1, IF(Ecarts!L133=\"\",\"\",Ecarts!L133),\"\")","v":""},{"$f":"IF( Ecarts!$E133=$A$1, IF(Ecarts!M133=\"\",\"\",Ecarts!M133),\"\")","v":""},0,0]
[{"$f":"IF( Ecarts!$E134=$A$1,IF( Ecarts!B134=\"\",\"\",Ecarts!A134),\"\")","v":""},{"$f":"IF( Ecarts!$E134=$A$1,IF( Ecarts!C134=\"\",\"\",Ecarts!C134),\"\")","v":""},{"$f":"IF( Ecarts!$E134=$A$1, IF(Ecarts!F134=\"\",\"\",Ecarts!F134),\"\")","v":""},{"$f":"IF( Ecarts!$E134=$A$1, IF(Ecarts!I134=\"\",\"\",Ecarts!I134),\"\")","v":""},{"$f":"IF( Ecarts!$E134=$A$1, IF(Ecarts!J134=\"\",\"\",Ecarts!J134),\"\")","v":""},{"$f":"IF( Ecarts!$E134=$A$1, IF(Ecarts!K134=\"\",\"\",Ecarts!K134),\"\")","v":""},{"$f":"IF( Ecarts!$E134=$A$1, IF(Ecarts!L134=\"\",\"\",Ecarts!L134),\"\")","v":""},{"$f":"IF( Ecarts!$E134=$A$1, IF(Ecarts!M134=\"\",\"\",Ecarts!M134),\"\")","v":""},0,0]
[{"$f":"IF( Ecarts!$E135=$A$1,IF( Ecarts!B135=\"\",\"\",Ecarts!A135),\"\")","v":""},{"$f":"IF( Ecarts!$E135=$A$1,IF( Ecarts!C135=\"\",\"\",Ecarts!C135),\"\")","v":""},{"$f":"IF( Ecarts!$E135=$A$1, IF(Ecarts!F135=\"\",\"\",Ecarts!F135),\"\")","v":""},{"$f":"IF( Ecarts!$E135=$A$1, IF(Ecarts!I135=\"\",\"\",Ecarts!I135),\"\")","v":""},{"$f":"IF( Ecarts!$E135=$A$1, IF(Ecarts!J135=\"\",\"\",Ecarts!J135),\"\")","v":""},{"$f":"IF( Ecarts!$E135=$A$1, IF(Ecarts!K135=\"\",\"\",Ecarts!K135),\"\")","v":""},{"$f":"IF( Ecarts!$E135=$A$1, IF(Ecarts!L135=\"\",\"\",Ecarts!L135),\"\")","v":""},{"$f":"IF( Ecarts!$E135=$A$1, IF(Ecarts!M135=\"\",\"\",Ecarts!M135),\"\")","v":""},0,0]
[{"$f":"IF( Ecarts!$E136=$A$1,IF( Ecarts!B136=\"\",\"\",Ecarts!A136),\"\")","v":""},{"$f":"IF( Ecarts!$E136=$A$1,IF( Ecarts!C136=\"\",\"\",Ecarts!C136),\"\")","v":""},{"$f":"IF( Ecarts!$E136=$A$1, IF(Ecarts!F136=\"\",\"\",Ecarts!F136),\"\")","v":""},{"$f":"IF( Ecarts!$E136=$A$1, IF(Ecarts!I136=\"\",\"\",Ecarts!I136),\"\")","v":""},{"$f":"IF( Ecarts!$E136=$A$1, IF(Ecarts!J136=\"\",\"\",Ecarts!J136),\"\")","v":""},{"$f":"IF( Ecarts!$E136=$A$1, IF(Ecarts!K136=\"\",\"\",Ecarts!K136),\"\")","v":""},{"$f":"IF( Ecarts!$E136=$A$1, IF(Ecarts!L136=\"\",\"\",Ecarts!L136),\"\")","v":""},{"$f":"IF( Ecarts!$E136=$A$1, IF(Ecarts!M136=\"\",\"\",Ecarts!M136),\"\")","v":""},0,0]
[{"$f":"IF( Ecarts!$E137=$A$1,IF( Ecarts!B137=\"\",\"\",Ecarts!A137),\"\")","v":""},{"$f":"IF( Ecarts!$E137=$A$1,IF( Ecarts!C137=\"\",\"\",Ecarts!C137),\"\")","v":""},{"$f":"IF( Ecarts!$E137=$A$1, IF(Ecarts!F137=\"\",\"\",Ecarts!F137),\"\")","v":""},{"$f":"IF( Ecarts!$E137=$A$1, IF(Ecarts!I137=\"\",\"\",Ecarts!I137),\"\")","v":""},{"$f":"IF( Ecarts!$E137=$A$1, IF(Ecarts!J137=\"\",\"\",Ecarts!J137),\"\")","v":""},{"$f":"IF( Ecarts!$E137=$A$1, IF(Ecarts!K137=\"\",\"\",Ecarts!K137),\"\")","v":""},{"$f":"IF( Ecarts!$E137=$A$1, IF(Ecarts!L137=\"\",\"\",Ecarts!L137),\"\")","v":""},{"$f":"IF( Ecarts!$E137=$A$1, IF(Ecarts!M137=\"\",\"\",Ecarts!M137),\"\")","v":""},0,0]
[{"$f":"IF( Ecarts!$E138=$A$1,IF( Ecarts!B138=\"\",\"\",Ecarts!A138),\"\")","v":""},{"$f":"IF( Ecarts!$E138=$A$1,IF( Ecarts!C138=\"\",\"\",Ecarts!C138),\"\")","v":""},{"$f":"IF( Ecarts!$E138=$A$1, IF(Ecarts!F138=\"\",\"\",Ecarts!F138),\"\")","v":""},{"$f":"IF( Ecarts!$E138=$A$1, IF(Ecarts!I138=\"\",\"\",Ecarts!I138),\"\")","v":""},{"$f":"IF( Ecarts!$E138=$A$1, IF(Ecarts!J138=\"\",\"\",Ecarts!J138),\"\")","v":""},{"$f":"IF( Ecarts!$E138=$A$1, IF(Ecarts!K138=\"\",\"\",Ecarts!K138),\"\")","v":""},{"$f":"IF( Ecarts!$E138=$A$1, IF(Ecarts!L138=\"\",\"\",Ecarts!L138),\"\")","v":""},{"$f":"IF( Ecarts!$E138=$A$1, IF(Ecarts!M138=\"\",\"\",Ecarts!M138),\"\")","v":""},0,0]
[{"$f":"IF( Ecarts!$E139=$A$1,IF( Ecarts!B139=\"\",\"\",Ecarts!A139),\"\")","v":""},{"$f":"IF( Ecarts!$E139=$A$1,IF( Ecarts!C139=\"\",\"\",Ecarts!C139),\"\")","v":""},{"$f":"IF( Ecarts!$E139=$A$1, IF(Ecarts!F139=\"\",\"\",Ecarts!F139),\"\")","v":""},{"$f":"IF( Ecarts!$E139=$A$1, IF(Ecarts!I139=\"\",\"\",Ecarts!I139),\"\")","v":""},{"$f":"IF( Ecarts!$E139=$A$1, IF(Ecarts!J139=\"\",\"\",Ecarts!J139),\"\")","v":""},{"$f":"IF( Ecarts!$E139=$A$1, IF(Ecarts!K139=\"\",\"\",Ecarts!K139),\"\")","v":""},{"$f":"IF( Ecarts!$E139=$A$1, IF(Ecarts!L139=\"\",\"\",Ecarts!L139),\"\")","v":""},{"$f":"IF( Ecarts!$E139=$A$1, IF(Ecarts!M139=\"\",\"\",Ecarts!M139),\"\")","v":""},0,0]
[{"$f":"IF( Ecarts!$E140=$A$1,IF( Ecarts!B140=\"\",\"\",Ecarts!A140),\"\")","v":""},{"$f":"IF( Ecarts!$E140=$A$1,IF( Ecarts!C140=\"\",\"\",Ecarts!C140),\"\")","v":""},{"$f":"IF( Ecarts!$E140=$A$1, IF(Ecarts!F140=\"\",\"\",Ecarts!F140),\"\")","v":""},{"$f":"IF( Ecarts!$E140=$A$1, IF(Ecarts!I140=\"\",\"\",Ecarts!I140),\"\")","v":""},{"$f":"IF( Ecarts!$E140=$A$1, IF(Ecarts!J140=\"\",\"\",Ecarts!J140),\"\")","v":""},{"$f":"IF( Ecarts!$E140=$A$1, IF(Ecarts!K140=\"\",\"\",Ecarts!K140),\"\")","v":""},{"$f":"IF( Ecarts!$E140=$A$1, IF(Ecarts!L140=\"\",\"\",Ecarts!L140),\"\")","v":""},{"$f":"IF( Ecarts!$E140=$A$1, IF(Ecarts!M140=\"\",\"\",Ecarts!M140),\"\")","v":""},0,0]
[{"$f":"IF( Ecarts!$E141=$A$1,IF( Ecarts!B141=\"\",\"\",Ecarts!A141),\"\")","v":""},{"$f":"IF( Ecarts!$E141=$A$1,IF( Ecarts!C141=\"\",\"\",Ecarts!C141),\"\")","v":""},{"$f":"IF( Ecarts!$E141=$A$1, IF(Ecarts!F141=\"\",\"\",Ecarts!F141),\"\")","v":""},{"$f":"IF( Ecarts!$E141=$A$1, IF(Ecarts!I141=\"\",\"\",Ecarts!I141),\"\")","v":""},{"$f":"IF( Ecarts!$E141=$A$1, IF(Ecarts!J141=\"\",\"\",Ecarts!J141),\"\")","v":""},{"$f":"IF( Ecarts!$E141=$A$1, IF(Ecarts!K141=\"\",\"\",Ecarts!K141),\"\")","v":""},{"$f":"IF( Ecarts!$E141=$A$1, IF(Ecarts!L141=\"\",\"\",Ecarts!L141),\"\")","v":""},{"$f":"IF( Ecarts!$E141=$A$1, IF(Ecarts!M141=\"\",\"\",Ecarts!M141),\"\")","v":""},0,0]
[{"$f":"IF( Ecarts!$E142=$A$1,IF( Ecarts!B142=\"\",\"\",Ecarts!A142),\"\")","v":""},{"$f":"IF( Ecarts!$E142=$A$1,IF( Ecarts!C142=\"\",\"\",Ecarts!C142),\"\")","v":""},{"$f":"IF( Ecarts!$E142=$A$1, IF(Ecarts!F142=\"\",\"\",Ecarts!F142),\"\")","v":""},{"$f":"IF( Ecarts!$E142=$A$1, IF(Ecarts!I142=\"\",\"\",Ecarts!I142),\"\")","v":""},{"$f":"IF( Ecarts!$E142=$A$1, IF(Ecarts!J142=\"\",\"\",Ecarts!J142),\"\")","v":""},{"$f":"IF( Ecarts!$E142=$A$1, IF(Ecarts!K142=\"\",\"\",Ecarts!K142),\"\")","v":""},{"$f":"IF( Ecarts!$E142=$A$1, IF(Ecarts!L142=\"\",\"\",Ecarts!L142),\"\")","v":""},{"$f":"IF( Ecarts!$E142=$A$1, IF(Ecarts!M142=\"\",\"\",Ecarts!M142),\"\")","v":""},0,0]
[{"$f":"IF( Ecarts!$E143=$A$1,IF( Ecarts!B143=\"\",\"\",Ecarts!A143),\"\")","v":""},{"$f":"IF( Ecarts!$E143=$A$1,IF( Ecarts!C143=\"\",\"\",Ecarts!C143),\"\")","v":""},{"$f":"IF( Ecarts!$E143=$A$1, IF(Ecarts!F143=\"\",\"\",Ecarts!F143),\"\")","v":""},{"$f":"IF( Ecarts!$E143=$A$1, IF(Ecarts!I143=\"\",\"\",Ecarts!I143),\"\")","v":""},{"$f":"IF( Ecarts!$E143=$A$1, IF(Ecarts!J143=\"\",\"\",Ecarts!J143),\"\")","v":""},{"$f":"IF( Ecarts!$E143=$A$1, IF(Ecarts!K143=\"\",\"\",Ecarts!K143),\"\")","v":""},{"$f":"IF( Ecarts!$E143=$A$1, IF(Ecarts!L143=\"\",\"\",Ecarts!L143),\"\")","v":""},{"$f":"IF( Ecarts!$E143=$A$1, IF(Ecarts!M143=\"\",\"\",Ecarts!M143),\"\")","v":""},0,0]
[{"$f":"IF( Ecarts!$E144=$A$1,IF( Ecarts!B144=\"\",\"\",Ecarts!A144),\"\")","v":""},{"$f":"IF( Ecarts!$E144=$A$1,IF( Ecarts!C144=\"\",\"\",Ecarts!C144),\"\")","v":""},{"$f":"IF( Ecarts!$E144=$A$1, IF(Ecarts!F144=\"\",\"\",Ecarts!F144),\"\")","v":""},{"$f":"IF( Ecarts!$E144=$A$1, IF(Ecarts!I144=\"\",\"\",Ecarts!I144),\"\")","v":""},{"$f":"IF( Ecarts!$E144=$A$1, IF(Ecarts!J144=\"\",\"\",Ecarts!J144),\"\")","v":""},{"$f":"IF( Ecarts!$E144=$A$1, IF(Ecarts!K144=\"\",\"\",Ecarts!K144),\"\")","v":""},{"$f":"IF( Ecarts!$E144=$A$1, IF(Ecarts!L144=\"\",\"\",Ecarts!L144),\"\")","v":""},{"$f":"IF( Ecarts!$E144=$A$1, IF(Ecarts!M144=\"\",\"\",Ecarts!M144),\"\")","v":""},0,0]
[{"$f":"IF( Ecarts!$E145=$A$1,IF( Ecarts!B145=\"\",\"\",Ecarts!A145),\"\")","v":""},{"$f":"IF( Ecarts!$E145=$A$1,IF( Ecarts!C145=\"\",\"\",Ecarts!C145),\"\")","v":""},{"$f":"IF( Ecarts!$E145=$A$1, IF(Ecarts!F145=\"\",\"\",Ecarts!F145),\"\")","v":""},{"$f":"IF( Ecarts!$E145=$A$1, IF(Ecarts!I145=\"\",\"\",Ecarts!I145),\"\")","v":""},{"$f":"IF( Ecarts!$E145=$A$1, IF(Ecarts!J145=\"\",\"\",Ecarts!J145),\"\")","v":""},{"$f":"IF( Ecarts!$E145=$A$1, IF(Ecarts!K145=\"\",\"\",Ecarts!K145),\"\")","v":""},{"$f":"IF( Ecarts!$E145=$A$1, IF(Ecarts!L145=\"\",\"\",Ecarts!L145),\"\")","v":""},{"$f":"IF( Ecarts!$E145=$A$1, IF(Ecarts!M145=\"\",\"\",Ecarts!M145),\"\")","v":""},0,0]
[{"$f":"IF( Ecarts!$E146=$A$1,IF( Ecarts!B146=\"\",\"\",Ecarts!A146),\"\")","v":""},{"$f":"IF( Ecarts!$E146=$A$1,IF( Ecarts!C146=\"\",\"\",Ecarts!C146),\"\")","v":""},{"$f":"IF( Ecarts!$E146=$A$1, IF(Ecarts!F146=\"\",\"\",Ecarts!F146),\"\")","v":""},{"$f":"IF( Ecarts!$E146=$A$1, IF(Ecarts!I146=\"\",\"\",Ecarts!I146),\"\")","v":""},{"$f":"IF( Ecarts!$E146=$A$1, IF(Ecarts!J146=\"\",\"\",Ecarts!J146),\"\")","v":""},{"$f":"IF( Ecarts!$E146=$A$1, IF(Ecarts!K146=\"\",\"\",Ecarts!K146),\"\")","v":""},{"$f":"IF( Ecarts!$E146=$A$1, IF(Ecarts!L146=\"\",\"\",Ecarts!L146),\"\")","v":""},{"$f":"IF( Ecarts!$E146=$A$1, IF(Ecarts!M146=\"\",\"\",Ecarts!M146),\"\")","v":""},0,0]
[{"$f":"IF( Ecarts!$E147=$A$1,IF( Ecarts!B147=\"\",\"\",Ecarts!A147),\"\")","v":""},{"$f":"IF( Ecarts!$E147=$A$1,IF( Ecarts!C147=\"\",\"\",Ecarts!C147),\"\")","v":""},{"$f":"IF( Ecarts!$E147=$A$1, IF(Ecarts!F147=\"\",\"\",Ecarts!F147),\"\")","v":""},{"$f":"IF( Ecarts!$E147=$A$1, IF(Ecarts!I147=\"\",\"\",Ecarts!I147),\"\")","v":""},{"$f":"IF( Ecarts!$E147=$A$1, IF(Ecarts!J147=\"\",\"\",Ecarts!J147),\"\")","v":""},{"$f":"IF( Ecarts!$E147=$A$1, IF(Ecarts!K147=\"\",\"\",Ecarts!K147),\"\")","v":""},{"$f":"IF( Ecarts!$E147=$A$1, IF(Ecarts!L147=\"\",\"\",Ecarts!L147),\"\")","v":""},{"$f":"IF( Ecarts!$E147=$A$1, IF(Ecarts!M147=\"\",\"\",Ecarts!M147),\"\")","v":""},0,0]
[{"$f":"IF( Ecarts!$E148=$A$1,IF( Ecarts!B148=\"\",\"\",Ecarts!A148),\"\")","v":""},{"$f":"IF( Ecarts!$E148=$A$1,IF( Ecarts!C148=\"\",\"\",Ecarts!C148),\"\")","v":""},{"$f":"IF( Ecarts!$E148=$A$1, IF(Ecarts!F148=\"\",\"\",Ecarts!F148),\"\")","v":""},{"$f":"IF( Ecarts!$E148=$A$1, IF(Ecarts!I148=\"\",\"\",Ecarts!I148),\"\")","v":""},{"$f":"IF( Ecarts!$E148=$A$1, IF(Ecarts!J148=\"\",\"\",Ecarts!J148),\"\")","v":""},{"$f":"IF( Ecarts!$E148=$A$1, IF(Ecarts!K148=\"\",\"\",Ecarts!K148),\"\")","v":""},{"$f":"IF( Ecarts!$E148=$A$1, IF(Ecarts!L148=\"\",\"\",Ecarts!L148),\"\")","v":""},{"$f":"IF( Ecarts!$E148=$A$1, IF(Ecarts!M148=\"\",\"\",Ecarts!M148),\"\")","v":""},0,0]
[{"$f":"IF( Ecarts!$E149=$A$1,IF( Ecarts!B149=\"\",\"\",Ecarts!A149),\"\")","v":""},{"$f":"IF( Ecarts!$E149=$A$1,IF( Ecarts!C149=\"\",\"\",Ecarts!C149),\"\")","v":""},{"$f":"IF( Ecarts!$E149=$A$1, IF(Ecarts!F149=\"\",\"\",Ecarts!F149),\"\")","v":""},{"$f":"IF( Ecarts!$E149=$A$1, IF(Ecarts!I149=\"\",\"\",Ecarts!I149),\"\")","v":""},{"$f":"IF( Ecarts!$E149=$A$1, IF(Ecarts!J149=\"\",\"\",Ecarts!J149),\"\")","v":""},{"$f":"IF( Ecarts!$E149=$A$1, IF(Ecarts!K149=\"\",\"\",Ecarts!K149),\"\")","v":""},{"$f":"IF( Ecarts!$E149=$A$1, IF(Ecarts!L149=\"\",\"\",Ecarts!L149),\"\")","v":""},{"$f":"IF( Ecarts!$E149=$A$1, IF(Ecarts!M149=\"\",\"\",Ecarts!M149),\"\")","v":""},0,0]
[{"$f":"IF( Ecarts!$E150=$A$1,IF( Ecarts!B150=\"\",\"\",Ecarts!A150),\"\")","v":""},{"$f":"IF( Ecarts!$E150=$A$1,IF( Ecarts!C150=\"\",\"\",Ecarts!C150),\"\")","v":""},{"$f":"IF( Ecarts!$E150=$A$1, IF(Ecarts!F150=\"\",\"\",Ecarts!F150),\"\")","v":""},{"$f":"IF( Ecarts!$E150=$A$1, IF(Ecarts!I150=\"\",\"\",Ecarts!I150),\"\")","v":""},{"$f":"IF( Ecarts!$E150=$A$1, IF(Ecarts!J150=\"\",\"\",Ecarts!J150),\"\")","v":""},{"$f":"IF( Ecarts!$E150=$A$1, IF(Ecarts!K150=\"\",\"\",Ecarts!K150),\"\")","v":""},{"$f":"IF( Ecarts!$E150=$A$1, IF(Ecarts!L150=\"\",\"\",Ecarts!L150),\"\")","v":""},{"$f":"IF( Ecarts!$E150=$A$1, IF(Ecarts!M150=\"\",\"\",Ecarts!M150),\"\")","v":""},0,0]
[{"$f":"IF( Ecarts!$E151=$A$1,IF( Ecarts!B151=\"\",\"\",Ecarts!A151),\"\")","v":""},{"$f":"IF( Ecarts!$E151=$A$1,IF( Ecarts!C151=\"\",\"\",Ecarts!C151),\"\")","v":""},{"$f":"IF( Ecarts!$E151=$A$1, IF(Ecarts!F151=\"\",\"\",Ecarts!F151),\"\")","v":""},{"$f":"IF( Ecarts!$E151=$A$1, IF(Ecarts!I151=\"\",\"\",Ecarts!I151),\"\")","v":""},{"$f":"IF( Ecarts!$E151=$A$1, IF(Ecarts!J151=\"\",\"\",Ecarts!J151),\"\")","v":""},{"$f":"IF( Ecarts!$E151=$A$1, IF(Ecarts!K151=\"\",\"\",Ecarts!K151),\"\")","v":""},{"$f":"IF( Ecarts!$E151=$A$1, IF(Ecarts!L151=\"\",\"\",Ecarts!L151),\"\")","v":""},{"$f":"IF( Ecarts!$E151=$A$1, IF(Ecarts!M151=\"\",\"\",Ecarts!M151),\"\")","v":""},0,0]
[{"$f":"IF( Ecarts!$E152=$A$1,IF( Ecarts!B152=\"\",\"\",Ecarts!A152),\"\")","v":""},{"$f":"IF( Ecarts!$E152=$A$1,IF( Ecarts!C152=\"\",\"\",Ecarts!C152),\"\")","v":""},{"$f":"IF( Ecarts!$E152=$A$1, IF(Ecarts!F152=\"\",\"\",Ecarts!F152),\"\")","v":""},{"$f":"IF( Ecarts!$E152=$A$1, IF(Ecarts!I152=\"\",\"\",Ecarts!I152),\"\")","v":""},{"$f":"IF( Ecarts!$E152=$A$1, IF(Ecarts!J152=\"\",\"\",Ecarts!J152),\"\")","v":""},{"$f":"IF( Ecarts!$E152=$A$1, IF(Ecarts!K152=\"\",\"\",Ecarts!K152),\"\")","v":""},{"$f":"IF( Ecarts!$E152=$A$1, IF(Ecarts!L152=\"\",\"\",Ecarts!L152),\"\")","v":""},{"$f":"IF( Ecarts!$E152=$A$1, IF(Ecarts!M152=\"\",\"\",Ecarts!M152),\"\")","v":""},0,0]
[{"$f":"IF( Ecarts!$E153=$A$1,IF( Ecarts!B153=\"\",\"\",Ecarts!A153),\"\")","v":""},{"$f":"IF( Ecarts!$E153=$A$1,IF( Ecarts!C153=\"\",\"\",Ecarts!C153),\"\")","v":""},{"$f":"IF( Ecarts!$E153=$A$1, IF(Ecarts!F153=\"\",\"\",Ecarts!F153),\"\")","v":""},{"$f":"IF( Ecarts!$E153=$A$1, IF(Ecarts!I153=\"\",\"\",Ecarts!I153),\"\")","v":""},{"$f":"IF( Ecarts!$E153=$A$1, IF(Ecarts!J153=\"\",\"\",Ecarts!J153),\"\")","v":""},{"$f":"IF( Ecarts!$E153=$A$1, IF(Ecarts!K153=\"\",\"\",Ecarts!K153),\"\")","v":""},{"$f":"IF( Ecarts!$E153=$A$1, IF(Ecarts!L153=\"\",\"\",Ecarts!L153),\"\")","v":""},{"$f":"IF( Ecarts!$E153=$A$1, IF(Ecarts!M153=\"\",\"\",Ecarts!M153),\"\")","v":""},0,0]
[{"$f":"IF( Ecarts!$E154=$A$1,IF( Ecarts!B154=\"\",\"\",Ecarts!A154),\"\")","v":""},{"$f":"IF( Ecarts!$E154=$A$1,IF( Ecarts!C154=\"\",\"\",Ecarts!C154),\"\")","v":""},{"$f":"IF( Ecarts!$E154=$A$1, IF(Ecarts!F154=\"\",\"\",Ecarts!F154),\"\")","v":""},{"$f":"IF( Ecarts!$E154=$A$1, IF(Ecarts!I154=\"\",\"\",Ecarts!I154),\"\")","v":""},{"$f":"IF( Ecarts!$E154=$A$1, IF(Ecarts!J154=\"\",\"\",Ecarts!J154),\"\")","v":""},{"$f":"IF( Ecarts!$E154=$A$1, IF(Ecarts!K154=\"\",\"\",Ecarts!K154),\"\")","v":""},{"$f":"IF( Ecarts!$E154=$A$1, IF(Ecarts!L154=\"\",\"\",Ecarts!L154),\"\")","v":""},{"$f":"IF( Ecarts!$E154=$A$1, IF(Ecarts!M154=\"\",\"\",Ecarts!M154),\"\")","v":""},0,0]
[{"$f":"IF( Ecarts!$E155=$A$1,IF( Ecarts!B155=\"\",\"\",Ecarts!A155),\"\")","v":""},{"$f":"IF( Ecarts!$E155=$A$1,IF( Ecarts!C155=\"\",\"\",Ecarts!C155),\"\")","v":""},{"$f":"IF( Ecarts!$E155=$A$1, IF(Ecarts!F155=\"\",\"\",Ecarts!F155),\"\")","v":""},{"$f":"IF( Ecarts!$E155=$A$1, IF(Ecarts!I155=\"\",\"\",Ecarts!I155),\"\")","v":""},{"$f":"IF( Ecarts!$E155=$A$1, IF(Ecarts!J155=\"\",\"\",Ecarts!J155),\"\")","v":""},{"$f":"IF( Ecarts!$E155=$A$1, IF(Ecarts!K155=\"\",\"\",Ecarts!K155),\"\")","v":""},{"$f":"IF( Ecarts!$E155=$A$1, IF(Ecarts!L155=\"\",\"\",Ecarts!L155),\"\")","v":""},{"$f":"IF( Ecarts!$E155=$A$1, IF(Ecarts!M155=\"\",\"\",Ecarts!M155),\"\")","v":""},0,0]
[{"$f":"IF( Ecarts!$E156=$A$1,IF( Ecarts!B156=\"\",\"\",Ecarts!A156),\"\")","v":""},{"$f":"IF( Ecarts!$E156=$A$1,IF( Ecarts!C156=\"\",\"\",Ecarts!C156),\"\")","v":""},{"$f":"IF( Ecarts!$E156=$A$1, IF(Ecarts!F156=\"\",\"\",Ecarts!F156),\"\")","v":""},{"$f":"IF( Ecarts!$E156=$A$1, IF(Ecarts!I156=\"\",\"\",Ecarts!I156),\"\")","v":""},{"$f":"IF( Ecarts!$E156=$A$1, IF(Ecarts!J156=\"\",\"\",Ecarts!J156),\"\")","v":""},{"$f":"IF( Ecarts!$E156=$A$1, IF(Ecarts!K156=\"\",\"\",Ecarts!K156),\"\")","v":""},{"$f":"IF( Ecarts!$E156=$A$1, IF(Ecarts!L156=\"\",\"\",Ecarts!L156),\"\")","v":""},{"$f":"IF( Ecarts!$E156=$A$1, IF(Ecarts!M156=\"\",\"\",Ecarts!M156),\"\")","v":""},0,0]
[{"$f":"IF( Ecarts!$E157=$A$1,IF( Ecarts!B157=\"\",\"\",Ecarts!A157),\"\")","v":""},{"$f":"IF( Ecarts!$E157=$A$1,IF( Ecarts!C157=\"\",\"\",Ecarts!C157),\"\")","v":""},{"$f":"IF( Ecarts!$E157=$A$1, IF(Ecarts!F157=\"\",\"\",Ecarts!F157),\"\")","v":""},{"$f":"IF( Ecarts!$E157=$A$1, IF(Ecarts!I157=\"\",\"\",Ecarts!I157),\"\")","v":""},{"$f":"IF( Ecarts!$E157=$A$1, IF(Ecarts!J157=\"\",\"\",Ecarts!J157),\"\")","v":""},{"$f":"IF( Ecarts!$E157=$A$1, IF(Ecarts!K157=\"\",\"\",Ecarts!K157),\"\")","v":""},{"$f":"IF( Ecarts!$E157=$A$1, IF(Ecarts!L157=\"\",\"\",Ecarts!L157),\"\")","v":""},{"$f":"IF( Ecarts!$E157=$A$1, IF(Ecarts!M157=\"\",\"\",Ecarts!M157),\"\")","v":""},0,0]
[{"$f":"IF( Ecarts!$E158=$A$1,IF( Ecarts!B158=\"\",\"\",Ecarts!A158),\"\")","v":""},{"$f":"IF( Ecarts!$E158=$A$1,IF( Ecarts!C158=\"\",\"\",Ecarts!C158),\"\")","v":""},{"$f":"IF( Ecarts!$E158=$A$1, IF(Ecarts!F158=\"\",\"\",Ecarts!F158),\"\")","v":""},{"$f":"IF( Ecarts!$E158=$A$1, IF(Ecarts!I158=\"\",\"\",Ecarts!I158),\"\")","v":""},{"$f":"IF( Ecarts!$E158=$A$1, IF(Ecarts!J158=\"\",\"\",Ecarts!J158),\"\")","v":""},{"$f":"IF( Ecarts!$E158=$A$1, IF(Ecarts!K158=\"\",\"\",Ecarts!K158),\"\")","v":""},{"$f":"IF( Ecarts!$E158=$A$1, IF(Ecarts!L158=\"\",\"\",Ecarts!L158),\"\")","v":""},{"$f":"IF( Ecarts!$E158=$A$1, IF(Ecarts!M158=\"\",\"\",Ecarts!M158),\"\")","v":""},0,0]
[{"$f":"IF( Ecarts!$E159=$A$1,IF( Ecarts!B159=\"\",\"\",Ecarts!A159),\"\")","v":""},{"$f":"IF( Ecarts!$E159=$A$1,IF( Ecarts!C159=\"\",\"\",Ecarts!C159),\"\")","v":""},{"$f":"IF( Ecarts!$E159=$A$1, IF(Ecarts!F159=\"\",\"\",Ecarts!F159),\"\")","v":""},{"$f":"IF( Ecarts!$E159=$A$1, IF(Ecarts!I159=\"\",\"\",Ecarts!I159),\"\")","v":""},{"$f":"IF( Ecarts!$E159=$A$1, IF(Ecarts!J159=\"\",\"\",Ecarts!J159),\"\")","v":""},{"$f":"IF( Ecarts!$E159=$A$1, IF(Ecarts!K159=\"\",\"\",Ecarts!K159),\"\")","v":""},{"$f":"IF( Ecarts!$E159=$A$1, IF(Ecarts!L159=\"\",\"\",Ecarts!L159),\"\")","v":""},{"$f":"IF( Ecarts!$E159=$A$1, IF(Ecarts!M159=\"\",\"\",Ecarts!M159),\"\")","v":""},0,0]
[{"$f":"IF( Ecarts!$E160=$A$1,IF( Ecarts!B160=\"\",\"\",Ecarts!A160),\"\")","v":""},{"$f":"IF( Ecarts!$E160=$A$1,IF( Ecarts!C160=\"\",\"\",Ecarts!C160),\"\")","v":""},{"$f":"IF( Ecarts!$E160=$A$1, IF(Ecarts!F160=\"\",\"\",Ecarts!F160),\"\")","v":""},{"$f":"IF( Ecarts!$E160=$A$1, IF(Ecarts!I160=\"\",\"\",Ecarts!I160),\"\")","v":""},{"$f":"IF( Ecarts!$E160=$A$1, IF(Ecarts!J160=\"\",\"\",Ecarts!J160),\"\")","v":""},{"$f":"IF( Ecarts!$E160=$A$1, IF(Ecarts!K160=\"\",\"\",Ecarts!K160),\"\")","v":""},{"$f":"IF( Ecarts!$E160=$A$1, IF(Ecarts!L160=\"\",\"\",Ecarts!L160),\"\")","v":""},{"$f":"IF( Ecarts!$E160=$A$1, IF(Ecarts!M160=\"\",\"\",Ecarts!M160),\"\")","v":""},0,0]
[{"$f":"IF( Ecarts!$E161=$A$1,IF( Ecarts!B161=\"\",\"\",Ecarts!A161),\"\")","v":""},{"$f":"IF( Ecarts!$E161=$A$1,IF( Ecarts!C161=\"\",\"\",Ecarts!C161),\"\")","v":""},{"$f":"IF( Ecarts!$E161=$A$1, IF(Ecarts!F161=\"\",\"\",Ecarts!F161),\"\")","v":""},{"$f":"IF( Ecarts!$E161=$A$1, IF(Ecarts!I161=\"\",\"\",Ecarts!I161),\"\")","v":""},{"$f":"IF( Ecarts!$E161=$A$1, IF(Ecarts!J161=\"\",\"\",Ecarts!J161),\"\")","v":""},{"$f":"IF( Ecarts!$E161=$A$1, IF(Ecarts!K161=\"\",\"\",Ecarts!K161),\"\")","v":""},{"$f":"IF( Ecarts!$E161=$A$1, IF(Ecarts!L161=\"\",\"\",Ecarts!L161),\"\")","v":""},{"$f":"IF( Ecarts!$E161=$A$1, IF(Ecarts!M161=\"\",\"\",Ecarts!M161),\"\")","v":""},0,0]
[{"$f":"IF( Ecarts!$E162=$A$1,IF( Ecarts!B162=\"\",\"\",Ecarts!A162),\"\")","v":""},{"$f":"IF( Ecarts!$E162=$A$1,IF( Ecarts!C162=\"\",\"\",Ecarts!C162),\"\")","v":""},{"$f":"IF( Ecarts!$E162=$A$1, IF(Ecarts!F162=\"\",\"\",Ecarts!F162),\"\")","v":""},{"$f":"IF( Ecarts!$E162=$A$1, IF(Ecarts!I162=\"\",\"\",Ecarts!I162),\"\")","v":""},{"$f":"IF( Ecarts!$E162=$A$1, IF(Ecarts!J162=\"\",\"\",Ecarts!J162),\"\")","v":""},{"$f":"IF( Ecarts!$E162=$A$1, IF(Ecarts!K162=\"\",\"\",Ecarts!K162),\"\")","v":""},{"$f":"IF( Ecarts!$E162=$A$1, IF(Ecarts!L162=\"\",\"\",Ecarts!L162),\"\")","v":""},{"$f":"IF( Ecarts!$E162=$A$1, IF(Ecarts!M162=\"\",\"\",Ecarts!M162),\"\")","v":""},0,0]
[{"$f":"IF( Ecarts!$E163=$A$1,IF( Ecarts!B163=\"\",\"\",Ecarts!A163),\"\")","v":""},{"$f":"IF( Ecarts!$E163=$A$1,IF( Ecarts!C163=\"\",\"\",Ecarts!C163),\"\")","v":""},{"$f":"IF( Ecarts!$E163=$A$1, IF(Ecarts!F163=\"\",\"\",Ecarts!F163),\"\")","v":""},{"$f":"IF( Ecarts!$E163=$A$1, IF(Ecarts!I163=\"\",\"\",Ecarts!I163),\"\")","v":""},{"$f":"IF( Ecarts!$E163=$A$1, IF(Ecarts!J163=\"\",\"\",Ecarts!J163),\"\")","v":""},{"$f":"IF( Ecarts!$E163=$A$1, IF(Ecarts!K163=\"\",\"\",Ecarts!K163),\"\")","v":""},{"$f":"IF( Ecarts!$E163=$A$1, IF(Ecarts!L163=\"\",\"\",Ecarts!L163),\"\")","v":""},{"$f":"IF( Ecarts!$E163=$A$1, IF(Ecarts!M163=\"\",\"\",Ecarts!M163),\"\")","v":""},0,0]
[{"$f":"IF( Ecarts!$E164=$A$1,IF( Ecarts!B164=\"\",\"\",Ecarts!A164),\"\")","v":""},{"$f":"IF( Ecarts!$E164=$A$1,IF( Ecarts!C164=\"\",\"\",Ecarts!C164),\"\")","v":""},{"$f":"IF( Ecarts!$E164=$A$1, IF(Ecarts!F164=\"\",\"\",Ecarts!F164),\"\")","v":""},{"$f":"IF( Ecarts!$E164=$A$1, IF(Ecarts!I164=\"\",\"\",Ecarts!I164),\"\")","v":""},{"$f":"IF( Ecarts!$E164=$A$1, IF(Ecarts!J164=\"\",\"\",Ecarts!J164),\"\")","v":""},{"$f":"IF( Ecarts!$E164=$A$1, IF(Ecarts!K164=\"\",\"\",Ecarts!K164),\"\")","v":""},{"$f":"IF( Ecarts!$E164=$A$1, IF(Ecarts!L164=\"\",\"\",Ecarts!L164),\"\")","v":""},{"$f":"IF( Ecarts!$E164=$A$1, IF(Ecarts!M164=\"\",\"\",Ecarts!M164),\"\")","v":""},0,0]
[{"$f":"IF( Ecarts!$E165=$A$1,IF( Ecarts!B165=\"\",\"\",Ecarts!A165),\"\")","v":""},{"$f":"IF( Ecarts!$E165=$A$1,IF( Ecarts!C165=\"\",\"\",Ecarts!C165),\"\")","v":""},{"$f":"IF( Ecarts!$E165=$A$1, IF(Ecarts!F165=\"\",\"\",Ecarts!F165),\"\")","v":""},{"$f":"IF( Ecarts!$E165=$A$1, IF(Ecarts!I165=\"\",\"\",Ecarts!I165),\"\")","v":""},{"$f":"IF( Ecarts!$E165=$A$1, IF(Ecarts!J165=\"\",\"\",Ecarts!J165),\"\")","v":""},{"$f":"IF( Ecarts!$E165=$A$1, IF(Ecarts!K165=\"\",\"\",Ecarts!K165),\"\")","v":""},{"$f":"IF( Ecarts!$E165=$A$1, IF(Ecarts!L165=\"\",\"\",Ecarts!L165),\"\")","v":""},{"$f":"IF( Ecarts!$E165=$A$1, IF(Ecarts!M165=\"\",\"\",Ecarts!M165),\"\")","v":""},0,0]
[{"$f":"IF( Ecarts!$E166=$A$1,IF( Ecarts!B166=\"\",\"\",Ecarts!A166),\"\")","v":""},{"$f":"IF( Ecarts!$E166=$A$1,IF( Ecarts!C166=\"\",\"\",Ecarts!C166),\"\")","v":""},{"$f":"IF( Ecarts!$E166=$A$1, IF(Ecarts!F166=\"\",\"\",Ecarts!F166),\"\")","v":""},{"$f":"IF( Ecarts!$E166=$A$1, IF(Ecarts!I166=\"\",\"\",Ecarts!I166),\"\")","v":""},{"$f":"IF( Ecarts!$E166=$A$1, IF(Ecarts!J166=\"\",\"\",Ecarts!J166),\"\")","v":""},{"$f":"IF( Ecarts!$E166=$A$1, IF(Ecarts!K166=\"\",\"\",Ecarts!K166),\"\")","v":""},{"$f":"IF( Ecarts!$E166=$A$1, IF(Ecarts!L166=\"\",\"\",Ecarts!L166),\"\")","v":""},{"$f":"IF( Ecarts!$E166=$A$1, IF(Ecarts!M166=\"\",\"\",Ecarts!M166),\"\")","v":""},0,0]
[{"$f":"IF( Ecarts!$E167=$A$1,IF( Ecarts!B167=\"\",\"\",Ecarts!A167),\"\")","v":""},{"$f":"IF( Ecarts!$E167=$A$1,IF( Ecarts!C167=\"\",\"\",Ecarts!C167),\"\")","v":""},{"$f":"IF( Ecarts!$E167=$A$1, IF(Ecarts!F167=\"\",\"\",Ecarts!F167),\"\")","v":""},{"$f":"IF( Ecarts!$E167=$A$1, IF(Ecarts!I167=\"\",\"\",Ecarts!I167),\"\")","v":""},{"$f":"IF( Ecarts!$E167=$A$1, IF(Ecarts!J167=\"\",\"\",Ecarts!J167),\"\")","v":""},{"$f":"IF( Ecarts!$E167=$A$1, IF(Ecarts!K167=\"\",\"\",Ecarts!K167),\"\")","v":""},{"$f":"IF( Ecarts!$E167=$A$1, IF(Ecarts!L167=\"\",\"\",Ecarts!L167),\"\")","v":""},{"$f":"IF( Ecarts!$E167=$A$1, IF(Ecarts!M167=\"\",\"\",Ecarts!M167),\"\")","v":""},0,0]
[{"$f":"IF( Ecarts!$E168=$A$1,IF( Ecarts!B168=\"\",\"\",Ecarts!A168),\"\")","v":""},{"$f":"IF( Ecarts!$E168=$A$1,IF( Ecarts!C168=\"\",\"\",Ecarts!C168),\"\")","v":""},{"$f":"IF( Ecarts!$E168=$A$1, IF(Ecarts!F168=\"\",\"\",Ecarts!F168),\"\")","v":""},{"$f":"IF( Ecarts!$E168=$A$1, IF(Ecarts!I168=\"\",\"\",Ecarts!I168),\"\")","v":""},{"$f":"IF( Ecarts!$E168=$A$1, IF(Ecarts!J168=\"\",\"\",Ecarts!J168),\"\")","v":""},{"$f":"IF( Ecarts!$E168=$A$1, IF(Ecarts!K168=\"\",\"\",Ecarts!K168),\"\")","v":""},{"$f":"IF( Ecarts!$E168=$A$1, IF(Ecarts!L168=\"\",\"\",Ecarts!L168),\"\")","v":""},{"$f":"IF( Ecarts!$E168=$A$1, IF(Ecarts!M168=\"\",\"\",Ecarts!M168),\"\")","v":""},0,0]
[{"$f":"IF( Ecarts!$E169=$A$1,IF( Ecarts!B169=\"\",\"\",Ecarts!A169),\"\")","v":""},{"$f":"IF( Ecarts!$E169=$A$1,IF( Ecarts!C169=\"\",\"\",Ecarts!C169),\"\")","v":""},{"$f":"IF( Ecarts!$E169=$A$1, IF(Ecarts!F169=\"\",\"\",Ecarts!F169),\"\")","v":""},{"$f":"IF( Ecarts!$E169=$A$1, IF(Ecarts!I169=\"\",\"\",Ecarts!I169),\"\")","v":""},{"$f":"IF( Ecarts!$E169=$A$1, IF(Ecarts!J169=\"\",\"\",Ecarts!J169),\"\")","v":""},{"$f":"IF( Ecarts!$E169=$A$1, IF(Ecarts!K169=\"\",\"\",Ecarts!K169),\"\")","v":""},{"$f":"IF( Ecarts!$E169=$A$1, IF(Ecarts!L169=\"\",\"\",Ecarts!L169),\"\")","v":""},{"$f":"IF( Ecarts!$E169=$A$1, IF(Ecarts!M169=\"\",\"\",Ecarts!M169),\"\")","v":""},0,0]
[{"$f":"IF( Ecarts!$E170=$A$1,IF( Ecarts!B170=\"\",\"\",Ecarts!A170),\"\")","v":""},{"$f":"IF( Ecarts!$E170=$A$1,IF( Ecarts!C170=\"\",\"\",Ecarts!C170),\"\")","v":""},{"$f":"IF( Ecarts!$E170=$A$1, IF(Ecarts!F170=\"\",\"\",Ecarts!F170),\"\")","v":""},{"$f":"IF( Ecarts!$E170=$A$1, IF(Ecarts!I170=\"\",\"\",Ecarts!I170),\"\")","v":""},{"$f":"IF( Ecarts!$E170=$A$1, IF(Ecarts!J170=\"\",\"\",Ecarts!J170),\"\")","v":""},{"$f":"IF( Ecarts!$E170=$A$1, IF(Ecarts!K170=\"\",\"\",Ecarts!K170),\"\")","v":""},{"$f":"IF( Ecarts!$E170=$A$1, IF(Ecarts!L170=\"\",\"\",Ecarts!L170),\"\")","v":""},{"$f":"IF( Ecarts!$E170=$A$1, IF(Ecarts!M170=\"\",\"\",Ecarts!M170),\"\")","v":""},0,0]
[{"$f":"IF( Ecarts!$E171=$A$1,IF( Ecarts!B171=\"\",\"\",Ecarts!A171),\"\")","v":""},{"$f":"IF( Ecarts!$E171=$A$1,IF( Ecarts!C171=\"\",\"\",Ecarts!C171),\"\")","v":""},{"$f":"IF( Ecarts!$E171=$A$1, IF(Ecarts!F171=\"\",\"\",Ecarts!F171),\"\")","v":""},{"$f":"IF( Ecarts!$E171=$A$1, IF(Ecarts!I171=\"\",\"\",Ecarts!I171),\"\")","v":""},{"$f":"IF( Ecarts!$E171=$A$1, IF(Ecarts!J171=\"\",\"\",Ecarts!J171),\"\")","v":""},{"$f":"IF( Ecarts!$E171=$A$1, IF(Ecarts!K171=\"\",\"\",Ecarts!K171),\"\")","v":""},{"$f":"IF( Ecarts!$E171=$A$1, IF(Ecarts!L171=\"\",\"\",Ecarts!L171),\"\")","v":""},{"$f":"IF( Ecarts!$E171=$A$1, IF(Ecarts!M171=\"\",\"\",Ecarts!M171),\"\")","v":""},0,0]
[{"$f":"IF( Ecarts!$E172=$A$1,IF( Ecarts!B172=\"\",\"\",Ecarts!A172),\"\")","v":""},{"$f":"IF( Ecarts!$E172=$A$1,IF( Ecarts!C172=\"\",\"\",Ecarts!C172),\"\")","v":""},{"$f":"IF( Ecarts!$E172=$A$1, IF(Ecarts!F172=\"\",\"\",Ecarts!F172),\"\")","v":""},{"$f":"IF( Ecarts!$E172=$A$1, IF(Ecarts!I172=\"\",\"\",Ecarts!I172),\"\")","v":""},{"$f":"IF( Ecarts!$E172=$A$1, IF(Ecarts!J172=\"\",\"\",Ecarts!J172),\"\")","v":""},{"$f":"IF( Ecarts!$E172=$A$1, IF(Ecarts!K172=\"\",\"\",Ecarts!K172),\"\")","v":""},{"$f":"IF( Ecarts!$E172=$A$1, IF(Ecarts!L172=\"\",\"\",Ecarts!L172),\"\")","v":""},{"$f":"IF( Ecarts!$E172=$A$1, IF(Ecarts!M172=\"\",\"\",Ecarts!M172),\"\")","v":""},0,0]
[{"$f":"IF( Ecarts!$E173=$A$1,IF( Ecarts!B173=\"\",\"\",Ecarts!A173),\"\")","v":""},{"$f":"IF( Ecarts!$E173=$A$1,IF( Ecarts!C173=\"\",\"\",Ecarts!C173),\"\")","v":""},{"$f":"IF( Ecarts!$E173=$A$1, IF(Ecarts!F173=\"\",\"\",Ecarts!F173),\"\")","v":""},{"$f":"IF( Ecarts!$E173=$A$1, IF(Ecarts!I173=\"\",\"\",Ecarts!I173),\"\")","v":""},{"$f":"IF( Ecarts!$E173=$A$1, IF(Ecarts!J173=\"\",\"\",Ecarts!J173),\"\")","v":""},{"$f":"IF( Ecarts!$E173=$A$1, IF(Ecarts!K173=\"\",\"\",Ecarts!K173),\"\")","v":""},{"$f":"IF( Ecarts!$E173=$A$1, IF(Ecarts!L173=\"\",\"\",Ecarts!L173),\"\")","v":""},{"$f":"IF( Ecarts!$E173=$A$1, IF(Ecarts!M173=\"\",\"\",Ecarts!M173),\"\")","v":""},0,0]
[{"$f":"IF( Ecarts!$E174=$A$1,IF( Ecarts!B174=\"\",\"\",Ecarts!A174),\"\")","v":""},{"$f":"IF( Ecarts!$E174=$A$1,IF( Ecarts!C174=\"\",\"\",Ecarts!C174),\"\")","v":""},{"$f":"IF( Ecarts!$E174=$A$1, IF(Ecarts!F174=\"\",\"\",Ecarts!F174),\"\")","v":""},{"$f":"IF( Ecarts!$E174=$A$1, IF(Ecarts!I174=\"\",\"\",Ecarts!I174),\"\")","v":""},{"$f":"IF( Ecarts!$E174=$A$1, IF(Ecarts!J174=\"\",\"\",Ecarts!J174),\"\")","v":""},{"$f":"IF( Ecarts!$E174=$A$1, IF(Ecarts!K174=\"\",\"\",Ecarts!K174),\"\")","v":""},{"$f":"IF( Ecarts!$E174=$A$1, IF(Ecarts!L174=\"\",\"\",Ecarts!L174),\"\")","v":""},{"$f":"IF( Ecarts!$E174=$A$1, IF(Ecarts!M174=\"\",\"\",Ecarts!M174),\"\")","v":""},0,0]
[{"$f":"IF( Ecarts!$E175=$A$1,IF( Ecarts!B175=\"\",\"\",Ecarts!A175),\"\")","v":""},{"$f":"IF( Ecarts!$E175=$A$1,IF( Ecarts!C175=\"\",\"\",Ecarts!C175),\"\")","v":""},{"$f":"IF( Ecarts!$E175=$A$1, IF(Ecarts!F175=\"\",\"\",Ecarts!F175),\"\")","v":""},{"$f":"IF( Ecarts!$E175=$A$1, IF(Ecarts!I175=\"\",\"\",Ecarts!I175),\"\")","v":""},{"$f":"IF( Ecarts!$E175=$A$1, IF(Ecarts!J175=\"\",\"\",Ecarts!J175),\"\")","v":""},{"$f":"IF( Ecarts!$E175=$A$1, IF(Ecarts!K175=\"\",\"\",Ecarts!K175),\"\")","v":""},{"$f":"IF( Ecarts!$E175=$A$1, IF(Ecarts!L175=\"\",\"\",Ecarts!L175),\"\")","v":""},{"$f":"IF( Ecarts!$E175=$A$1, IF(Ecarts!M175=\"\",\"\",Ecarts!M175),\"\")","v":""},0,0]
[{"$f":"IF( Ecarts!$E176=$A$1,IF( Ecarts!B176=\"\",\"\",Ecarts!A176),\"\")","v":""},{"$f":"IF( Ecarts!$E176=$A$1,IF( Ecarts!C176=\"\",\"\",Ecarts!C176),\"\")","v":""},{"$f":"IF( Ecarts!$E176=$A$1, IF(Ecarts!F176=\"\",\"\",Ecarts!F176),\"\")","v":""},{"$f":"IF( Ecarts!$E176=$A$1, IF(Ecarts!I176=\"\",\"\",Ecarts!I176),\"\")","v":""},{"$f":"IF( Ecarts!$E176=$A$1, IF(Ecarts!J176=\"\",\"\",Ecarts!J176),\"\")","v":""},{"$f":"IF( Ecarts!$E176=$A$1, IF(Ecarts!K176=\"\",\"\",Ecarts!K176),\"\")","v":""},{"$f":"IF( Ecarts!$E176=$A$1, IF(Ecarts!L176=\"\",\"\",Ecarts!L176),\"\")","v":""},{"$f":"IF( Ecarts!$E176=$A$1, IF(Ecarts!M176=\"\",\"\",Ecarts!M176),\"\")","v":""},0,0]
[{"$f":"IF( Ecarts!$E177=$A$1,IF( Ecarts!B177=\"\",\"\",Ecarts!A177),\"\")","v":""},{"$f":"IF( Ecarts!$E177=$A$1,IF( Ecarts!C177=\"\",\"\",Ecarts!C177),\"\")","v":""},{"$f":"IF( Ecarts!$E177=$A$1, IF(Ecarts!F177=\"\",\"\",Ecarts!F177),\"\")","v":""},{"$f":"IF( Ecarts!$E177=$A$1, IF(Ecarts!I177=\"\",\"\",Ecarts!I177),\"\")","v":""},{"$f":"IF( Ecarts!$E177=$A$1, IF(Ecarts!J177=\"\",\"\",Ecarts!J177),\"\")","v":""},{"$f":"IF( Ecarts!$E177=$A$1, IF(Ecarts!K177=\"\",\"\",Ecarts!K177),\"\")","v":""},{"$f":"IF( Ecarts!$E177=$A$1, IF(Ecarts!L177=\"\",\"\",Ecarts!L177),\"\")","v":""},{"$f":"IF( Ecarts!$E177=$A$1, IF(Ecarts!M177=\"\",\"\",Ecarts!M177),\"\")","v":""},0,0]
[{"$f":"IF( Ecarts!$E178=$A$1,IF( Ecarts!B178=\"\",\"\",Ecarts!A178),\"\")","v":""},{"$f":"IF( Ecarts!$E178=$A$1,IF( Ecarts!C178=\"\",\"\",Ecarts!C178),\"\")","v":""},{"$f":"IF( Ecarts!$E178=$A$1, IF(Ecarts!F178=\"\",\"\",Ecarts!F178),\"\")","v":""},{"$f":"IF( Ecarts!$E178=$A$1, IF(Ecarts!I178=\"\",\"\",Ecarts!I178),\"\")","v":""},{"$f":"IF( Ecarts!$E178=$A$1, IF(Ecarts!J178=\"\",\"\",Ecarts!J178),\"\")","v":""},{"$f":"IF( Ecarts!$E178=$A$1, IF(Ecarts!K178=\"\",\"\",Ecarts!K178),\"\")","v":""},{"$f":"IF( Ecarts!$E178=$A$1, IF(Ecarts!L178=\"\",\"\",Ecarts!L178),\"\")","v":""},{"$f":"IF( Ecarts!$E178=$A$1, IF(Ecarts!M178=\"\",\"\",Ecarts!M178),\"\")","v":""},0,0]
[{"$f":"IF( Ecarts!$E179=$A$1,IF( Ecarts!B179=\"\",\"\",Ecarts!A179),\"\")","v":""},{"$f":"IF( Ecarts!$E179=$A$1,IF( Ecarts!C179=\"\",\"\",Ecarts!C179),\"\")","v":""},{"$f":"IF( Ecarts!$E179=$A$1, IF(Ecarts!F179=\"\",\"\",Ecarts!F179),\"\")","v":""},{"$f":"IF( Ecarts!$E179=$A$1, IF(Ecarts!I179=\"\",\"\",Ecarts!I179),\"\")","v":""},{"$f":"IF( Ecarts!$E179=$A$1, IF(Ecarts!J179=\"\",\"\",Ecarts!J179),\"\")","v":""},{"$f":"IF( Ecarts!$E179=$A$1, IF(Ecarts!K179=\"\",\"\",Ecarts!K179),\"\")","v":""},{"$f":"IF( Ecarts!$E179=$A$1, IF(Ecarts!L179=\"\",\"\",Ecarts!L179),\"\")","v":""},{"$f":"IF( Ecarts!$E179=$A$1, IF(Ecarts!M179=\"\",\"\",Ecarts!M179),\"\")","v":""},0,0]
[{"$f":"IF( Ecarts!$E180=$A$1,IF( Ecarts!B180=\"\",\"\",Ecarts!A180),\"\")","v":""},{"$f":"IF( Ecarts!$E180=$A$1,IF( Ecarts!C180=\"\",\"\",Ecarts!C180),\"\")","v":""},{"$f":"IF( Ecarts!$E180=$A$1, IF(Ecarts!F180=\"\",\"\",Ecarts!F180),\"\")","v":""},{"$f":"IF( Ecarts!$E180=$A$1, IF(Ecarts!I180=\"\",\"\",Ecarts!I180),\"\")","v":""},{"$f":"IF( Ecarts!$E180=$A$1, IF(Ecarts!J180=\"\",\"\",Ecarts!J180),\"\")","v":""},{"$f":"IF( Ecarts!$E180=$A$1, IF(Ecarts!K180=\"\",\"\",Ecarts!K180),\"\")","v":""},{"$f":"IF( Ecarts!$E180=$A$1, IF(Ecarts!L180=\"\",\"\",Ecarts!L180),\"\")","v":""},{"$f":"IF( Ecarts!$E180=$A$1, IF(Ecarts!M180=\"\",\"\",Ecarts!M180),\"\")","v":""},0,0]
[{"$f":"IF( Ecarts!$E181=$A$1,IF( Ecarts!B181=\"\",\"\",Ecarts!A181),\"\")","v":""},{"$f":"IF( Ecarts!$E181=$A$1,IF( Ecarts!C181=\"\",\"\",Ecarts!C181),\"\")","v":""},{"$f":"IF( Ecarts!$E181=$A$1, IF(Ecarts!F181=\"\",\"\",Ecarts!F181),\"\")","v":""},{"$f":"IF( Ecarts!$E181=$A$1, IF(Ecarts!I181=\"\",\"\",Ecarts!I181),\"\")","v":""},{"$f":"IF( Ecarts!$E181=$A$1, IF(Ecarts!J181=\"\",\"\",Ecarts!J181),\"\")","v":""},{"$f":"IF( Ecarts!$E181=$A$1, IF(Ecarts!K181=\"\",\"\",Ecarts!K181),\"\")","v":""},{"$f":"IF( Ecarts!$E181=$A$1, IF(Ecarts!L181=\"\",\"\",Ecarts!L181),\"\")","v":""},{"$f":"IF( Ecarts!$E181=$A$1, IF(Ecarts!M181=\"\",\"\",Ecarts!M181),\"\")","v":""},0,0]
[{"$f":"IF( Ecarts!$E182=$A$1,IF( Ecarts!B182=\"\",\"\",Ecarts!A182),\"\")","v":""},{"$f":"IF( Ecarts!$E182=$A$1,IF( Ecarts!C182=\"\",\"\",Ecarts!C182),\"\")","v":""},{"$f":"IF( Ecarts!$E182=$A$1, IF(Ecarts!F182=\"\",\"\",Ecarts!F182),\"\")","v":""},{"$f":"IF( Ecarts!$E182=$A$1, IF(Ecarts!I182=\"\",\"\",Ecarts!I182),\"\")","v":""},{"$f":"IF( Ecarts!$E182=$A$1, IF(Ecarts!J182=\"\",\"\",Ecarts!J182),\"\")","v":""},{"$f":"IF( Ecarts!$E182=$A$1, IF(Ecarts!K182=\"\",\"\",Ecarts!K182),\"\")","v":""},{"$f":"IF( Ecarts!$E182=$A$1, IF(Ecarts!L182=\"\",\"\",Ecarts!L182),\"\")","v":""},{"$f":"IF( Ecarts!$E182=$A$1, IF(Ecarts!M182=\"\",\"\",Ecarts!M182),\"\")","v":""},0,0]
[{"$f":"IF( Ecarts!$E183=$A$1,IF( Ecarts!B183=\"\",\"\",Ecarts!A183),\"\")","v":""},{"$f":"IF( Ecarts!$E183=$A$1,IF( Ecarts!C183=\"\",\"\",Ecarts!C183),\"\")","v":""},{"$f":"IF( Ecarts!$E183=$A$1, IF(Ecarts!F183=\"\",\"\",Ecarts!F183),\"\")","v":""},{"$f":"IF( Ecarts!$E183=$A$1, IF(Ecarts!I183=\"\",\"\",Ecarts!I183),\"\")","v":""},{"$f":"IF( Ecarts!$E183=$A$1, IF(Ecarts!J183=\"\",\"\",Ecarts!J183),\"\")","v":""},{"$f":"IF( Ecarts!$E183=$A$1, IF(Ecarts!K183=\"\",\"\",Ecarts!K183),\"\")","v":""},{"$f":"IF( Ecarts!$E183=$A$1, IF(Ecarts!L183=\"\",\"\",Ecarts!L183),\"\")","v":""},{"$f":"IF( Ecarts!$E183=$A$1, IF(Ecarts!M183=\"\",\"\",Ecarts!M183),\"\")","v":""},0,0]
[{"$f":"IF( Ecarts!$E184=$A$1,IF( Ecarts!B184=\"\",\"\",Ecarts!A184),\"\")","v":""},{"$f":"IF( Ecarts!$E184=$A$1,IF( Ecarts!C184=\"\",\"\",Ecarts!C184),\"\")","v":""},{"$f":"IF( Ecarts!$E184=$A$1, IF(Ecarts!F184=\"\",\"\",Ecarts!F184),\"\")","v":""},{"$f":"IF( Ecarts!$E184=$A$1, IF(Ecarts!I184=\"\",\"\",Ecarts!I184),\"\")","v":""},{"$f":"IF( Ecarts!$E184=$A$1, IF(Ecarts!J184=\"\",\"\",Ecarts!J184),\"\")","v":""},{"$f":"IF( Ecarts!$E184=$A$1, IF(Ecarts!K184=\"\",\"\",Ecarts!K184),\"\")","v":""},{"$f":"IF( Ecarts!$E184=$A$1, IF(Ecarts!L184=\"\",\"\",Ecarts!L184),\"\")","v":""},{"$f":"IF( Ecarts!$E184=$A$1, IF(Ecarts!M184=\"\",\"\",Ecarts!M184),\"\")","v":""},0,0]
[{"$f":"IF( Ecarts!$E185=$A$1,IF( Ecarts!B185=\"\",\"\",Ecarts!A185),\"\")","v":""},{"$f":"IF( Ecarts!$E185=$A$1,IF( Ecarts!C185=\"\",\"\",Ecarts!C185),\"\")","v":""},{"$f":"IF( Ecarts!$E185=$A$1, IF(Ecarts!F185=\"\",\"\",Ecarts!F185),\"\")","v":""},{"$f":"IF( Ecarts!$E185=$A$1, IF(Ecarts!I185=\"\",\"\",Ecarts!I185),\"\")","v":""},{"$f":"IF( Ecarts!$E185=$A$1, IF(Ecarts!J185=\"\",\"\",Ecarts!J185),\"\")","v":""},{"$f":"IF( Ecarts!$E185=$A$1, IF(Ecarts!K185=\"\",\"\",Ecarts!K185),\"\")","v":""},{"$f":"IF( Ecarts!$E185=$A$1, IF(Ecarts!L185=\"\",\"\",Ecarts!L185),\"\")","v":""},{"$f":"IF( Ecarts!$E185=$A$1, IF(Ecarts!M185=\"\",\"\",Ecarts!M185),\"\")","v":""},0,0]
[{"$f":"IF( Ecarts!$E186=$A$1,IF( Ecarts!B186=\"\",\"\",Ecarts!A186),\"\")","v":""},{"$f":"IF( Ecarts!$E186=$A$1,IF( Ecarts!C186=\"\",\"\",Ecarts!C186),\"\")","v":""},{"$f":"IF( Ecarts!$E186=$A$1, IF(Ecarts!F186=\"\",\"\",Ecarts!F186),\"\")","v":""},{"$f":"IF( Ecarts!$E186=$A$1, IF(Ecarts!I186=\"\",\"\",Ecarts!I186),\"\")","v":""},{"$f":"IF( Ecarts!$E186=$A$1, IF(Ecarts!J186=\"\",\"\",Ecarts!J186),\"\")","v":""},{"$f":"IF( Ecarts!$E186=$A$1, IF(Ecarts!K186=\"\",\"\",Ecarts!K186),\"\")","v":""},{"$f":"IF( Ecarts!$E186=$A$1, IF(Ecarts!L186=\"\",\"\",Ecarts!L186),\"\")","v":""},{"$f":"IF( Ecarts!$E186=$A$1, IF(Ecarts!M186=\"\",\"\",Ecarts!M186),\"\")","v":""},0,0]
[{"$f":"IF( Ecarts!$E187=$A$1,IF( Ecarts!B187=\"\",\"\",Ecarts!A187),\"\")","v":""},{"$f":"IF( Ecarts!$E187=$A$1,IF( Ecarts!C187=\"\",\"\",Ecarts!C187),\"\")","v":""},{"$f":"IF( Ecarts!$E187=$A$1, IF(Ecarts!F187=\"\",\"\",Ecarts!F187),\"\")","v":""},{"$f":"IF( Ecarts!$E187=$A$1, IF(Ecarts!I187=\"\",\"\",Ecarts!I187),\"\")","v":""},{"$f":"IF( Ecarts!$E187=$A$1, IF(Ecarts!J187=\"\",\"\",Ecarts!J187),\"\")","v":""},{"$f":"IF( Ecarts!$E187=$A$1, IF(Ecarts!K187=\"\",\"\",Ecarts!K187),\"\")","v":""},{"$f":"IF( Ecarts!$E187=$A$1, IF(Ecarts!L187=\"\",\"\",Ecarts!L187),\"\")","v":""},{"$f":"IF( Ecarts!$E187=$A$1, IF(Ecarts!M187=\"\",\"\",Ecarts!M187),\"\")","v":""},0,0]
[{"$f":"IF( Ecarts!$E188=$A$1,IF( Ecarts!B188=\"\",\"\",Ecarts!A188),\"\")","v":""},{"$f":"IF( Ecarts!$E188=$A$1,IF( Ecarts!C188=\"\",\"\",Ecarts!C188),\"\")","v":""},{"$f":"IF( Ecarts!$E188=$A$1, IF(Ecarts!F188=\"\",\"\",Ecarts!F188),\"\")","v":""},{"$f":"IF( Ecarts!$E188=$A$1, IF(Ecarts!I188=\"\",\"\",Ecarts!I188),\"\")","v":""},{"$f":"IF( Ecarts!$E188=$A$1, IF(Ecarts!J188=\"\",\"\",Ecarts!J188),\"\")","v":""},{"$f":"IF( Ecarts!$E188=$A$1, IF(Ecarts!K188=\"\",\"\",Ecarts!K188),\"\")","v":""},{"$f":"IF( Ecarts!$E188=$A$1, IF(Ecarts!L188=\"\",\"\",Ecarts!L188),\"\")","v":""},{"$f":"IF( Ecarts!$E188=$A$1, IF(Ecarts!M188=\"\",\"\",Ecarts!M188),\"\")","v":""},0,0]
[{"$f":"IF( Ecarts!$E189=$A$1,IF( Ecarts!B189=\"\",\"\",Ecarts!A189),\"\")","v":""},{"$f":"IF( Ecarts!$E189=$A$1,IF( Ecarts!C189=\"\",\"\",Ecarts!C189),\"\")","v":""},{"$f":"IF( Ecarts!$E189=$A$1, IF(Ecarts!F189=\"\",\"\",Ecarts!F189),\"\")","v":""},{"$f":"IF( Ecarts!$E189=$A$1, IF(Ecarts!I189=\"\",\"\",Ecarts!I189),\"\")","v":""},{"$f":"IF( Ecarts!$E189=$A$1, IF(Ecarts!J189=\"\",\"\",Ecarts!J189),\"\")","v":""},{"$f":"IF( Ecarts!$E189=$A$1, IF(Ecarts!K189=\"\",\"\",Ecarts!K189),\"\")","v":""},{"$f":"IF( Ecarts!$E189=$A$1, IF(Ecarts!L189=\"\",\"\",Ecarts!L189),\"\")","v":""},{"$f":"IF( Ecarts!$E189=$A$1, IF(Ecarts!M189=\"\",\"\",Ecarts!M189),\"\")","v":""},0,0]
[{"$f":"IF( Ecarts!$E190=$A$1,IF( Ecarts!B190=\"\",\"\",Ecarts!A190),\"\")","v":""},{"$f":"IF( Ecarts!$E190=$A$1,IF( Ecarts!C190=\"\",\"\",Ecarts!C190),\"\")","v":""},{"$f":"IF( Ecarts!$E190=$A$1, IF(Ecarts!F190=\"\",\"\",Ecarts!F190),\"\")","v":""},{"$f":"IF( Ecarts!$E190=$A$1, IF(Ecarts!I190=\"\",\"\",Ecarts!I190),\"\")","v":""},{"$f":"IF( Ecarts!$E190=$A$1, IF(Ecarts!J190=\"\",\"\",Ecarts!J190),\"\")","v":""},{"$f":"IF( Ecarts!$E190=$A$1, IF(Ecarts!K190=\"\",\"\",Ecarts!K190),\"\")","v":""},{"$f":"IF( Ecarts!$E190=$A$1, IF(Ecarts!L190=\"\",\"\",Ecarts!L190),\"\")","v":""},{"$f":"IF( Ecarts!$E190=$A$1, IF(Ecarts!M190=\"\",\"\",Ecarts!M190),\"\")","v":""},0,0]
[{"$f":"IF( Ecarts!$E191=$A$1,IF( Ecarts!B191=\"\",\"\",Ecarts!A191),\"\")","v":""},{"$f":"IF( Ecarts!$E191=$A$1,IF( Ecarts!C191=\"\",\"\",Ecarts!C191),\"\")","v":""},{"$f":"IF( Ecarts!$E191=$A$1, IF(Ecarts!F191=\"\",\"\",Ecarts!F191),\"\")","v":""},{"$f":"IF( Ecarts!$E191=$A$1, IF(Ecarts!I191=\"\",\"\",Ecarts!I191),\"\")","v":""},{"$f":"IF( Ecarts!$E191=$A$1, IF(Ecarts!J191=\"\",\"\",Ecarts!J191),\"\")","v":""},{"$f":"IF( Ecarts!$E191=$A$1, IF(Ecarts!K191=\"\",\"\",Ecarts!K191),\"\")","v":""},{"$f":"IF( Ecarts!$E191=$A$1, IF(Ecarts!L191=\"\",\"\",Ecarts!L191),\"\")","v":""},{"$f":"IF( Ecarts!$E191=$A$1, IF(Ecarts!M191=\"\",\"\",Ecarts!M191),\"\")","v":""},0,0]
[{"$f":"IF( Ecarts!$E192=$A$1,IF( Ecarts!B192=\"\",\"\",Ecarts!A192),\"\")","v":""},{"$f":"IF( Ecarts!$E192=$A$1,IF( Ecarts!C192=\"\",\"\",Ecarts!C192),\"\")","v":""},{"$f":"IF( Ecarts!$E192=$A$1, IF(Ecarts!F192=\"\",\"\",Ecarts!F192),\"\")","v":""},{"$f":"IF( Ecarts!$E192=$A$1, IF(Ecarts!I192=\"\",\"\",Ecarts!I192),\"\")","v":""},{"$f":"IF( Ecarts!$E192=$A$1, IF(Ecarts!J192=\"\",\"\",Ecarts!J192),\"\")","v":""},{"$f":"IF( Ecarts!$E192=$A$1, IF(Ecarts!K192=\"\",\"\",Ecarts!K192),\"\")","v":""},{"$f":"IF( Ecarts!$E192=$A$1, IF(Ecarts!L192=\"\",\"\",Ecarts!L192),\"\")","v":""},{"$f":"IF( Ecarts!$E192=$A$1, IF(Ecarts!M192=\"\",\"\",Ecarts!M192),\"\")","v":""},0,0]
[{"$f":"IF( Ecarts!$E193=$A$1,IF( Ecarts!B193=\"\",\"\",Ecarts!A193),\"\")","v":""},{"$f":"IF( Ecarts!$E193=$A$1,IF( Ecarts!C193=\"\",\"\",Ecarts!C193),\"\")","v":""},{"$f":"IF( Ecarts!$E193=$A$1, IF(Ecarts!F193=\"\",\"\",Ecarts!F193),\"\")","v":""},{"$f":"IF( Ecarts!$E193=$A$1, IF(Ecarts!I193=\"\",\"\",Ecarts!I193),\"\")","v":""},{"$f":"IF( Ecarts!$E193=$A$1, IF(Ecarts!J193=\"\",\"\",Ecarts!J193),\"\")","v":""},{"$f":"IF( Ecarts!$E193=$A$1, IF(Ecarts!K193=\"\",\"\",Ecarts!K193),\"\")","v":""},{"$f":"IF( Ecarts!$E193=$A$1, IF(Ecarts!L193=\"\",\"\",Ecarts!L193),\"\")","v":""},{"$f":"IF( Ecarts!$E193=$A$1, IF(Ecarts!M193=\"\",\"\",Ecarts!M193),\"\")","v":""},0,0]
[{"$f":"IF( Ecarts!$E194=$A$1,IF( Ecarts!B194=\"\",\"\",Ecarts!A194),\"\")","v":""},{"$f":"IF( Ecarts!$E194=$A$1,IF( Ecarts!C194=\"\",\"\",Ecarts!C194),\"\")","v":""},{"$f":"IF( Ecarts!$E194=$A$1, IF(Ecarts!F194=\"\",\"\",Ecarts!F194),\"\")","v":""},{"$f":"IF( Ecarts!$E194=$A$1, IF(Ecarts!I194=\"\",\"\",Ecarts!I194),\"\")","v":""},{"$f":"IF( Ecarts!$E194=$A$1, IF(Ecarts!J194=\"\",\"\",Ecarts!J194),\"\")","v":""},{"$f":"IF( Ecarts!$E194=$A$1, IF(Ecarts!K194=\"\",\"\",Ecarts!K194),\"\")","v":""},{"$f":"IF( Ecarts!$E194=$A$1, IF(Ecarts!L194=\"\",\"\",Ecarts!L194),\"\")","v":""},{"$f":"IF( Ecarts!$E194=$A$1, IF(Ecarts!M194=\"\",\"\",Ecarts!M194),\"\")","v":""},0,0]
[{"$f":"IF( Ecarts!$E195=$A$1,IF( Ecarts!B195=\"\",\"\",Ecarts!A195),\"\")","v":""},{"$f":"IF( Ecarts!$E195=$A$1,IF( Ecarts!C195=\"\",\"\",Ecarts!C195),\"\")","v":""},{"$f":"IF( Ecarts!$E195=$A$1, IF(Ecarts!F195=\"\",\"\",Ecarts!F195),\"\")","v":""},{"$f":"IF( Ecarts!$E195=$A$1, IF(Ecarts!I195=\"\",\"\",Ecarts!I195),\"\")","v":""},{"$f":"IF( Ecarts!$E195=$A$1, IF(Ecarts!J195=\"\",\"\",Ecarts!J195),\"\")","v":""},{"$f":"IF( Ecarts!$E195=$A$1, IF(Ecarts!K195=\"\",\"\",Ecarts!K195),\"\")","v":""},{"$f":"IF( Ecarts!$E195=$A$1, IF(Ecarts!L195=\"\",\"\",Ecarts!L195),\"\")","v":""},{"$f":"IF( Ecarts!$E195=$A$1, IF(Ecarts!M195=\"\",\"\",Ecarts!M195),\"\")","v":""},0,0]
[{"$f":"IF( Ecarts!$E196=$A$1,IF( Ecarts!B196=\"\",\"\",Ecarts!A196),\"\")","v":""},{"$f":"IF( Ecarts!$E196=$A$1,IF( Ecarts!C196=\"\",\"\",Ecarts!C196),\"\")","v":""},{"$f":"IF( Ecarts!$E196=$A$1, IF(Ecarts!F196=\"\",\"\",Ecarts!F196),\"\")","v":""},{"$f":"IF( Ecarts!$E196=$A$1, IF(Ecarts!I196=\"\",\"\",Ecarts!I196),\"\")","v":""},{"$f":"IF( Ecarts!$E196=$A$1, IF(Ecarts!J196=\"\",\"\",Ecarts!J196),\"\")","v":""},{"$f":"IF( Ecarts!$E196=$A$1, IF(Ecarts!K196=\"\",\"\",Ecarts!K196),\"\")","v":""},{"$f":"IF( Ecarts!$E196=$A$1, IF(Ecarts!L196=\"\",\"\",Ecarts!L196),\"\")","v":""},{"$f":"IF( Ecarts!$E196=$A$1, IF(Ecarts!M196=\"\",\"\",Ecarts!M196),\"\")","v":""},{"$f":"IF(B197=\"\",0,IF(G197=1,0,1))","v":0},{"$f":"IF(F197=\"\",0,IF(F197>(TODAY()-60),1,0))","v":0}]
[{"$f":"IF( Ecarts!$E197=$A$1,IF( Ecarts!B197=\"\",\"\",Ecarts!A197),\"\")","v":""},{"$f":"IF( Ecarts!$E197=$A$1,IF( Ecarts!C197=\"\",\"\",Ecarts!C197),\"\")","v":""},{"$f":"IF( Ecarts!$E197=$A$1, IF(Ecarts!F197=\"\",\"\",Ecarts!F197),\"\")","v":""},{"$f":"IF( Ecarts!$E197=$A$1, IF(Ecarts!I197=\"\",\"\",Ecarts!I197),\"\")","v":""},{"$f":"IF( Ecarts!$E197=$A$1, IF(Ecarts!J197=\"\",\"\",Ecarts!J197),\"\")","v":""},{"$f":"IF( Ecarts!$E197=$A$1, IF(Ecarts!K197=\"\",\"\",Ecarts!K197),\"\")","v":""},{"$f":"IF( Ecarts!$E197=$A$1, IF(Ecarts!L197=\"\",\"\",Ecarts!L197),\"\")","v":""},{"$f":"IF( Ecarts!$E197=$A$1, IF(Ecarts!M197=\"\",\"\",Ecarts!M197),\"\")","v":""},0,0]
[{"$f":"IF( Ecarts!$E198=$A$1,IF( Ecarts!B198=\"\",\"\",Ecarts!A198),\"\")","v":""},{"$f":"IF( Ecarts!$E198=$A$1,IF( Ecarts!C198=\"\",\"\",Ecarts!C198),\"\")","v":""},{"$f":"IF( Ecarts!$E198=$A$1, IF(Ecarts!F198=\"\",\"\",Ecarts!F198),\"\")","v":""},{"$f":"IF( Ecarts!$E198=$A$1, IF(Ecarts!I198=\"\",\"\",Ecarts!I198),\"\")","v":""},{"$f":"IF( Ecarts!$E198=$A$1, IF(Ecarts!J198=\"\",\"\",Ecarts!J198),\"\")","v":""},{"$f":"IF( Ecarts!$E198=$A$1, IF(Ecarts!K198=\"\",\"\",Ecarts!K198),\"\")","v":""},{"$f":"IF( Ecarts!$E198=$A$1, IF(Ecarts!L198=\"\",\"\",Ecarts!L198),\"\")","v":""},{"$f":"IF( Ecarts!$E198=$A$1, IF(Ecarts!M198=\"\",\"\",Ecarts!M198),\"\")","v":""},0,0]
[{"$f":"IF( Ecarts!$E199=$A$1,IF( Ecarts!B199=\"\",\"\",Ecarts!A199),\"\")","v":""},{"$f":"IF( Ecarts!$E199=$A$1,IF( Ecarts!C199=\"\",\"\",Ecarts!C199),\"\")","v":""},{"$f":"IF( Ecarts!$E199=$A$1, IF(Ecarts!F199=\"\",\"\",Ecarts!F199),\"\")","v":""},{"$f":"IF( Ecarts!$E199=$A$1, IF(Ecarts!I199=\"\",\"\",Ecarts!I199),\"\")","v":""},{"$f":"IF( Ecarts!$E199=$A$1, IF(Ecarts!J199=\"\",\"\",Ecarts!J199),\"\")","v":""},{"$f":"IF( Ecarts!$E199=$A$1, IF(Ecarts!K199=\"\",\"\",Ecarts!K199),\"\")","v":""},{"$f":"IF( Ecarts!$E199=$A$1, IF(Ecarts!L199=\"\",\"\",Ecarts!L199),\"\")","v":""},{"$f":"IF( Ecarts!$E199=$A$1, IF(Ecarts!M199=\"\",\"\",Ecarts!M199),\"\")","v":""},0,0]
[{"$f":"IF( Ecarts!$E200=$A$1,IF( Ecarts!B200=\"\",\"\",Ecarts!A200),\"\")","v":""},{"$f":"IF( Ecarts!$E200=$A$1,IF( Ecarts!C200=\"\",\"\",Ecarts!C200),\"\")","v":""},{"$f":"IF( Ecarts!$E200=$A$1, IF(Ecarts!F200=\"\",\"\",Ecarts!F200),\"\")","v":""},{"$f":"IF( Ecarts!$E200=$A$1, IF(Ecarts!I200=\"\",\"\",Ecarts!I200),\"\")","v":""},{"$f":"IF( Ecarts!$E200=$A$1, IF(Ecarts!J200=\"\",\"\",Ecarts!J200),\"\")","v":""},{"$f":"IF( Ecarts!$E200=$A$1, IF(Ecarts!K200=\"\",\"\",Ecarts!K200),\"\")","v":""},{"$f":"IF( Ecarts!$E200=$A$1, IF(Ecarts!L200=\"\",\"\",Ecarts!L200),\"\")","v":""},{"$f":"IF( Ecarts!$E200=$A$1, IF(Ecarts!M200=\"\",\"\",Ecarts!M200),\"\")","v":""},0,0]
[{"$f":"IF( Ecarts!$E201=$A$1,IF( Ecarts!B201=\"\",\"\",Ecarts!A201),\"\")","v":""},{"$f":"IF( Ecarts!$E201=$A$1,IF( Ecarts!C201=\"\",\"\",Ecarts!C201),\"\")","v":""},{"$f":"IF( Ecarts!$E201=$A$1, IF(Ecarts!F201=\"\",\"\",Ecarts!F201),\"\")","v":""},{"$f":"IF( Ecarts!$E201=$A$1, IF(Ecarts!I201=\"\",\"\",Ecarts!I201),\"\")","v":""},{"$f":"IF( Ecarts!$E201=$A$1, IF(Ecarts!J201=\"\",\"\",Ecarts!J201),\"\")","v":""},{"$f":"IF( Ecarts!$E201=$A$1, IF(Ecarts!K201=\"\",\"\",Ecarts!K201),\"\")","v":""},{"$f":"IF( Ecarts!$E201=$A$1, IF(Ecarts!L201=\"\",\"\",Ecarts!L201),\"\")","v":""},{"$f":"IF( Ecarts!$E201=$A$1, IF(Ecarts!M201=\"\",\"\",Ecarts!M201),\"\")","v":""},0,0]
[{"$f":"IF( Ecarts!$E202=$A$1,IF( Ecarts!B202=\"\",\"\",Ecarts!A202),\"\")","v":""},{"$f":"IF( Ecarts!$E202=$A$1,IF( Ecarts!C202=\"\",\"\",Ecarts!C202),\"\")","v":""},{"$f":"IF( Ecarts!$E202=$A$1, IF(Ecarts!F202=\"\",\"\",Ecarts!F202),\"\")","v":""},{"$f":"IF( Ecarts!$E202=$A$1, IF(Ecarts!I202=\"\",\"\",Ecarts!I202),\"\")","v":""},{"$f":"IF( Ecarts!$E202=$A$1, IF(Ecarts!J202=\"\",\"\",Ecarts!J202),\"\")","v":""},{"$f":"IF( Ecarts!$E202=$A$1, IF(Ecarts!K202=\"\",\"\",Ecarts!K202),\"\")","v":""},{"$f":"IF( Ecarts!$E202=$A$1, IF(Ecarts!L202=\"\",\"\",Ecarts!L202),\"\")","v":""},{"$f":"IF( Ecarts!$E202=$A$1, IF(Ecarts!M202=\"\",\"\",Ecarts!M202),\"\")","v":""},0,0]
[{"$f":"IF( Ecarts!$E203=$A$1,IF( Ecarts!B203=\"\",\"\",Ecarts!A203),\"\")","v":""},{"$f":"IF( Ecarts!$E203=$A$1,IF( Ecarts!C203=\"\",\"\",Ecarts!C203),\"\")","v":""},{"$f":"IF( Ecarts!$E203=$A$1, IF(Ecarts!F203=\"\",\"\",Ecarts!F203),\"\")","v":""},{"$f":"IF( Ecarts!$E203=$A$1, IF(Ecarts!I203=\"\",\"\",Ecarts!I203),\"\")","v":""},{"$f":"IF( Ecarts!$E203=$A$1, IF(Ecarts!J203=\"\",\"\",Ecarts!J203),\"\")","v":""},{"$f":"IF( Ecarts!$E203=$A$1, IF(Ecarts!K203=\"\",\"\",Ecarts!K203),\"\")","v":""},{"$f":"IF( Ecarts!$E203=$A$1, IF(Ecarts!L203=\"\",\"\",Ecarts!L203),\"\")","v":""},{"$f":"IF( Ecarts!$E203=$A$1, IF(Ecarts!M203=\"\",\"\",Ecarts!M203),\"\")","v":""},0,0]
[{"$f":"IF( Ecarts!$E204=$A$1,IF( Ecarts!B204=\"\",\"\",Ecarts!A204),\"\")","v":""},{"$f":"IF( Ecarts!$E204=$A$1,IF( Ecarts!C204=\"\",\"\",Ecarts!C204),\"\")","v":""},{"$f":"IF( Ecarts!$E204=$A$1, IF(Ecarts!F204=\"\",\"\",Ecarts!F204),\"\")","v":""},{"$f":"IF( Ecarts!$E204=$A$1, IF(Ecarts!I204=\"\",\"\",Ecarts!I204),\"\")","v":""},{"$f":"IF( Ecarts!$E204=$A$1, IF(Ecarts!J204=\"\",\"\",Ecarts!J204),\"\")","v":""},{"$f":"IF( Ecarts!$E204=$A$1, IF(Ecarts!K204=\"\",\"\",Ecarts!K204),\"\")","v":""},{"$f":"IF( Ecarts!$E204=$A$1, IF(Ecarts!L204=\"\",\"\",Ecarts!L204),\"\")","v":""},{"$f":"IF( Ecarts!$E204=$A$1, IF(Ecarts!M204=\"\",\"\",Ecarts!M204),\"\")","v":""},0,0]
[{"$f":"IF( Ecarts!$E205=$A$1,IF( Ecarts!B205=\"\",\"\",Ecarts!A205),\"\")","v":""},{"$f":"IF( Ecarts!$E205=$A$1,IF( Ecarts!C205=\"\",\"\",Ecarts!C205),\"\")","v":""},{"$f":"IF( Ecarts!$E205=$A$1, IF(Ecarts!F205=\"\",\"\",Ecarts!F205),\"\")","v":""},{"$f":"IF( Ecarts!$E205=$A$1, IF(Ecarts!I205=\"\",\"\",Ecarts!I205),\"\")","v":""},{"$f":"IF( Ecarts!$E205=$A$1, IF(Ecarts!J205=\"\",\"\",Ecarts!J205),\"\")","v":""},{"$f":"IF( Ecarts!$E205=$A$1, IF(Ecarts!K205=\"\",\"\",Ecarts!K205),\"\")","v":""},{"$f":"IF( Ecarts!$E205=$A$1, IF(Ecarts!L205=\"\",\"\",Ecarts!L205),\"\")","v":""},{"$f":"IF( Ecarts!$E205=$A$1, IF(Ecarts!M205=\"\",\"\",Ecarts!M205),\"\")","v":""},0,0]
[{"$f":"IF( Ecarts!$E206=$A$1,IF( Ecarts!B206=\"\",\"\",Ecarts!A206),\"\")","v":""},{"$f":"IF( Ecarts!$E206=$A$1,IF( Ecarts!C206=\"\",\"\",Ecarts!C206),\"\")","v":""},{"$f":"IF( Ecarts!$E206=$A$1, IF(Ecarts!F206=\"\",\"\",Ecarts!F206),\"\")","v":""},{"$f":"IF( Ecarts!$E206=$A$1, IF(Ecarts!I206=\"\",\"\",Ecarts!I206),\"\")","v":""},{"$f":"IF( Ecarts!$E206=$A$1, IF(Ecarts!J206=\"\",\"\",Ecarts!J206),\"\")","v":""},{"$f":"IF( Ecarts!$E206=$A$1, IF(Ecarts!K206=\"\",\"\",Ecarts!K206),\"\")","v":""},{"$f":"IF( Ecarts!$E206=$A$1, IF(Ecarts!L206=\"\",\"\",Ecarts!L206),\"\")","v":""},{"$f":"IF( Ecarts!$E206=$A$1, IF(Ecarts!M206=\"\",\"\",Ecarts!M206),\"\")","v":""},0,0]
[{"$f":"IF( Ecarts!$E207=$A$1,IF( Ecarts!B207=\"\",\"\",Ecarts!A207),\"\")","v":""},{"$f":"IF( Ecarts!$E207=$A$1,IF( Ecarts!C207=\"\",\"\",Ecarts!C207),\"\")","v":""},{"$f":"IF( Ecarts!$E207=$A$1, IF(Ecarts!F207=\"\",\"\",Ecarts!F207),\"\")","v":""},{"$f":"IF( Ecarts!$E207=$A$1, IF(Ecarts!I207=\"\",\"\",Ecarts!I207),\"\")","v":""},{"$f":"IF( Ecarts!$E207=$A$1, IF(Ecarts!J207=\"\",\"\",Ecarts!J207),\"\")","v":""},{"$f":"IF( Ecarts!$E207=$A$1, IF(Ecarts!K207=\"\",\"\",Ecarts!K207),\"\")","v":""},{"$f":"IF( Ecarts!$E207=$A$1, IF(Ecarts!L207=\"\",\"\",Ecarts!L207),\"\")","v":""},{"$f":"IF( Ecarts!$E207=$A$1, IF(Ecarts!M207=\"\",\"\",Ecarts!M207),\"\")","v":""},0,0]
[{"$f":"IF( Ecarts!$E208=$A$1,IF( Ecarts!B208=\"\",\"\",Ecarts!A208),\"\")","v":""},{"$f":"IF( Ecarts!$E208=$A$1,IF( Ecarts!C208=\"\",\"\",Ecarts!C208),\"\")","v":""},{"$f":"IF( Ecarts!$E208=$A$1, IF(Ecarts!F208=\"\",\"\",Ecarts!F208),\"\")","v":""},{"$f":"IF( Ecarts!$E208=$A$1, IF(Ecarts!I208=\"\",\"\",Ecarts!I208),\"\")","v":""},{"$f":"IF( Ecarts!$E208=$A$1, IF(Ecarts!J208=\"\",\"\",Ecarts!J208),\"\")","v":""},{"$f":"IF( Ecarts!$E208=$A$1, IF(Ecarts!K208=\"\",\"\",Ecarts!K208),\"\")","v":""},{"$f":"IF( Ecarts!$E208=$A$1, IF(Ecarts!L208=\"\",\"\",Ecarts!L208),\"\")","v":""},{"$f":"IF( Ecarts!$E208=$A$1, IF(Ecarts!M208=\"\",\"\",Ecarts!M208),\"\")","v":""},0,0]
[{"$f":"IF( Ecarts!$E209=$A$1,IF( Ecarts!B209=\"\",\"\",Ecarts!A209),\"\")","v":""},{"$f":"IF( Ecarts!$E209=$A$1,IF( Ecarts!C209=\"\",\"\",Ecarts!C209),\"\")","v":""},{"$f":"IF( Ecarts!$E209=$A$1, IF(Ecarts!F209=\"\",\"\",Ecarts!F209),\"\")","v":""},{"$f":"IF( Ecarts!$E209=$A$1, IF(Ecarts!I209=\"\",\"\",Ecarts!I209),\"\")","v":""},{"$f":"IF( Ecarts!$E209=$A$1, IF(Ecarts!J209=\"\",\"\",Ecarts!J209),\"\")","v":""},{"$f":"IF( Ecarts!$E209=$A$1, IF(Ecarts!K209=\"\",\"\",Ecarts!K209),\"\")","v":""},{"$f":"IF( Ecarts!$E209=$A$1, IF(Ecarts!L209=\"\",\"\",Ecarts!L209),\"\")","v":""},{"$f":"IF( Ecarts!$E209=$A$1, IF(Ecarts!M209=\"\",\"\",Ecarts!M209),\"\")","v":""},0,0]
[{"$f":"IF( Ecarts!$E210=$A$1,IF( Ecarts!B210=\"\",\"\",Ecarts!A210),\"\")","v":""},{"$f":"IF( Ecarts!$E210=$A$1,IF( Ecarts!C210=\"\",\"\",Ecarts!C210),\"\")","v":""},{"$f":"IF( Ecarts!$E210=$A$1, IF(Ecarts!F210=\"\",\"\",Ecarts!F210),\"\")","v":""},{"$f":"IF( Ecarts!$E210=$A$1, IF(Ecarts!I210=\"\",\"\",Ecarts!I210),\"\")","v":""},{"$f":"IF( Ecarts!$E210=$A$1, IF(Ecarts!J210=\"\",\"\",Ecarts!J210),\"\")","v":""},{"$f":"IF( Ecarts!$E210=$A$1, IF(Ecarts!K210=\"\",\"\",Ecarts!K210),\"\")","v":""},{"$f":"IF( Ecarts!$E210=$A$1, IF(Ecarts!L210=\"\",\"\",Ecarts!L210),\"\")","v":""},{"$f":"IF( Ecarts!$E210=$A$1, IF(Ecarts!M210=\"\",\"\",Ecarts!M210),\"\")","v":""},0,0]
[{"$f":"IF( Ecarts!$E211=$A$1,IF( Ecarts!B211=\"\",\"\",Ecarts!A211),\"\")","v":""},{"$f":"IF( Ecarts!$E211=$A$1,IF( Ecarts!C211=\"\",\"\",Ecarts!C211),\"\")","v":""},{"$f":"IF( Ecarts!$E211=$A$1, IF(Ecarts!F211=\"\",\"\",Ecarts!F211),\"\")","v":""},{"$f":"IF( Ecarts!$E211=$A$1, IF(Ecarts!I211=\"\",\"\",Ecarts!I211),\"\")","v":""},{"$f":"IF( Ecarts!$E211=$A$1, IF(Ecarts!J211=\"\",\"\",Ecarts!J211),\"\")","v":""},{"$f":"IF( Ecarts!$E211=$A$1, IF(Ecarts!K211=\"\",\"\",Ecarts!K211),\"\")","v":""},{"$f":"IF( Ecarts!$E211=$A$1, IF(Ecarts!L211=\"\",\"\",Ecarts!L211),\"\")","v":""},{"$f":"IF( Ecarts!$E211=$A$1, IF(Ecarts!M211=\"\",\"\",Ecarts!M211),\"\")","v":""},0,0]
[{"$f":"IF( Ecarts!$E212=$A$1,IF( Ecarts!B212=\"\",\"\",Ecarts!A212),\"\")","v":""},{"$f":"IF( Ecarts!$E212=$A$1,IF( Ecarts!C212=\"\",\"\",Ecarts!C212),\"\")","v":""},{"$f":"IF( Ecarts!$E212=$A$1, IF(Ecarts!F212=\"\",\"\",Ecarts!F212),\"\")","v":""},{"$f":"IF( Ecarts!$E212=$A$1, IF(Ecarts!I212=\"\",\"\",Ecarts!I212),\"\")","v":""},{"$f":"IF( Ecarts!$E212=$A$1, IF(Ecarts!J212=\"\",\"\",Ecarts!J212),\"\")","v":""},{"$f":"IF( Ecarts!$E212=$A$1, IF(Ecarts!K212=\"\",\"\",Ecarts!K212),\"\")","v":""},{"$f":"IF( Ecarts!$E212=$A$1, IF(Ecarts!L212=\"\",\"\",Ecarts!L212),\"\")","v":""},{"$f":"IF( Ecarts!$E212=$A$1, IF(Ecarts!M212=\"\",\"\",Ecarts!M212),\"\")","v":""},0,0]
[{"$f":"IF( Ecarts!$E213=$A$1,IF( Ecarts!B213=\"\",\"\",Ecarts!A213),\"\")","v":""},{"$f":"IF( Ecarts!$E213=$A$1,IF( Ecarts!C213=\"\",\"\",Ecarts!C213),\"\")","v":""},{"$f":"IF( Ecarts!$E213=$A$1, IF(Ecarts!F213=\"\",\"\",Ecarts!F213),\"\")","v":""},{"$f":"IF( Ecarts!$E213=$A$1, IF(Ecarts!I213=\"\",\"\",Ecarts!I213),\"\")","v":""},{"$f":"IF( Ecarts!$E213=$A$1, IF(Ecarts!J213=\"\",\"\",Ecarts!J213),\"\")","v":""},{"$f":"IF( Ecarts!$E213=$A$1, IF(Ecarts!K213=\"\",\"\",Ecarts!K213),\"\")","v":""},{"$f":"IF( Ecarts!$E213=$A$1, IF(Ecarts!L213=\"\",\"\",Ecarts!L213),\"\")","v":""},{"$f":"IF( Ecarts!$E213=$A$1, IF(Ecarts!M213=\"\",\"\",Ecarts!M213),\"\")","v":""},0,0]
[{"$f":"IF( Ecarts!$E214=$A$1,IF( Ecarts!B214=\"\",\"\",Ecarts!A214),\"\")","v":""},{"$f":"IF( Ecarts!$E214=$A$1,IF( Ecarts!C214=\"\",\"\",Ecarts!C214),\"\")","v":""},{"$f":"IF( Ecarts!$E214=$A$1, IF(Ecarts!F214=\"\",\"\",Ecarts!F214),\"\")","v":""},{"$f":"IF( Ecarts!$E214=$A$1, IF(Ecarts!I214=\"\",\"\",Ecarts!I214),\"\")","v":""},{"$f":"IF( Ecarts!$E214=$A$1, IF(Ecarts!J214=\"\",\"\",Ecarts!J214),\"\")","v":""},{"$f":"IF( Ecarts!$E214=$A$1, IF(Ecarts!K214=\"\",\"\",Ecarts!K214),\"\")","v":""},{"$f":"IF( Ecarts!$E214=$A$1, IF(Ecarts!L214=\"\",\"\",Ecarts!L214),\"\")","v":""},{"$f":"IF( Ecarts!$E214=$A$1, IF(Ecarts!M214=\"\",\"\",Ecarts!M214),\"\")","v":""},0,0]
[{"$f":"IF( Ecarts!$E215=$A$1,IF( Ecarts!B215=\"\",\"\",Ecarts!A215),\"\")","v":""},{"$f":"IF( Ecarts!$E215=$A$1,IF( Ecarts!C215=\"\",\"\",Ecarts!C215),\"\")","v":""},{"$f":"IF( Ecarts!$E215=$A$1, IF(Ecarts!F215=\"\",\"\",Ecarts!F215),\"\")","v":""},{"$f":"IF( Ecarts!$E215=$A$1, IF(Ecarts!I215=\"\",\"\",Ecarts!I215),\"\")","v":""},{"$f":"IF( Ecarts!$E215=$A$1, IF(Ecarts!J215=\"\",\"\",Ecarts!J215),\"\")","v":""},{"$f":"IF( Ecarts!$E215=$A$1, IF(Ecarts!K215=\"\",\"\",Ecarts!K215),\"\")","v":""},{"$f":"IF( Ecarts!$E215=$A$1, IF(Ecarts!L215=\"\",\"\",Ecarts!L215),\"\")","v":""},{"$f":"IF( Ecarts!$E215=$A$1, IF(Ecarts!M215=\"\",\"\",Ecarts!M215),\"\")","v":""},0,0]
[{"$f":"IF( Ecarts!$E216=$A$1,IF( Ecarts!B216=\"\",\"\",Ecarts!A216),\"\")","v":""},{"$f":"IF( Ecarts!$E216=$A$1,IF( Ecarts!C216=\"\",\"\",Ecarts!C216),\"\")","v":""},{"$f":"IF( Ecarts!$E216=$A$1, IF(Ecarts!F216=\"\",\"\",Ecarts!F216),\"\")","v":""},{"$f":"IF( Ecarts!$E216=$A$1, IF(Ecarts!I216=\"\",\"\",Ecarts!I216),\"\")","v":""},{"$f":"IF( Ecarts!$E216=$A$1, IF(Ecarts!J216=\"\",\"\",Ecarts!J216),\"\")","v":""},{"$f":"IF( Ecarts!$E216=$A$1, IF(Ecarts!K216=\"\",\"\",Ecarts!K216),\"\")","v":""},{"$f":"IF( Ecarts!$E216=$A$1, IF(Ecarts!L216=\"\",\"\",Ecarts!L216),\"\")","v":""},{"$f":"IF( Ecarts!$E216=$A$1, IF(Ecarts!M216=\"\",\"\",Ecarts!M216),\"\")","v":""},0,0]
[{"$f":"IF( Ecarts!$E217=$A$1,IF( Ecarts!B217=\"\",\"\",Ecarts!A217),\"\")","v":""},{"$f":"IF( Ecarts!$E217=$A$1,IF( Ecarts!C217=\"\",\"\",Ecarts!C217),\"\")","v":""},{"$f":"IF( Ecarts!$E217=$A$1, IF(Ecarts!F217=\"\",\"\",Ecarts!F217),\"\")","v":""},{"$f":"IF( Ecarts!$E217=$A$1, IF(Ecarts!I217=\"\",\"\",Ecarts!I217),\"\")","v":""},{"$f":"IF( Ecarts!$E217=$A$1, IF(Ecarts!J217=\"\",\"\",Ecarts!J217),\"\")","v":""},{"$f":"IF( Ecarts!$E217=$A$1, IF(Ecarts!K217=\"\",\"\",Ecarts!K217),\"\")","v":""},{"$f":"IF( Ecarts!$E217=$A$1, IF(Ecarts!L217=\"\",\"\",Ecarts!L217),\"\")","v":""},{"$f":"IF( Ecarts!$E217=$A$1, IF(Ecarts!M217=\"\",\"\",Ecarts!M217),\"\")","v":""},0,0]
[{"$f":"IF( Ecarts!$E218=$A$1,IF( Ecarts!B218=\"\",\"\",Ecarts!A218),\"\")","v":""},{"$f":"IF( Ecarts!$E218=$A$1,IF( Ecarts!C218=\"\",\"\",Ecarts!C218),\"\")","v":""},{"$f":"IF( Ecarts!$E218=$A$1, IF(Ecarts!F218=\"\",\"\",Ecarts!F218),\"\")","v":""},{"$f":"IF( Ecarts!$E218=$A$1, IF(Ecarts!I218=\"\",\"\",Ecarts!I218),\"\")","v":""},{"$f":"IF( Ecarts!$E218=$A$1, IF(Ecarts!J218=\"\",\"\",Ecarts!J218),\"\")","v":""},{"$f":"IF( Ecarts!$E218=$A$1, IF(Ecarts!K218=\"\",\"\",Ecarts!K218),\"\")","v":""},{"$f":"IF( Ecarts!$E218=$A$1, IF(Ecarts!L218=\"\",\"\",Ecarts!L218),\"\")","v":""},{"$f":"IF( Ecarts!$E218=$A$1, IF(Ecarts!M218=\"\",\"\",Ecarts!M218),\"\")","v":""},0,0]
[{"$f":"IF( Ecarts!$E219=$A$1,IF( Ecarts!B219=\"\",\"\",Ecarts!A219),\"\")","v":""},{"$f":"IF( Ecarts!$E219=$A$1,IF( Ecarts!C219=\"\",\"\",Ecarts!C219),\"\")","v":""},{"$f":"IF( Ecarts!$E219=$A$1, IF(Ecarts!F219=\"\",\"\",Ecarts!F219),\"\")","v":""},{"$f":"IF( Ecarts!$E219=$A$1, IF(Ecarts!I219=\"\",\"\",Ecarts!I219),\"\")","v":""},{"$f":"IF( Ecarts!$E219=$A$1, IF(Ecarts!J219=\"\",\"\",Ecarts!J219),\"\")","v":""},{"$f":"IF( Ecarts!$E219=$A$1, IF(Ecarts!K219=\"\",\"\",Ecarts!K219),\"\")","v":""},{"$f":"IF( Ecarts!$E219=$A$1, IF(Ecarts!L219=\"\",\"\",Ecarts!L219),\"\")","v":""},{"$f":"IF( Ecarts!$E219=$A$1, IF(Ecarts!M219=\"\",\"\",Ecarts!M219),\"\")","v":""},0,0]
[{"$f":"IF( Ecarts!$E220=$A$1,IF( Ecarts!B220=\"\",\"\",Ecarts!A220),\"\")","v":""},{"$f":"IF( Ecarts!$E220=$A$1,IF( Ecarts!C220=\"\",\"\",Ecarts!C220),\"\")","v":""},{"$f":"IF( Ecarts!$E220=$A$1, IF(Ecarts!F220=\"\",\"\",Ecarts!F220),\"\")","v":""},{"$f":"IF( Ecarts!$E220=$A$1, IF(Ecarts!I220=\"\",\"\",Ecarts!I220),\"\")","v":""},{"$f":"IF( Ecarts!$E220=$A$1, IF(Ecarts!J220=\"\",\"\",Ecarts!J220),\"\")","v":""},{"$f":"IF( Ecarts!$E220=$A$1, IF(Ecarts!K220=\"\",\"\",Ecarts!K220),\"\")","v":""},{"$f":"IF( Ecarts!$E220=$A$1, IF(Ecarts!L220=\"\",\"\",Ecarts!L220),\"\")","v":""},{"$f":"IF( Ecarts!$E220=$A$1, IF(Ecarts!M220=\"\",\"\",Ecarts!M220),\"\")","v":""},0,0]
[{"$f":"IF( Ecarts!$E221=$A$1,IF( Ecarts!B221=\"\",\"\",Ecarts!A221),\"\")","v":""},{"$f":"IF( Ecarts!$E221=$A$1,IF( Ecarts!C221=\"\",\"\",Ecarts!C221),\"\")","v":""},{"$f":"IF( Ecarts!$E221=$A$1, IF(Ecarts!F221=\"\",\"\",Ecarts!F221),\"\")","v":""},{"$f":"IF( Ecarts!$E221=$A$1, IF(Ecarts!I221=\"\",\"\",Ecarts!I221),\"\")","v":""},{"$f":"IF( Ecarts!$E221=$A$1, IF(Ecarts!J221=\"\",\"\",Ecarts!J221),\"\")","v":""},{"$f":"IF( Ecarts!$E221=$A$1, IF(Ecarts!K221=\"\",\"\",Ecarts!K221),\"\")","v":""},{"$f":"IF( Ecarts!$E221=$A$1, IF(Ecarts!L221=\"\",\"\",Ecarts!L221),\"\")","v":""},{"$f":"IF( Ecarts!$E221=$A$1, IF(Ecarts!M221=\"\",\"\",Ecarts!M221),\"\")","v":""},0,0]
[{"$f":"IF( Ecarts!$E222=$A$1,IF( Ecarts!B222=\"\",\"\",Ecarts!A222),\"\")","v":""},{"$f":"IF( Ecarts!$E222=$A$1,IF( Ecarts!C222=\"\",\"\",Ecarts!C222),\"\")","v":""},{"$f":"IF( Ecarts!$E222=$A$1, IF(Ecarts!F222=\"\",\"\",Ecarts!F222),\"\")","v":""},{"$f":"IF( Ecarts!$E222=$A$1, IF(Ecarts!I222=\"\",\"\",Ecarts!I222),\"\")","v":""},{"$f":"IF( Ecarts!$E222=$A$1, IF(Ecarts!J222=\"\",\"\",Ecarts!J222),\"\")","v":""},{"$f":"IF( Ecarts!$E222=$A$1, IF(Ecarts!K222=\"\",\"\",Ecarts!K222),\"\")","v":""},{"$f":"IF( Ecarts!$E222=$A$1, IF(Ecarts!L222=\"\",\"\",Ecarts!L222),\"\")","v":""},{"$f":"IF( Ecarts!$E222=$A$1, IF(Ecarts!M222=\"\",\"\",Ecarts!M222),\"\")","v":""},0,0]
[{"$f":"IF( Ecarts!$E223=$A$1,IF( Ecarts!B223=\"\",\"\",Ecarts!A223),\"\")","v":""},{"$f":"IF( Ecarts!$E223=$A$1,IF( Ecarts!C223=\"\",\"\",Ecarts!C223),\"\")","v":""},{"$f":"IF( Ecarts!$E223=$A$1, IF(Ecarts!F223=\"\",\"\",Ecarts!F223),\"\")","v":""},{"$f":"IF( Ecarts!$E223=$A$1, IF(Ecarts!I223=\"\",\"\",Ecarts!I223),\"\")","v":""},{"$f":"IF( Ecarts!$E223=$A$1, IF(Ecarts!J223=\"\",\"\",Ecarts!J223),\"\")","v":""},{"$f":"IF( Ecarts!$E223=$A$1, IF(Ecarts!K223=\"\",\"\",Ecarts!K223),\"\")","v":""},{"$f":"IF( Ecarts!$E223=$A$1, IF(Ecarts!L223=\"\",\"\",Ecarts!L223),\"\")","v":""},{"$f":"IF( Ecarts!$E223=$A$1, IF(Ecarts!M223=\"\",\"\",Ecarts!M223),\"\")","v":""},0,0]
[{"$f":"IF( Ecarts!$E224=$A$1,IF( Ecarts!B224=\"\",\"\",Ecarts!A224),\"\")","v":""},{"$f":"IF( Ecarts!$E224=$A$1,IF( Ecarts!C224=\"\",\"\",Ecarts!C224),\"\")","v":""},{"$f":"IF( Ecarts!$E224=$A$1, IF(Ecarts!F224=\"\",\"\",Ecarts!F224),\"\")","v":""},{"$f":"IF( Ecarts!$E224=$A$1, IF(Ecarts!I224=\"\",\"\",Ecarts!I224),\"\")","v":""},{"$f":"IF( Ecarts!$E224=$A$1, IF(Ecarts!J224=\"\",\"\",Ecarts!J224),\"\")","v":""},{"$f":"IF( Ecarts!$E224=$A$1, IF(Ecarts!K224=\"\",\"\",Ecarts!K224),\"\")","v":""},{"$f":"IF( Ecarts!$E224=$A$1, IF(Ecarts!L224=\"\",\"\",Ecarts!L224),\"\")","v":""},{"$f":"IF( Ecarts!$E224=$A$1, IF(Ecarts!M224=\"\",\"\",Ecarts!M224),\"\")","v":""},0,0]
[{"$f":"IF( Ecarts!$E225=$A$1,IF( Ecarts!B225=\"\",\"\",Ecarts!A225),\"\")","v":""},{"$f":"IF( Ecarts!$E225=$A$1,IF( Ecarts!C225=\"\",\"\",Ecarts!C225),\"\")","v":""},{"$f":"IF( Ecarts!$E225=$A$1, IF(Ecarts!F225=\"\",\"\",Ecarts!F225),\"\")","v":""},{"$f":"IF( Ecarts!$E225=$A$1, IF(Ecarts!I225=\"\",\"\",Ecarts!I225),\"\")","v":""},{"$f":"IF( Ecarts!$E225=$A$1, IF(Ecarts!J225=\"\",\"\",Ecarts!J225),\"\")","v":""},{"$f":"IF( Ecarts!$E225=$A$1, IF(Ecarts!K225=\"\",\"\",Ecarts!K225),\"\")","v":""},{"$f":"IF( Ecarts!$E225=$A$1, IF(Ecarts!L225=\"\",\"\",Ecarts!L225),\"\")","v":""},{"$f":"IF( Ecarts!$E225=$A$1, IF(Ecarts!M225=\"\",\"\",Ecarts!M225),\"\")","v":""},0,0]
[{"$f":"IF( Ecarts!$E226=$A$1,IF( Ecarts!B226=\"\",\"\",Ecarts!A226),\"\")","v":""},{"$f":"IF( Ecarts!$E226=$A$1,IF( Ecarts!C226=\"\",\"\",Ecarts!C226),\"\")","v":""},{"$f":"IF( Ecarts!$E226=$A$1, IF(Ecarts!F226=\"\",\"\",Ecarts!F226),\"\")","v":""},{"$f":"IF( Ecarts!$E226=$A$1, IF(Ecarts!I226=\"\",\"\",Ecarts!I226),\"\")","v":""},{"$f":"IF( Ecarts!$E226=$A$1, IF(Ecarts!J226=\"\",\"\",Ecarts!J226),\"\")","v":""},{"$f":"IF( Ecarts!$E226=$A$1, IF(Ecarts!K226=\"\",\"\",Ecarts!K226),\"\")","v":""},{"$f":"IF( Ecarts!$E226=$A$1, IF(Ecarts!L226=\"\",\"\",Ecarts!L226),\"\")","v":""},{"$f":"IF( Ecarts!$E226=$A$1, IF(Ecarts!M226=\"\",\"\",Ecarts!M226),\"\")","v":""},0,0]
[{"$f":"IF( Ecarts!$E227=$A$1,IF( Ecarts!B227=\"\",\"\",Ecarts!A227),\"\")","v":""},{"$f":"IF( Ecarts!$E227=$A$1,IF( Ecarts!C227=\"\",\"\",Ecarts!C227),\"\")","v":""},{"$f":"IF( Ecarts!$E227=$A$1, IF(Ecarts!F227=\"\",\"\",Ecarts!F227),\"\")","v":""},{"$f":"IF( Ecarts!$E227=$A$1, IF(Ecarts!I227=\"\",\"\",Ecarts!I227),\"\")","v":""},{"$f":"IF( Ecarts!$E227=$A$1, IF(Ecarts!J227=\"\",\"\",Ecarts!J227),\"\")","v":""},{"$f":"IF( Ecarts!$E227=$A$1, IF(Ecarts!K227=\"\",\"\",Ecarts!K227),\"\")","v":""},{"$f":"IF( Ecarts!$E227=$A$1, IF(Ecarts!L227=\"\",\"\",Ecarts!L227),\"\")","v":""},{"$f":"IF( Ecarts!$E227=$A$1, IF(Ecarts!M227=\"\",\"\",Ecarts!M227),\"\")","v":""},0,0]
[{"$f":"IF( Ecarts!$E228=$A$1,IF( Ecarts!B228=\"\",\"\",Ecarts!A228),\"\")","v":""},{"$f":"IF( Ecarts!$E228=$A$1,IF( Ecarts!C228=\"\",\"\",Ecarts!C228),\"\")","v":""},{"$f":"IF( Ecarts!$E228=$A$1, IF(Ecarts!F228=\"\",\"\",Ecarts!F228),\"\")","v":""},{"$f":"IF( Ecarts!$E228=$A$1, IF(Ecarts!I228=\"\",\"\",Ecarts!I228),\"\")","v":""},{"$f":"IF( Ecarts!$E228=$A$1, IF(Ecarts!J228=\"\",\"\",Ecarts!J228),\"\")","v":""},{"$f":"IF( Ecarts!$E228=$A$1, IF(Ecarts!K228=\"\",\"\",Ecarts!K228),\"\")","v":""},{"$f":"IF( Ecarts!$E228=$A$1, IF(Ecarts!L228=\"\",\"\",Ecarts!L228),\"\")","v":""},{"$f":"IF( Ecarts!$E228=$A$1, IF(Ecarts!M228=\"\",\"\",Ecarts!M228),\"\")","v":""},0,0]
[{"$f":"IF( Ecarts!$E229=$A$1,IF( Ecarts!B229=\"\",\"\",Ecarts!A229),\"\")","v":""},{"$f":"IF( Ecarts!$E229=$A$1,IF( Ecarts!C229=\"\",\"\",Ecarts!C229),\"\")","v":""},{"$f":"IF( Ecarts!$E229=$A$1, IF(Ecarts!F229=\"\",\"\",Ecarts!F229),\"\")","v":""},{"$f":"IF( Ecarts!$E229=$A$1, IF(Ecarts!I229=\"\",\"\",Ecarts!I229),\"\")","v":""},{"$f":"IF( Ecarts!$E229=$A$1, IF(Ecarts!J229=\"\",\"\",Ecarts!J229),\"\")","v":""},{"$f":"IF( Ecarts!$E229=$A$1, IF(Ecarts!K229=\"\",\"\",Ecarts!K229),\"\")","v":""},{"$f":"IF( Ecarts!$E229=$A$1, IF(Ecarts!L229=\"\",\"\",Ecarts!L229),\"\")","v":""},{"$f":"IF( Ecarts!$E229=$A$1, IF(Ecarts!M229=\"\",\"\",Ecarts!M229),\"\")","v":""},0,0]
[{"$f":"IF( Ecarts!$E230=$A$1,IF( Ecarts!B230=\"\",\"\",Ecarts!A230),\"\")","v":""},{"$f":"IF( Ecarts!$E230=$A$1,IF( Ecarts!C230=\"\",\"\",Ecarts!C230),\"\")","v":""},{"$f":"IF( Ecarts!$E230=$A$1, IF(Ecarts!F230=\"\",\"\",Ecarts!F230),\"\")","v":""},{"$f":"IF( Ecarts!$E230=$A$1, IF(Ecarts!I230=\"\",\"\",Ecarts!I230),\"\")","v":""},{"$f":"IF( Ecarts!$E230=$A$1, IF(Ecarts!J230=\"\",\"\",Ecarts!J230),\"\")","v":""},{"$f":"IF( Ecarts!$E230=$A$1, IF(Ecarts!K230=\"\",\"\",Ecarts!K230),\"\")","v":""},{"$f":"IF( Ecarts!$E230=$A$1, IF(Ecarts!L230=\"\",\"\",Ecarts!L230),\"\")","v":""},{"$f":"IF( Ecarts!$E230=$A$1, IF(Ecarts!M230=\"\",\"\",Ecarts!M230),\"\")","v":""},0,0]
[{"$f":"IF( Ecarts!$E231=$A$1,IF( Ecarts!B231=\"\",\"\",Ecarts!A231),\"\")","v":""},{"$f":"IF( Ecarts!$E231=$A$1,IF( Ecarts!C231=\"\",\"\",Ecarts!C231),\"\")","v":""},{"$f":"IF( Ecarts!$E231=$A$1, IF(Ecarts!F231=\"\",\"\",Ecarts!F231),\"\")","v":""},{"$f":"IF( Ecarts!$E231=$A$1, IF(Ecarts!I231=\"\",\"\",Ecarts!I231),\"\")","v":""},{"$f":"IF( Ecarts!$E231=$A$1, IF(Ecarts!J231=\"\",\"\",Ecarts!J231),\"\")","v":""},{"$f":"IF( Ecarts!$E231=$A$1, IF(Ecarts!K231=\"\",\"\",Ecarts!K231),\"\")","v":""},{"$f":"IF( Ecarts!$E231=$A$1, IF(Ecarts!L231=\"\",\"\",Ecarts!L231),\"\")","v":""},{"$f":"IF( Ecarts!$E231=$A$1, IF(Ecarts!M231=\"\",\"\",Ecarts!M231),\"\")","v":""},0,0]
[{"$f":"IF( Ecarts!$E232=$A$1,IF( Ecarts!B232=\"\",\"\",Ecarts!A232),\"\")","v":""},{"$f":"IF( Ecarts!$E232=$A$1,IF( Ecarts!C232=\"\",\"\",Ecarts!C232),\"\")","v":""},{"$f":"IF( Ecarts!$E232=$A$1, IF(Ecarts!F232=\"\",\"\",Ecarts!F232),\"\")","v":""},{"$f":"IF( Ecarts!$E232=$A$1, IF(Ecarts!I232=\"\",\"\",Ecarts!I232),\"\")","v":""},{"$f":"IF( Ecarts!$E232=$A$1, IF(Ecarts!J232=\"\",\"\",Ecarts!J232),\"\")","v":""},{"$f":"IF( Ecarts!$E232=$A$1, IF(Ecarts!K232=\"\",\"\",Ecarts!K232),\"\")","v":""},{"$f":"IF( Ecarts!$E232=$A$1, IF(Ecarts!L232=\"\",\"\",Ecarts!L232),\"\")","v":""},{"$f":"IF( Ecarts!$E232=$A$1, IF(Ecarts!M232=\"\",\"\",Ecarts!M232),\"\")","v":""},0,0]
[{"$f":"IF( Ecarts!$E233=$A$1,IF( Ecarts!B233=\"\",\"\",Ecarts!A233),\"\")","v":""},{"$f":"IF( Ecarts!$E233=$A$1,IF( Ecarts!C233=\"\",\"\",Ecarts!C233),\"\")","v":""},{"$f":"IF( Ecarts!$E233=$A$1, IF(Ecarts!F233=\"\",\"\",Ecarts!F233),\"\")","v":""},{"$f":"IF( Ecarts!$E233=$A$1, IF(Ecarts!I233=\"\",\"\",Ecarts!I233),\"\")","v":""},{"$f":"IF( Ecarts!$E233=$A$1, IF(Ecarts!J233=\"\",\"\",Ecarts!J233),\"\")","v":""},{"$f":"IF( Ecarts!$E233=$A$1, IF(Ecarts!K233=\"\",\"\",Ecarts!K233),\"\")","v":""},{"$f":"IF( Ecarts!$E233=$A$1, IF(Ecarts!L233=\"\",\"\",Ecarts!L233),\"\")","v":""},{"$f":"IF( Ecarts!$E233=$A$1, IF(Ecarts!M233=\"\",\"\",Ecarts!M233),\"\")","v":""},0,0]
[{"$f":"IF( Ecarts!$E234=$A$1,IF( Ecarts!B234=\"\",\"\",Ecarts!A234),\"\")","v":""},{"$f":"IF( Ecarts!$E234=$A$1,IF( Ecarts!C234=\"\",\"\",Ecarts!C234),\"\")","v":""},{"$f":"IF( Ecarts!$E234=$A$1, IF(Ecarts!F234=\"\",\"\",Ecarts!F234),\"\")","v":""},{"$f":"IF( Ecarts!$E234=$A$1, IF(Ecarts!I234=\"\",\"\",Ecarts!I234),\"\")","v":""},{"$f":"IF( Ecarts!$E234=$A$1, IF(Ecarts!J234=\"\",\"\",Ecarts!J234),\"\")","v":""},{"$f":"IF( Ecarts!$E234=$A$1, IF(Ecarts!K234=\"\",\"\",Ecarts!K234),\"\")","v":""},{"$f":"IF( Ecarts!$E234=$A$1, IF(Ecarts!L234=\"\",\"\",Ecarts!L234),\"\")","v":""},{"$f":"IF( Ecarts!$E234=$A$1, IF(Ecarts!M234=\"\",\"\",Ecarts!M234),\"\")","v":""},0,0]
[{"$f":"IF( Ecarts!$E235=$A$1,IF( Ecarts!B235=\"\",\"\",Ecarts!A235),\"\")","v":""},{"$f":"IF( Ecarts!$E235=$A$1,IF( Ecarts!C235=\"\",\"\",Ecarts!C235),\"\")","v":""},{"$f":"IF( Ecarts!$E235=$A$1, IF(Ecarts!F235=\"\",\"\",Ecarts!F235),\"\")","v":""},{"$f":"IF( Ecarts!$E235=$A$1, IF(Ecarts!I235=\"\",\"\",Ecarts!I235),\"\")","v":""},{"$f":"IF( Ecarts!$E235=$A$1, IF(Ecarts!J235=\"\",\"\",Ecarts!J235),\"\")","v":""},{"$f":"IF( Ecarts!$E235=$A$1, IF(Ecarts!K235=\"\",\"\",Ecarts!K235),\"\")","v":""},{"$f":"IF( Ecarts!$E235=$A$1, IF(Ecarts!L235=\"\",\"\",Ecarts!L235),\"\")","v":""},{"$f":"IF( Ecarts!$E235=$A$1, IF(Ecarts!M235=\"\",\"\",Ecarts!M235),\"\")","v":""},0,0]
[{"$f":"IF( Ecarts!$E236=$A$1,IF( Ecarts!B236=\"\",\"\",Ecarts!A236),\"\")","v":""},{"$f":"IF( Ecarts!$E236=$A$1,IF( Ecarts!C236=\"\",\"\",Ecarts!C236),\"\")","v":""},{"$f":"IF( Ecarts!$E236=$A$1, IF(Ecarts!F236=\"\",\"\",Ecarts!F236),\"\")","v":""},{"$f":"IF( Ecarts!$E236=$A$1, IF(Ecarts!I236=\"\",\"\",Ecarts!I236),\"\")","v":""},{"$f":"IF( Ecarts!$E236=$A$1, IF(Ecarts!J236=\"\",\"\",Ecarts!J236),\"\")","v":""},{"$f":"IF( Ecarts!$E236=$A$1, IF(Ecarts!K236=\"\",\"\",Ecarts!K236),\"\")","v":""},{"$f":"IF( Ecarts!$E236=$A$1, IF(Ecarts!L236=\"\",\"\",Ecarts!L236),\"\")","v":""},{"$f":"IF( Ecarts!$E236=$A$1, IF(Ecarts!M236=\"\",\"\",Ecarts!M236),\"\")","v":""},0,0]
[{"$f":"IF( Ecarts!$E237=$A$1,IF( Ecarts!B237=\"\",\"\",Ecarts!A237),\"\")","v":""},{"$f":"IF( Ecarts!$E237=$A$1,IF( Ecarts!C237=\"\",\"\",Ecarts!C237),\"\")","v":""},{"$f":"IF( Ecarts!$E237=$A$1, IF(Ecarts!F237=\"\",\"\",Ecarts!F237),\"\")","v":""},{"$f":"IF( Ecarts!$E237=$A$1, IF(Ecarts!I237=\"\",\"\",Ecarts!I237),\"\")","v":""},{"$f":"IF( Ecarts!$E237=$A$1, IF(Ecarts!J237=\"\",\"\",Ecarts!J237),\"\")","v":""},{"$f":"IF( Ecarts!$E237=$A$1, IF(Ecarts!K237=\"\",\"\",Ecarts!K237),\"\")","v":""},{"$f":"IF( Ecarts!$E237=$A$1, IF(Ecarts!L237=\"\",\"\",Ecarts!L237),\"\")","v":""},{"$f":"IF( Ecarts!$E237=$A$1, IF(Ecarts!M237=\"\",\"\",Ecarts!M237),\"\")","v":""},0,0]
[{"$f":"IF( Ecarts!$E238=$A$1,IF( Ecarts!B238=\"\",\"\",Ecarts!A238),\"\")","v":""},{"$f":"IF( Ecarts!$E238=$A$1,IF( Ecarts!C238=\"\",\"\",Ecarts!C238),\"\")","v":""},{"$f":"IF( Ecarts!$E238=$A$1, IF(Ecarts!F238=\"\",\"\",Ecarts!F238),\"\")","v":""},{"$f":"IF( Ecarts!$E238=$A$1, IF(Ecarts!I238=\"\",\"\",Ecarts!I238),\"\")","v":""},{"$f":"IF( Ecarts!$E238=$A$1, IF(Ecarts!J238=\"\",\"\",Ecarts!J238),\"\")","v":""},{"$f":"IF( Ecarts!$E238=$A$1, IF(Ecarts!K238=\"\",\"\",Ecarts!K238),\"\")","v":""},{"$f":"IF( Ecarts!$E238=$A$1, IF(Ecarts!L238=\"\",\"\",Ecarts!L238),\"\")","v":""},{"$f":"IF( Ecarts!$E238=$A$1, IF(Ecarts!M238=\"\",\"\",Ecarts!M238),\"\")","v":""},0,0]
[{"$f":"IF( Ecarts!$E239=$A$1,IF( Ecarts!B239=\"\",\"\",Ecarts!A239),\"\")","v":""},{"$f":"IF( Ecarts!$E239=$A$1,IF( Ecarts!C239=\"\",\"\",Ecarts!C239),\"\")","v":""},{"$f":"IF( Ecarts!$E239=$A$1, IF(Ecarts!F239=\"\",\"\",Ecarts!F239),\"\")","v":""},{"$f":"IF( Ecarts!$E239=$A$1, IF(Ecarts!I239=\"\",\"\",Ecarts!I239),\"\")","v":""},{"$f":"IF( Ecarts!$E239=$A$1, IF(Ecarts!J239=\"\",\"\",Ecarts!J239),\"\")","v":""},{"$f":"IF( Ecarts!$E239=$A$1, IF(Ecarts!K239=\"\",\"\",Ecarts!K239),\"\")","v":""},{"$f":"IF( Ecarts!$E239=$A$1, IF(Ecarts!L239=\"\",\"\",Ecarts!L239),\"\")","v":""},{"$f":"IF( Ecarts!$E239=$A$1, IF(Ecarts!M239=\"\",\"\",Ecarts!M239),\"\")","v":""},0,0]
[{"$f":"IF( Ecarts!$E240=$A$1,IF( Ecarts!B240=\"\",\"\",Ecarts!A240),\"\")","v":""},{"$f":"IF( Ecarts!$E240=$A$1,IF( Ecarts!C240=\"\",\"\",Ecarts!C240),\"\")","v":""},{"$f":"IF( Ecarts!$E240=$A$1, IF(Ecarts!F240=\"\",\"\",Ecarts!F240),\"\")","v":""},{"$f":"IF( Ecarts!$E240=$A$1, IF(Ecarts!I240=\"\",\"\",Ecarts!I240),\"\")","v":""},{"$f":"IF( Ecarts!$E240=$A$1, IF(Ecarts!J240=\"\",\"\",Ecarts!J240),\"\")","v":""},{"$f":"IF( Ecarts!$E240=$A$1, IF(Ecarts!K240=\"\",\"\",Ecarts!K240),\"\")","v":""},{"$f":"IF( Ecarts!$E240=$A$1, IF(Ecarts!L240=\"\",\"\",Ecarts!L240),\"\")","v":""},{"$f":"IF( Ecarts!$E240=$A$1, IF(Ecarts!M240=\"\",\"\",Ecarts!M240),\"\")","v":""},0,0]
[{"$f":"IF( Ecarts!$E241=$A$1,IF( Ecarts!B241=\"\",\"\",Ecarts!A241),\"\")","v":""},{"$f":"IF( Ecarts!$E241=$A$1,IF( Ecarts!C241=\"\",\"\",Ecarts!C241),\"\")","v":""},{"$f":"IF( Ecarts!$E241=$A$1, IF(Ecarts!F241=\"\",\"\",Ecarts!F241),\"\")","v":""},{"$f":"IF( Ecarts!$E241=$A$1, IF(Ecarts!I241=\"\",\"\",Ecarts!I241),\"\")","v":""},{"$f":"IF( Ecarts!$E241=$A$1, IF(Ecarts!J241=\"\",\"\",Ecarts!J241),\"\")","v":""},{"$f":"IF( Ecarts!$E241=$A$1, IF(Ecarts!K241=\"\",\"\",Ecarts!K241),\"\")","v":""},{"$f":"IF( Ecarts!$E241=$A$1, IF(Ecarts!L241=\"\",\"\",Ecarts!L241),\"\")","v":""},{"$f":"IF( Ecarts!$E241=$A$1, IF(Ecarts!M241=\"\",\"\",Ecarts!M241),\"\")","v":""},0,0]
[{"$f":"IF( Ecarts!$E242=$A$1,IF( Ecarts!B242=\"\",\"\",Ecarts!A242),\"\")","v":""},{"$f":"IF( Ecarts!$E242=$A$1,IF( Ecarts!C242=\"\",\"\",Ecarts!C242),\"\")","v":""},{"$f":"IF( Ecarts!$E242=$A$1, IF(Ecarts!F242=\"\",\"\",Ecarts!F242),\"\")","v":""},{"$f":"IF( Ecarts!$E242=$A$1, IF(Ecarts!I242=\"\",\"\",Ecarts!I242),\"\")","v":""},{"$f":"IF( Ecarts!$E242=$A$1, IF(Ecarts!J242=\"\",\"\",Ecarts!J242),\"\")","v":""},{"$f":"IF( Ecarts!$E242=$A$1, IF(Ecarts!K242=\"\",\"\",Ecarts!K242),\"\")","v":""},{"$f":"IF( Ecarts!$E242=$A$1, IF(Ecarts!L242=\"\",\"\",Ecarts!L242),\"\")","v":""},{"$f":"IF( Ecarts!$E242=$A$1, IF(Ecarts!M242=\"\",\"\",Ecarts!M242),\"\")","v":""},0,0]
[{"$f":"IF( Ecarts!$E243=$A$1,IF( Ecarts!B243=\"\",\"\",Ecarts!A243),\"\")","v":""},{"$f":"IF( Ecarts!$E243=$A$1,IF( Ecarts!C243=\"\",\"\",Ecarts!C243),\"\")","v":""},{"$f":"IF( Ecarts!$E243=$A$1, IF(Ecarts!F243=\"\",\"\",Ecarts!F243),\"\")","v":""},{"$f":"IF( Ecarts!$E243=$A$1, IF(Ecarts!I243=\"\",\"\",Ecarts!I243),\"\")","v":""},{"$f":"IF( Ecarts!$E243=$A$1, IF(Ecarts!J243=\"\",\"\",Ecarts!J243),\"\")","v":""},{"$f":"IF( Ecarts!$E243=$A$1, IF(Ecarts!K243=\"\",\"\",Ecarts!K243),\"\")","v":""},{"$f":"IF( Ecarts!$E243=$A$1, IF(Ecarts!L243=\"\",\"\",Ecarts!L243),\"\")","v":""},{"$f":"IF( Ecarts!$E243=$A$1, IF(Ecarts!M243=\"\",\"\",Ecarts!M243),\"\")","v":""},0,0]
[{"$f":"IF( Ecarts!$E244=$A$1,IF( Ecarts!B244=\"\",\"\",Ecarts!A244),\"\")","v":""},{"$f":"IF( Ecarts!$E244=$A$1,IF( Ecarts!C244=\"\",\"\",Ecarts!C244),\"\")","v":""},{"$f":"IF( Ecarts!$E244=$A$1, IF(Ecarts!F244=\"\",\"\",Ecarts!F244),\"\")","v":""},{"$f":"IF( Ecarts!$E244=$A$1, IF(Ecarts!I244=\"\",\"\",Ecarts!I244),\"\")","v":""},{"$f":"IF( Ecarts!$E244=$A$1, IF(Ecarts!J244=\"\",\"\",Ecarts!J244),\"\")","v":""},{"$f":"IF( Ecarts!$E244=$A$1, IF(Ecarts!K244=\"\",\"\",Ecarts!K244),\"\")","v":""},{"$f":"IF( Ecarts!$E244=$A$1, IF(Ecarts!L244=\"\",\"\",Ecarts!L244),\"\")","v":""},{"$f":"IF( Ecarts!$E244=$A$1, IF(Ecarts!M244=\"\",\"\",Ecarts!M244),\"\")","v":""},0,0]
[{"$f":"IF( Ecarts!$E245=$A$1,IF( Ecarts!B245=\"\",\"\",Ecarts!A245),\"\")","v":""},{"$f":"IF( Ecarts!$E245=$A$1,IF( Ecarts!C245=\"\",\"\",Ecarts!C245),\"\")","v":""},{"$f":"IF( Ecarts!$E245=$A$1, IF(Ecarts!F245=\"\",\"\",Ecarts!F245),\"\")","v":""},{"$f":"IF( Ecarts!$E245=$A$1, IF(Ecarts!I245=\"\",\"\",Ecarts!I245),\"\")","v":""},{"$f":"IF( Ecarts!$E245=$A$1, IF(Ecarts!J245=\"\",\"\",Ecarts!J245),\"\")","v":""},{"$f":"IF( Ecarts!$E245=$A$1, IF(Ecarts!K245=\"\",\"\",Ecarts!K245),\"\")","v":""},{"$f":"IF( Ecarts!$E245=$A$1, IF(Ecarts!L245=\"\",\"\",Ecarts!L245),\"\")","v":""},{"$f":"IF( Ecarts!$E245=$A$1, IF(Ecarts!M245=\"\",\"\",Ecarts!M245),\"\")","v":""},0,0]
[{"$f":"IF( Ecarts!$E246=$A$1,IF( Ecarts!B246=\"\",\"\",Ecarts!A246),\"\")","v":""},{"$f":"IF( Ecarts!$E246=$A$1,IF( Ecarts!C246=\"\",\"\",Ecarts!C246),\"\")","v":""},{"$f":"IF( Ecarts!$E246=$A$1, IF(Ecarts!F246=\"\",\"\",Ecarts!F246),\"\")","v":""},{"$f":"IF( Ecarts!$E246=$A$1, IF(Ecarts!I246=\"\",\"\",Ecarts!I246),\"\")","v":""},{"$f":"IF( Ecarts!$E246=$A$1, IF(Ecarts!J246=\"\",\"\",Ecarts!J246),\"\")","v":""},{"$f":"IF( Ecarts!$E246=$A$1, IF(Ecarts!K246=\"\",\"\",Ecarts!K246),\"\")","v":""},{"$f":"IF( Ecarts!$E246=$A$1, IF(Ecarts!L246=\"\",\"\",Ecarts!L246),\"\")","v":""},{"$f":"IF( Ecarts!$E246=$A$1, IF(Ecarts!M246=\"\",\"\",Ecarts!M246),\"\")","v":""},0,0]
[{"$f":"IF( Ecarts!$E247=$A$1,IF( Ecarts!B247=\"\",\"\",Ecarts!A247),\"\")","v":""},{"$f":"IF( Ecarts!$E247=$A$1,IF( Ecarts!C247=\"\",\"\",Ecarts!C247),\"\")","v":""},{"$f":"IF( Ecarts!$E247=$A$1, IF(Ecarts!F247=\"\",\"\",Ecarts!F247),\"\")","v":""},{"$f":"IF( Ecarts!$E247=$A$1, IF(Ecarts!I247=\"\",\"\",Ecarts!I247),\"\")","v":""},{"$f":"IF( Ecarts!$E247=$A$1, IF(Ecarts!J247=\"\",\"\",Ecarts!J247),\"\")","v":""},{"$f":"IF( Ecarts!$E247=$A$1, IF(Ecarts!K247=\"\",\"\",Ecarts!K247),\"\")","v":""},{"$f":"IF( Ecarts!$E247=$A$1, IF(Ecarts!L247=\"\",\"\",Ecarts!L247),\"\")","v":""},{"$f":"IF( Ecarts!$E247=$A$1, IF(Ecarts!M247=\"\",\"\",Ecarts!M247),\"\")","v":""},0,0]
[{"$f":"IF( Ecarts!$E248=$A$1,IF( Ecarts!B248=\"\",\"\",Ecarts!A248),\"\")","v":""},{"$f":"IF( Ecarts!$E248=$A$1,IF( Ecarts!C248=\"\",\"\",Ecarts!C248),\"\")","v":""},{"$f":"IF( Ecarts!$E248=$A$1, IF(Ecarts!F248=\"\",\"\",Ecarts!F248),\"\")","v":""},{"$f":"IF( Ecarts!$E248=$A$1, IF(Ecarts!I248=\"\",\"\",Ecarts!I248),\"\")","v":""},{"$f":"IF( Ecarts!$E248=$A$1, IF(Ecarts!J248=\"\",\"\",Ecarts!J248),\"\")","v":""},{"$f":"IF( Ecarts!$E248=$A$1, IF(Ecarts!K248=\"\",\"\",Ecarts!K248),\"\")","v":""},{"$f":"IF( Ecarts!$E248=$A$1, IF(Ecarts!L248=\"\",\"\",Ecarts!L248),\"\")","v":""},{"$f":"IF( Ecarts!$E248=$A$1, IF(Ecarts!M248=\"\",\"\",Ecarts!M248),\"\")","v":""},0,0]
[{"$f":"IF( Ecarts!$E249=$A$1,IF( Ecarts!B249=\"\",\"\",Ecarts!A249),\"\")","v":""},{"$f":"IF( Ecarts!$E249=$A$1,IF( Ecarts!C249=\"\",\"\",Ecarts!C249),\"\")","v":""},{"$f":"IF( Ecarts!$E249=$A$1, IF(Ecarts!F249=\"\",\"\",Ecarts!F249),\"\")","v":""},{"$f":"IF( Ecarts!$E249=$A$1, IF(Ecarts!I249=\"\",\"\",Ecarts!I249),\"\")","v":""},{"$f":"IF( Ecarts!$E249=$A$1, IF(Ecarts!J249=\"\",\"\",Ecarts!J249),\"\")","v":""},{"$f":"IF( Ecarts!$E249=$A$1, IF(Ecarts!K249=\"\",\"\",Ecarts!K249),\"\")","v":""},{"$f":"IF( Ecarts!$E249=$A$1, IF(Ecarts!L249=\"\",\"\",Ecarts!L249),\"\")","v":""},{"$f":"IF( Ecarts!$E249=$A$1, IF(Ecarts!M249=\"\",\"\",Ecarts!M249),\"\")","v":""},0,0]
[{"$f":"IF( Ecarts!$E250=$A$1,IF( Ecarts!B250=\"\",\"\",Ecarts!A250),\"\")","v":""},{"$f":"IF( Ecarts!$E250=$A$1,IF( Ecarts!C250=\"\",\"\",Ecarts!C250),\"\")","v":""},{"$f":"IF( Ecarts!$E250=$A$1, IF(Ecarts!F250=\"\",\"\",Ecarts!F250),\"\")","v":""},{"$f":"IF( Ecarts!$E250=$A$1, IF(Ecarts!I250=\"\",\"\",Ecarts!I250),\"\")","v":""},{"$f":"IF( Ecarts!$E250=$A$1, IF(Ecarts!J250=\"\",\"\",Ecarts!J250),\"\")","v":""},{"$f":"IF( Ecarts!$E250=$A$1, IF(Ecarts!K250=\"\",\"\",Ecarts!K250),\"\")","v":""},{"$f":"IF( Ecarts!$E250=$A$1, IF(Ecarts!L250=\"\",\"\",Ecarts!L250),\"\")","v":""},{"$f":"IF( Ecarts!$E250=$A$1, IF(Ecarts!M250=\"\",\"\",Ecarts!M250),\"\")","v":""},0,0]
[{"$f":"IF( Ecarts!$E251=$A$1,IF( Ecarts!B251=\"\",\"\",Ecarts!A251),\"\")","v":""},{"$f":"IF( Ecarts!$E251=$A$1,IF( Ecarts!C251=\"\",\"\",Ecarts!C251),\"\")","v":""},{"$f":"IF( Ecarts!$E251=$A$1, IF(Ecarts!F251=\"\",\"\",Ecarts!F251),\"\")","v":""},{"$f":"IF( Ecarts!$E251=$A$1, IF(Ecarts!I251=\"\",\"\",Ecarts!I251),\"\")","v":""},{"$f":"IF( Ecarts!$E251=$A$1, IF(Ecarts!J251=\"\",\"\",Ecarts!J251),\"\")","v":""},{"$f":"IF( Ecarts!$E251=$A$1, IF(Ecarts!K251=\"\",\"\",Ecarts!K251),\"\")","v":""},{"$f":"IF( Ecarts!$E251=$A$1, IF(Ecarts!L251=\"\",\"\",Ecarts!L251),\"\")","v":""},{"$f":"IF( Ecarts!$E251=$A$1, IF(Ecarts!M251=\"\",\"\",Ecarts!M251),\"\")","v":""},0,0]
[{"$f":"IF( Ecarts!$E252=$A$1,IF( Ecarts!B252=\"\",\"\",Ecarts!A252),\"\")","v":""},{"$f":"IF( Ecarts!$E252=$A$1,IF( Ecarts!C252=\"\",\"\",Ecarts!C252),\"\")","v":""},{"$f":"IF( Ecarts!$E252=$A$1, IF(Ecarts!F252=\"\",\"\",Ecarts!F252),\"\")","v":""},{"$f":"IF( Ecarts!$E252=$A$1, IF(Ecarts!I252=\"\",\"\",Ecarts!I252),\"\")","v":""},{"$f":"IF( Ecarts!$E252=$A$1, IF(Ecarts!J252=\"\",\"\",Ecarts!J252),\"\")","v":""},{"$f":"IF( Ecarts!$E252=$A$1, IF(Ecarts!K252=\"\",\"\",Ecarts!K252),\"\")","v":""},{"$f":"IF( Ecarts!$E252=$A$1, IF(Ecarts!L252=\"\",\"\",Ecarts!L252),\"\")","v":""},{"$f":"IF( Ecarts!$E252=$A$1, IF(Ecarts!M252=\"\",\"\",Ecarts!M252),\"\")","v":""},0,0]
[{"$f":"IF( Ecarts!$E253=$A$1,IF( Ecarts!B253=\"\",\"\",Ecarts!A253),\"\")","v":""},{"$f":"IF( Ecarts!$E253=$A$1,IF( Ecarts!C253=\"\",\"\",Ecarts!C253),\"\")","v":""},{"$f":"IF( Ecarts!$E253=$A$1, IF(Ecarts!F253=\"\",\"\",Ecarts!F253),\"\")","v":""},{"$f":"IF( Ecarts!$E253=$A$1, IF(Ecarts!I253=\"\",\"\",Ecarts!I253),\"\")","v":""},{"$f":"IF( Ecarts!$E253=$A$1, IF(Ecarts!J253=\"\",\"\",Ecarts!J253),\"\")","v":""},{"$f":"IF( Ecarts!$E253=$A$1, IF(Ecarts!K253=\"\",\"\",Ecarts!K253),\"\")","v":""},{"$f":"IF( Ecarts!$E253=$A$1, IF(Ecarts!L253=\"\",\"\",Ecarts!L253),\"\")","v":""},{"$f":"IF( Ecarts!$E253=$A$1, IF(Ecarts!M253=\"\",\"\",Ecarts!M253),\"\")","v":""},0,0]
[{"$f":"IF( Ecarts!$E254=$A$1,IF( Ecarts!B254=\"\",\"\",Ecarts!A254),\"\")","v":""},{"$f":"IF( Ecarts!$E254=$A$1,IF( Ecarts!C254=\"\",\"\",Ecarts!C254),\"\")","v":""},{"$f":"IF( Ecarts!$E254=$A$1, IF(Ecarts!F254=\"\",\"\",Ecarts!F254),\"\")","v":""},{"$f":"IF( Ecarts!$E254=$A$1, IF(Ecarts!I254=\"\",\"\",Ecarts!I254),\"\")","v":""},{"$f":"IF( Ecarts!$E254=$A$1, IF(Ecarts!J254=\"\",\"\",Ecarts!J254),\"\")","v":""},{"$f":"IF( Ecarts!$E254=$A$1, IF(Ecarts!K254=\"\",\"\",Ecarts!K254),\"\")","v":""},{"$f":"IF( Ecarts!$E254=$A$1, IF(Ecarts!L254=\"\",\"\",Ecarts!L254),\"\")","v":""},{"$f":"IF( Ecarts!$E254=$A$1, IF(Ecarts!M254=\"\",\"\",Ecarts!M254),\"\")","v":""},0,0]
[{"$f":"IF( Ecarts!$E255=$A$1,IF( Ecarts!B255=\"\",\"\",Ecarts!A255),\"\")","v":""},{"$f":"IF( Ecarts!$E255=$A$1,IF( Ecarts!C255=\"\",\"\",Ecarts!C255),\"\")","v":""},{"$f":"IF( Ecarts!$E255=$A$1, IF(Ecarts!F255=\"\",\"\",Ecarts!F255),\"\")","v":""},{"$f":"IF( Ecarts!$E255=$A$1, IF(Ecarts!I255=\"\",\"\",Ecarts!I255),\"\")","v":""},{"$f":"IF( Ecarts!$E255=$A$1, IF(Ecarts!J255=\"\",\"\",Ecarts!J255),\"\")","v":""},{"$f":"IF( Ecarts!$E255=$A$1, IF(Ecarts!K255=\"\",\"\",Ecarts!K255),\"\")","v":""},{"$f":"IF( Ecarts!$E255=$A$1, IF(Ecarts!L255=\"\",\"\",Ecarts!L255),\"\")","v":""},{"$f":"IF( Ecarts!$E255=$A$1, IF(Ecarts!M255=\"\",\"\",Ecarts!M255),\"\")","v":""},0,0]
[{"$f":"IF( Ecarts!$E256=$A$1,IF( Ecarts!B256=\"\",\"\",Ecarts!A256),\"\")","v":""},{"$f":"IF( Ecarts!$E256=$A$1,IF( Ecarts!C256=\"\",\"\",Ecarts!C256),\"\")","v":""},{"$f":"IF( Ecarts!$E256=$A$1, IF(Ecarts!F256=\"\",\"\",Ecarts!F256),\"\")","v":""},{"$f":"IF( Ecarts!$E256=$A$1, IF(Ecarts!I256=\"\",\"\",Ecarts!I256),\"\")","v":""},{"$f":"IF( Ecarts!$E256=$A$1, IF(Ecarts!J256=\"\",\"\",Ecarts!J256),\"\")","v":""},{"$f":"IF( Ecarts!$E256=$A$1, IF(Ecarts!K256=\"\",\"\",Ecarts!K256),\"\")","v":""},{"$f":"IF( Ecarts!$E256=$A$1, IF(Ecarts!L256=\"\",\"\",Ecarts!L256),\"\")","v":""},{"$f":"IF( Ecarts!$E256=$A$1, IF(Ecarts!M256=\"\",\"\",Ecarts!M256),\"\")","v":""},0,0]
[{"$f":"IF( Ecarts!$E257=$A$1,IF( Ecarts!B257=\"\",\"\",Ecarts!A257),\"\")","v":""},{"$f":"IF( Ecarts!$E257=$A$1,IF( Ecarts!C257=\"\",\"\",Ecarts!C257),\"\")","v":""},{"$f":"IF( Ecarts!$E257=$A$1, IF(Ecarts!F257=\"\",\"\",Ecarts!F257),\"\")","v":""},{"$f":"IF( Ecarts!$E257=$A$1, IF(Ecarts!I257=\"\",\"\",Ecarts!I257),\"\")","v":""},{"$f":"IF( Ecarts!$E257=$A$1, IF(Ecarts!J257=\"\",\"\",Ecarts!J257),\"\")","v":""},{"$f":"IF( Ecarts!$E257=$A$1, IF(Ecarts!K257=\"\",\"\",Ecarts!K257),\"\")","v":""},{"$f":"IF( Ecarts!$E257=$A$1, IF(Ecarts!L257=\"\",\"\",Ecarts!L257),\"\")","v":""},{"$f":"IF( Ecarts!$E257=$A$1, IF(Ecarts!M257=\"\",\"\",Ecarts!M257),\"\")","v":""},0,0]
[{"$f":"IF( Ecarts!$E258=$A$1,IF( Ecarts!B258=\"\",\"\",Ecarts!A258),\"\")","v":""},{"$f":"IF( Ecarts!$E258=$A$1,IF( Ecarts!C258=\"\",\"\",Ecarts!C258),\"\")","v":""},{"$f":"IF( Ecarts!$E258=$A$1, IF(Ecarts!F258=\"\",\"\",Ecarts!F258),\"\")","v":""},{"$f":"IF( Ecarts!$E258=$A$1, IF(Ecarts!I258=\"\",\"\",Ecarts!I258),\"\")","v":""},{"$f":"IF( Ecarts!$E258=$A$1, IF(Ecarts!J258=\"\",\"\",Ecarts!J258),\"\")","v":""},{"$f":"IF( Ecarts!$E258=$A$1, IF(Ecarts!K258=\"\",\"\",Ecarts!K258),\"\")","v":""},{"$f":"IF( Ecarts!$E258=$A$1, IF(Ecarts!L258=\"\",\"\",Ecarts!L258),\"\")","v":""},{"$f":"IF( Ecarts!$E258=$A$1, IF(Ecarts!M258=\"\",\"\",Ecarts!M258),\"\")","v":""},0,0]
[{"$f":"IF( Ecarts!$E259=$A$1,IF( Ecarts!B259=\"\",\"\",Ecarts!A259),\"\")","v":""},{"$f":"IF( Ecarts!$E259=$A$1,IF( Ecarts!C259=\"\",\"\",Ecarts!C259),\"\")","v":""},{"$f":"IF( Ecarts!$E259=$A$1, IF(Ecarts!F259=\"\",\"\",Ecarts!F259),\"\")","v":""},{"$f":"IF( Ecarts!$E259=$A$1, IF(Ecarts!I259=\"\",\"\",Ecarts!I259),\"\")","v":""},{"$f":"IF( Ecarts!$E259=$A$1, IF(Ecarts!J259=\"\",\"\",Ecarts!J259),\"\")","v":""},{"$f":"IF( Ecarts!$E259=$A$1, IF(Ecarts!K259=\"\",\"\",Ecarts!K259),\"\")","v":""},{"$f":"IF( Ecarts!$E259=$A$1, IF(Ecarts!L259=\"\",\"\",Ecarts!L259),\"\")","v":""},{"$f":"IF( Ecarts!$E259=$A$1, IF(Ecarts!M259=\"\",\"\",Ecarts!M259),\"\")","v":""},0,0]
[{"$f":"IF( Ecarts!$E260=$A$1,IF( Ecarts!B260=\"\",\"\",Ecarts!A260),\"\")","v":""},{"$f":"IF( Ecarts!$E260=$A$1,IF( Ecarts!C260=\"\",\"\",Ecarts!C260),\"\")","v":""},{"$f":"IF( Ecarts!$E260=$A$1, IF(Ecarts!F260=\"\",\"\",Ecarts!F260),\"\")","v":""},{"$f":"IF( Ecarts!$E260=$A$1, IF(Ecarts!I260=\"\",\"\",Ecarts!I260),\"\")","v":""},{"$f":"IF( Ecarts!$E260=$A$1, IF(Ecarts!J260=\"\",\"\",Ecarts!J260),\"\")","v":""},{"$f":"IF( Ecarts!$E260=$A$1, IF(Ecarts!K260=\"\",\"\",Ecarts!K260),\"\")","v":""},{"$f":"IF( Ecarts!$E260=$A$1, IF(Ecarts!L260=\"\",\"\",Ecarts!L260),\"\")","v":""},{"$f":"IF( Ecarts!$E260=$A$1, IF(Ecarts!M260=\"\",\"\",Ecarts!M260),\"\")","v":""},{"$f":"IF(B261=\"\",0,IF(G261=1,0,1))","v":0},{"$f":"IF(F261=\"\",0,IF(F261>(TODAY()-60),1,0))","v":0}]
[{"$f":"IF( Ecarts!$E261=$A$1,IF( Ecarts!B261=\"\",\"\",Ecarts!A261),\"\")","v":""},{"$f":"IF( Ecarts!$E261=$A$1,IF( Ecarts!C261=\"\",\"\",Ecarts!C261),\"\")","v":""},{"$f":"IF( Ecarts!$E261=$A$1, IF(Ecarts!F261=\"\",\"\",Ecarts!F261),\"\")","v":""},{"$f":"IF( Ecarts!$E261=$A$1, IF(Ecarts!I261=\"\",\"\",Ecarts!I261),\"\")","v":""},{"$f":"IF( Ecarts!$E261=$A$1, IF(Ecarts!J261=\"\",\"\",Ecarts!J261),\"\")","v":""},{"$f":"IF( Ecarts!$E261=$A$1, IF(Ecarts!K261=\"\",\"\",Ecarts!K261),\"\")","v":""},{"$f":"IF( Ecarts!$E261=$A$1, IF(Ecarts!L261=\"\",\"\",Ecarts!L261),\"\")","v":""},{"$f":"IF( Ecarts!$E261=$A$1, IF(Ecarts!M261=\"\",\"\",Ecarts!M261),\"\")","v":""},0,0]
[{"$f":"IF( Ecarts!$E262=$A$1,IF( Ecarts!B262=\"\",\"\",Ecarts!A262),\"\")","v":""},{"$f":"IF( Ecarts!$E262=$A$1,IF( Ecarts!C262=\"\",\"\",Ecarts!C262),\"\")","v":""},{"$f":"IF( Ecarts!$E262=$A$1, IF(Ecarts!F262=\"\",\"\",Ecarts!F262),\"\")","v":""},{"$f":"IF( Ecarts!$E262=$A$1, IF(Ecarts!I262=\"\",\"\",Ecarts!I262),\"\")","v":""},{"$f":"IF( Ecarts!$E262=$A$1, IF(Ecarts!J262=\"\",\"\",Ecarts!J262),\"\")","v":""},{"$f":"IF( Ecarts!$E262=$A$1, IF(Ecarts!K262=\"\",\"\",Ecarts!K262),\"\")","v":""},{"$f":"IF( Ecarts!$E262=$A$1, IF(Ecarts!L262=\"\",\"\",Ecarts!L262),\"\")","v":""},{"$f":"IF( Ecarts!$E262=$A$1, IF(Ecarts!M262=\"\",\"\",Ecarts!M262),\"\")","v":""},0,0]
[{"$f":"IF( Ecarts!$E263=$A$1,IF( Ecarts!B263=\"\",\"\",Ecarts!A263),\"\")","v":""},{"$f":"IF( Ecarts!$E263=$A$1,IF( Ecarts!C263=\"\",\"\",Ecarts!C263),\"\")","v":""},{"$f":"IF( Ecarts!$E263=$A$1, IF(Ecarts!F263=\"\",\"\",Ecarts!F263),\"\")","v":""},{"$f":"IF( Ecarts!$E263=$A$1, IF(Ecarts!I263=\"\",\"\",Ecarts!I263),\"\")","v":""},{"$f":"IF( Ecarts!$E263=$A$1, IF(Ecarts!J263=\"\",\"\",Ecarts!J263),\"\")","v":""},{"$f":"IF( Ecarts!$E263=$A$1, IF(Ecarts!K263=\"\",\"\",Ecarts!K263),\"\")","v":""},{"$f":"IF( Ecarts!$E263=$A$1, IF(Ecarts!L263=\"\",\"\",Ecarts!L263),\"\")","v":""},{"$f":"IF( Ecarts!$E263=$A$1, IF(Ecarts!M263=\"\",\"\",Ecarts!M263),\"\")","v":""},0,0]
[{"$f":"IF( Ecarts!$E264=$A$1,IF( Ecarts!B264=\"\",\"\",Ecarts!A264),\"\")","v":""},{"$f":"IF( Ecarts!$E264=$A$1,IF( Ecarts!C264=\"\",\"\",Ecarts!C264),\"\")","v":""},{"$f":"IF( Ecarts!$E264=$A$1, IF(Ecarts!F264=\"\",\"\",Ecarts!F264),\"\")","v":""},{"$f":"IF( Ecarts!$E264=$A$1, IF(Ecarts!I264=\"\",\"\",Ecarts!I264),\"\")","v":""},{"$f":"IF( Ecarts!$E264=$A$1, IF(Ecarts!J264=\"\",\"\",Ecarts!J264),\"\")","v":""},{"$f":"IF( Ecarts!$E264=$A$1, IF(Ecarts!K264=\"\",\"\",Ecarts!K264),\"\")","v":""},{"$f":"IF( Ecarts!$E264=$A$1, IF(Ecarts!L264=\"\",\"\",Ecarts!L264),\"\")","v":""},{"$f":"IF( Ecarts!$E264=$A$1, IF(Ecarts!M264=\"\",\"\",Ecarts!M264),\"\")","v":""},0,0]
[{"$f":"IF( Ecarts!$E265=$A$1,IF( Ecarts!B265=\"\",\"\",Ecarts!A265),\"\")","v":""},{"$f":"IF( Ecarts!$E265=$A$1,IF( Ecarts!C265=\"\",\"\",Ecarts!C265),\"\")","v":""},{"$f":"IF( Ecarts!$E265=$A$1, IF(Ecarts!F265=\"\",\"\",Ecarts!F265),\"\")","v":""},{"$f":"IF( Ecarts!$E265=$A$1, IF(Ecarts!I265=\"\",\"\",Ecarts!I265),\"\")","v":""},{"$f":"IF( Ecarts!$E265=$A$1, IF(Ecarts!J265=\"\",\"\",Ecarts!J265),\"\")","v":""},{"$f":"IF( Ecarts!$E265=$A$1, IF(Ecarts!K265=\"\",\"\",Ecarts!K265),\"\")","v":""},{"$f":"IF( Ecarts!$E265=$A$1, IF(Ecarts!L265=\"\",\"\",Ecarts!L265),\"\")","v":""},{"$f":"IF( Ecarts!$E265=$A$1, IF(Ecarts!M265=\"\",\"\",Ecarts!M265),\"\")","v":""},0,0]
[{"$f":"IF( Ecarts!$E266=$A$1,IF( Ecarts!B266=\"\",\"\",Ecarts!A266),\"\")","v":""},{"$f":"IF( Ecarts!$E266=$A$1,IF( Ecarts!C266=\"\",\"\",Ecarts!C266),\"\")","v":""},{"$f":"IF( Ecarts!$E266=$A$1, IF(Ecarts!F266=\"\",\"\",Ecarts!F266),\"\")","v":""},{"$f":"IF( Ecarts!$E266=$A$1, IF(Ecarts!I266=\"\",\"\",Ecarts!I266),\"\")","v":""},{"$f":"IF( Ecarts!$E266=$A$1, IF(Ecarts!J266=\"\",\"\",Ecarts!J266),\"\")","v":""},{"$f":"IF( Ecarts!$E266=$A$1, IF(Ecarts!K266=\"\",\"\",Ecarts!K266),\"\")","v":""},{"$f":"IF( Ecarts!$E266=$A$1, IF(Ecarts!L266=\"\",\"\",Ecarts!L266),\"\")","v":""},{"$f":"IF( Ecarts!$E266=$A$1, IF(Ecarts!M266=\"\",\"\",Ecarts!M266),\"\")","v":""},0,0]
[{"$f":"IF( Ecarts!$E267=$A$1,IF( Ecarts!B267=\"\",\"\",Ecarts!A267),\"\")","v":""},{"$f":"IF( Ecarts!$E267=$A$1,IF( Ecarts!C267=\"\",\"\",Ecarts!C267),\"\")","v":""},{"$f":"IF( Ecarts!$E267=$A$1, IF(Ecarts!F267=\"\",\"\",Ecarts!F267),\"\")","v":""},{"$f":"IF( Ecarts!$E267=$A$1, IF(Ecarts!I267=\"\",\"\",Ecarts!I267),\"\")","v":""},{"$f":"IF( Ecarts!$E267=$A$1, IF(Ecarts!J267=\"\",\"\",Ecarts!J267),\"\")","v":""},{"$f":"IF( Ecarts!$E267=$A$1, IF(Ecarts!K267=\"\",\"\",Ecarts!K267),\"\")","v":""},{"$f":"IF( Ecarts!$E267=$A$1, IF(Ecarts!L267=\"\",\"\",Ecarts!L267),\"\")","v":""},{"$f":"IF( Ecarts!$E267=$A$1, IF(Ecarts!M267=\"\",\"\",Ecarts!M267),\"\")","v":""},0,0]
[{"$f":"IF( Ecarts!$E268=$A$1,IF( Ecarts!B268=\"\",\"\",Ecarts!A268),\"\")","v":""},{"$f":"IF( Ecarts!$E268=$A$1,IF( Ecarts!C268=\"\",\"\",Ecarts!C268),\"\")","v":""},{"$f":"IF( Ecarts!$E268=$A$1, IF(Ecarts!F268=\"\",\"\",Ecarts!F268),\"\")","v":""},{"$f":"IF( Ecarts!$E268=$A$1, IF(Ecarts!I268=\"\",\"\",Ecarts!I268),\"\")","v":""},{"$f":"IF( Ecarts!$E268=$A$1, IF(Ecarts!J268=\"\",\"\",Ecarts!J268),\"\")","v":""},{"$f":"IF( Ecarts!$E268=$A$1, IF(Ecarts!K268=\"\",\"\",Ecarts!K268),\"\")","v":""},{"$f":"IF( Ecarts!$E268=$A$1, IF(Ecarts!L268=\"\",\"\",Ecarts!L268),\"\")","v":""},{"$f":"IF( Ecarts!$E268=$A$1, IF(Ecarts!M268=\"\",\"\",Ecarts!M268),\"\")","v":""},0,0]
[{"$f":"IF( Ecarts!$E269=$A$1,IF( Ecarts!B269=\"\",\"\",Ecarts!A269),\"\")","v":""},{"$f":"IF( Ecarts!$E269=$A$1,IF( Ecarts!C269=\"\",\"\",Ecarts!C269),\"\")","v":""},{"$f":"IF( Ecarts!$E269=$A$1, IF(Ecarts!F269=\"\",\"\",Ecarts!F269),\"\")","v":""},{"$f":"IF( Ecarts!$E269=$A$1, IF(Ecarts!I269=\"\",\"\",Ecarts!I269),\"\")","v":""},{"$f":"IF( Ecarts!$E269=$A$1, IF(Ecarts!J269=\"\",\"\",Ecarts!J269),\"\")","v":""},{"$f":"IF( Ecarts!$E269=$A$1, IF(Ecarts!K269=\"\",\"\",Ecarts!K269),\"\")","v":""},{"$f":"IF( Ecarts!$E269=$A$1, IF(Ecarts!L269=\"\",\"\",Ecarts!L269),\"\")","v":""},{"$f":"IF( Ecarts!$E269=$A$1, IF(Ecarts!M269=\"\",\"\",Ecarts!M269),\"\")","v":""},0,0]
[{"$f":"IF( Ecarts!$E270=$A$1,IF( Ecarts!B270=\"\",\"\",Ecarts!A270),\"\")","v":""},{"$f":"IF( Ecarts!$E270=$A$1,IF( Ecarts!C270=\"\",\"\",Ecarts!C270),\"\")","v":""},{"$f":"IF( Ecarts!$E270=$A$1, IF(Ecarts!F270=\"\",\"\",Ecarts!F270),\"\")","v":""},{"$f":"IF( Ecarts!$E270=$A$1, IF(Ecarts!I270=\"\",\"\",Ecarts!I270),\"\")","v":""},{"$f":"IF( Ecarts!$E270=$A$1, IF(Ecarts!J270=\"\",\"\",Ecarts!J270),\"\")","v":""},{"$f":"IF( Ecarts!$E270=$A$1, IF(Ecarts!K270=\"\",\"\",Ecarts!K270),\"\")","v":""},{"$f":"IF( Ecarts!$E270=$A$1, IF(Ecarts!L270=\"\",\"\",Ecarts!L270),\"\")","v":""},{"$f":"IF( Ecarts!$E270=$A$1, IF(Ecarts!M270=\"\",\"\",Ecarts!M270),\"\")","v":""},0,0]
[{"$f":"IF( Ecarts!$E271=$A$1,IF( Ecarts!B271=\"\",\"\",Ecarts!A271),\"\")","v":""},{"$f":"IF( Ecarts!$E271=$A$1,IF( Ecarts!C271=\"\",\"\",Ecarts!C271),\"\")","v":""},{"$f":"IF( Ecarts!$E271=$A$1, IF(Ecarts!F271=\"\",\"\",Ecarts!F271),\"\")","v":""},{"$f":"IF( Ecarts!$E271=$A$1, IF(Ecarts!I271=\"\",\"\",Ecarts!I271),\"\")","v":""},{"$f":"IF( Ecarts!$E271=$A$1, IF(Ecarts!J271=\"\",\"\",Ecarts!J271),\"\")","v":""},{"$f":"IF( Ecarts!$E271=$A$1, IF(Ecarts!K271=\"\",\"\",Ecarts!K271),\"\")","v":""},{"$f":"IF( Ecarts!$E271=$A$1, IF(Ecarts!L271=\"\",\"\",Ecarts!L271),\"\")","v":""},{"$f":"IF( Ecarts!$E271=$A$1, IF(Ecarts!M271=\"\",\"\",Ecarts!M271),\"\")","v":""},0,0]
[{"$f":"IF( Ecarts!$E272=$A$1,IF( Ecarts!B272=\"\",\"\",Ecarts!A272),\"\")","v":""},{"$f":"IF( Ecarts!$E272=$A$1,IF( Ecarts!C272=\"\",\"\",Ecarts!C272),\"\")","v":""},{"$f":"IF( Ecarts!$E272=$A$1, IF(Ecarts!F272=\"\",\"\",Ecarts!F272),\"\")","v":""},{"$f":"IF( Ecarts!$E272=$A$1, IF(Ecarts!I272=\"\",\"\",Ecarts!I272),\"\")","v":""},{"$f":"IF( Ecarts!$E272=$A$1, IF(Ecarts!J272=\"\",\"\",Ecarts!J272),\"\")","v":""},{"$f":"IF( Ecarts!$E272=$A$1, IF(Ecarts!K272=\"\",\"\",Ecarts!K272),\"\")","v":""},{"$f":"IF( Ecarts!$E272=$A$1, IF(Ecarts!L272=\"\",\"\",Ecarts!L272),\"\")","v":""},{"$f":"IF( Ecarts!$E272=$A$1, IF(Ecarts!M272=\"\",\"\",Ecarts!M272),\"\")","v":""},0,0]
[{"$f":"IF( Ecarts!$E273=$A$1,IF( Ecarts!B273=\"\",\"\",Ecarts!A273),\"\")","v":""},{"$f":"IF( Ecarts!$E273=$A$1,IF( Ecarts!C273=\"\",\"\",Ecarts!C273),\"\")","v":""},{"$f":"IF( Ecarts!$E273=$A$1, IF(Ecarts!F273=\"\",\"\",Ecarts!F273),\"\")","v":""},{"$f":"IF( Ecarts!$E273=$A$1, IF(Ecarts!I273=\"\",\"\",Ecarts!I273),\"\")","v":""},{"$f":"IF( Ecarts!$E273=$A$1, IF(Ecarts!J273=\"\",\"\",Ecarts!J273),\"\")","v":""},{"$f":"IF( Ecarts!$E273=$A$1, IF(Ecarts!K273=\"\",\"\",Ecarts!K273),\"\")","v":""},{"$f":"IF( Ecarts!$E273=$A$1, IF(Ecarts!L273=\"\",\"\",Ecarts!L273),\"\")","v":""},{"$f":"IF( Ecarts!$E273=$A$1, IF(Ecarts!M273=\"\",\"\",Ecarts!M273),\"\")","v":""},0,0]
[{"$f":"IF( Ecarts!$E274=$A$1,IF( Ecarts!B274=\"\",\"\",Ecarts!A274),\"\")","v":""},{"$f":"IF( Ecarts!$E274=$A$1,IF( Ecarts!C274=\"\",\"\",Ecarts!C274),\"\")","v":""},{"$f":"IF( Ecarts!$E274=$A$1, IF(Ecarts!F274=\"\",\"\",Ecarts!F274),\"\")","v":""},{"$f":"IF( Ecarts!$E274=$A$1, IF(Ecarts!I274=\"\",\"\",Ecarts!I274),\"\")","v":""},{"$f":"IF( Ecarts!$E274=$A$1, IF(Ecarts!J274=\"\",\"\",Ecarts!J274),\"\")","v":""},{"$f":"IF( Ecarts!$E274=$A$1, IF(Ecarts!K274=\"\",\"\",Ecarts!K274),\"\")","v":""},{"$f":"IF( Ecarts!$E274=$A$1, IF(Ecarts!L274=\"\",\"\",Ecarts!L274),\"\")","v":""},{"$f":"IF( Ecarts!$E274=$A$1, IF(Ecarts!M274=\"\",\"\",Ecarts!M274),\"\")","v":""},0,0]
[{"$f":"IF( Ecarts!$E275=$A$1,IF( Ecarts!B275=\"\",\"\",Ecarts!A275),\"\")","v":""},{"$f":"IF( Ecarts!$E275=$A$1,IF( Ecarts!C275=\"\",\"\",Ecarts!C275),\"\")","v":""},{"$f":"IF( Ecarts!$E275=$A$1, IF(Ecarts!F275=\"\",\"\",Ecarts!F275),\"\")","v":""},{"$f":"IF( Ecarts!$E275=$A$1, IF(Ecarts!I275=\"\",\"\",Ecarts!I275),\"\")","v":""},{"$f":"IF( Ecarts!$E275=$A$1, IF(Ecarts!J275=\"\",\"\",Ecarts!J275),\"\")","v":""},{"$f":"IF( Ecarts!$E275=$A$1, IF(Ecarts!K275=\"\",\"\",Ecarts!K275),\"\")","v":""},{"$f":"IF( Ecarts!$E275=$A$1, IF(Ecarts!L275=\"\",\"\",Ecarts!L275),\"\")","v":""},{"$f":"IF( Ecarts!$E275=$A$1, IF(Ecarts!M275=\"\",\"\",Ecarts!M275),\"\")","v":""},0,0]
[{"$f":"IF( Ecarts!$E276=$A$1,IF( Ecarts!B276=\"\",\"\",Ecarts!A276),\"\")","v":""},{"$f":"IF( Ecarts!$E276=$A$1,IF( Ecarts!C276=\"\",\"\",Ecarts!C276),\"\")","v":""},{"$f":"IF( Ecarts!$E276=$A$1, IF(Ecarts!F276=\"\",\"\",Ecarts!F276),\"\")","v":""},{"$f":"IF( Ecarts!$E276=$A$1, IF(Ecarts!I276=\"\",\"\",Ecarts!I276),\"\")","v":""},{"$f":"IF( Ecarts!$E276=$A$1, IF(Ecarts!J276=\"\",\"\",Ecarts!J276),\"\")","v":""},{"$f":"IF( Ecarts!$E276=$A$1, IF(Ecarts!K276=\"\",\"\",Ecarts!K276),\"\")","v":""},{"$f":"IF( Ecarts!$E276=$A$1, IF(Ecarts!L276=\"\",\"\",Ecarts!L276),\"\")","v":""},{"$f":"IF( Ecarts!$E276=$A$1, IF(Ecarts!M276=\"\",\"\",Ecarts!M276),\"\")","v":""},0,0]
[{"$f":"IF( Ecarts!$E277=$A$1,IF( Ecarts!B277=\"\",\"\",Ecarts!A277),\"\")","v":""},{"$f":"IF( Ecarts!$E277=$A$1,IF( Ecarts!C277=\"\",\"\",Ecarts!C277),\"\")","v":""},{"$f":"IF( Ecarts!$E277=$A$1, IF(Ecarts!F277=\"\",\"\",Ecarts!F277),\"\")","v":""},{"$f":"IF( Ecarts!$E277=$A$1, IF(Ecarts!I277=\"\",\"\",Ecarts!I277),\"\")","v":""},{"$f":"IF( Ecarts!$E277=$A$1, IF(Ecarts!J277=\"\",\"\",Ecarts!J277),\"\")","v":""},{"$f":"IF( Ecarts!$E277=$A$1, IF(Ecarts!K277=\"\",\"\",Ecarts!K277),\"\")","v":""},{"$f":"IF( Ecarts!$E277=$A$1, IF(Ecarts!L277=\"\",\"\",Ecarts!L277),\"\")","v":""},{"$f":"IF( Ecarts!$E277=$A$1, IF(Ecarts!M277=\"\",\"\",Ecarts!M277),\"\")","v":""},0,0]
[{"$f":"IF( Ecarts!$E278=$A$1,IF( Ecarts!B278=\"\",\"\",Ecarts!A278),\"\")","v":""},{"$f":"IF( Ecarts!$E278=$A$1,IF( Ecarts!C278=\"\",\"\",Ecarts!C278),\"\")","v":""},{"$f":"IF( Ecarts!$E278=$A$1, IF(Ecarts!F278=\"\",\"\",Ecarts!F278),\"\")","v":""},{"$f":"IF( Ecarts!$E278=$A$1, IF(Ecarts!I278=\"\",\"\",Ecarts!I278),\"\")","v":""},{"$f":"IF( Ecarts!$E278=$A$1, IF(Ecarts!J278=\"\",\"\",Ecarts!J278),\"\")","v":""},{"$f":"IF( Ecarts!$E278=$A$1, IF(Ecarts!K278=\"\",\"\",Ecarts!K278),\"\")","v":""},{"$f":"IF( Ecarts!$E278=$A$1, IF(Ecarts!L278=\"\",\"\",Ecarts!L278),\"\")","v":""},{"$f":"IF( Ecarts!$E278=$A$1, IF(Ecarts!M278=\"\",\"\",Ecarts!M278),\"\")","v":""},0,0]
[{"$f":"IF( Ecarts!$E279=$A$1,IF( Ecarts!B279=\"\",\"\",Ecarts!A279),\"\")","v":""},{"$f":"IF( Ecarts!$E279=$A$1,IF( Ecarts!C279=\"\",\"\",Ecarts!C279),\"\")","v":""},{"$f":"IF( Ecarts!$E279=$A$1, IF(Ecarts!F279=\"\",\"\",Ecarts!F279),\"\")","v":""},{"$f":"IF( Ecarts!$E279=$A$1, IF(Ecarts!I279=\"\",\"\",Ecarts!I279),\"\")","v":""},{"$f":"IF( Ecarts!$E279=$A$1, IF(Ecarts!J279=\"\",\"\",Ecarts!J279),\"\")","v":""},{"$f":"IF( Ecarts!$E279=$A$1, IF(Ecarts!K279=\"\",\"\",Ecarts!K279),\"\")","v":""},{"$f":"IF( Ecarts!$E279=$A$1, IF(Ecarts!L279=\"\",\"\",Ecarts!L279),\"\")","v":""},{"$f":"IF( Ecarts!$E279=$A$1, IF(Ecarts!M279=\"\",\"\",Ecarts!M279),\"\")","v":""},0,0]
[{"$f":"IF( Ecarts!$E280=$A$1,IF( Ecarts!B280=\"\",\"\",Ecarts!A280),\"\")","v":""},{"$f":"IF( Ecarts!$E280=$A$1,IF( Ecarts!C280=\"\",\"\",Ecarts!C280),\"\")","v":""},{"$f":"IF( Ecarts!$E280=$A$1, IF(Ecarts!F280=\"\",\"\",Ecarts!F280),\"\")","v":""},{"$f":"IF( Ecarts!$E280=$A$1, IF(Ecarts!I280=\"\",\"\",Ecarts!I280),\"\")","v":""},{"$f":"IF( Ecarts!$E280=$A$1, IF(Ecarts!J280=\"\",\"\",Ecarts!J280),\"\")","v":""},{"$f":"IF( Ecarts!$E280=$A$1, IF(Ecarts!K280=\"\",\"\",Ecarts!K280),\"\")","v":""},{"$f":"IF( Ecarts!$E280=$A$1, IF(Ecarts!L280=\"\",\"\",Ecarts!L280),\"\")","v":""},{"$f":"IF( Ecarts!$E280=$A$1, IF(Ecarts!M280=\"\",\"\",Ecarts!M280),\"\")","v":""},0,0]
[{"$f":"IF( Ecarts!$E281=$A$1,IF( Ecarts!B281=\"\",\"\",Ecarts!A281),\"\")","v":""},{"$f":"IF( Ecarts!$E281=$A$1,IF( Ecarts!C281=\"\",\"\",Ecarts!C281),\"\")","v":""},{"$f":"IF( Ecarts!$E281=$A$1, IF(Ecarts!F281=\"\",\"\",Ecarts!F281),\"\")","v":""},{"$f":"IF( Ecarts!$E281=$A$1, IF(Ecarts!I281=\"\",\"\",Ecarts!I281),\"\")","v":""},{"$f":"IF( Ecarts!$E281=$A$1, IF(Ecarts!J281=\"\",\"\",Ecarts!J281),\"\")","v":""},{"$f":"IF( Ecarts!$E281=$A$1, IF(Ecarts!K281=\"\",\"\",Ecarts!K281),\"\")","v":""},{"$f":"IF( Ecarts!$E281=$A$1, IF(Ecarts!L281=\"\",\"\",Ecarts!L281),\"\")","v":""},{"$f":"IF( Ecarts!$E281=$A$1, IF(Ecarts!M281=\"\",\"\",Ecarts!M281),\"\")","v":""},0,0]
[{"$f":"IF( Ecarts!$E282=$A$1,IF( Ecarts!B282=\"\",\"\",Ecarts!A282),\"\")","v":""},{"$f":"IF( Ecarts!$E282=$A$1,IF( Ecarts!C282=\"\",\"\",Ecarts!C282),\"\")","v":""},{"$f":"IF( Ecarts!$E282=$A$1, IF(Ecarts!F282=\"\",\"\",Ecarts!F282),\"\")","v":""},{"$f":"IF( Ecarts!$E282=$A$1, IF(Ecarts!I282=\"\",\"\",Ecarts!I282),\"\")","v":""},{"$f":"IF( Ecarts!$E282=$A$1, IF(Ecarts!J282=\"\",\"\",Ecarts!J282),\"\")","v":""},{"$f":"IF( Ecarts!$E282=$A$1, IF(Ecarts!K282=\"\",\"\",Ecarts!K282),\"\")","v":""},{"$f":"IF( Ecarts!$E282=$A$1, IF(Ecarts!L282=\"\",\"\",Ecarts!L282),\"\")","v":""},{"$f":"IF( Ecarts!$E282=$A$1, IF(Ecarts!M282=\"\",\"\",Ecarts!M282),\"\")","v":""},0,0]
[{"$f":"IF( Ecarts!$E283=$A$1,IF( Ecarts!B283=\"\",\"\",Ecarts!A283),\"\")","v":""},{"$f":"IF( Ecarts!$E283=$A$1,IF( Ecarts!C283=\"\",\"\",Ecarts!C283),\"\")","v":""},{"$f":"IF( Ecarts!$E283=$A$1, IF(Ecarts!F283=\"\",\"\",Ecarts!F283),\"\")","v":""},{"$f":"IF( Ecarts!$E283=$A$1, IF(Ecarts!I283=\"\",\"\",Ecarts!I283),\"\")","v":""},{"$f":"IF( Ecarts!$E283=$A$1, IF(Ecarts!J283=\"\",\"\",Ecarts!J283),\"\")","v":""},{"$f":"IF( Ecarts!$E283=$A$1, IF(Ecarts!K283=\"\",\"\",Ecarts!K283),\"\")","v":""},{"$f":"IF( Ecarts!$E283=$A$1, IF(Ecarts!L283=\"\",\"\",Ecarts!L283),\"\")","v":""},{"$f":"IF( Ecarts!$E283=$A$1, IF(Ecarts!M283=\"\",\"\",Ecarts!M283),\"\")","v":""},0,0]
[{"$f":"IF( Ecarts!$E284=$A$1,IF( Ecarts!B284=\"\",\"\",Ecarts!A284),\"\")","v":""},{"$f":"IF( Ecarts!$E284=$A$1,IF( Ecarts!C284=\"\",\"\",Ecarts!C284),\"\")","v":""},{"$f":"IF( Ecarts!$E284=$A$1, IF(Ecarts!F284=\"\",\"\",Ecarts!F284),\"\")","v":""},{"$f":"IF( Ecarts!$E284=$A$1, IF(Ecarts!I284=\"\",\"\",Ecarts!I284),\"\")","v":""},{"$f":"IF( Ecarts!$E284=$A$1, IF(Ecarts!J284=\"\",\"\",Ecarts!J284),\"\")","v":""},{"$f":"IF( Ecarts!$E284=$A$1, IF(Ecarts!K284=\"\",\"\",Ecarts!K284),\"\")","v":""},{"$f":"IF( Ecarts!$E284=$A$1, IF(Ecarts!L284=\"\",\"\",Ecarts!L284),\"\")","v":""},{"$f":"IF( Ecarts!$E284=$A$1, IF(Ecarts!M284=\"\",\"\",Ecarts!M284),\"\")","v":""},0,0]
[{"$f":"IF( Ecarts!$E285=$A$1,IF( Ecarts!B285=\"\",\"\",Ecarts!A285),\"\")","v":""},{"$f":"IF( Ecarts!$E285=$A$1,IF( Ecarts!C285=\"\",\"\",Ecarts!C285),\"\")","v":""},{"$f":"IF( Ecarts!$E285=$A$1, IF(Ecarts!F285=\"\",\"\",Ecarts!F285),\"\")","v":""},{"$f":"IF( Ecarts!$E285=$A$1, IF(Ecarts!I285=\"\",\"\",Ecarts!I285),\"\")","v":""},{"$f":"IF( Ecarts!$E285=$A$1, IF(Ecarts!J285=\"\",\"\",Ecarts!J285),\"\")","v":""},{"$f":"IF( Ecarts!$E285=$A$1, IF(Ecarts!K285=\"\",\"\",Ecarts!K285),\"\")","v":""},{"$f":"IF( Ecarts!$E285=$A$1, IF(Ecarts!L285=\"\",\"\",Ecarts!L285),\"\")","v":""},{"$f":"IF( Ecarts!$E285=$A$1, IF(Ecarts!M285=\"\",\"\",Ecarts!M285),\"\")","v":""},0,0]
[{"$f":"IF( Ecarts!$E286=$A$1,IF( Ecarts!B286=\"\",\"\",Ecarts!A286),\"\")","v":""},{"$f":"IF( Ecarts!$E286=$A$1,IF( Ecarts!C286=\"\",\"\",Ecarts!C286),\"\")","v":""},{"$f":"IF( Ecarts!$E286=$A$1, IF(Ecarts!F286=\"\",\"\",Ecarts!F286),\"\")","v":""},{"$f":"IF( Ecarts!$E286=$A$1, IF(Ecarts!I286=\"\",\"\",Ecarts!I286),\"\")","v":""},{"$f":"IF( Ecarts!$E286=$A$1, IF(Ecarts!J286=\"\",\"\",Ecarts!J286),\"\")","v":""},{"$f":"IF( Ecarts!$E286=$A$1, IF(Ecarts!K286=\"\",\"\",Ecarts!K286),\"\")","v":""},{"$f":"IF( Ecarts!$E286=$A$1, IF(Ecarts!L286=\"\",\"\",Ecarts!L286),\"\")","v":""},{"$f":"IF( Ecarts!$E286=$A$1, IF(Ecarts!M286=\"\",\"\",Ecarts!M286),\"\")","v":""},0,0]
[{"$f":"IF( Ecarts!$E287=$A$1,IF( Ecarts!B287=\"\",\"\",Ecarts!A287),\"\")","v":""},{"$f":"IF( Ecarts!$E287=$A$1,IF( Ecarts!C287=\"\",\"\",Ecarts!C287),\"\")","v":""},{"$f":"IF( Ecarts!$E287=$A$1, IF(Ecarts!F287=\"\",\"\",Ecarts!F287),\"\")","v":""},{"$f":"IF( Ecarts!$E287=$A$1, IF(Ecarts!I287=\"\",\"\",Ecarts!I287),\"\")","v":""},{"$f":"IF( Ecarts!$E287=$A$1, IF(Ecarts!J287=\"\",\"\",Ecarts!J287),\"\")","v":""},{"$f":"IF( Ecarts!$E287=$A$1, IF(Ecarts!K287=\"\",\"\",Ecarts!K287),\"\")","v":""},{"$f":"IF( Ecarts!$E287=$A$1, IF(Ecarts!L287=\"\",\"\",Ecarts!L287),\"\")","v":""},{"$f":"IF( Ecarts!$E287=$A$1, IF(Ecarts!M287=\"\",\"\",Ecarts!M287),\"\")","v":""},0,0]
[{"$f":"IF( Ecarts!$E288=$A$1,IF( Ecarts!B288=\"\",\"\",Ecarts!A288),\"\")","v":""},{"$f":"IF( Ecarts!$E288=$A$1,IF( Ecarts!C288=\"\",\"\",Ecarts!C288),\"\")","v":""},{"$f":"IF( Ecarts!$E288=$A$1, IF(Ecarts!F288=\"\",\"\",Ecarts!F288),\"\")","v":""},{"$f":"IF( Ecarts!$E288=$A$1, IF(Ecarts!I288=\"\",\"\",Ecarts!I288),\"\")","v":""},{"$f":"IF( Ecarts!$E288=$A$1, IF(Ecarts!J288=\"\",\"\",Ecarts!J288),\"\")","v":""},{"$f":"IF( Ecarts!$E288=$A$1, IF(Ecarts!K288=\"\",\"\",Ecarts!K288),\"\")","v":""},{"$f":"IF( Ecarts!$E288=$A$1, IF(Ecarts!L288=\"\",\"\",Ecarts!L288),\"\")","v":""},{"$f":"IF( Ecarts!$E288=$A$1, IF(Ecarts!M288=\"\",\"\",Ecarts!M288),\"\")","v":""},0,0]
[{"$f":"IF( Ecarts!$E289=$A$1,IF( Ecarts!B289=\"\",\"\",Ecarts!A289),\"\")","v":""},{"$f":"IF( Ecarts!$E289=$A$1,IF( Ecarts!C289=\"\",\"\",Ecarts!C289),\"\")","v":""},{"$f":"IF( Ecarts!$E289=$A$1, IF(Ecarts!F289=\"\",\"\",Ecarts!F289),\"\")","v":""},{"$f":"IF( Ecarts!$E289=$A$1, IF(Ecarts!I289=\"\",\"\",Ecarts!I289),\"\")","v":""},{"$f":"IF( Ecarts!$E289=$A$1, IF(Ecarts!J289=\"\",\"\",Ecarts!J289),\"\")","v":""},{"$f":"IF( Ecarts!$E289=$A$1, IF(Ecarts!K289=\"\",\"\",Ecarts!K289),\"\")","v":""},{"$f":"IF( Ecarts!$E289=$A$1, IF(Ecarts!L289=\"\",\"\",Ecarts!L289),\"\")","v":""},{"$f":"IF( Ecarts!$E289=$A$1, IF(Ecarts!M289=\"\",\"\",Ecarts!M289),\"\")","v":""},0,0]
[{"$f":"IF( Ecarts!$E290=$A$1,IF( Ecarts!B290=\"\",\"\",Ecarts!A290),\"\")","v":""},{"$f":"IF( Ecarts!$E290=$A$1,IF( Ecarts!C290=\"\",\"\",Ecarts!C290),\"\")","v":""},{"$f":"IF( Ecarts!$E290=$A$1, IF(Ecarts!F290=\"\",\"\",Ecarts!F290),\"\")","v":""},{"$f":"IF( Ecarts!$E290=$A$1, IF(Ecarts!I290=\"\",\"\",Ecarts!I290),\"\")","v":""},{"$f":"IF( Ecarts!$E290=$A$1, IF(Ecarts!J290=\"\",\"\",Ecarts!J290),\"\")","v":""},{"$f":"IF( Ecarts!$E290=$A$1, IF(Ecarts!K290=\"\",\"\",Ecarts!K290),\"\")","v":""},{"$f":"IF( Ecarts!$E290=$A$1, IF(Ecarts!L290=\"\",\"\",Ecarts!L290),\"\")","v":""},{"$f":"IF( Ecarts!$E290=$A$1, IF(Ecarts!M290=\"\",\"\",Ecarts!M290),\"\")","v":""},0,0]
[{"$f":"IF( Ecarts!$E291=$A$1,IF( Ecarts!B291=\"\",\"\",Ecarts!A291),\"\")","v":""},{"$f":"IF( Ecarts!$E291=$A$1,IF( Ecarts!C291=\"\",\"\",Ecarts!C291),\"\")","v":""},{"$f":"IF( Ecarts!$E291=$A$1, IF(Ecarts!F291=\"\",\"\",Ecarts!F291),\"\")","v":""},{"$f":"IF( Ecarts!$E291=$A$1, IF(Ecarts!I291=\"\",\"\",Ecarts!I291),\"\")","v":""},{"$f":"IF( Ecarts!$E291=$A$1, IF(Ecarts!J291=\"\",\"\",Ecarts!J291),\"\")","v":""},{"$f":"IF( Ecarts!$E291=$A$1, IF(Ecarts!K291=\"\",\"\",Ecarts!K291),\"\")","v":""},{"$f":"IF( Ecarts!$E291=$A$1, IF(Ecarts!L291=\"\",\"\",Ecarts!L291),\"\")","v":""},{"$f":"IF( Ecarts!$E291=$A$1, IF(Ecarts!M291=\"\",\"\",Ecarts!M291),\"\")","v":""},0,0]
[{"$f":"IF( Ecarts!$E292=$A$1,IF( Ecarts!B292=\"\",\"\",Ecarts!A292),\"\")","v":""},{"$f":"IF( Ecarts!$E292=$A$1,IF( Ecarts!C292=\"\",\"\",Ecarts!C292),\"\")","v":""},{"$f":"IF( Ecarts!$E292=$A$1, IF(Ecarts!F292=\"\",\"\",Ecarts!F292),\"\")","v":""},{"$f":"IF( Ecarts!$E292=$A$1, IF(Ecarts!I292=\"\",\"\",Ecarts!I292),\"\")","v":""},{"$f":"IF( Ecarts!$E292=$A$1, IF(Ecarts!J292=\"\",\"\",Ecarts!J292),\"\")","v":""},{"$f":"IF( Ecarts!$E292=$A$1, IF(Ecarts!K292=\"\",\"\",Ecarts!K292),\"\")","v":""},{"$f":"IF( Ecarts!$E292=$A$1, IF(Ecarts!L292=\"\",\"\",Ecarts!L292),\"\")","v":""},{"$f":"IF( Ecarts!$E292=$A$1, IF(Ecarts!M292=\"\",\"\",Ecarts!M292),\"\")","v":""},0,0]
[{"$f":"IF( Ecarts!$E293=$A$1,IF( Ecarts!B293=\"\",\"\",Ecarts!A293),\"\")","v":""},{"$f":"IF( Ecarts!$E293=$A$1,IF( Ecarts!C293=\"\",\"\",Ecarts!C293),\"\")","v":""},{"$f":"IF( Ecarts!$E293=$A$1, IF(Ecarts!F293=\"\",\"\",Ecarts!F293),\"\")","v":""},{"$f":"IF( Ecarts!$E293=$A$1, IF(Ecarts!I293=\"\",\"\",Ecarts!I293),\"\")","v":""},{"$f":"IF( Ecarts!$E293=$A$1, IF(Ecarts!J293=\"\",\"\",Ecarts!J293),\"\")","v":""},{"$f":"IF( Ecarts!$E293=$A$1, IF(Ecarts!K293=\"\",\"\",Ecarts!K293),\"\")","v":""},{"$f":"IF( Ecarts!$E293=$A$1, IF(Ecarts!L293=\"\",\"\",Ecarts!L293),\"\")","v":""},{"$f":"IF( Ecarts!$E293=$A$1, IF(Ecarts!M293=\"\",\"\",Ecarts!M293),\"\")","v":""},0,0]
[{"$f":"IF( Ecarts!$E294=$A$1,IF( Ecarts!B294=\"\",\"\",Ecarts!A294),\"\")","v":""},{"$f":"IF( Ecarts!$E294=$A$1,IF( Ecarts!C294=\"\",\"\",Ecarts!C294),\"\")","v":""},{"$f":"IF( Ecarts!$E294=$A$1, IF(Ecarts!F294=\"\",\"\",Ecarts!F294),\"\")","v":""},{"$f":"IF( Ecarts!$E294=$A$1, IF(Ecarts!I294=\"\",\"\",Ecarts!I294),\"\")","v":""},{"$f":"IF( Ecarts!$E294=$A$1, IF(Ecarts!J294=\"\",\"\",Ecarts!J294),\"\")","v":""},{"$f":"IF( Ecarts!$E294=$A$1, IF(Ecarts!K294=\"\",\"\",Ecarts!K294),\"\")","v":""},{"$f":"IF( Ecarts!$E294=$A$1, IF(Ecarts!L294=\"\",\"\",Ecarts!L294),\"\")","v":""},{"$f":"IF( Ecarts!$E294=$A$1, IF(Ecarts!M294=\"\",\"\",Ecarts!M294),\"\")","v":""},0,0]
[{"$f":"IF( Ecarts!$E295=$A$1,IF( Ecarts!B295=\"\",\"\",Ecarts!A295),\"\")","v":""},{"$f":"IF( Ecarts!$E295=$A$1,IF( Ecarts!C295=\"\",\"\",Ecarts!C295),\"\")","v":""},{"$f":"IF( Ecarts!$E295=$A$1, IF(Ecarts!F295=\"\",\"\",Ecarts!F295),\"\")","v":""},{"$f":"IF( Ecarts!$E295=$A$1, IF(Ecarts!I295=\"\",\"\",Ecarts!I295),\"\")","v":""},{"$f":"IF( Ecarts!$E295=$A$1, IF(Ecarts!J295=\"\",\"\",Ecarts!J295),\"\")","v":""},{"$f":"IF( Ecarts!$E295=$A$1, IF(Ecarts!K295=\"\",\"\",Ecarts!K295),\"\")","v":""},{"$f":"IF( Ecarts!$E295=$A$1, IF(Ecarts!L295=\"\",\"\",Ecarts!L295),\"\")","v":""},{"$f":"IF( Ecarts!$E295=$A$1, IF(Ecarts!M295=\"\",\"\",Ecarts!M295),\"\")","v":""},0,0]
[{"$f":"IF( Ecarts!$E296=$A$1,IF( Ecarts!B296=\"\",\"\",Ecarts!A296),\"\")","v":""},{"$f":"IF( Ecarts!$E296=$A$1,IF( Ecarts!C296=\"\",\"\",Ecarts!C296),\"\")","v":""},{"$f":"IF( Ecarts!$E296=$A$1, IF(Ecarts!F296=\"\",\"\",Ecarts!F296),\"\")","v":""},{"$f":"IF( Ecarts!$E296=$A$1, IF(Ecarts!I296=\"\",\"\",Ecarts!I296),\"\")","v":""},{"$f":"IF( Ecarts!$E296=$A$1, IF(Ecarts!J296=\"\",\"\",Ecarts!J296),\"\")","v":""},{"$f":"IF( Ecarts!$E296=$A$1, IF(Ecarts!K296=\"\",\"\",Ecarts!K296),\"\")","v":""},{"$f":"IF( Ecarts!$E296=$A$1, IF(Ecarts!L296=\"\",\"\",Ecarts!L296),\"\")","v":""},{"$f":"IF( Ecarts!$E296=$A$1, IF(Ecarts!M296=\"\",\"\",Ecarts!M296),\"\")","v":""},0,0]
[{"$f":"IF( Ecarts!$E297=$A$1,IF( Ecarts!B297=\"\",\"\",Ecarts!A297),\"\")","v":""},{"$f":"IF( Ecarts!$E297=$A$1,IF( Ecarts!C297=\"\",\"\",Ecarts!C297),\"\")","v":""},{"$f":"IF( Ecarts!$E297=$A$1, IF(Ecarts!F297=\"\",\"\",Ecarts!F297),\"\")","v":""},{"$f":"IF( Ecarts!$E297=$A$1, IF(Ecarts!I297=\"\",\"\",Ecarts!I297),\"\")","v":""},{"$f":"IF( Ecarts!$E297=$A$1, IF(Ecarts!J297=\"\",\"\",Ecarts!J297),\"\")","v":""},{"$f":"IF( Ecarts!$E297=$A$1, IF(Ecarts!K297=\"\",\"\",Ecarts!K297),\"\")","v":""},{"$f":"IF( Ecarts!$E297=$A$1, IF(Ecarts!L297=\"\",\"\",Ecarts!L297),\"\")","v":""},{"$f":"IF( Ecarts!$E297=$A$1, IF(Ecarts!M297=\"\",\"\",Ecarts!M297),\"\")","v":""},0,0]
[{"$f":"IF( Ecarts!$E298=$A$1,IF( Ecarts!B298=\"\",\"\",Ecarts!A298),\"\")","v":""},{"$f":"IF( Ecarts!$E298=$A$1,IF( Ecarts!C298=\"\",\"\",Ecarts!C298),\"\")","v":""},{"$f":"IF( Ecarts!$E298=$A$1, IF(Ecarts!F298=\"\",\"\",Ecarts!F298),\"\")","v":""},{"$f":"IF( Ecarts!$E298=$A$1, IF(Ecarts!I298=\"\",\"\",Ecarts!I298),\"\")","v":""},{"$f":"IF( Ecarts!$E298=$A$1, IF(Ecarts!J298=\"\",\"\",Ecarts!J298),\"\")","v":""},{"$f":"IF( Ecarts!$E298=$A$1, IF(Ecarts!K298=\"\",\"\",Ecarts!K298),\"\")","v":""},{"$f":"IF( Ecarts!$E298=$A$1, IF(Ecarts!L298=\"\",\"\",Ecarts!L298),\"\")","v":""},{"$f":"IF( Ecarts!$E298=$A$1, IF(Ecarts!M298=\"\",\"\",Ecarts!M298),\"\")","v":""},0,0]
[{"$f":"IF( Ecarts!$E299=$A$1,IF( Ecarts!B299=\"\",\"\",Ecarts!A299),\"\")","v":""},{"$f":"IF( Ecarts!$E299=$A$1,IF( Ecarts!C299=\"\",\"\",Ecarts!C299),\"\")","v":""},{"$f":"IF( Ecarts!$E299=$A$1, IF(Ecarts!F299=\"\",\"\",Ecarts!F299),\"\")","v":""},{"$f":"IF( Ecarts!$E299=$A$1, IF(Ecarts!I299=\"\",\"\",Ecarts!I299),\"\")","v":""},{"$f":"IF( Ecarts!$E299=$A$1, IF(Ecarts!J299=\"\",\"\",Ecarts!J299),\"\")","v":""},{"$f":"IF( Ecarts!$E299=$A$1, IF(Ecarts!K299=\"\",\"\",Ecarts!K299),\"\")","v":""},{"$f":"IF( Ecarts!$E299=$A$1, IF(Ecarts!L299=\"\",\"\",Ecarts!L299),\"\")","v":""},{"$f":"IF( Ecarts!$E299=$A$1, IF(Ecarts!M299=\"\",\"\",Ecarts!M299),\"\")","v":""},0,0]
[{"$f":"IF( Ecarts!$E300=$A$1,IF( Ecarts!B300=\"\",\"\",Ecarts!A300),\"\")","v":""},{"$f":"IF( Ecarts!$E300=$A$1,IF( Ecarts!C300=\"\",\"\",Ecarts!C300),\"\")","v":""},{"$f":"IF( Ecarts!$E300=$A$1, IF(Ecarts!F300=\"\",\"\",Ecarts!F300),\"\")","v":""},{"$f":"IF( Ecarts!$E300=$A$1, IF(Ecarts!I300=\"\",\"\",Ecarts!I300),\"\")","v":""},{"$f":"IF( Ecarts!$E300=$A$1, IF(Ecarts!J300=\"\",\"\",Ecarts!J300),\"\")","v":""},{"$f":"IF( Ecarts!$E300=$A$1, IF(Ecarts!K300=\"\",\"\",Ecarts!K300),\"\")","v":""},{"$f":"IF( Ecarts!$E300=$A$1, IF(Ecarts!L300=\"\",\"\",Ecarts!L300),\"\")","v":""},{"$f":"IF( Ecarts!$E300=$A$1, IF(Ecarts!M300=\"\",\"\",Ecarts!M300),\"\")","v":""},0,0]
[{"$f":"IF( Ecarts!$E301=$A$1,IF( Ecarts!B301=\"\",\"\",Ecarts!A301),\"\")","v":""},{"$f":"IF( Ecarts!$E301=$A$1,IF( Ecarts!C301=\"\",\"\",Ecarts!C301),\"\")","v":""},{"$f":"IF( Ecarts!$E301=$A$1, IF(Ecarts!F301=\"\",\"\",Ecarts!F301),\"\")","v":""},{"$f":"IF( Ecarts!$E301=$A$1, IF(Ecarts!I301=\"\",\"\",Ecarts!I301),\"\")","v":""},{"$f":"IF( Ecarts!$E301=$A$1, IF(Ecarts!J301=\"\",\"\",Ecarts!J301),\"\")","v":""},{"$f":"IF( Ecarts!$E301=$A$1, IF(Ecarts!K301=\"\",\"\",Ecarts!K301),\"\")","v":""},{"$f":"IF( Ecarts!$E301=$A$1, IF(Ecarts!L301=\"\",\"\",Ecarts!L301),\"\")","v":""},{"$f":"IF( Ecarts!$E301=$A$1, IF(Ecarts!M301=\"\",\"\",Ecarts!M301),\"\")","v":""},0,0]
[{"$f":"IF( Ecarts!$E360=$A$1,IF( Ecarts!B360=\"\",\"\",Ecarts!A360),\"\")","v":""},{"$f":"IF( Ecarts!$E360=$A$1,IF( Ecarts!C360=\"\",\"\",Ecarts!C360),\"\")","v":""},{"$f":"IF( Ecarts!$E360=$A$1, IF(Ecarts!F360=\"\",\"\",Ecarts!F360),\"\")","v":""},{"$f":"IF( Ecarts!$E360=$A$1, IF(Ecarts!I360=\"\",\"\",Ecarts!I360),\"\")","v":""},{"$f":"IF( Ecarts!$E360=$A$1, IF(Ecarts!J360=\"\",\"\",Ecarts!J360),\"\")","v":""},{"$f":"IF( Ecarts!$E302=$A$1, IF(Ecarts!K302=\"\",\"\",Ecarts!K302),\"\")","v":""},{"$f":"IF( Ecarts!$E302=$A$1, IF(Ecarts!L302=\"\",\"\",Ecarts!L302),\"\")","v":""},{"$f":"IF( Ecarts!$E302=$A$1, IF(Ecarts!M302=\"\",\"\",Ecarts!M302),\"\")","v":""},0,0]

{"sheet":"Rochelle","index":4,"n_rows":303,"n_cols":10,"rows_kept":303,"cut":false,"hidden":true,"merged":[[0,0,1,1]]}
[{"$f":"MID(CELL(\"nomfichier\",J1),FIND(\"]\",CELL(\"nomfichier\",J1),20)+1,32)","v":"Rochelle"},null,null,{"$f":"IF(SUM(I$1:I$64839)=0,\"Aucune action ouverte\",IF(SUM(I$1:I$64839)>1,CONCATENATE(SUM(I$1:I$64839),\" actions ouvertes\"),\"Une action ouverte\"))","v":"Aucune action ouverte"}]
[null,null,123,{"$f":"IF(SUM(J$1:J$64839)=0,\"Aucune action clôturée en 2 mois\",IF(SUM(J$1:J$64839)>1,CONCATENATE(SUM(J$1:J$64839),\" actions réglées en 2 mois\"),\"Une action réglée en 2 mois\"))","v":"Aucune action clôturée en 2 mois"}]
["N°","Libellé","Date enregistrement","Actions","Date objectif","Date clôture","Efficacité","Commentaires"]
[{"$f":"IF( Ecarts!$E3=$A$1,IF( Ecarts!B3=\"\",\"\",Ecarts!A3),\"\")","v":""},{"$f":"IF( Ecarts!$E3=$A$1,IF( Ecarts!C3=\"\",\"\",Ecarts!C3),\"\")","v":""},{"$f":"IF( Ecarts!$E3=$A$1, IF(Ecarts!F3=\"\",\"\",Ecarts!F3),\"\")","v":""},{"$f":"IF( Ecarts!$E3=$A$1, IF(Ecarts!I3=\"\",\"\",Ecarts!I3),\"\")","v":""},{"$f":"IF( Ecarts!$E3=$A$1, IF(Ecarts!J3=\"\",\"\",Ecarts!J3),\"\")","v":""},{"$f":"IF( Ecarts!$E3=$A$1, IF(Ecarts!K3=\"\",\"\",Ecarts!K3),\"\")","v":""},{"$f":"IF( Ecarts!$E3=$A$1, IF(Ecarts!L3=\"\",\"\",Ecarts!L3),\"\")","v":""},{"$f":"IF( Ecarts!$E3=$A$1, IF(Ecarts!M3=\"\",\"\",Ecarts!M3),\"\")","v":""},{"$f":"IF(B4=\"\",0,IF(G4=1,0,1))","v":0},{"$f":"IF(F4=\"\",0,IF(F4>(TODAY()-60),1,0))","v":0}]
[{"$f":"IF( Ecarts!$E4=$A$1,IF( Ecarts!B4=\"\",\"\",Ecarts!A4),\"\")","v":""},{"$f":"IF( Ecarts!$E4=$A$1,IF( Ecarts!C4=\"\",\"\",Ecarts!C4),\"\")","v":""},{"$f":"IF( Ecarts!$E4=$A$1, IF(Ecarts!F4=\"\",\"\",Ecarts!F4),\"\")","v":""},{"$f":"IF( Ecarts!$E4=$A$1, IF(Ecarts!I4=\"\",\"\",Ecarts!I4),\"\")","v":""},{"$f":"IF( Ecarts!$E4=$A$1, IF(Ecarts!J4=\"\",\"\",Ecarts!J4),\"\")","v":""},{"$f":"IF( Ecarts!$E4=$A$1, IF(Ecarts!K4=\"\",\"\",Ecarts!K4),\"\")","v":""},{"$f":"IF( Ecarts!$E4=$A$1, IF(Ecarts!L4=\"\",\"\",Ecarts!L4),\"\")","v":""},{"$f":"IF( Ecarts!$E4=$A$1, IF(Ecarts!M4=\"\",\"\",Ecarts!M4),\"\")","v":""},{"$f":"IF(B5=\"\",0,IF(G5=1,0,1))","v":0},{"$f":"IF(F5=\"\",0,IF(F5>(TODAY()-60),1,0))","v":0}]
[{"$f":"IF( Ecarts!$E5=$A$1,IF( Ecarts!B5=\"\",\"\",Ecarts!A5),\"\")","v":""},{"$f":"IF( Ecarts!$E5=$A$1,IF( Ecarts!C5=\"\",\"\",Ecarts!C5),\"\")","v":""},{"$f":"IF( Ecarts!$E5=$A$1, IF(Ecarts!F5=\"\",\"\",Ecarts!F5),\"\")","v":""},{"$f":"IF( Ecarts!$E5=$A$1, IF(Ecarts!I5=\"\",\"\",Ecarts!I5),\"\")","v":""},{"$f":"IF( Ecarts!$E5=$A$1, IF(Ecarts!J5=\"\",\"\",Ecarts!J5),\"\")","v":""},{"$f":"IF( Ecarts!$E5=$A$1, IF(Ecarts!K5=\"\",\"\",Ecarts!K5),\"\")","v":""},{"$f":"IF( Ecarts!$E5=$A$1, IF(Ecarts!L5=\"\",\"\",Ecarts!L5),\"\")","v":""},{"$f":"IF( Ecarts!$E5=$A$1, IF(Ecarts!M5=\"\",\"\",Ecarts!M5),\"\")","v":""},0,0]
[{"$f":"IF( Ecarts!$E6=$A$1,IF( Ecarts!B6=\"\",\"\",Ecarts!A6),\"\")","v":""},{"$f":"IF( Ecarts!$E6=$A$1,IF( Ecarts!C6=\"\",\"\",Ecarts!C6),\"\")","v":""},{"$f":"IF( Ecarts!$E6=$A$1, IF(Ecarts!F6=\"\",\"\",Ecarts!F6),\"\")","v":""},{"$f":"IF( Ecarts!$E6=$A$1, IF(Ecarts!I6=\"\",\"\",Ecarts!I6),\"\")","v":""},{"$f":"IF( Ecarts!$E6=$A$1, IF(Ecarts!J6=\"\",\"\",Ecarts!J6),\"\")","v":""},{"$f":"IF( Ecarts!$E6=$A$1, IF(Ecarts!K6=\"\",\"\",Ecarts!K6),\"\")","v":""},{"$f":"IF( Ecarts!$E6=$A$1, IF(Ecarts!L6=\"\",\"\",Ecarts!L6),\"\")","v":""},{"$f":"IF( Ecarts!$E6=$A$1, IF(Ecarts!M6=\"\",\"\",Ecarts!M6),\"\")","v":""},0,0]
[{"$f":"IF( Ecarts!$E7=$A$1,IF( Ecarts!B7=\"\",\"\",Ecarts!A7),\"\")","v":""},{"$f":"IF( Ecarts!$E7=$A$1,IF( Ecarts!C7=\"\",\"\",Ecarts!C7),\"\")","v":""},{"$f":"IF( Ecarts!$E7=$A$1, IF(Ecarts!F7=\"\",\"\",Ecarts!F7),\"\")","v":""},{"$f":"IF( Ecarts!$E7=$A$1, IF(Ecarts!I7=\"\",\"\",Ecarts!I7),\"\")","v":""},{"$f":"IF( Ecarts!$E7=$A$1, IF(Ecarts!J7=\"\",\"\",Ecarts!J7),\"\")","v":""},{"$f":"IF( Ecarts!$E7=$A$1, IF(Ecarts!K7=\"\",\"\",Ecarts!K7),\"\")","v":""},{"$f":"IF( Ecarts!$E7=$A$1, IF(Ecarts!L7=\"\",\"\",Ecarts!L7),\"\")","v":""},{"$f":"IF( Ecarts!$E7=$A$1, IF(Ecarts!M7=\"\",\"\",Ecarts!M7),\"\")","v":""},0,0]
[{"$f":"IF( Ecarts!$E8=$A$1,IF( Ecarts!B8=\"\",\"\",Ecarts!A8),\"\")","v":""},{"$f":"IF( Ecarts!$E8=$A$1,IF( Ecarts!C8=\"\",\"\",Ecarts!C8),\"\")","v":""},{"$f":"IF( Ecarts!$E8=$A$1, IF(Ecarts!F8=\"\",\"\",Ecarts!F8),\"\")","v":""},{"$f":"IF( Ecarts!$E8=$A$1, IF(Ecarts!I8=\"\",\"\",Ecarts!I8),\"\")","v":""},{"$f":"IF( Ecarts!$E8=$A$1, IF(Ecarts!J8=\"\",\"\",Ecarts!J8),\"\")","v":""},{"$f":"IF( Ecarts!$E8=$A$1, IF(Ecarts!K8=\"\",\"\",Ecarts!K8),\"\")","v":""},{"$f":"IF( Ecarts!$E8=$A$1, IF(Ecarts!L8=\"\",\"\",Ecarts!L8),\"\")","v":""},{"$f":"IF( Ecarts!$E8=$A$1, IF(Ecarts!M8=\"\",\"\",Ecarts!M8),\"\")","v":""},0,0]
[{"$f":"IF( Ecarts!$E9=$A$1,IF( Ecarts!B9=\"\",\"\",Ecarts!A9),\"\")","v":""},{"$f":"IF( Ecarts!$E9=$A$1,IF( Ecarts!C9=\"\",\"\",Ecarts!C9),\"\")","v":""},{"$f":"IF( Ecarts!$E9=$A$1, IF(Ecarts!F9=\"\",\"\",Ecarts!F9),\"\")","v":""},{"$f":"IF( Ecarts!$E9=$A$1, IF(Ecarts!I9=\"\",\"\",Ecarts!I9),\"\")","v":""},{"$f":"IF( Ecarts!$E9=$A$1, IF(Ecarts!J9=\"\",\"\",Ecarts!J9),\"\")","v":""},{"$f":"IF( Ecarts!$E9=$A$1, IF(Ecarts!K9=\"\",\"\",Ecarts!K9),\"\")","v":""},{"$f":"IF( Ecarts!$E9=$A$1, IF(Ecarts!L9=\"\",\"\",Ecarts!L9),\"\")","v":""},{"$f":"IF( Ecarts!$E9=$A$1, IF(Ecarts!M9=\"\",\"\",Ecarts!M9),\"\")","v":""},0,0]
[{"$f":"IF( Ecarts!$E10=$A$1,IF( Ecarts!B10=\"\",\"\",Ecarts!A10),\"\")","v":""},{"$f":"IF( Ecarts!$E10=$A$1,IF( Ecarts!C10=\"\",\"\",Ecarts!C10),\"\")","v":""},{"$f":"IF( Ecarts!$E10=$A$1, IF(Ecarts!F10=\"\",\"\",Ecarts!F10),\"\")","v":""},{"$f":"IF( Ecarts!$E10=$A$1, IF(Ecarts!I10=\"\",\"\",Ecarts!I10),\"\")","v":""},{"$f":"IF( Ecarts!$E10=$A$1, IF(Ecarts!J10=\"\",\"\",Ecarts!J10),\"\")","v":""},{"$f":"IF( Ecarts!$E10=$A$1, IF(Ecarts!K10=\"\",\"\",Ecarts!K10),\"\")","v":""},{"$f":"IF( Ecarts!$E10=$A$1, IF(Ecarts!L10=\"\",\"\",Ecarts!L10),\"\")","v":""},{"$f":"IF( Ecarts!$E10=$A$1, IF(Ecarts!M10=\"\",\"\",Ecarts!M10),\"\")","v":""},0,0]
[{"$f":"IF( Ecarts!$E11=$A$1,IF( Ecarts!B11=\"\",\"\",Ecarts!A11),\"\")","v":""},{"$f":"IF( Ecarts!$E11=$A$1,IF( Ecarts!C11=\"\",\"\",Ecarts!C11),\"\")","v":""},{"$f":"IF( Ecarts!$E11=$A$1, IF(Ecarts!F11=\"\",\"\",Ecarts!F11),\"\")","v":""},{"$f":"IF( Ecarts!$E11=$A$1, IF(Ecarts!I11=\"\",\"\",Ecarts!I11),\"\")","v":""},{"$f":"IF( Ecarts!$E11=$A$1, IF(Ecarts!J11=\"\",\"\",Ecarts!J11),\"\")","v":""},{"$f":"IF( Ecarts!$E11=$A$1, IF(Ecarts!K11=\"\",\"\",Ecarts!K11),\"\")","v":""},{"$f":"IF( Ecarts!$E11=$A$1, IF(Ecarts!L11=\"\",\"\",Ecarts!L11),\"\")","v":""},{"$f":"IF( Ecarts!$E11=$A$1, IF(Ecarts!M11=\"\",\"\",Ecarts!M11),\"\")","v":""},0,0]
[{"$f":"IF( Ecarts!$E12=$A$1,IF( Ecarts!B12=\"\",\"\",Ecarts!A12),\"\")","v":""},{"$f":"IF( Ecarts!$E12=$A$1,IF( Ecarts!C12=\"\",\"\",Ecarts!C12),\"\")","v":""},{"$f":"IF( Ecarts!$E12=$A$1, IF(Ecarts!F12=\"\",\"\",Ecarts!F12),\"\")","v":""},{"$f":"IF( Ecarts!$E12=$A$1, IF(Ecarts!I12=\"\",\"\",Ecarts!I12),\"\")","v":""},{"$f":"IF( Ecarts!$E12=$A$1, IF(Ecarts!J12=\"\",\"\",Ecarts!J12),\"\")","v":""},{"$f":"IF( Ecarts!$E12=$A$1, IF(Ecarts!K12=\"\",\"\",Ecarts!K12),\"\")","v":""},{"$f":"IF( Ecarts!$E12=$A$1, IF(Ecarts!L12=\"\",\"\",Ecarts!L12),\"\")","v":""},{"$f":"IF( Ecarts!$E12=$A$1, IF(Ecarts!M12=\"\",\"\",Ecarts!M12),\"\")","v":""},0,0]
[{"$f":"IF( Ecarts!$E13=$A$1,IF( Ecarts!B13=\"\",\"\",Ecarts!A13),\"\")","v":""},{"$f":"IF( Ecarts!$E13=$A$1,IF( Ecarts!C13=\"\",\"\",Ecarts!C13),\"\")","v":""},{"$f":"IF( Ecarts!$E13=$A$1, IF(Ecarts!F13=\"\",\"\",Ecarts!F13),\"\")","v":""},{"$f":"IF( Ecarts!$E13=$A$1, IF(Ecarts!I13=\"\",\"\",Ecarts!I13),\"\")","v":""},{"$f":"IF( Ecarts!$E13=$A$1, IF(Ecarts!J13=\"\",\"\",Ecarts!J13),\"\")","v":""},{"$f":"IF( Ecarts!$E13=$A$1, IF(Ecarts!K13=\"\",\"\",Ecarts!K13),\"\")","v":""},{"$f":"IF( Ecarts!$E13=$A$1, IF(Ecarts!L13=\"\",\"\",Ecarts!L13),\"\")","v":""},{"$f":"IF( Ecarts!$E13=$A$1, IF(Ecarts!M13=\"\",\"\",Ecarts!M13),\"\")","v":""},0,0]
[{"$f":"IF( Ecarts!$E14=$A$1,IF( Ecarts!B14=\"\",\"\",Ecarts!A14),\"\")","v":""},{"$f":"IF( Ecarts!$E14=$A$1,IF( Ecarts!C14=\"\",\"\",Ecarts!C14),\"\")","v":""},{"$f":"IF( Ecarts!$E14=$A$1, IF(Ecarts!F14=\"\",\"\",Ecarts!F14),\"\")","v":""},{"$f":"IF( Ecarts!$E14=$A$1, IF(Ecarts!I14=\"\",\"\",Ecarts!I14),\"\")","v":""},{"$f":"IF( Ecarts!$E14=$A$1, IF(Ecarts!J14=\"\",\"\",Ecarts!J14),\"\")","v":""},{"$f":"IF( Ecarts!$E14=$A$1, IF(Ecarts!K14=\"\",\"\",Ecarts!K14),\"\")","v":""},{"$f":"IF( Ecarts!$E14=$A$1, IF(Ecarts!L14=\"\",\"\",Ecarts!L14),\"\")","v":""},{"$f":"IF( Ecarts!$E14=$A$1, IF(Ecarts!M14=\"\",\"\",Ecarts!M14),\"\")","v":""},0,0]
[{"$f":"IF( Ecarts!$E15=$A$1,IF( Ecarts!B15=\"\",\"\",Ecarts!A15),\"\")","v":""},{"$f":"IF( Ecarts!$E15=$A$1,IF( Ecarts!C15=\"\",\"\",Ecarts!C15),\"\")","v":""},{"$f":"IF( Ecarts!$E15=$A$1, IF(Ecarts!F15=\"\",\"\",Ecarts!F15),\"\")","v":""},{"$f":"IF( Ecarts!$E15=$A$1, IF(Ecarts!I15=\"\",\"\",Ecarts!I15),\"\")","v":""},{"$f":"IF( Ecarts!$E15=$A$1, IF(Ecarts!J15=\"\",\"\",Ecarts!J15),\"\")","v":""},{"$f":"IF( Ecarts!$E15=$A$1, IF(Ecarts!K15=\"\",\"\",Ecarts!K15),\"\")","v":""},{"$f":"IF( Ecarts!$E15=$A$1, IF(Ecarts!L15=\"\",\"\",Ecarts!L15),\"\")","v":""},{"$f":"IF( Ecarts!$E15=$A$1, IF(Ecarts!M15=\"\",\"\",Ecarts!M15),\"\")","v":""},0,0]
[{"$f":"IF( Ecarts!$E16=$A$1,IF( Ecarts!B16=\"\",\"\",Ecarts!A16),\"\")","v":""},{"$f":"IF( Ecarts!$E16=$A$1,IF( Ecarts!C16=\"\",\"\",Ecarts!C16),\"\")","v":""},{"$f":"IF( Ecarts!$E16=$A$1, IF(Ecarts!F16=\"\",\"\",Ecarts!F16),\"\")","v":""},{"$f":"IF( Ecarts!$E16=$A$1, IF(Ecarts!I16=\"\",\"\",Ecarts!I16),\"\")","v":""},{"$f":"IF( Ecarts!$E16=$A$1, IF(Ecarts!J16=\"\",\"\",Ecarts!J16),\"\")","v":""},{"$f":"IF( Ecarts!$E16=$A$1, IF(Ecarts!K16=\"\",\"\",Ecarts!K16),\"\")","v":""},{"$f":"IF( Ecarts!$E16=$A$1, IF(Ecarts!L16=\"\",\"\",Ecarts!L16),\"\")","v":""},{"$f":"IF( Ecarts!$E16=$A$1, IF(Ecarts!M16=\"\",\"\",Ecarts!M16),\"\")","v":""},0,0]
[{"$f":"IF( Ecarts!$E17=$A$1,IF( Ecarts!B17=\"\",\"\",Ecarts!A17),\"\")","v":""},{"$f":"IF( Ecarts!$E17=$A$1,IF( Ecarts!C17=\"\",\"\",Ecarts!C17),\"\")","v":""},{"$f":"IF( Ecarts!$E17=$A$1, IF(Ecarts!F17=\"\",\"\",Ecarts!F17),\"\")","v":""},{"$f":"IF( Ecarts!$E17=$A$1, IF(Ecarts!I17=\"\",\"\",Ecarts!I17),\"\")","v":""},{"$f":"IF( Ecarts!$E17=$A$1, IF(Ecarts!J17=\"\",\"\",Ecarts!J17),\"\")","v":""},{"$f":"IF( Ecarts!$E17=$A$1, IF(Ecarts!K17=\"\",\"\",Ecarts!K17),\"\")","v":""},{"$f":"IF( Ecarts!$E17=$A$1, IF(Ecarts!L17=\"\",\"\",Ecarts!L17),\"\")","v":""},{"$f":"IF( Ecarts!$E17=$A$1, IF(Ecarts!M17=\"\",\"\",Ecarts!M17),\"\")","v":""},0,0]
[{"$f":"IF( Ecarts!$E18=$A$1,IF( Ecarts!B18=\"\",\"\",Ecarts!A18),\"\")","v":""},{"$f":"IF( Ecarts!$E18=$A$1,IF( Ecarts!C18=\"\",\"\",Ecarts!C18),\"\")","v":""},{"$f":"IF( Ecarts!$E18=$A$1, IF(Ecarts!F18=\"\",\"\",Ecarts!F18),\"\")","v":""},{"$f":"IF( Ecarts!$E18=$A$1, IF(Ecarts!I18=\"\",\"\",Ecarts!I18),\"\")","v":""},{"$f":"IF( Ecarts!$E18=$A$1, IF(Ecarts!J18=\"\",\"\",Ecarts!J18),\"\")","v":""},{"$f":"IF( Ecarts!$E18=$A$1, IF(Ecarts!K18=\"\",\"\",Ecarts!K18),\"\")","v":""},{"$f":"IF( Ecarts!$E18=$A$1, IF(Ecarts!L18=\"\",\"\",Ecarts!L18),\"\")","v":""},{"$f":"IF( Ecarts!$E18=$A$1, IF(Ecarts!M18=\"\",\"\",Ecarts!M18),\"\")","v":""},0,0]
[{"$f":"IF( Ecarts!$E19=$A$1,IF( Ecarts!B19=\"\",\"\",Ecarts!A19),\"\")","v":""},{"$f":"IF( Ecarts!$E19=$A$1,IF( Ecarts!C19=\"\",\"\",Ecarts!C19),\"\")","v":""},{"$f":"IF( Ecarts!$E19=$A$1, IF(Ecarts!F19=\"\",\"\",Ecarts!F19),\"\")","v":""},{"$f":"IF( Ecarts!$E19=$A$1, IF(Ecarts!I19=\"\",\"\",Ecarts!I19),\"\")","v":""},{"$f":"IF( Ecarts!$E19=$A$1, IF(Ecarts!J19=\"\",\"\",Ecarts!J19),\"\")","v":""},{"$f":"IF( Ecarts!$E19=$A$1, IF(Ecarts!K19=\"\",\"\",Ecarts!K19),\"\")","v":""},{"$f":"IF( Ecarts!$E19=$A$1, IF(Ecarts!L19=\"\",\"\",Ecarts!L19),\"\")","v":""},{"$f":"IF( Ecarts!$E19=$A$1, IF(Ecarts!M19=\"\",\"\",Ecarts!M19),\"\")","v":""},0,0]
[{"$f":"IF( Ecarts!$E20=$A$1,IF( Ecarts!B20=\"\",\"\",Ecarts!A20),\"\")","v":""},{"$f":"IF( Ecarts!$E20=$A$1,IF( Ecarts!C20=\"\",\"\",Ecarts!C20),\"\")","v":""},{"$f":"IF( Ecarts!$E20=$A$1, IF(Ecarts!F20=\"\",\"\",Ecarts!F20),\"\")","v":""},{"$f":"IF( Ecarts!$E20=$A$1, IF(Ecarts!I20=\"\",\"\",Ecarts!I20),\"\")","v":""},{"$f":"IF( Ecarts!$E20=$A$1, IF(Ecarts!J20=\"\",\"\",Ecarts!J20),\"\")","v":""},{"$f":"IF( Ecarts!$E20=$A$1, IF(Ecarts!K20=\"\",\"\",Ecarts!K20),\"\")","v":""},{"$f":"IF( Ecarts!$E20=$A$1, IF(Ecarts!L20=\"\",\"\",Ecarts!L20),\"\")","v":""},{"$f":"IF( Ecarts!$E20=$A$1, IF(Ecarts!M20=\"\",\"\",Ecarts!M20),\"\")","v":""},0,0]
[{"$f":"IF( Ecarts!$E21=$A$1,IF( Ecarts!B21=\"\",\"\",Ecarts!A21),\"\")","v":""},{"$f":"IF( Ecarts!$E21=$A$1,IF( Ecarts!C21=\"\",\"\",Ecarts!C21),\"\")","v":""},{"$f":"IF( Ecarts!$E21=$A$1, IF(Ecarts!F21=\"\",\"\",Ecarts!F21),\"\")","v":""},{"$f":"IF( Ecarts!$E21=$A$1, IF(Ecarts!I21=\"\",\"\",Ecarts!I21),\"\")","v":""},{"$f":"IF( Ecarts!$E21=$A$1, IF(Ecarts!J21=\"\",\"\",Ecarts!J21),\"\")","v":""},{"$f":"IF( Ecarts!$E21=$A$1, IF(Ecarts!K21=\"\",\"\",Ecarts!K21),\"\")","v":""},{"$f":"IF( Ecarts!$E21=$A$1, IF(Ecarts!L21=\"\",\"\",Ecarts!L21),\"\")","v":""},{"$f":"IF( Ecarts!$E21=$A$1, IF(Ecarts!M21=\"\",\"\",Ecarts!M21),\"\")","v":""},0,0]
[{"$f":"IF( Ecarts!$E22=$A$1,IF( Ecarts!B22=\"\",\"\",Ecarts!A22),\"\")","v":""},{"$f":"IF( Ecarts!$E22=$A$1,IF( Ecarts!C22=\"\",\"\",Ecarts!C22),\"\")","v":""},{"$f":"IF( Ecarts!$E22=$A$1, IF(Ecarts!F22=\"\",\"\",Ecarts!F22),\"\")","v":""},{"$f":"IF( Ecarts!$E22=$A$1, IF(Ecarts!I22=\"\",\"\",Ecarts!I22),\"\")","v":""},{"$f":"IF( Ecarts!$E22=$A$1, IF(Ecarts!J22=\"\",\"\",Ecarts!J22),\"\")","v":""},{"$f":"IF( Ecarts!$E22=$A$1, IF(Ecarts!K22=\"\",\"\",Ecarts!K22),\"\")","v":""},{"$f":"IF( Ecarts!$E22=$A$1, IF(Ecarts!L22=\"\",\"\",Ecarts!L22),\"\")","v":""},{"$f":"IF( Ecarts!$E22=$A$1, IF(Ecarts!M22=\"\",\"\",Ecarts!M22),\"\")","v":""},0,0]
[{"$f":"IF( Ecarts!$E23=$A$1,IF( Ecarts!B23=\"\",\"\",Ecarts!A23),\"\")","v":""},{"$f":"IF( Ecarts!$E23=$A$1,IF( Ecarts!C23=\"\",\"\",Ecarts!C23),\"\")","v":""},{"$f":"IF( Ecarts!$E23=$A$1, IF(Ecarts!F23=\"\",\"\",Ecarts!F23),\"\")","v":""},{"$f":"IF( Ecarts!$E23=$A$1, IF(Ecarts!I23=\"\",\"\",Ecarts!I23),\"\")","v":""},{"$f":"IF( Ecarts!$E23=$A$1, IF(Ecarts!J23=\"\",\"\",Ecarts!J23),\"\")","v":""},{"$f":"IF( Ecarts!$E23=$A$1, IF(Ecarts!K23=\"\",\"\",Ecarts!K23),\"\")","v":""},{"$f":"IF( Ecarts!$E23=$A$1, IF(Ecarts!L23=\"\",\"\",Ecarts!L23),\"\")","v":""},{"$f":"IF( Ecarts!$E23=$A$1, IF(Ecarts!M23=\"\",\"\",Ecarts!M23),\"\")","v":""},0,0]
[{"$f":"IF( Ecarts!$E24=$A$1,IF( Ecarts!B24=\"\",\"\",Ecarts!A24),\"\")","v":""},{"$f":"IF( Ecarts!$E24=$A$1,IF( Ecarts!C24=\"\",\"\",Ecarts!C24),\"\")","v":""},{"$f":"IF( Ecarts!$E24=$A$1, IF(Ecarts!F24=\"\",\"\",Ecarts!F24),\"\")","v":""},{"$f":"IF( Ecarts!$E24=$A$1, IF(Ecarts!I24=\"\",\"\",Ecarts!I24),\"\")","v":""},{"$f":"IF( Ecarts!$E24=$A$1, IF(Ecarts!J24=\"\",\"\",Ecarts!J24),\"\")","v":""},{"$f":"IF( Ecarts!$E24=$A$1, IF(Ecarts!K24=\"\",\"\",Ecarts!K24),\"\")","v":""},{"$f":"IF( Ecarts!$E24=$A$1, IF(Ecarts!L24=\"\",\"\",Ecarts!L24),\"\")","v":""},{"$f":"IF( Ecarts!$E24=$A$1, IF(Ecarts!M24=\"\",\"\",Ecarts!M24),\"\")","v":""},0,0]
[{"$f":"IF( Ecarts!$E25=$A$1,IF( Ecarts!B25=\"\",\"\",Ecarts!A25),\"\")","v":""},{"$f":"IF( Ecarts!$E25=$A$1,IF( Ecarts!C25=\"\",\"\",Ecarts!C25),\"\")","v":""},{"$f":"IF( Ecarts!$E25=$A$1, IF(Ecarts!F25=\"\",\"\",Ecarts!F25),\"\")","v":""},{"$f":"IF( Ecarts!$E25=$A$1, IF(Ecarts!I25=\"\",\"\",Ecarts!I25),\"\")","v":""},{"$f":"IF( Ecarts!$E25=$A$1, IF(Ecarts!J25=\"\",\"\",Ecarts!J25),\"\")","v":""},{"$f":"IF( Ecarts!$E25=$A$1, IF(Ecarts!K25=\"\",\"\",Ecarts!K25),\"\")","v":""},{"$f":"IF( Ecarts!$E25=$A$1, IF(Ecarts!L25=\"\",\"\",Ecarts!L25),\"\")","v":""},{"$f":"IF( Ecarts!$E25=$A$1, IF(Ecarts!M25=\"\",\"\",Ecarts!M25),\"\")","v":""},0,0]
[{"$f":"IF( Ecarts!$E26=$A$1,IF( Ecarts!B26=\"\",\"\",Ecarts!A26),\"\")","v":""},{"$f":"IF( Ecarts!$E26=$A$1,IF( Ecarts!C26=\"\",\"\",Ecarts!C26),\"\")","v":""},{"$f":"IF( Ecarts!$E26=$A$1, IF(Ecarts!F26=\"\",\"\",Ecarts!F26),\"\")","v":""},{"$f":"IF( Ecarts!$E26=$A$1, IF(Ecarts!I26=\"\",\"\",Ecarts!I26),\"\")","v":""},{"$f":"IF( Ecarts!$E26=$A$1, IF(Ecarts!J26=\"\",\"\",Ecarts!J26),\"\")","v":""},{"$f":"IF( Ecarts!$E26=$A$1, IF(Ecarts!K26=\"\",\"\",Ecarts!K26),\"\")","v":""},{"$f":"IF( Ecarts!$E26=$A$1, IF(Ecarts!L26=\"\",\"\",Ecarts!L26),\"\")","v":""},{"$f":"IF( Ecarts!$E26=$A$1, IF(Ecarts!M26=\"\",\"\",Ecarts!M26),\"\")","v":""},0,0]
[{"$f":"IF( Ecarts!$E27=$A$1,IF( Ecarts!B27=\"\",\"\",Ecarts!A27),\"\")","v":""},{"$f":"IF( Ecarts!$E27=$A$1,IF( Ecarts!C27=\"\",\"\",Ecarts!C27),\"\")","v":""},{"$f":"IF( Ecarts!$E27=$A$1, IF(Ecarts!F27=\"\",\"\",Ecarts!F27),\"\")","v":""},{"$f":"IF( Ecarts!$E27=$A$1, IF(Ecarts!I27=\"\",\"\",Ecarts!I27),\"\")","v":""},{"$f":"IF( Ecarts!$E27=$A$1, IF(Ecarts!J27=\"\",\"\",Ecarts!J27),\"\")","v":""},{"$f":"IF( Ecarts!$E27=$A$1, IF(Ecarts!K27=\"\",\"\",Ecarts!K27),\"\")","v":""},{"$f":"IF( Ecarts!$E27=$A$1, IF(Ecarts!L27=\"\",\"\",Ecarts!L27),\"\")","v":""},{"$f":"IF( Ecarts!$E27=$A$1, IF(Ecarts!M27=\"\",\"\",Ecarts!M27),\"\")","v":""},0,0]
[{"$f":"IF( Ecarts!$E28=$A$1,IF( Ecarts!B28=\"\",\"\",Ecarts!A28),\"\")","v":""},{"$f":"IF( Ecarts!$E28=$A$1,IF( Ecarts!C28=\"\",\"\",Ecarts!C28),\"\")","v":""},{"$f":"IF( Ecarts!$E28=$A$1, IF(Ecarts!F28=\"\",\"\",Ecarts!F28),\"\")","v":""},{"$f":"IF( Ecarts!$E28=$A$1, IF(Ecarts!I28=\"\",\"\",Ecarts!I28),\"\")","v":""},{"$f":"IF( Ecarts!$E28=$A$1, IF(Ecarts!J28=\"\",\"\",Ecarts!J28),\"\")","v":""},{"$f":"IF( Ecarts!$E28=$A$1, IF(Ecarts!K28=\"\",\"\",Ecarts!K28),\"\")","v":""},{"$f":"IF( Ecarts!$E28=$A$1, IF(Ecarts!L28=\"\",\"\",Ecarts!L28),\"\")","v":""},{"$f":"IF( Ecarts!$E28=$A$1, IF(Ecarts!M28=\"\",\"\",Ecarts!M28),\"\")","v":""},0,0]
[{"$f":"IF( Ecarts!$E29=$A$1,IF( Ecarts!B29=\"\",\"\",Ecarts!A29),\"\")","v":""},{"$f":"IF( Ecarts!$E29=$A$1,IF( Ecarts!C29=\"\",\"\",Ecarts!C29),\"\")","v":""},{"$f":"IF( Ecarts!$E29=$A$1, IF(Ecarts!F29=\"\",\"\",Ecarts!F29),\"\")","v":""},{"$f":"IF( Ecarts!$E29=$A$1, IF(Ecarts!I29=\"\",\"\",Ecarts!I29),\"\")","v":""},{"$f":"IF( Ecarts!$E29=$A$1, IF(Ecarts!J29=\"\",\"\",Ecarts!J29),\"\")","v":""},{"$f":"IF( Ecarts!$E29=$A$1, IF(Ecarts!K29=\"\",\"\",Ecarts!K29),\"\")","v":""},{"$f":"IF( Ecarts!$E29=$A$1, IF(Ecarts!L29=\"\",\"\",Ecarts!L29),\"\")","v":""},{"$f":"IF( Ecarts!$E29=$A$1, IF(Ecarts!M29=\"\",\"\",Ecarts!M29),\"\")","v":""},0,0]
[{"$f":"IF( Ecarts!$E30=$A$1,IF( Ecarts!B30=\"\",\"\",Ecarts!A30),\"\")","v":""},{"$f":"IF( Ecarts!$E30=$A$1,IF( Ecarts!C30=\"\",\"\",Ecarts!C30),\"\")","v":""},{"$f":"IF( Ecarts!$E30=$A$1, IF(Ecarts!F30=\"\",\"\",Ecarts!F30),\"\")","v":""},{"$f":"IF( Ecarts!$E30=$A$1, IF(Ecarts!I30=\"\",\"\",Ecarts!I30),\"\")","v":""},{"$f":"IF( Ecarts!$E30=$A$1, IF(Ecarts!J30=\"\",\"\",Ecarts!J30),\"\")","v":""},{"$f":"IF( Ecarts!$E30=$A$1, IF(Ecarts!K30=\"\",\"\",Ecarts!K30),\"\")","v":""},{"$f":"IF( Ecarts!$E30=$A$1, IF(Ecarts!L30=\"\",\"\",Ecarts!L30),\"\")","v":""},{"$f":"IF( Ecarts!$E30=$A$1, IF(Ecarts!M30=\"\",\"\",Ecarts!M30),\"\")","v":""},0,0]
[{"$f":"IF( Ecarts!$E31=$A$1,IF( Ecarts!B31=\"\",\"\",Ecarts!A31),\"\")","v":""},{"$f":"IF( Ecarts!$E31=$A$1,IF( Ecarts!C31=\"\",\"\",Ecarts!C31),\"\")","v":""},{"$f":"IF( Ecarts!$E31=$A$1, IF(Ecarts!F31=\"\",\"\",Ecarts!F31),\"\")","v":""},{"$f":"IF( Ecarts!$E31=$A$1, IF(Ecarts!I31=\"\",\"\",Ecarts!I31),\"\")","v":""},{"$f":"IF( Ecarts!$E31=$A$1, IF(Ecarts!J31=\"\",\"\",Ecarts!J31),\"\")","v":""},{"$f":"IF( Ecarts!$E31=$A$1, IF(Ecarts!K31=\"\",\"\",Ecarts!K31),\"\")","v":""},{"$f":"IF( Ecarts!$E31=$A$1, IF(Ecarts!L31=\"\",\"\",Ecarts!L31),\"\")","v":""},{"$f":"IF( Ecarts!$E31=$A$1, IF(Ecarts!M31=\"\",\"\",Ecarts!M31),\"\")","v":""},0,0]
[{"$f":"IF( Ecarts!$E32=$A$1,IF( Ecarts!B32=\"\",\"\",Ecarts!A32),\"\")","v":""},{"$f":"IF( Ecarts!$E32=$A$1,IF( Ecarts!C32=\"\",\"\",Ecarts!C32),\"\")","v":""},{"$f":"IF( Ecarts!$E32=$A$1, IF(Ecarts!F32=\"\",\"\",Ecarts!F32),\"\")","v":""},{"$f":"IF( Ecarts!$E32=$A$1, IF(Ecarts!I32=\"\",\"\",Ecarts!I32),\"\")","v":""},{"$f":"IF( Ecarts!$E32=$A$1, IF(Ecarts!J32=\"\",\"\",Ecarts!J32),\"\")","v":""},{"$f":"IF( Ecarts!$E32=$A$1, IF(Ecarts!K32=\"\",\"\",Ecarts!K32),\"\")","v":""},{"$f":"IF( Ecarts!$E32=$A$1, IF(Ecarts!L32=\"\",\"\",Ecarts!L32),\"\")","v":""},{"$f":"IF( Ecarts!$E32=$A$1, IF(Ecarts!M32=\"\",\"\",Ecarts!M32),\"\")","v":""},0,0]
[{"$f":"IF( Ecarts!$E33=$A$1,IF( Ecarts!B33=\"\",\"\",Ecarts!A33),\"\")","v":""},{"$f":"IF( Ecarts!$E33=$A$1,IF( Ecarts!C33=\"\",\"\",Ecarts!C33),\"\")","v":""},{"$f":"IF( Ecarts!$E33=$A$1, IF(Ecarts!F33=\"\",\"\",Ecarts!F33),\"\")","v":""},{"$f":"IF( Ecarts!$E33=$A$1, IF(Ecarts!I33=\"\",\"\",Ecarts!I33),\"\")","v":""},{"$f":"IF( Ecarts!$E33=$A$1, IF(Ecarts!J33=\"\",\"\",Ecarts!J33),\"\")","v":""},{"$f":"IF( Ecarts!$E33=$A$1, IF(Ecarts!K33=\"\",\"\",Ecarts!K33),\"\")","v":""},{"$f":"IF( Ecarts!$E33=$A$1, IF(Ecarts!L33=\"\",\"\",Ecarts!L33),\"\")","v":""},{"$f":"IF( Ecarts!$E33=$A$1, IF(Ecarts!M33=\"\",\"\",Ecarts!M33),\"\")","v":""},0,0]
[{"$f":"IF( Ecarts!$E34=$A$1,IF( Ecarts!B34=\"\",\"\",Ecarts!A34),\"\")","v":""},{"$f":"IF( Ecarts!$E34=$A$1,IF( Ecarts!C34=\"\",\"\",Ecarts!C34),\"\")","v":""},{"$f":"IF( Ecarts!$E34=$A$1, IF(Ecarts!F34=\"\",\"\",Ecarts!F34),\"\")","v":""},{"$f":"IF( Ecarts!$E34=$A$1, IF(Ecarts!I34=\"\",\"\",Ecarts!I34),\"\")","v":""},{"$f":"IF( Ecarts!$E34=$A$1, IF(Ecarts!J34=\"\",\"\",Ecarts!J34),\"\")","v":""},{"$f":"IF( Ecarts!$E34=$A$1, IF(Ecarts!K34=\"\",\"\",Ecarts!K34),\"\")","v":""},{"$f":"IF( Ecarts!$E34=$A$1, IF(Ecarts!L34=\"\",\"\",Ecarts!L34),\"\")","v":""},{"$f":"IF( Ecarts!$E34=$A$1, IF(Ecarts!M34=\"\",\"\",Ecarts!M34),\"\")","v":""},0,0]
[{"$f":"IF( Ecarts!$E35=$A$1,IF( Ecarts!B35=\"\",\"\",Ecarts!A35),\"\")","v":""},{"$f":"IF( Ecarts!$E35=$A$1,IF( Ecarts!C35=\"\",\"\",Ecarts!C35),\"\")","v":""},{"$f":"IF( Ecarts!$E35=$A$1, IF(Ecarts!F35=\"\",\"\",Ecarts!F35),\"\")","v":""},{"$f":"IF( Ecarts!$E35=$A$1, IF(Ecarts!I35=\"\",\"\",Ecarts!I35),\"\")","v":""},{"$f":"IF( Ecarts!$E35=$A$1, IF(Ecarts!J35=\"\",\"\",Ecarts!J35),\"\")","v":""},{"$f":"IF( Ecarts!$E35=$A$1, IF(Ecarts!K35=\"\",\"\",Ecarts!K35),\"\")","v":""},{"$f":"IF( Ecarts!$E35=$A$1, IF(Ecarts!L35=\"\",\"\",Ecarts!L35),\"\")","v":""},{"$f":"IF( Ecarts!$E35=$A$1, IF(Ecarts!M35=\"\",\"\",Ecarts!M35),\"\")","v":""},0,0]
[{"$f":"IF( Ecarts!$E36=$A$1,IF( Ecarts!B36=\"\",\"\",Ecarts!A36),\"\")","v":""},{"$f":"IF( Ecarts!$E36=$A$1,IF( Ecarts!C36=\"\",\"\",Ecarts!C36),\"\")","v":""},{"$f":"IF( Ecarts!$E36=$A$1, IF(Ecarts!F36=\"\",\"\",Ecarts!F36),\"\")","v":""},{"$f":"IF( Ecarts!$E36=$A$1, IF(Ecarts!I36=\"\",\"\",Ecarts!I36),\"\")","v":""},{"$f":"IF( Ecarts!$E36=$A$1, IF(Ecarts!J36=\"\",\"\",Ecarts!J36),\"\")","v":""},{"$f":"IF( Ecarts!$E36=$A$1, IF(Ecarts!K36=\"\",\"\",Ecarts!K36),\"\")","v":""},{"$f":"IF( Ecarts!$E36=$A$1, IF(Ecarts!L36=\"\",\"\",Ecarts!L36),\"\")","v":""},{"$f":"IF( Ecarts!$E36=$A$1, IF(Ecarts!M36=\"\",\"\",Ecarts!M36),\"\")","v":""},0,0]
[{"$f":"IF( Ecarts!$E37=$A$1,IF( Ecarts!B37=\"\",\"\",Ecarts!A37),\"\")","v":""},{"$f":"IF( Ecarts!$E37=$A$1,IF( Ecarts!C37=\"\",\"\",Ecarts!C37),\"\")","v":""},{"$f":"IF( Ecarts!$E37=$A$1, IF(Ecarts!F37=\"\",\"\",Ecarts!F37),\"\")","v":""},{"$f":"IF( Ecarts!$E37=$A$1, IF(Ecarts!I37=\"\",\"\",Ecarts!I37),\"\")","v":""},{"$f":"IF( Ecarts!$E37=$A$1, IF(Ecarts!J37=\"\",\"\",Ecarts!J37),\"\")","v":""},{"$f":"IF( Ecarts!$E37=$A$1, IF(Ecarts!K37=\"\",\"\",Ecarts!K37),\"\")","v":""},{"$f":"IF( Ecarts!$E37=$A$1, IF(Ecarts!L37=\"\",\"\",Ecarts!L37),\"\")","v":""},{"$f":"IF( Ecarts!$E37=$A$1, IF(Ecarts!M37=\"\",\"\",Ecarts!M37),\"\")","v":""},0,0]
[{"$f":"IF( Ecarts!$E38=$A$1,IF( Ecarts!B38=\"\",\"\",Ecarts!A38),\"\")","v":""},{"$f":"IF( Ecarts!$E38=$A$1,IF( Ecarts!C38=\"\",\"\",Ecarts!C38),\"\")","v":""},{"$f":"IF( Ecarts!$E38=$A$1, IF(Ecarts!F38=\"\",\"\",Ecarts!F38),\"\")","v":""},{"$f":"IF( Ecarts!$E38=$A$1, IF(Ecarts!I38=\"\",\"\",Ecarts!I38),\"\")","v":""},{"$f":"IF( Ecarts!$E38=$A$1, IF(Ecarts!J38=\"\",\"\",Ecarts!J38),\"\")","v":""},{"$f":"IF( Ecarts!$E38=$A$1, IF(Ecarts!K38=\"\",\"\",Ecarts!K38),\"\")","v":""},{"$f":"IF( Ecarts!$E38=$A$1, IF(Ecarts!L38=\"\",\"\",Ecarts!L38),\"\")","v":""},{"$f":"IF( Ecarts!$E38=$A$1, IF(Ecarts!M38=\"\",\"\",Ecarts!M38),\"\")","v":""},0,0]
[{"$f":"IF( Ecarts!$E39=$A$1,IF( Ecarts!B39=\"\",\"\",Ecarts!A39),\"\")","v":""},{"$f":"IF( Ecarts!$E39=$A$1,IF( Ecarts!C39=\"\",\"\",Ecarts!C39),\"\")","v":""},{"$f":"IF( Ecarts!$E39=$A$1, IF(Ecarts!F39=\"\",\"\",Ecarts!F39),\"\")","v":""},{"$f":"IF( Ecarts!$E39=$A$1, IF(Ecarts!I39=\"\",\"\",Ecarts!I39),\"\")","v":""},{"$f":"IF( Ecarts!$E39=$A$1, IF(Ecarts!J39=\"\",\"\",Ecarts!J39),\"\")","v":""},{"$f":"IF( Ecarts!$E39=$A$1, IF(Ecarts!K39=\"\",\"\",Ecarts!K39),\"\")","v":""},{"$f":"IF( Ecarts!$E39=$A$1, IF(Ecarts!L39=\"\",\"\",Ecarts!L39),\"\")","v":""},{"$f":"IF( Ecarts!$E39=$A$1, IF(Ecarts!M39=\"\",\"\",Ecarts!M39),\"\")","v":""},0,0]
[{"$f":"IF( Ecarts!$E40=$A$1,IF( Ecarts!B40=\"\",\"\",Ecarts!A40),\"\")","v":""},{"$f":"IF( Ecarts!$E40=$A$1,IF( Ecarts!C40=\"\",\"\",Ecarts!C40),\"\")","v":""},{"$f":"IF( Ecarts!$E40=$A$1, IF(Ecarts!F40=\"\",\"\",Ecarts!F40),\"\")","v":""},{"$f":"IF( Ecarts!$E40=$A$1, IF(Ecarts!I40=\"\",\"\",Ecarts!I40),\"\")","v":""},{"$f":"IF( Ecarts!$E40=$A$1, IF(Ecarts!J40=\"\",\"\",Ecarts!J40),\"\")","v":""},{"$f":"IF( Ecarts!$E40=$A$1, IF(Ecarts!K40=\"\",\"\",Ecarts!K40),\"\")","v":""},{"$f":"IF( Ecarts!$E40=$A$1, IF(Ecarts!L40=\"\",\"\",Ecarts!L40),\"\")","v":""},{"$f":"IF( Ecarts!$E40=$A$1, IF(Ecarts!M40=\"\",\"\",Ecarts!M40),\"\")","v":""},0,0]
[{"$f":"IF( Ecarts!$E41=$A$1,IF( Ecarts!B41=\"\",\"\",Ecarts!A41),\"\")","v":""},{"$f":"IF( Ecarts!$E41=$A$1,IF( Ecarts!C41=\"\",\"\",Ecarts!C41),\"\")","v":""},{"$f":"IF( Ecarts!$E41=$A$1, IF(Ecarts!F41=\"\",\"\",Ecarts!F41),\"\")","v":""},{"$f":"IF( Ecarts!$E41=$A$1, IF(Ecarts!I41=\"\",\"\",Ecarts!I41),\"\")","v":""},{"$f":"IF( Ecarts!$E41=$A$1, IF(Ecarts!J41=\"\",\"\",Ecarts!J41),\"\")","v":""},{"$f":"IF( Ecarts!$E41=$A$1, IF(Ecarts!K41=\"\",\"\",Ecarts!K41),\"\")","v":""},{"$f":"IF( Ecarts!$E41=$A$1, IF(Ecarts!L41=\"\",\"\",Ecarts!L41),\"\")","v":""},{"$f":"IF( Ecarts!$E41=$A$1, IF(Ecarts!M41=\"\",\"\",Ecarts!M41),\"\")","v":""},0,0]
[{"$f":"IF( Ecarts!$E42=$A$1,IF( Ecarts!B42=\"\",\"\",Ecarts!A42),\"\")","v":""},{"$f":"IF( Ecarts!$E42=$A$1,IF( Ecarts!C42=\"\",\"\",Ecarts!C42),\"\")","v":""},{"$f":"IF( Ecarts!$E42=$A$1, IF(Ecarts!F42=\"\",\"\",Ecarts!F42),\"\")","v":""},{"$f":"IF( Ecarts!$E42=$A$1, IF(Ecarts!I42=\"\",\"\",Ecarts!I42),\"\")","v":""},{"$f":"IF( Ecarts!$E42=$A$1, IF(Ecarts!J42=\"\",\"\",Ecarts!J42),\"\")","v":""},{"$f":"IF( Ecarts!$E42=$A$1, IF(Ecarts!K42=\"\",\"\",Ecarts!K42),\"\")","v":""},{"$f":"IF( Ecarts!$E42=$A$1, IF(Ecarts!L42=\"\",\"\",Ecarts!L42),\"\")","v":""},{"$f":"IF( Ecarts!$E42=$A$1, IF(Ecarts!M42=\"\",\"\",Ecarts!M42),\"\")","v":""},0,0]
[{"$f":"IF( Ecarts!$E43=$A$1,IF( Ecarts!B43=\"\",\"\",Ecarts!A43),\"\")","v":""},{"$f":"IF( Ecarts!$E43=$A$1,IF( Ecarts!C43=\"\",\"\",Ecarts!C43),\"\")","v":""},{"$f":"IF( Ecarts!$E43=$A$1, IF(Ecarts!F43=\"\",\"\",Ecarts!F43),\"\")","v":""},{"$f":"IF( Ecarts!$E43=$A$1, IF(Ecarts!I43=\"\",\"\",Ecarts!I43),\"\")","v":""},{"$f":"IF( Ecarts!$E43=$A$1, IF(Ecarts!J43=\"\",\"\",Ecarts!J43),\"\")","v":""},{"$f":"IF( Ecarts!$E43=$A$1, IF(Ecarts!K43=\"\",\"\",Ecarts!K43),\"\")","v":""},{"$f":"IF( Ecarts!$E43=$A$1, IF(Ecarts!L43=\"\",\"\",Ecarts!L43),\"\")","v":""},{"$f":"IF( Ecarts!$E43=$A$1, IF(Ecarts!M43=\"\",\"\",Ecarts!M43),\"\")","v":""},0,0]
[{"$f":"IF( Ecarts!$E44=$A$1,IF( Ecarts!B44=\"\",\"\",Ecarts!A44),\"\")","v":""},{"$f":"IF( Ecarts!$E44=$A$1,IF( Ecarts!C44=\"\",\"\",Ecarts!C44),\"\")","v":""},{"$f":"IF( Ecarts!$E44=$A$1, IF(Ecarts!F44=\"\",\"\",Ecarts!F44),\"\")","v":""},{"$f":"IF( Ecarts!$E44=$A$1, IF(Ecarts!I44=\"\",\"\",Ecarts!I44),\"\")","v":""},{"$f":"IF( Ecarts!$E44=$A$1, IF(Ecarts!J44=\"\",\"\",Ecarts!J44),\"\")","v":""},{"$f":"IF( Ecarts!$E44=$A$1, IF(Ecarts!K44=\"\",\"\",Ecarts!K44),\"\")","v":""},{"$f":"IF( Ecarts!$E44=$A$1, IF(Ecarts!L44=\"\",\"\",Ecarts!L44),\"\")","v":""},{"$f":"IF( Ecarts!$E44=$A$1, IF(Ecarts!M44=\"\",\"\",Ecarts!M44),\"\")","v":""},0,0]
[{"$f":"IF( Ecarts!$E45=$A$1,IF( Ecarts!B45=\"\",\"\",Ecarts!A45),\"\")","v":""},{"$f":"IF( Ecarts!$E45=$A$1,IF( Ecarts!C45=\"\",\"\",Ecarts!C45),\"\")","v":""},{"$f":"IF( Ecarts!$E45=$A$1, IF(Ecarts!F45=\"\",\"\",Ecarts!F45),\"\")","v":""},{"$f":"IF( Ecarts!$E45=$A$1, IF(Ecarts!I45=\"\",\"\",Ecarts!I45),\"\")","v":""},{"$f":"IF( Ecarts!$E45=$A$1, IF(Ecarts!J45=\"\",\"\",Ecarts!J45),\"\")","v":""},{"$f":"IF( Ecarts!$E45=$A$1, IF(Ecarts!K45=\"\",\"\",Ecarts!K45),\"\")","v":""},{"$f":"IF( Ecarts!$E45=$A$1, IF(Ecarts!L45=\"\",\"\",Ecarts!L45),\"\")","v":""},{"$f":"IF( Ecarts!$E45=$A$1, IF(Ecarts!M45=\"\",\"\",Ecarts!M45),\"\")","v":""},0,0]
[{"$f":"IF( Ecarts!$E46=$A$1,IF( Ecarts!B46=\"\",\"\",Ecarts!A46),\"\")","v":""},{"$f":"IF( Ecarts!$E46=$A$1,IF( Ecarts!C46=\"\",\"\",Ecarts!C46),\"\")","v":""},{"$f":"IF( Ecarts!$E46=$A$1, IF(Ecarts!F46=\"\",\"\",Ecarts!F46),\"\")","v":""},{"$f":"IF( Ecarts!$E46=$A$1, IF(Ecarts!I46=\"\",\"\",Ecarts!I46),\"\")","v":""},{"$f":"IF( Ecarts!$E46=$A$1, IF(Ecarts!J46=\"\",\"\",Ecarts!J46),\"\")","v":""},{"$f":"IF( Ecarts!$E46=$A$1, IF(Ecarts!K46=\"\",\"\",Ecarts!K46),\"\")","v":""},{"$f":"IF( Ecarts!$E46=$A$1, IF(Ecarts!L46=\"\",\"\",Ecarts!L46),\"\")","v":""},{"$f":"IF( Ecarts!$E46=$A$1, IF(Ecarts!M46=\"\",\"\",Ecarts!M46),\"\")","v":""},0,0]
[{"$f":"IF( Ecarts!$E47=$A$1,IF( Ecarts!B47=\"\",\"\",Ecarts!A47),\"\")","v":""},{"$f":"IF( Ecarts!$E47=$A$1,IF( Ecarts!C47=\"\",\"\",Ecarts!C47),\"\")","v":""},{"$f":"IF( Ecarts!$E47=$A$1, IF(Ecarts!F47=\"\",\"\",Ecarts!F47),\"\")","v":""},{"$f":"IF( Ecarts!$E47=$A$1, IF(Ecarts!I47=\"\",\"\",Ecarts!I47),\"\")","v":""},{"$f":"IF( Ecarts!$E47=$A$1, IF(Ecarts!J47=\"\",\"\",Ecarts!J47),\"\")","v":""},{"$f":"IF( Ecarts!$E47=$A$1, IF(Ecarts!K47=\"\",\"\",Ecarts!K47),\"\")","v":""},{"$f":"IF( Ecarts!$E47=$A$1, IF(Ecarts!L47=\"\",\"\",Ecarts!L47),\"\")","v":""},{"$f":"IF( Ecarts!$E47=$A$1, IF(Ecarts!M47=\"\",\"\",Ecarts!M47),\"\")","v":""},0,0]
[{"$f":"IF( Ecarts!$E48=$A$1,IF( Ecarts!B48=\"\",\"\",Ecarts!A48),\"\")","v":""},{"$f":"IF( Ecarts!$E48=$A$1,IF( Ecarts!C48=\"\",\"\",Ecarts!C48),\"\")","v":""},{"$f":"IF( Ecarts!$E48=$A$1, IF(Ecarts!F48=\"\",\"\",Ecarts!F48),\"\")","v":""},{"$f":"IF( Ecarts!$E48=$A$1, IF(Ecarts!I48=\"\",\"\",Ecarts!I48),\"\")","v":""},{"$f":"IF( Ecarts!$E48=$A$1, IF(Ecarts!J48=\"\",\"\",Ecarts!J48),\"\")","v":""},{"$f":"IF( Ecarts!$E48=$A$1, IF(Ecarts!K48=\"\",\"\",Ecarts!K48),\"\")","v":""},{"$f":"IF( Ecarts!$E48=$A$1, IF(Ecarts!L48=\"\",\"\",Ecarts!L48),\"\")","v":""},{"$f":"IF( Ecarts!$E48=$A$1, IF(Ecarts!M48=\"\",\"\",Ecarts!M48),\"\")","v":""},0,0]
[{"$f":"IF( Ecarts!$E49=$A$1,IF( Ecarts!B49=\"\",\"\",Ecarts!A49),\"\")","v":""},{"$f":"IF( Ecarts!$E49=$A$1,IF( Ecarts!C49=\"\",\"\",Ecarts!C49),\"\")","v":""},{"$f":"IF( Ecarts!$E49=$A$1, IF(Ecarts!F49=\"\",\"\",Ecarts!F49),\"\")","v":""},{"$f":"IF( Ecarts!$E49=$A$1, IF(Ecarts!I49=\"\",\"\",Ecarts!I49),\"\")","v":""},{"$f":"IF( Ecarts!$E49=$A$1, IF(Ecarts!J49=\"\",\"\",Ecarts!J49),\"\")","v":""},{"$f":"IF( Ecarts!$E49=$A$1, IF(Ecarts!K49=\"\",\"\",Ecarts!K49),\"\")","v":""},{"$f":"IF( Ecarts!$E49=$A$1, IF(Ecarts!L49=\"\",\"\",Ecarts!L49),\"\")","v":""},{"$f":"IF( Ecarts!$E49=$A$1, IF(Ecarts!M49=\"\",\"\",Ecarts!M49),\"\")","v":""},0,0]
[{"$f":"IF( Ecarts!$E50=$A$1,IF( Ecarts!B50=\"\",\"\",Ecarts!A50),\"\")","v":""},{"$f":"IF( Ecarts!$E50=$A$1,IF( Ecarts!C50=\"\",\"\",Ecarts!C50),\"\")","v":""},{"$f":"IF( Ecarts!$E50=$A$1, IF(Ecarts!F50=\"\",\"\",Ecarts!F50),\"\")","v":""},{"$f":"IF( Ecarts!$E50=$A$1, IF(Ecarts!I50=\"\",\"\",Ecarts!I50),\"\")","v":""},{"$f":"IF( Ecarts!$E50=$A$1, IF(Ecarts!J50=\"\",\"\",Ecarts!J50),\"\")","v":""},{"$f":"IF( Ecarts!$E50=$A$1, IF(Ecarts!K50=\"\",\"\",Ecarts!K50),\"\")","v":""},{"$f":"IF( Ecarts!$E50=$A$1, IF(Ecarts!L50=\"\",\"\",Ecarts!L50),\"\")","v":""},{"$f":"IF( Ecarts!$E50=$A$1, IF(Ecarts!M50=\"\",\"\",Ecarts!M50),\"\")","v":""},0,0]
[{"$f":"IF( Ecarts!$E51=$A$1,IF( Ecarts!B51=\"\",\"\",Ecarts!A51),\"\")","v":""},{"$f":"IF( Ecarts!$E51=$A$1,IF( Ecarts!C51=\"\",\"\",Ecarts!C51),\"\")","v":""},{"$f":"IF( Ecarts!$E51=$A$1, IF(Ecarts!F51=\"\",\"\",Ecarts!F51),\"\")","v":""},{"$f":"IF( Ecarts!$E51=$A$1, IF(Ecarts!I51=\"\",\"\",Ecarts!I51),\"\")","v":""},{"$f":"IF( Ecarts!$E51=$A$1, IF(Ecarts!J51=\"\",\"\",Ecarts!J51),\"\")","v":""},{"$f":"IF( Ecarts!$E51=$A$1, IF(Ecarts!K51=\"\",\"\",Ecarts!K51),\"\")","v":""},{"$f":"IF( Ecarts!$E51=$A$1, IF(Ecarts!L51=\"\",\"\",Ecarts!L51),\"\")","v":""},{"$f":"IF( Ecarts!$E51=$A$1, IF(Ecarts!M51=\"\",\"\",Ecarts!M51),\"\")","v":""},0,0]
[{"$f":"IF( Ecarts!$E52=$A$1,IF( Ecarts!B52=\"\",\"\",Ecarts!A52),\"\")","v":""},{"$f":"IF( Ecarts!$E52=$A$1,IF( Ecarts!C52=\"\",\"\",Ecarts!C52),\"\")","v":""},{"$f":"IF( Ecarts!$E52=$A$1, IF(Ecarts!F52=\"\",\"\",Ecarts!F52),\"\")","v":""},{"$f":"IF( Ecarts!$E52=$A$1, IF(Ecarts!I52=\"\",\"\",Ecarts!I52),\"\")","v":""},{"$f":"IF( Ecarts!$E52=$A$1, IF(Ecarts!J52=\"\",\"\",Ecarts!J52),\"\")","v":""},{"$f":"IF( Ecarts!$E52=$A$1, IF(Ecarts!K52=\"\",\"\",Ecarts!K52),\"\")","v":""},{"$f":"IF( Ecarts!$E52=$A$1, IF(Ecarts!L52=\"\",\"\",Ecarts!L52),\"\")","v":""},{"$f":"IF( Ecarts!$E52=$A$1, IF(Ecarts!M52=\"\",\"\",Ecarts!M52),\"\")","v":""},0,0]
[{"$f":"IF( Ecarts!$E53=$A$1,IF( Ecarts!B53=\"\",\"\",Ecarts!A53),\"\")","v":""},{"$f":"IF( Ecarts!$E53=$A$1,IF( Ecarts!C53=\"\",\"\",Ecarts!C53),\"\")","v":""},{"$f":"IF( Ecarts!$E53=$A$1, IF(Ecarts!F53=\"\",\"\",Ecarts!F53),\"\")","v":""},{"$f":"IF( Ecarts!$E53=$A$1, IF(Ecarts!I53=\"\",\"\",Ecarts!I53),\"\")","v":""},{"$f":"IF( Ecarts!$E53=$A$1, IF(Ecarts!J53=\"\",\"\",Ecarts!J53),\"\")","v":""},{"$f":"IF( Ecarts!$E53=$A$1, IF(Ecarts!K53=\"\",\"\",Ecarts!K53),\"\")","v":""},{"$f":"IF( Ecarts!$E53=$A$1, IF(Ecarts!L53=\"\",\"\",Ecarts!L53),\"\")","v":""},{"$f":"IF( Ecarts!$E53=$A$1, IF(Ecarts!M53=\"\",\"\",Ecarts!M53),\"\")","v":""},0,0]
[{"$f":"IF( Ecarts!$E54=$A$1,IF( Ecarts!B54=\"\",\"\",Ecarts!A54),\"\")","v":""},{"$f":"IF( Ecarts!$E54=$A$1,IF( Ecarts!C54=\"\",\"\",Ecarts!C54),\"\")","v":""},{"$f":"IF( Ecarts!$E54=$A$1, IF(Ecarts!F54=\"\",\"\",Ecarts!F54),\"\")","v":""},{"$f":"IF( Ecarts!$E54=$A$1, IF(Ecarts!I54=\"\",\"\",Ecarts!I54),\"\")","v":""},{"$f":"IF( Ecarts!$E54=$A$1, IF(Ecarts!J54=\"\",\"\",Ecarts!J54),\"\")","v":""},{"$f":"IF( Ecarts!$E54=$A$1, IF(Ecarts!K54=\"\",\"\",Ecarts!K54),\"\")","v":""},{"$f":"IF( Ecarts!$E54=$A$1, IF(Ecarts!L54=\"\",\"\",Ecarts!L54),\"\")","v":""},{"$f":"IF( Ecarts!$E54=$A$1, IF(Ecarts!M54=\"\",\"\",Ecarts!M54),\"\")","v":""},0,0]
[{"$f":"IF( Ecarts!$E55=$A$1,IF( Ecarts!B55=\"\",\"\",Ecarts!A55),\"\")","v":""},{"$f":"IF( Ecarts!$E55=$A$1,IF( Ecarts!C55=\"\",\"\",Ecarts!C55),\"\")","v":""},{"$f":"IF( Ecarts!$E55=$A$1, IF(Ecarts!F55=\"\",\"\",Ecarts!F55),\"\")","v":""},{"$f":"IF( Ecarts!$E55=$A$1, IF(Ecarts!I55=\"\",\"\",Ecarts!I55),\"\")","v":""},{"$f":"IF( Ecarts!$E55=$A$1, IF(Ecarts!J55=\"\",\"\",Ecarts!J55),\"\")","v":""},{"$f":"IF( Ecarts!$E55=$A$1, IF(Ecarts!K55=\"\",\"\",Ecarts!K55),\"\")","v":""},{"$f":"IF( Ecarts!$E55=$A$1, IF(Ecarts!L55=\"\",\"\",Ecarts!L55),\"\")","v":""},{"$f":"IF( Ecarts!$E55=$A$1, IF(Ecarts!M55=\"\",\"\",Ecarts!M55),\"\")","v":""},0,0]
[{"$f":"IF( Ecarts!$E56=$A$1,IF( Ecarts!B56=\"\",\"\",Ecarts!A56),\"\")","v":""},{"$f":"IF( Ecarts!$E56=$A$1,IF( Ecarts!C56=\"\",\"\",Ecarts!C56),\"\")","v":""},{"$f":"IF( Ecarts!$E56=$A$1, IF(Ecarts!F56=\"\",\"\",Ecarts!F56),\"\")","v":""},{"$f":"IF( Ecarts!$E56=$A$1, IF(Ecarts!I56=\"\",\"\",Ecarts!I56),\"\")","v":""},{"$f":"IF( Ecarts!$E56=$A$1, IF(Ecarts!J56=\"\",\"\",Ecarts!J56),\"\")","v":""},{"$f":"IF( Ecarts!$E56=$A$1, IF(Ecarts!K56=\"\",\"\",Ecarts!K56),\"\")","v":""},{"$f":"IF( Ecarts!$E56=$A$1, IF(Ecarts!L56=\"\",\"\",Ecarts!L56),\"\")","v":""},{"$f":"IF( Ecarts!$E56=$A$1, IF(Ecarts!M56=\"\",\"\",Ecarts!M56),\"\")","v":""},0,0]
[{"$f":"IF( Ecarts!$E57=$A$1,IF( Ecarts!B57=\"\",\"\",Ecarts!A57),\"\")","v":""},{"$f":"IF( Ecarts!$E57=$A$1,IF( Ecarts!C57=\"\",\"\",Ecarts!C57),\"\")","v":""},{"$f":"IF( Ecarts!$E57=$A$1, IF(Ecarts!F57=\"\",\"\",Ecarts!F57),\"\")","v":""},{"$f":"IF( Ecarts!$E57=$A$1, IF(Ecarts!I57=\"\",\"\",Ecarts!I57),\"\")","v":""},{"$f":"IF( Ecarts!$E57=$A$1, IF(Ecarts!J57=\"\",\"\",Ecarts!J57),\"\")","v":""},{"$f":"IF( Ecarts!$E57=$A$1, IF(Ecarts!K57=\"\",\"\",Ecarts!K57),\"\")","v":""},{"$f":"IF( Ecarts!$E57=$A$1, IF(Ecarts!L57=\"\",\"\",Ecarts!L57),\"\")","v":""},{"$f":"IF( Ecarts!$E57=$A$1, IF(Ecarts!M57=\"\",\"\",Ecarts!M57),\"\")","v":""},0,0]
[{"$f":"IF( Ecarts!$E58=$A$1,IF( Ecarts!B58=\"\",\"\",Ecarts!A58),\"\")","v":""},{"$f":"IF( Ecarts!$E58=$A$1,IF( Ecarts!C58=\"\",\"\",Ecarts!C58),\"\")","v":""},{"$f":"IF( Ecarts!$E58=$A$1, IF(Ecarts!F58=\"\",\"\",Ecarts!F58),\"\")","v":""},{"$f":"IF( Ecarts!$E58=$A$1, IF(Ecarts!I58=\"\",\"\",Ecarts!I58),\"\")","v":""},{"$f":"IF( Ecarts!$E58=$A$1, IF(Ecarts!J58=\"\",\"\",Ecarts!J58),\"\")","v":""},{"$f":"IF( Ecarts!$E58=$A$1, IF(Ecarts!K58=\"\",\"\",Ecarts!K58),\"\")","v":""},{"$f":"IF( Ecarts!$E58=$A$1, IF(Ecarts!L58=\"\",\"\",Ecarts!L58),\"\")","v":""},{"$f":"IF( Ecarts!$E58=$A$1, IF(Ecarts!M58=\"\",\"\",Ecarts!M58),\"\")","v":""},0,0]
[{"$f":"IF( Ecarts!$E59=$A$1,IF( Ecarts!B59=\"\",\"\",Ecarts!A59),\"\")","v":""},{"$f":"IF( Ecarts!$E59=$A$1,IF( Ecarts!C59=\"\",\"\",Ecarts!C59),\"\")","v":""},{"$f":"IF( Ecarts!$E59=$A$1, IF(Ecarts!F59=\"\",\"\",Ecarts!F59),\"\")","v":""},{"$f":"IF( Ecarts!$E59=$A$1, IF(Ecarts!I59=\"\",\"\",Ecarts!I59),\"\")","v":""},{"$f":"IF( Ecarts!$E59=$A$1, IF(Ecarts!J59=\"\",\"\",Ecarts!J59),\"\")","v":""},{"$f":"IF( Ecarts!$E59=$A$1, IF(Ecarts!K59=\"\",\"\",Ecarts!K59),\"\")","v":""},{"$f":"IF( Ecarts!$E59=$A$1, IF(Ecarts!L59=\"\",\"\",Ecarts!L59),\"\")","v":""},{"$f":"IF( Ecarts!$E59=$A$1, IF(Ecarts!M59=\"\",\"\",Ecarts!M59),\"\")","v":""},0,0]
[{"$f":"IF( Ecarts!$E60=$A$1,IF( Ecarts!B60=\"\",\"\",Ecarts!A60),\"\")","v":""},{"$f":"IF( Ecarts!$E60=$A$1,IF( Ecarts!C60=\"\",\"\",Ecarts!C60),\"\")","v":""},{"$f":"IF( Ecarts!$E60=$A$1, IF(Ecarts!F60=\"\",\"\",Ecarts!F60),\"\")","v":""},{"$f":"IF( Ecarts!$E60=$A$1, IF(Ecarts!I60=\"\",\"\",Ecarts!I60),\"\")","v":""},{"$f":"IF( Ecarts!$E60=$A$1, IF(Ecarts!J60=\"\",\"\",Ecarts!J60),\"\")","v":""},{"$f":"IF( Ecarts!$E60=$A$1, IF(Ecarts!K60=\"\",\"\",Ecarts!K60),\"\")","v":""},{"$f":"IF( Ecarts!$E60=$A$1, IF(Ecarts!L60=\"\",\"\",Ecarts!L60),\"\")","v":""},{"$f":"IF( Ecarts!$E60=$A$1, IF(Ecarts!M60=\"\",\"\",Ecarts!M60),\"\")","v":""},0,0]
[{"$f":"IF( Ecarts!$E61=$A$1,IF( Ecarts!B61=\"\",\"\",Ecarts!A61),\"\")","v":""},{"$f":"IF( Ecarts!$E61=$A$1,IF( Ecarts!C61=\"\",\"\",Ecarts!C61),\"\")","v":""},{"$f":"IF( Ecarts!$E61=$A$1, IF(Ecarts!F61=\"\",\"\",Ecarts!F61),\"\")","v":""},{"$f":"IF( Ecarts!$E61=$A$1, IF(Ecarts!I61=\"\",\"\",Ecarts!I61),\"\")","v":""},{"$f":"IF( Ecarts!$E61=$A$1, IF(Ecarts!J61=\"\",\"\",Ecarts!J61),\"\")","v":""},{"$f":"IF( Ecarts!$E61=$A$1, IF(Ecarts!K61=\"\",\"\",Ecarts!K61),\"\")","v":""},{"$f":"IF( Ecarts!$E61=$A$1, IF(Ecarts!L61=\"\",\"\",Ecarts!L61),\"\")","v":""},{"$f":"IF( Ecarts!$E61=$A$1, IF(Ecarts!M61=\"\",\"\",Ecarts!M61),\"\")","v":""},0,0]
[{"$f":"IF( Ecarts!$E62=$A$1,IF( Ecarts!B62=\"\",\"\",Ecarts!A62),\"\")","v":""},{"$f":"IF( Ecarts!$E62=$A$1,IF( Ecarts!C62=\"\",\"\",Ecarts!C62),\"\")","v":""},{"$f":"IF( Ecarts!$E62=$A$1, IF(Ecarts!F62=\"\",\"\",Ecarts!F62),\"\")","v":""},{"$f":"IF( Ecarts!$E62=$A$1, IF(Ecarts!I62=\"\",\"\",Ecarts!I62),\"\")","v":""},{"$f":"IF( Ecarts!$E62=$A$1, IF(Ecarts!J62=\"\",\"\",Ecarts!J62),\"\")","v":""},{"$f":"IF( Ecarts!$E62=$A$1, IF(Ecarts!K62=\"\",\"\",Ecarts!K62),\"\")","v":""},{"$f":"IF( Ecarts!$E62=$A$1, IF(Ecarts!L62=\"\",\"\",Ecarts!L62),\"\")","v":""},{"$f":"IF( Ecarts!$E62=$A$1, IF(Ecarts!M62=\"\",\"\",Ecarts!M62),\"\")","v":""},0,0]
[{"$f":"IF( Ecarts!$E63=$A$1,IF( Ecarts!B63=\"\",\"\",Ecarts!A63),\"\")","v":""},{"$f":"IF( Ecarts!$E63=$A$1,IF( Ecarts!C63=\"\",\"\",Ecarts!C63),\"\")","v":""},{"$f":"IF( Ecarts!$E63=$A$1, IF(Ecarts!F63=\"\",\"\",Ecarts!F63),\"\")","v":""},{"$f":"IF( Ecarts!$E63=$A$1, IF(Ecarts!I63=\"\",\"\",Ecarts!I63),\"\")","v":""},{"$f":"IF( Ecarts!$E63=$A$1, IF(Ecarts!J63=\"\",\"\",Ecarts!J63),\"\")","v":""},{"$f":"IF( Ecarts!$E63=$A$1, IF(Ecarts!K63=\"\",\"\",Ecarts!K63),\"\")","v":""},{"$f":"IF( Ecarts!$E63=$A$1, IF(Ecarts!L63=\"\",\"\",Ecarts!L63),\"\")","v":""},{"$f":"IF( Ecarts!$E63=$A$1, IF(Ecarts!M63=\"\",\"\",Ecarts!M63),\"\")","v":""},0,0]
[{"$f":"IF( Ecarts!$E64=$A$1,IF( Ecarts!B64=\"\",\"\",Ecarts!A64),\"\")","v":""},{"$f":"IF( Ecarts!$E64=$A$1,IF( Ecarts!C64=\"\",\"\",Ecarts!C64),\"\")","v":""},{"$f":"IF( Ecarts!$E64=$A$1, IF(Ecarts!F64=\"\",\"\",Ecarts!F64),\"\")","v":""},{"$f":"IF( Ecarts!$E64=$A$1, IF(Ecarts!I64=\"\",\"\",Ecarts!I64),\"\")","v":""},{"$f":"IF( Ecarts!$E64=$A$1, IF(Ecarts!J64=\"\",\"\",Ecarts!J64),\"\")","v":""},{"$f":"IF( Ecarts!$E64=$A$1, IF(Ecarts!K64=\"\",\"\",Ecarts!K64),\"\")","v":""},{"$f":"IF( Ecarts!$E64=$A$1, IF(Ecarts!L64=\"\",\"\",Ecarts!L64),\"\")","v":""},{"$f":"IF( Ecarts!$E64=$A$1, IF(Ecarts!M64=\"\",\"\",Ecarts!M64),\"\")","v":""},0,0]
[{"$f":"IF( Ecarts!$E65=$A$1,IF( Ecarts!B65=\"\",\"\",Ecarts!A65),\"\")","v":""},{"$f":"IF( Ecarts!$E65=$A$1,IF( Ecarts!C65=\"\",\"\",Ecarts!C65),\"\")","v":""},{"$f":"IF( Ecarts!$E65=$A$1, IF(Ecarts!F65=\"\",\"\",Ecarts!F65),\"\")","v":""},{"$f":"IF( Ecarts!$E65=$A$1, IF(Ecarts!I65=\"\",\"\",Ecarts!I65),\"\")","v":""},{"$f":"IF( Ecarts!$E65=$A$1, IF(Ecarts!J65=\"\",\"\",Ecarts!J65),\"\")","v":""},{"$f":"IF( Ecarts!$E65=$A$1, IF(Ecarts!K65=\"\",\"\",Ecarts!K65),\"\")","v":""},{"$f":"IF( Ecarts!$E65=$A$1, IF(Ecarts!L65=\"\",\"\",Ecarts!L65),\"\")","v":""},{"$f":"IF( Ecarts!$E65=$A$1, IF(Ecarts!M65=\"\",\"\",Ecarts!M65),\"\")","v":""},0,0]
[{"$f":"IF( Ecarts!$E66=$A$1,IF( Ecarts!B66=\"\",\"\",Ecarts!A66),\"\")","v":""},{"$f":"IF( Ecarts!$E66=$A$1,IF( Ecarts!C66=\"\",\"\",Ecarts!C66),\"\")","v":""},{"$f":"IF( Ecarts!$E66=$A$1, IF(Ecarts!F66=\"\",\"\",Ecarts!F66),\"\")","v":""},{"$f":"IF( Ecarts!$E66=$A$1, IF(Ecarts!I66=\"\",\"\",Ecarts!I66),\"\")","v":""},{"$f":"IF( Ecarts!$E66=$A$1, IF(Ecarts!J66=\"\",\"\",Ecarts!J66),\"\")","v":""},{"$f":"IF( Ecarts!$E66=$A$1, IF(Ecarts!K66=\"\",\"\",Ecarts!K66),\"\")","v":""},{"$f":"IF( Ecarts!$E66=$A$1, IF(Ecarts!L66=\"\",\"\",Ecarts!L66),\"\")","v":""},{"$f":"IF( Ecarts!$E66=$A$1, IF(Ecarts!M66=\"\",\"\",Ecarts!M66),\"\")","v":""},0,0]
[{"$f":"IF( Ecarts!$E67=$A$1,IF( Ecarts!B67=\"\",\"\",Ecarts!A67),\"\")","v":""},{"$f":"IF( Ecarts!$E67=$A$1,IF( Ecarts!C67=\"\",\"\",Ecarts!C67),\"\")","v":""},{"$f":"IF( Ecarts!$E67=$A$1, IF(Ecarts!F67=\"\",\"\",Ecarts!F67),\"\")","v":""},{"$f":"IF( Ecarts!$E67=$A$1, IF(Ecarts!I67=\"\",\"\",Ecarts!I67),\"\")","v":""},{"$f":"IF( Ecarts!$E67=$A$1, IF(Ecarts!J67=\"\",\"\",Ecarts!J67),\"\")","v":""},{"$f":"IF( Ecarts!$E67=$A$1, IF(Ecarts!K67=\"\",\"\",Ecarts!K67),\"\")","v":""},{"$f":"IF( Ecarts!$E67=$A$1, IF(Ecarts!L67=\"\",\"\",Ecarts!L67),\"\")","v":""},{"$f":"IF( Ecarts!$E67=$A$1, IF(Ecarts!M67=\"\",\"\",Ecarts!M67),\"\")","v":""},0,0]
[{"$f":"IF( Ecarts!$E68=$A$1,IF( Ecarts!B68=\"\",\"\",Ecarts!A68),\"\")","v":""},{"$f":"IF( Ecarts!$E68=$A$1,IF( Ecarts!C68=\"\",\"\",Ecarts!C68),\"\")","v":""},{"$f":"IF( Ecarts!$E68=$A$1, IF(Ecarts!F68=\"\",\"\",Ecarts!F68),\"\")","v":""},{"$f":"IF( Ecarts!$E68=$A$1, IF(Ecarts!I68=\"\",\"\",Ecarts!I68),\"\")","v":""},{"$f":"IF( Ecarts!$E68=$A$1, IF(Ecarts!J68=\"\",\"\",Ecarts!J68),\"\")","v":""},{"$f":"IF( Ecarts!$E68=$A$1, IF(Ecarts!K68=\"\",\"\",Ecarts!K68),\"\")","v":""},{"$f":"IF( Ecarts!$E68=$A$1, IF(Ecarts!L68=\"\",\"\",Ecarts!L68),\"\")","v":""},{"$f":"IF( Ecarts!$E68=$A$1, IF(Ecarts!M68=\"\",\"\",Ecarts!M68),\"\")","v":""},{"$f":"IF(B69=\"\",0,IF(G69=1,0,1))","v":0},{"$f":"IF(F69=\"\",0,IF(F69>(TODAY()-60),1,0))","v":0}]
[{"$f":"IF( Ecarts!$E69=$A$1,IF( Ecarts!B69=\"\",\"\",Ecarts!A69),\"\")","v":""},{"$f":"IF( Ecarts!$E69=$A$1,IF( Ecarts!C69=\"\",\"\",Ecarts!C69),\"\")","v":""},{"$f":"IF( Ecarts!$E69=$A$1, IF(Ecarts!F69=\"\",\"\",Ecarts!F69),\"\")","v":""},{"$f":"IF( Ecarts!$E69=$A$1, IF(Ecarts!I69=\"\",\"\",Ecarts!I69),\"\")","v":""},{"$f":"IF( Ecarts!$E69=$A$1, IF(Ecarts!J69=\"\",\"\",Ecarts!J69),\"\")","v":""},{"$f":"IF( Ecarts!$E69=$A$1, IF(Ecarts!K69=\"\",\"\",Ecarts!K69),\"\")","v":""},{"$f":"IF( Ecarts!$E69=$A$1, IF(Ecarts!L69=\"\",\"\",Ecarts!L69),\"\")","v":""},{"$f":"IF( Ecarts!$E69=$A$1, IF(Ecarts!M69=\"\",\"\",Ecarts!M69),\"\")","v":""},0,0]
[{"$f":"IF( Ecarts!$E70=$A$1,IF( Ecarts!B70=\"\",\"\",Ecarts!A70),\"\")","v":""},{"$f":"IF( Ecarts!$E70=$A$1,IF( Ecarts!C70=\"\",\"\",Ecarts!C70),\"\")","v":""},{"$f":"IF( Ecarts!$E70=$A$1, IF(Ecarts!F70=\"\",\"\",Ecarts!F70),\"\")","v":""},{"$f":"IF( Ecarts!$E70=$A$1, IF(Ecarts!I70=\"\",\"\",Ecarts!I70),\"\")","v":""},{"$f":"IF( Ecarts!$E70=$A$1, IF(Ecarts!J70=\"\",\"\",Ecarts!J70),\"\")","v":""},{"$f":"IF( Ecarts!$E70=$A$1, IF(Ecarts!K70=\"\",\"\",Ecarts!K70),\"\")","v":""},{"$f":"IF( Ecarts!$E70=$A$1, IF(Ecarts!L70=\"\",\"\",Ecarts!L70),\"\")","v":""},{"$f":"IF( Ecarts!$E70=$A$1, IF(Ecarts!M70=\"\",\"\",Ecarts!M70),\"\")","v":""},0,0]
[{"$f":"IF( Ecarts!$E71=$A$1,IF( Ecarts!B71=\"\",\"\",Ecarts!A71),\"\")","v":""},{"$f":"IF( Ecarts!$E71=$A$1,IF( Ecarts!C71=\"\",\"\",Ecarts!C71),\"\")","v":""},{"$f":"IF( Ecarts!$E71=$A$1, IF(Ecarts!F71=\"\",\"\",Ecarts!F71),\"\")","v":""},{"$f":"IF( Ecarts!$E71=$A$1, IF(Ecarts!I71=\"\",\"\",Ecarts!I71),\"\")","v":""},{"$f":"IF( Ecarts!$E71=$A$1, IF(Ecarts!J71=\"\",\"\",Ecarts!J71),\"\")","v":""},{"$f":"IF( Ecarts!$E71=$A$1, IF(Ecarts!K71=\"\",\"\",Ecarts!K71),\"\")","v":""},{"$f":"IF( Ecarts!$E71=$A$1, IF(Ecarts!L71=\"\",\"\",Ecarts!L71),\"\")","v":""},{"$f":"IF( Ecarts!$E71=$A$1, IF(Ecarts!M71=\"\",\"\",Ecarts!M71),\"\")","v":""},0,0]
[{"$f":"IF( Ecarts!$E72=$A$1,IF( Ecarts!B72=\"\",\"\",Ecarts!A72),\"\")","v":""},{"$f":"IF( Ecarts!$E72=$A$1,IF( Ecarts!C72=\"\",\"\",Ecarts!C72),\"\")","v":""},{"$f":"IF( Ecarts!$E72=$A$1, IF(Ecarts!F72=\"\",\"\",Ecarts!F72),\"\")","v":""},{"$f":"IF( Ecarts!$E72=$A$1, IF(Ecarts!I72=\"\",\"\",Ecarts!I72),\"\")","v":""},{"$f":"IF( Ecarts!$E72=$A$1, IF(Ecarts!J72=\"\",\"\",Ecarts!J72),\"\")","v":""},{"$f":"IF( Ecarts!$E72=$A$1, IF(Ecarts!K72=\"\",\"\",Ecarts!K72),\"\")","v":""},{"$f":"IF( Ecarts!$E72=$A$1, IF(Ecarts!L72=\"\",\"\",Ecarts!L72),\"\")","v":""},{"$f":"IF( Ecarts!$E72=$A$1, IF(Ecarts!M72=\"\",\"\",Ecarts!M72),\"\")","v":""},0,0]
[{"$f":"IF( Ecarts!$E73=$A$1,IF( Ecarts!B73=\"\",\"\",Ecarts!A73),\"\")","v":""},{"$f":"IF( Ecarts!$E73=$A$1,IF( Ecarts!C73=\"\",\"\",Ecarts!C73),\"\")","v":""},{"$f":"IF( Ecarts!$E73=$A$1, IF(Ecarts!F73=\"\",\"\",Ecarts!F73),\"\")","v":""},{"$f":"IF( Ecarts!$E73=$A$1, IF(Ecarts!I73=\"\",\"\",Ecarts!I73),\"\")","v":""},{"$f":"IF( Ecarts!$E73=$A$1, IF(Ecarts!J73=\"\",\"\",Ecarts!J73),\"\")","v":""},{"$f":"IF( Ecarts!$E73=$A$1, IF(Ecarts!K73=\"\",\"\",Ecarts!K73),\"\")","v":""},{"$f":"IF( Ecarts!$E73=$A$1, IF(Ecarts!L73=\"\",\"\",Ecarts!L73),\"\")","v":""},{"$f":"IF( Ecarts!$E73=$A$1, IF(Ecarts!M73=\"\",\"\",Ecarts!M73),\"\")","v":""},0,0]
[{"$f":"IF( Ecarts!$E74=$A$1,IF( Ecarts!B74=\"\",\"\",Ecarts!A74),\"\")","v":""},{"$f":"IF( Ecarts!$E74=$A$1,IF( Ecarts!C74=\"\",\"\",Ecarts!C74),\"\")","v":""},{"$f":"IF( Ecarts!$E74=$A$1, IF(Ecarts!F74=\"\",\"\",Ecarts!F74),\"\")","v":""},{"$f":"IF( Ecarts!$E74=$A$1, IF(Ecarts!I74=\"\",\"\",Ecarts!I74),\"\")","v":""},{"$f":"IF( Ecarts!$E74=$A$1, IF(Ecarts!J74=\"\",\"\",Ecarts!J74),\"\")","v":""},{"$f":"IF( Ecarts!$E74=$A$1, IF(Ecarts!K74=\"\",\"\",Ecarts!K74),\"\")","v":""},{"$f":"IF( Ecarts!$E74=$A$1, IF(Ecarts!L74=\"\",\"\",Ecarts!L74),\"\")","v":""},{"$f":"IF( Ecarts!$E74=$A$1, IF(Ecarts!M74=\"\",\"\",Ecarts!M74),\"\")","v":""},0,0]
[{"$f":"IF( Ecarts!$E75=$A$1,IF( Ecarts!B75=\"\",\"\",Ecarts!A75),\"\")","v":""},{"$f":"IF( Ecarts!$E75=$A$1,IF( Ecarts!C75=\"\",\"\",Ecarts!C75),\"\")","v":""},{"$f":"IF( Ecarts!$E75=$A$1, IF(Ecarts!F75=\"\",\"\",Ecarts!F75),\"\")","v":""},{"$f":"IF( Ecarts!$E75=$A$1, IF(Ecarts!I75=\"\",\"\",Ecarts!I75),\"\")","v":""},{"$f":"IF( Ecarts!$E75=$A$1, IF(Ecarts!J75=\"\",\"\",Ecarts!J75),\"\")","v":""},{"$f":"IF( Ecarts!$E75=$A$1, IF(Ecarts!K75=\"\",\"\",Ecarts!K75),\"\")","v":""},{"$f":"IF( Ecarts!$E75=$A$1, IF(Ecarts!L75=\"\",\"\",Ecarts!L75),\"\")","v":""},{"$f":"IF( Ecarts!$E75=$A$1, IF(Ecarts!M75=\"\",\"\",Ecarts!M75),\"\")","v":""},0,0]
[{"$f":"IF( Ecarts!$E76=$A$1,IF( Ecarts!B76=\"\",\"\",Ecarts!A76),\"\")","v":""},{"$f":"IF( Ecarts!$E76=$A$1,IF( Ecarts!C76=\"\",\"\",Ecarts!C76),\"\")","v":""},{"$f":"IF( Ecarts!$E76=$A$1, IF(Ecarts!F76=\"\",\"\",Ecarts!F76),\"\")","v":""},{"$f":"IF( Ecarts!$E76=$A$1, IF(Ecarts!I76=\"\",\"\",Ecarts!I76),\"\")","v":""},{"$f":"IF( Ecarts!$E76=$A$1, IF(Ecarts!J76=\"\",\"\",Ecarts!J76),\"\")","v":""},{"$f":"IF( Ecarts!$E76=$A$1, IF(Ecarts!K76=\"\",\"\",Ecarts!K76),\"\")","v":""},{"$f":"IF( Ecarts!$E76=$A$1, IF(Ecarts!L76=\"\",\"\",Ecarts!L76),\"\")","v":""},{"$f":"IF( Ecarts!$E76=$A$1, IF(Ecarts!M76=\"\",\"\",Ecarts!M76),\"\")","v":""},0,0]
[{"$f":"IF( Ecarts!$E77=$A$1,IF( Ecarts!B77=\"\",\"\",Ecarts!A77),\"\")","v":""},{"$f":"IF( Ecarts!$E77=$A$1,IF( Ecarts!C77=\"\",\"\",Ecarts!C77),\"\")","v":""},{"$f":"IF( Ecarts!$E77=$A$1, IF(Ecarts!F77=\"\",\"\",Ecarts!F77),\"\")","v":""},{"$f":"IF( Ecarts!$E77=$A$1, IF(Ecarts!I77=\"\",\"\",Ecarts!I77),\"\")","v":""},{"$f":"IF( Ecarts!$E77=$A$1, IF(Ecarts!J77=\"\",\"\",Ecarts!J77),\"\")","v":""},{"$f":"IF( Ecarts!$E77=$A$1, IF(Ecarts!K77=\"\",\"\",Ecarts!K77),\"\")","v":""},{"$f":"IF( Ecarts!$E77=$A$1, IF(Ecarts!L77=\"\",\"\",Ecarts!L77),\"\")","v":""},{"$f":"IF( Ecarts!$E77=$A$1, IF(Ecarts!M77=\"\",\"\",Ecarts!M77),\"\")","v":""},0,0]
[{"$f":"IF( Ecarts!$E78=$A$1,IF( Ecarts!B78=\"\",\"\",Ecarts!A78),\"\")","v":""},{"$f":"IF( Ecarts!$E78=$A$1,IF( Ecarts!C78=\"\",\"\",Ecarts!C78),\"\")","v":""},{"$f":"IF( Ecarts!$E78=$A$1, IF(Ecarts!F78=\"\",\"\",Ecarts!F78),\"\")","v":""},{"$f":"IF( Ecarts!$E78=$A$1, IF(Ecarts!I78=\"\",\"\",Ecarts!I78),\"\")","v":""},{"$f":"IF( Ecarts!$E78=$A$1, IF(Ecarts!J78=\"\",\"\",Ecarts!J78),\"\")","v":""},{"$f":"IF( Ecarts!$E78=$A$1, IF(Ecarts!K78=\"\",\"\",Ecarts!K78),\"\")","v":""},{"$f":"IF( Ecarts!$E78=$A$1, IF(Ecarts!L78=\"\",\"\",Ecarts!L78),\"\")","v":""},{"$f":"IF( Ecarts!$E78=$A$1, IF(Ecarts!M78=\"\",\"\",Ecarts!M78),\"\")","v":""},0,0]
[{"$f":"IF( Ecarts!$E79=$A$1,IF( Ecarts!B79=\"\",\"\",Ecarts!A79),\"\")","v":""},{"$f":"IF( Ecarts!$E79=$A$1,IF( Ecarts!C79=\"\",\"\",Ecarts!C79),\"\")","v":""},{"$f":"IF( Ecarts!$E79=$A$1, IF(Ecarts!F79=\"\",\"\",Ecarts!F79),\"\")","v":""},{"$f":"IF( Ecarts!$E79=$A$1, IF(Ecarts!I79=\"\",\"\",Ecarts!I79),\"\")","v":""},{"$f":"IF( Ecarts!$E79=$A$1, IF(Ecarts!J79=\"\",\"\",Ecarts!J79),\"\")","v":""},{"$f":"IF( Ecarts!$E79=$A$1, IF(Ecarts!K79=\"\",\"\",Ecarts!K79),\"\")","v":""},{"$f":"IF( Ecarts!$E79=$A$1, IF(Ecarts!L79=\"\",\"\",Ecarts!L79),\"\")","v":""},{"$f":"IF( Ecarts!$E79=$A$1, IF(Ecarts!M79=\"\",\"\",Ecarts!M79),\"\")","v":""},0,0]
[{"$f":"IF( Ecarts!$E80=$A$1,IF( Ecarts!B80=\"\",\"\",Ecarts!A80),\"\")","v":""},{"$f":"IF( Ecarts!$E80=$A$1,IF( Ecarts!C80=\"\",\"\",Ecarts!C80),\"\")","v":""},{"$f":"IF( Ecarts!$E80=$A$1, IF(Ecarts!F80=\"\",\"\",Ecarts!F80),\"\")","v":""},{"$f":"IF( Ecarts!$E80=$A$1, IF(Ecarts!I80=\"\",\"\",Ecarts!I80),\"\")","v":""},{"$f":"IF( Ecarts!$E80=$A$1, IF(Ecarts!J80=\"\",\"\",Ecarts!J80),\"\")","v":""},{"$f":"IF( Ecarts!$E80=$A$1, IF(Ecarts!K80=\"\",\"\",Ecarts!K80),\"\")","v":""},{"$f":"IF( Ecarts!$E80=$A$1, IF(Ecarts!L80=\"\",\"\",Ecarts!L80),\"\")","v":""},{"$f":"IF( Ecarts!$E80=$A$1, IF(Ecarts!M80=\"\",\"\",Ecarts!M80),\"\")","v":""},0,0]
[{"$f":"IF( Ecarts!$E81=$A$1,IF( Ecarts!B81=\"\",\"\",Ecarts!A81),\"\")","v":""},{"$f":"IF( Ecarts!$E81=$A$1,IF( Ecarts!C81=\"\",\"\",Ecarts!C81),\"\")","v":""},{"$f":"IF( Ecarts!$E81=$A$1, IF(Ecarts!F81=\"\",\"\",Ecarts!F81),\"\")","v":""},{"$f":"IF( Ecarts!$E81=$A$1, IF(Ecarts!I81=\"\",\"\",Ecarts!I81),\"\")","v":""},{"$f":"IF( Ecarts!$E81=$A$1, IF(Ecarts!J81=\"\",\"\",Ecarts!J81),\"\")","v":""},{"$f":"IF( Ecarts!$E81=$A$1, IF(Ecarts!K81=\"\",\"\",Ecarts!K81),\"\")","v":""},{"$f":"IF( Ecarts!$E81=$A$1, IF(Ecarts!L81=\"\",\"\",Ecarts!L81),\"\")","v":""},{"$f":"IF( Ecarts!$E81=$A$1, IF(Ecarts!M81=\"\",\"\",Ecarts!M81),\"\")","v":""},0,0]
[{"$f":"IF( Ecarts!$E82=$A$1,IF( Ecarts!B82=\"\",\"\",Ecarts!A82),\"\")","v":""},{"$f":"IF( Ecarts!$E82=$A$1,IF( Ecarts!C82=\"\",\"\",Ecarts!C82),\"\")","v":""},{"$f":"IF( Ecarts!$E82=$A$1, IF(Ecarts!F82=\"\",\"\",Ecarts!F82),\"\")","v":""},{"$f":"IF( Ecarts!$E82=$A$1, IF(Ecarts!I82=\"\",\"\",Ecarts!I82),\"\")","v":""},{"$f":"IF( Ecarts!$E82=$A$1, IF(Ecarts!J82=\"\",\"\",Ecarts!J82),\"\")","v":""},{"$f":"IF( Ecarts!$E82=$A$1, IF(Ecarts!K82=\"\",\"\",Ecarts!K82),\"\")","v":""},{"$f":"IF( Ecarts!$E82=$A$1, IF(Ecarts!L82=\"\",\"\",Ecarts!L82),\"\")","v":""},{"$f":"IF( Ecarts!$E82=$A$1, IF(Ecarts!M82=\"\",\"\",Ecarts!M82),\"\")","v":""},0,0]
[{"$f":"IF( Ecarts!$E83=$A$1,IF( Ecarts!B83=\"\",\"\",Ecarts!A83),\"\")","v":""},{"$f":"IF( Ecarts!$E83=$A$1,IF( Ecarts!C83=\"\",\"\",Ecarts!C83),\"\")","v":""},{"$f":"IF( Ecarts!$E83=$A$1, IF(Ecarts!F83=\"\",\"\",Ecarts!F83),\"\")","v":""},{"$f":"IF( Ecarts!$E83=$A$1, IF(Ecarts!I83=\"\",\"\",Ecarts!I83),\"\")","v":""},{"$f":"IF( Ecarts!$E83=$A$1, IF(Ecarts!J83=\"\",\"\",Ecarts!J83),\"\")","v":""},{"$f":"IF( Ecarts!$E83=$A$1, IF(Ecarts!K83=\"\",\"\",Ecarts!K83),\"\")","v":""},{"$f":"IF( Ecarts!$E83=$A$1, IF(Ecarts!L83=\"\",\"\",Ecarts!L83),\"\")","v":""},{"$f":"IF( Ecarts!$E83=$A$1, IF(Ecarts!M83=\"\",\"\",Ecarts!M83),\"\")","v":""},0,0]
[{"$f":"IF( Ecarts!$E84=$A$1,IF( Ecarts!B84=\"\",\"\",Ecarts!A84),\"\")","v":""},{"$f":"IF( Ecarts!$E84=$A$1,IF( Ecarts!C84=\"\",\"\",Ecarts!C84),\"\")","v":""},{"$f":"IF( Ecarts!$E84=$A$1, IF(Ecarts!F84=\"\",\"\",Ecarts!F84),\"\")","v":""},{"$f":"IF( Ecarts!$E84=$A$1, IF(Ecarts!I84=\"\",\"\",Ecarts!I84),\"\")","v":""},{"$f":"IF( Ecarts!$E84=$A$1, IF(Ecarts!J84=\"\",\"\",Ecarts!J84),\"\")","v":""},{"$f":"IF( Ecarts!$E84=$A$1, IF(Ecarts!K84=\"\",\"\",Ecarts!K84),\"\")","v":""},{"$f":"IF( Ecarts!$E84=$A$1, IF(Ecarts!L84=\"\",\"\",Ecarts!L84),\"\")","v":""},{"$f":"IF( Ecarts!$E84=$A$1, IF(Ecarts!M84=\"\",\"\",Ecarts!M84),\"\")","v":""},0,0]
[{"$f":"IF( Ecarts!$E85=$A$1,IF( Ecarts!B85=\"\",\"\",Ecarts!A85),\"\")","v":""},{"$f":"IF( Ecarts!$E85=$A$1,IF( Ecarts!C85=\"\",\"\",Ecarts!C85),\"\")","v":""},{"$f":"IF( Ecarts!$E85=$A$1, IF(Ecarts!F85=\"\",\"\",Ecarts!F85),\"\")","v":""},{"$f":"IF( Ecarts!$E85=$A$1, IF(Ecarts!I85=\"\",\"\",Ecarts!I85),\"\")","v":""},{"$f":"IF( Ecarts!$E85=$A$1, IF(Ecarts!J85=\"\",\"\",Ecarts!J85),\"\")","v":""},{"$f":"IF( Ecarts!$E85=$A$1, IF(Ecarts!K85=\"\",\"\",Ecarts!K85),\"\")","v":""},{"$f":"IF( Ecarts!$E85=$A$1, IF(Ecarts!L85=\"\",\"\",Ecarts!L85),\"\")","v":""},{"$f":"IF( Ecarts!$E85=$A$1, IF(Ecarts!M85=\"\",\"\",Ecarts!M85),\"\")","v":""},0,0]
[{"$f":"IF( Ecarts!$E86=$A$1,IF( Ecarts!B86=\"\",\"\",Ecarts!A86),\"\")","v":""},{"$f":"IF( Ecarts!$E86=$A$1,IF( Ecarts!C86=\"\",\"\",Ecarts!C86),\"\")","v":""},{"$f":"IF( Ecarts!$E86=$A$1, IF(Ecarts!F86=\"\",\"\",Ecarts!F86),\"\")","v":""},{"$f":"IF( Ecarts!$E86=$A$1, IF(Ecarts!I86=\"\",\"\",Ecarts!I86),\"\")","v":""},{"$f":"IF( Ecarts!$E86=$A$1, IF(Ecarts!J86=\"\",\"\",Ecarts!J86),\"\")","v":""},{"$f":"IF( Ecarts!$E86=$A$1, IF(Ecarts!K86=\"\",\"\",Ecarts!K86),\"\")","v":""},{"$f":"IF( Ecarts!$E86=$A$1, IF(Ecarts!L86=\"\",\"\",Ecarts!L86),\"\")","v":""},{"$f":"IF( Ecarts!$E86=$A$1, IF(Ecarts!M86=\"\",\"\",Ecarts!M86),\"\")","v":""},0,0]
[{"$f":"IF( Ecarts!$E87=$A$1,IF( Ecarts!B87=\"\",\"\",Ecarts!A87),\"\")","v":""},{"$f":"IF( Ecarts!$E87=$A$1,IF( Ecarts!C87=\"\",\"\",Ecarts!C87),\"\")","v":""},{"$f":"IF( Ecarts!$E87=$A$1, IF(Ecarts!F87=\"\",\"\",Ecarts!F87),\"\")","v":""},{"$f":"IF( Ecarts!$E87=$A$1, IF(Ecarts!I87=\"\",\"\",Ecarts!I87),\"\")","v":""},{"$f":"IF( Ecarts!$E87=$A$1, IF(Ecarts!J87=\"\",\"\",Ecarts!J87),\"\")","v":""},{"$f":"IF( Ecarts!$E87=$A$1, IF(Ecarts!K87=\"\",\"\",Ecarts!K87),\"\")","v":""},{"$f":"IF( Ecarts!$E87=$A$1, IF(Ecarts!L87=\"\",\"\",Ecarts!L87),\"\")","v":""},{"$f":"IF( Ecarts!$E87=$A$1, IF(Ecarts!M87=\"\",\"\",Ecarts!M87),\"\")","v":""},0,0]
[{"$f":"IF( Ecarts!$E88=$A$1,IF( Ecarts!B88=\"\",\"\",Ecarts!A88),\"\")","v":""},{"$f":"IF( Ecarts!$E88=$A$1,IF( Ecarts!C88=\"\",\"\",Ecarts!C88),\"\")","v":""},{"$f":"IF( Ecarts!$E88=$A$1, IF(Ecarts!F88=\"\",\"\",Ecarts!F88),\"\")","v":""},{"$f":"IF( Ecarts!$E88=$A$1, IF(Ecarts!I88=\"\",\"\",Ecarts!I88),\"\")","v":""},{"$f":"IF( Ecarts!$E88=$A$1, IF(Ecarts!J88=\"\",\"\",Ecarts!J88),\"\")","v":""},{"$f":"IF( Ecarts!$E88=$A$1, IF(Ecarts!K88=\"\",\"\",Ecarts!K88),\"\")","v":""},{"$f":"IF( Ecarts!$E88=$A$1, IF(Ecarts!L88=\"\",\"\",Ecarts!L88),\"\")","v":""},{"$f":"IF( Ecarts!$E88=$A$1, IF(Ecarts!M88=\"\",\"\",Ecarts!M88),\"\")","v":""},0,0]
[{"$f":"IF( Ecarts!$E89=$A$1,IF( Ecarts!B89=\"\",\"\",Ecarts!A89),\"\")","v":""},{"$f":"IF( Ecarts!$E89=$A$1,IF( Ecarts!C89=\"\",\"\",Ecarts!C89),\"\")","v":""},{"$f":"IF( Ecarts!$E89=$A$1, IF(Ecarts!F89=\"\",\"\",Ecarts!F89),\"\")","v":""},{"$f":"IF( Ecarts!$E89=$A$1, IF(Ecarts!I89=\"\",\"\",Ecarts!I89),\"\")","v":""},{"$f":"IF( Ecarts!$E89=$A$1, IF(Ecarts!J89=\"\",\"\",Ecarts!J89),\"\")","v":""},{"$f":"IF( Ecarts!$E89=$A$1, IF(Ecarts!K89=\"\",\"\",Ecarts!K89),\"\")","v":""},{"$f":"IF( Ecarts!$E89=$A$1, IF(Ecarts!L89=\"\",\"\",Ecarts!L89),\"\")","v":""},{"$f":"IF( Ecarts!$E89=$A$1, IF(Ecarts!M89=\"\",\"\",Ecarts!M89),\"\")","v":""},0,0]
[{"$f":"IF( Ecarts!$E90=$A$1,IF( Ecarts!B90=\"\",\"\",Ecarts!A90),\"\")","v":""},{"$f":"IF( Ecarts!$E90=$A$1,IF( Ecarts!C90=\"\",\"\",Ecarts!C90),\"\")","v":""},{"$f":"IF( Ecarts!$E90=$A$1, IF(Ecarts!F90=\"\",\"\",Ecarts!F90),\"\")","v":""},{"$f":"IF( Ecarts!$E90=$A$1, IF(Ecarts!I90=\"\",\"\",Ecarts!I90),\"\")","v":""},{"$f":"IF( Ecarts!$E90=$A$1, IF(Ecarts!J90=\"\",\"\",Ecarts!J90),\"\")","v":""},{"$f":"IF( Ecarts!$E90=$A$1, IF(Ecarts!K90=\"\",\"\",Ecarts!K90),\"\")","v":""},{"$f":"IF( Ecarts!$E90=$A$1, IF(Ecarts!L90=\"\",\"\",Ecarts!L90),\"\")","v":""},{"$f":"IF( Ecarts!$E90=$A$1, IF(Ecarts!M90=\"\",\"\",Ecarts!M90),\"\")","v":""},0,0]
[{"$f":"IF( Ecarts!$E91=$A$1,IF( Ecarts!B91=\"\",\"\",Ecarts!A91),\"\")","v":""},{"$f":"IF( Ecarts!$E91=$A$1,IF( Ecarts!C91=\"\",\"\",Ecarts!C91),\"\")","v":""},{"$f":"IF( Ecarts!$E91=$A$1, IF(Ecarts!F91=\"\",\"\",Ecarts!F91),\"\")","v":""},{"$f":"IF( Ecarts!$E91=$A$1, IF(Ecarts!I91=\"\",\"\",Ecarts!I91),\"\")","v":""},{"$f":"IF( Ecarts!$E91=$A$1, IF(Ecarts!J91=\"\",\"\",Ecarts!J91),\"\")","v":""},{"$f":"IF( Ecarts!$E91=$A$1, IF(Ecarts!K91=\"\",\"\",Ecarts!K91),\"\")","v":""},{"$f":"IF( Ecarts!$E91=$A$1, IF(Ecarts!L91=\"\",\"\",Ecarts!L91),\"\")","v":""},{"$f":"IF( Ecarts!$E91=$A$1, IF(Ecarts!M91=\"\",\"\",Ecarts!M91),\"\")","v":""},0,0]
[{"$f":"IF( Ecarts!$E92=$A$1,IF( Ecarts!B92=\"\",\"\",Ecarts!A92),\"\")","v":""},{"$f":"IF( Ecarts!$E92=$A$1,IF( Ecarts!C92=\"\",\"\",Ecarts!C92),\"\")","v":""},{"$f":"IF( Ecarts!$E92=$A$1, IF(Ecarts!F92=\"\",\"\",Ecarts!F92),\"\")","v":""},{"$f":"IF( Ecarts!$E92=$A$1, IF(Ecarts!I92=\"\",\"\",Ecarts!I92),\"\")","v":""},{"$f":"IF( Ecarts!$E92=$A$1, IF(Ecarts!J92=\"\",\"\",Ecarts!J92),\"\")","v":""},{"$f":"IF( Ecarts!$E92=$A$1, IF(Ecarts!K92=\"\",\"\",Ecarts!K92),\"\")","v":""},{"$f":"IF( Ecarts!$E92=$A$1, IF(Ecarts!L92=\"\",\"\",Ecarts!L92),\"\")","v":""},{"$f":"IF( Ecarts!$E92=$A$1, IF(Ecarts!M92=\"\",\"\",Ecarts!M92),\"\")","v":""},0,0]
[{"$f":"IF( Ecarts!$E93=$A$1,IF( Ecarts!B93=\"\",\"\",Ecarts!A93),\"\")","v":""},{"$f":"IF( Ecarts!$E93=$A$1,IF( Ecarts!C93=\"\",\"\",Ecarts!C93),\"\")","v":""},{"$f":"IF( Ecarts!$E93=$A$1, IF(Ecarts!F93=\"\",\"\",Ecarts!F93),\"\")","v":""},{"$f":"IF( Ecarts!$E93=$A$1, IF(Ecarts!I93=\"\",\"\",Ecarts!I93),\"\")","v":""},{"$f":"IF( Ecarts!$E93=$A$1, IF(Ecarts!J93=\"\",\"\",Ecarts!J93),\"\")","v":""},{"$f":"IF( Ecarts!$E93=$A$1, IF(Ecarts!K93=\"\",\"\",Ecarts!K93),\"\")","v":""},{"$f":"IF( Ecarts!$E93=$A$1, IF(Ecarts!L93=\"\",\"\",Ecarts!L93),\"\")","v":""},{"$f":"IF( Ecarts!$E93=$A$1, IF(Ecarts!M93=\"\",\"\",Ecarts!M93),\"\")","v":""},0,0]
[{"$f":"IF( Ecarts!$E94=$A$1,IF( Ecarts!B94=\"\",\"\",Ecarts!A94),\"\")","v":""},{"$f":"IF( Ecarts!$E94=$A$1,IF( Ecarts!C94=\"\",\"\",Ecarts!C94),\"\")","v":""},{"$f":"IF( Ecarts!$E94=$A$1, IF(Ecarts!F94=\"\",\"\",Ecarts!F94),\"\")","v":""},{"$f":"IF( Ecarts!$E94=$A$1, IF(Ecarts!I94=\"\",\"\",Ecarts!I94),\"\")","v":""},{"$f":"IF( Ecarts!$E94=$A$1, IF(Ecarts!J94=\"\",\"\",Ecarts!J94),\"\")","v":""},{"$f":"IF( Ecarts!$E94=$A$1, IF(Ecarts!K94=\"\",\"\",Ecarts!K94),\"\")","v":""},{"$f":"IF( Ecarts!$E94=$A$1, IF(Ecarts!L94=\"\",\"\",Ecarts!L94),\"\")","v":""},{"$f":"IF( Ecarts!$E94=$A$1, IF(Ecarts!M94=\"\",\"\",Ecarts!M94),\"\")","v":""},0,0]
[{"$f":"IF( Ecarts!$E95=$A$1,IF( Ecarts!B95=\"\",\"\",Ecarts!A95),\"\")","v":""},{"$f":"IF( Ecarts!$E95=$A$1,IF( Ecarts!C95=\"\",\"\",Ecarts!C95),\"\")","v":""},{"$f":"IF( Ecarts!$E95=$A$1, IF(Ecarts!F95=\"\",\"\",Ecarts!F95),\"\")","v":""},{"$f":"IF( Ecarts!$E95=$A$1, IF(Ecarts!I95=\"\",\"\",Ecarts!I95),\"\")","v":""},{"$f":"IF( Ecarts!$E95=$A$1, IF(Ecarts!J95=\"\",\"\",Ecarts!J95),\"\")","v":""},{"$f":"IF( Ecarts!$E95=$A$1, IF(Ecarts!K95=\"\",\"\",Ecarts!K95),\"\")","v":""},{"$f":"IF( Ecarts!$E95=$A$1, IF(Ecarts!L95=\"\",\"\",Ecarts!L95),\"\")","v":""},{"$f":"IF( Ecarts!$E95=$A$1, IF(Ecarts!M95=\"\",\"\",Ecarts!M95),\"\")","v":""},0,0]
[{"$f":"IF( Ecarts!$E96=$A$1,IF( Ecarts!B96=\"\",\"\",Ecarts!A96),\"\")","v":""},{"$f":"IF( Ecarts!$E96=$A$1,IF( Ecarts!C96=\"\",\"\",Ecarts!C96),\"\")","v":""},{"$f":"IF( Ecarts!$E96=$A$1, IF(Ecarts!F96=\"\",\"\",Ecarts!F96),\"\")","v":""},{"$f":"IF( Ecarts!$E96=$A$1, IF(Ecarts!I96=\"\",\"\",Ecarts!I96),\"\")","v":""},{"$f":"IF( Ecarts!$E96=$A$1, IF(Ecarts!J96=\"\",\"\",Ecarts!J96),\"\")","v":""},{"$f":"IF( Ecarts!$E96=$A$1, IF(Ecarts!K96=\"\",\"\",Ecarts!K96),\"\")","v":""},{"$f":"IF( Ecarts!$E96=$A$1, IF(Ecarts!L96=\"\",\"\",Ecarts!L96),\"\")","v":""},{"$f":"IF( Ecarts!$E96=$A$1, IF(Ecarts!M96=\"\",\"\",Ecarts!M96),\"\")","v":""},0,0]
[{"$f":"IF( Ecarts!$E97=$A$1,IF( Ecarts!B97=\"\",\"\",Ecarts!A97),\"\")","v":""},{"$f":"IF( Ecarts!$E97=$A$1,IF( Ecarts!C97=\"\",\"\",Ecarts!C97),\"\")","v":""},{"$f":"IF( Ecarts!$E97=$A$1, IF(Ecarts!F97=\"\",\"\",Ecarts!F97),\"\")","v":""},{"$f":"IF( Ecarts!$E97=$A$1, IF(Ecarts!I97=\"\",\"\",Ecarts!I97),\"\")","v":""},{"$f":"IF( Ecarts!$E97=$A$1, IF(Ecarts!J97=\"\",\"\",Ecarts!J97),\"\")","v":""},{"$f":"IF( Ecarts!$E97=$A$1, IF(Ecarts!K97=\"\",\"\",Ecarts!K97),\"\")","v":""},{"$f":"IF( Ecarts!$E97=$A$1, IF(Ecarts!L97=\"\",\"\",Ecarts!L97),\"\")","v":""},{"$f":"IF( Ecarts!$E97=$A$1, IF(Ecarts!M97=\"\",\"\",Ecarts!M97),\"\")","v":""},0,0]
[{"$f":"IF( Ecarts!$E98=$A$1,IF( Ecarts!B98=\"\",\"\",Ecarts!A98),\"\")","v":""},{"$f":"IF( Ecarts!$E98=$A$1,IF( Ecarts!C98=\"\",\"\",Ecarts!C98),\"\")","v":""},{"$f":"IF( Ecarts!$E98=$A$1, IF(Ecarts!F98=\"\",\"\",Ecarts!F98),\"\")","v":""},{"$f":"IF( Ecarts!$E98=$A$1, IF(Ecarts!I98=\"\",\"\",Ecarts!I98),\"\")","v":""},{"$f":"IF( Ecarts!$E98=$A$1, IF(Ecarts!J98=\"\",\"\",Ecarts!J98),\"\")","v":""},{"$f":"IF( Ecarts!$E98=$A$1, IF(Ecarts!K98=\"\",\"\",Ecarts!K98),\"\")","v":""},{"$f":"IF( Ecarts!$E98=$A$1, IF(Ecarts!L98=\"\",\"\",Ecarts!L98),\"\")","v":""},{"$f":"IF( Ecarts!$E98=$A$1, IF(Ecarts!M98=\"\",\"\",Ecarts!M98),\"\")","v":""},0,0]
[{"$f":"IF( Ecarts!$E99=$A$1,IF( Ecarts!B99=\"\",\"\",Ecarts!A99),\"\")","v":""},{"$f":"IF( Ecarts!$E99=$A$1,IF( Ecarts!C99=\"\",\"\",Ecarts!C99),\"\")","v":""},{"$f":"IF( Ecarts!$E99=$A$1, IF(Ecarts!F99=\"\",\"\",Ecarts!F99),\"\")","v":""},{"$f":"IF( Ecarts!$E99=$A$1, IF(Ecarts!I99=\"\",\"\",Ecarts!I99),\"\")","v":""},{"$f":"IF( Ecarts!$E99=$A$1, IF(Ecarts!J99=\"\",\"\",Ecarts!J99),\"\")","v":""},{"$f":"IF( Ecarts!$E99=$A$1, IF(Ecarts!K99=\"\",\"\",Ecarts!K99),\"\")","v":""},{"$f":"IF( Ecarts!$E99=$A$1, IF(Ecarts!L99=\"\",\"\",Ecarts!L99),\"\")","v":""},{"$f":"IF( Ecarts!$E99=$A$1, IF(Ecarts!M99=\"\",\"\",Ecarts!M99),\"\")","v":""},0,0]
[{"$f":"IF( Ecarts!$E100=$A$1,IF( Ecarts!B100=\"\",\"\",Ecarts!A100),\"\")","v":""},{"$f":"IF( Ecarts!$E100=$A$1,IF( Ecarts!C100=\"\",\"\",Ecarts!C100),\"\")","v":""},{"$f":"IF( Ecarts!$E100=$A$1, IF(Ecarts!F100=\"\",\"\",Ecarts!F100),\"\")","v":""},{"$f":"IF( Ecarts!$E100=$A$1, IF(Ecarts!I100=\"\",\"\",Ecarts!I100),\"\")","v":""},{"$f":"IF( Ecarts!$E100=$A$1, IF(Ecarts!J100=\"\",\"\",Ecarts!J100),\"\")","v":""},{"$f":"IF( Ecarts!$E100=$A$1, IF(Ecarts!K100=\"\",\"\",Ecarts!K100),\"\")","v":""},{"$f":"IF( Ecarts!$E100=$A$1, IF(Ecarts!L100=\"\",\"\",Ecarts!L100),\"\")","v":""},{"$f":"IF( Ecarts!$E100=$A$1, IF(Ecarts!M100=\"\",\"\",Ecarts!M100),\"\")","v":""},0,0]
[{"$f":"IF( Ecarts!$E101=$A$1,IF( Ecarts!B101=\"\",\"\",Ecarts!A101),\"\")","v":""},{"$f":"IF( Ecarts!$E101=$A$1,IF( Ecarts!C101=\"\",\"\",Ecarts!C101),\"\")","v":""},{"$f":"IF( Ecarts!$E101=$A$1, IF(Ecarts!F101=\"\",\"\",Ecarts!F101),\"\")","v":""},{"$f":"IF( Ecarts!$E101=$A$1, IF(Ecarts!I101=\"\",\"\",Ecarts!I101),\"\")","v":""},{"$f":"IF( Ecarts!$E101=$A$1, IF(Ecarts!J101=\"\",\"\",Ecarts!J101),\"\")","v":""},{"$f":"IF( Ecarts!$E101=$A$1, IF(Ecarts!K101=\"\",\"\",Ecarts!K101),\"\")","v":""},{"$f":"IF( Ecarts!$E101=$A$1, IF(Ecarts!L101=\"\",\"\",Ecarts!L101),\"\")","v":""},{"$f":"IF( Ecarts!$E101=$A$1, IF(Ecarts!M101=\"\",\"\",Ecarts!M101),\"\")","v":""},0,0]
[{"$f":"IF( Ecarts!$E102=$A$1,IF( Ecarts!B102=\"\",\"\",Ecarts!A102),\"\")","v":""},{"$f":"IF( Ecarts!$E102=$A$1,IF( Ecarts!C102=\"\",\"\",Ecarts!C102),\"\")","v":""},{"$f":"IF( Ecarts!$E102=$A$1, IF(Ecarts!F102=\"\",\"\",Ecarts!F102),\"\")","v":""},{"$f":"IF( Ecarts!$E102=$A$1, IF(Ecarts!I102=\"\",\"\",Ecarts!I102),\"\")","v":""},{"$f":"IF( Ecarts!$E102=$A$1, IF(Ecarts!J102=\"\",\"\",Ecarts!J102),\"\")","v":""},{"$f":"IF( Ecarts!$E102=$A$1, IF(Ecarts!K102=\"\",\"\",Ecarts!K102),\"\")","v":""},{"$f":"IF( Ecarts!$E102=$A$1, IF(Ecarts!L102=\"\",\"\",Ecarts!L102),\"\")","v":""},{"$f":"IF( Ecarts!$E102=$A$1, IF(Ecarts!M102=\"\",\"\",Ecarts!M102),\"\")","v":""},0,0]
[{"$f":"IF( Ecarts!$E103=$A$1,IF( Ecarts!B103=\"\",\"\",Ecarts!A103),\"\")","v":""},{"$f":"IF( Ecarts!$E103=$A$1,IF( Ecarts!C103=\"\",\"\",Ecarts!C103),\"\")","v":""},{"$f":"IF( Ecarts!$E103=$A$1, IF(Ecarts!F103=\"\",\"\",Ecarts!F103),\"\")","v":""},{"$f":"IF( Ecarts!$E103=$A$1, IF(Ecarts!I103=\"\",\"\",Ecarts!I103),\"\")","v":""},{"$f":"IF( Ecarts!$E103=$A$1, IF(Ecarts!J103=\"\",\"\",Ecarts!J103),\"\")","v":""},{"$f":"IF( Ecarts!$E103=$A$1, IF(Ecarts!K103=\"\",\"\",Ecarts!K103),\"\")","v":""},{"$f":"IF( Ecarts!$E103=$A$1, IF(Ecarts!L103=\"\",\"\",Ecarts!L103),\"\")","v":""},{"$f":"IF( Ecarts!$E103=$A$1, IF(Ecarts!M103=\"\",\"\",Ecarts!M103),\"\")","v":""},0,0]
[{"$f":"IF( Ecarts!$E104=$A$1,IF( Ecarts!B104=\"\",\"\",Ecarts!A104),\"\")","v":""},{"$f":"IF( Ecarts!$E104=$A$1,IF( Ecarts!C104=\"\",\"\",Ecarts!C104),\"\")","v":""},{"$f":"IF( Ecarts!$E104=$A$1, IF(Ecarts!F104=\"\",\"\",Ecarts!F104),\"\")","v":""},{"$f":"IF( Ecarts!$E104=$A$1, IF(Ecarts!I104=\"\",\"\",Ecarts!I104),\"\")","v":""},{"$f":"IF( Ecarts!$E104=$A$1, IF(Ecarts!J104=\"\",\"\",Ecarts!J104),\"\")","v":""},{"$f":"IF( Ecarts!$E104=$A$1, IF(Ecarts!K104=\"\",\"\",Ecarts!K104),\"\")","v":""},{"$f":"IF( Ecarts!$E104=$A$1, IF(Ecarts!L104=\"\",\"\",Ecarts!L104),\"\")","v":""},{"$f":"IF( Ecarts!$E104=$A$1, IF(Ecarts!M104=\"\",\"\",Ecarts!M104),\"\")","v":""},0,0]
[{"$f":"IF( Ecarts!$E105=$A$1,IF( Ecarts!B105=\"\",\"\",Ecarts!A105),\"\")","v":""},{"$f":"IF( Ecarts!$E105=$A$1,IF( Ecarts!C105=\"\",\"\",Ecarts!C105),\"\")","v":""},{"$f":"IF( Ecarts!$E105=$A$1, IF(Ecarts!F105=\"\",\"\",Ecarts!F105),\"\")","v":""},{"$f":"IF( Ecarts!$E105=$A$1, IF(Ecarts!I105=\"\",\"\",Ecarts!I105),\"\")","v":""},{"$f":"IF( Ecarts!$E105=$A$1, IF(Ecarts!J105=\"\",\"\",Ecarts!J105),\"\")","v":""},{"$f":"IF( Ecarts!$E105=$A$1, IF(Ecarts!K105=\"\",\"\",Ecarts!K105),\"\")","v":""},{"$f":"IF( Ecarts!$E105=$A$1, IF(Ecarts!L105=\"\",\"\",Ecarts!L105),\"\")","v":""},{"$f":"IF( Ecarts!$E105=$A$1, IF(Ecarts!M105=\"\",\"\",Ecarts!M105),\"\")","v":""},0,0]
[{"$f":"IF( Ecarts!$E106=$A$1,IF( Ecarts!B106=\"\",\"\",Ecarts!A106),\"\")","v":""},{"$f":"IF( Ecarts!$E106=$A$1,IF( Ecarts!C106=\"\",\"\",Ecarts!C106),\"\")","v":""},{"$f":"IF( Ecarts!$E106=$A$1, IF(Ecarts!F106=\"\",\"\",Ecarts!F106),\"\")","v":""},{"$f":"IF( Ecarts!$E106=$A$1, IF(Ecarts!I106=\"\",\"\",Ecarts!I106),\"\")","v":""},{"$f":"IF( Ecarts!$E106=$A$1, IF(Ecarts!J106=\"\",\"\",Ecarts!J106),\"\")","v":""},{"$f":"IF( Ecarts!$E106=$A$1, IF(Ecarts!K106=\"\",\"\",Ecarts!K106),\"\")","v":""},{"$f":"IF( Ecarts!$E106=$A$1, IF(Ecarts!L106=\"\",\"\",Ecarts!L106),\"\")","v":""},{"$f":"IF( Ecarts!$E106=$A$1, IF(Ecarts!M106=\"\",\"\",Ecarts!M106),\"\")","v":""},0,0]
[{"$f":"IF( Ecarts!$E107=$A$1,IF( Ecarts!B107=\"\",\"\",Ecarts!A107),\"\")","v":""},{"$f":"IF( Ecarts!$E107=$A$1,IF( Ecarts!C107=\"\",\"\",Ecarts!C107),\"\")","v":""},{"$f":"IF( Ecarts!$E107=$A$1, IF(Ecarts!F107=\"\",\"\",Ecarts!F107),\"\")","v":""},{"$f":"IF( Ecarts!$E107=$A$1, IF(Ecarts!I107=\"\",\"\",Ecarts!I107),\"\")","v":""},{"$f":"IF( Ecarts!$E107=$A$1, IF(Ecarts!J107=\"\",\"\",Ecarts!J107),\"\")","v":""},{"$f":"IF( Ecarts!$E107=$A$1, IF(Ecarts!K107=\"\",\"\",Ecarts!K107),\"\")","v":""},{"$f":"IF( Ecarts!$E107=$A$1, IF(Ecarts!L107=\"\",\"\",Ecarts!L107),\"\")","v":""},{"$f":"IF( Ecarts!$E107=$A$1, IF(Ecarts!M107=\"\",\"\",Ecarts!M107),\"\")","v":""},0,0]
[{"$f":"IF( Ecarts!$E108=$A$1,IF( Ecarts!B108=\"\",\"\",Ecarts!A108),\"\")","v":""},{"$f":"IF( Ecarts!$E108=$A$1,IF( Ecarts!C108=\"\",\"\",Ecarts!C108),\"\")","v":""},{"$f":"IF( Ecarts!$E108=$A$1, IF(Ecarts!F108=\"\",\"\",Ecarts!F108),\"\")","v":""},{"$f":"IF( Ecarts!$E108=$A$1, IF(Ecarts!I108=\"\",\"\",Ecarts!I108),\"\")","v":""},{"$f":"IF( Ecarts!$E108=$A$1, IF(Ecarts!J108=\"\",\"\",Ecarts!J108),\"\")","v":""},{"$f":"IF( Ecarts!$E108=$A$1, IF(Ecarts!K108=\"\",\"\",Ecarts!K108),\"\")","v":""},{"$f":"IF( Ecarts!$E108=$A$1, IF(Ecarts!L108=\"\",\"\",Ecarts!L108),\"\")","v":""},{"$f":"IF( Ecarts!$E108=$A$1, IF(Ecarts!M108=\"\",\"\",Ecarts!M108),\"\")","v":""},0,0]
[{"$f":"IF( Ecarts!$E109=$A$1,IF( Ecarts!B109=\"\",\"\",Ecarts!A109),\"\")","v":""},{"$f":"IF( Ecarts!$E109=$A$1,IF( Ecarts!C109=\"\",\"\",Ecarts!C109),\"\")","v":""},{"$f":"IF( Ecarts!$E109=$A$1, IF(Ecarts!F109=\"\",\"\",Ecarts!F109),\"\")","v":""},{"$f":"IF( Ecarts!$E109=$A$1, IF(Ecarts!I109=\"\",\"\",Ecarts!I109),\"\")","v":""},{"$f":"IF( Ecarts!$E109=$A$1, IF(Ecarts!J109=\"\",\"\",Ecarts!J109),\"\")","v":""},{"$f":"IF( Ecarts!$E109=$A$1, IF(Ecarts!K109=\"\",\"\",Ecarts!K109),\"\")","v":""},{"$f":"IF( Ecarts!$E109=$A$1, IF(Ecarts!L109=\"\",\"\",Ecarts!L109),\"\")","v":""},{"$f":"IF( Ecarts!$E109=$A$1, IF(Ecarts!M109=\"\",\"\",Ecarts!M109),\"\")","v":""},0,0]
[{"$f":"IF( Ecarts!$E110=$A$1,IF( Ecarts!B110=\"\",\"\",Ecarts!A110),\"\")","v":""},{"$f":"IF( Ecarts!$E110=$A$1,IF( Ecarts!C110=\"\",\"\",Ecarts!C110),\"\")","v":""},{"$f":"IF( Ecarts!$E110=$A$1, IF(Ecarts!F110=\"\",\"\",Ecarts!F110),\"\")","v":""},{"$f":"IF( Ecarts!$E110=$A$1, IF(Ecarts!I110=\"\",\"\",Ecarts!I110),\"\")","v":""},{"$f":"IF( Ecarts!$E110=$A$1, IF(Ecarts!J110=\"\",\"\",Ecarts!J110),\"\")","v":""},{"$f":"IF( Ecarts!$E110=$A$1, IF(Ecarts!K110=\"\",\"\",Ecarts!K110),\"\")","v":""},{"$f":"IF( Ecarts!$E110=$A$1, IF(Ecarts!L110=\"\",\"\",Ecarts!L110),\"\")","v":""},{"$f":"IF( Ecarts!$E110=$A$1, IF(Ecarts!M110=\"\",\"\",Ecarts!M110),\"\")","v":""},0,0]
[{"$f":"IF( Ecarts!$E111=$A$1,IF( Ecarts!B111=\"\",\"\",Ecarts!A111),\"\")","v":""},{"$f":"IF( Ecarts!$E111=$A$1,IF( Ecarts!C111=\"\",\"\",Ecarts!C111),\"\")","v":""},{"$f":"IF( Ecarts!$E111=$A$1, IF(Ecarts!F111=\"\",\"\",Ecarts!F111),\"\")","v":""},{"$f":"IF( Ecarts!$E111=$A$1, IF(Ecarts!I111=\"\",\"\",Ecarts!I111),\"\")","v":""},{"$f":"IF( Ecarts!$E111=$A$1, IF(Ecarts!J111=\"\",\"\",Ecarts!J111),\"\")","v":""},{"$f":"IF( Ecarts!$E111=$A$1, IF(Ecarts!K111=\"\",\"\",Ecarts!K111),\"\")","v":""},{"$f":"IF( Ecarts!$E111=$A$1, IF(Ecarts!L111=\"\",\"\",Ecarts!L111),\"\")","v":""},{"$f":"IF( Ecarts!$E111=$A$1, IF(Ecarts!M111=\"\",\"\",Ecarts!M111),\"\")","v":""},0,0]
[{"$f":"IF( Ecarts!$E112=$A$1,IF( Ecarts!B112=\"\",\"\",Ecarts!A112),\"\")","v":""},{"$f":"IF( Ecarts!$E112=$A$1,IF( Ecarts!C112=\"\",\"\",Ecarts!C112),\"\")","v":""},{"$f":"IF( Ecarts!$E112=$A$1, IF(Ecarts!F112=\"\",\"\",Ecarts!F112),\"\")","v":""},{"$f":"IF( Ecarts!$E112=$A$1, IF(Ecarts!I112=\"\",\"\",Ecarts!I112),\"\")","v":""},{"$f":"IF( Ecarts!$E112=$A$1, IF(Ecarts!J112=\"\",\"\",Ecarts!J112),\"\")","v":""},{"$f":"IF( Ecarts!$E112=$A$1, IF(Ecarts!K112=\"\",\"\",Ecarts!K112),\"\")","v":""},{"$f":"IF( Ecarts!$E112=$A$1, IF(Ecarts!L112=\"\",\"\",Ecarts!L112),\"\")","v":""},{"$f":"IF( Ecarts!$E112=$A$1, IF(Ecarts!M112=\"\",\"\",Ecarts!M112),\"\")","v":""},0,0]
[{"$f":"IF( Ecarts!$E113=$A$1,IF( Ecarts!B113=\"\",\"\",Ecarts!A113),\"\")","v":""},{"$f":"IF( Ecarts!$E113=$A$1,IF( Ecarts!C113=\"\",\"\",Ecarts!C113),\"\")","v":""},{"$f":"IF( Ecarts!$E113=$A$1, IF(Ecarts!F113=\"\",\"\",Ecarts!F113),\"\")","v":""},{"$f":"IF( Ecarts!$E113=$A$1, IF(Ecarts!I113=\"\",\"\",Ecarts!I113),\"\")","v":""},{"$f":"IF( Ecarts!$E113=$A$1, IF(Ecarts!J113=\"\",\"\",Ecarts!J113),\"\")","v":""},{"$f":"IF( Ecarts!$E113=$A$1, IF(Ecarts!K113=\"\",\"\",Ecarts!K113),\"\")","v":""},{"$f":"IF( Ecarts!$E113=$A$1, IF(Ecarts!L113=\"\",\"\",Ecarts!L113),\"\")","v":""},{"$f":"IF( Ecarts!$E113=$A$1, IF(Ecarts!M113=\"\",\"\",Ecarts!M113),\"\")","v":""},0,0]
[{"$f":"IF( Ecarts!$E114=$A$1,IF( Ecarts!B114=\"\",\"\",Ecarts!A114),\"\")","v":""},{"$f":"IF( Ecarts!$E114=$A$1,IF( Ecarts!C114=\"\",\"\",Ecarts!C114),\"\")","v":""},{"$f":"IF( Ecarts!$E114=$A$1, IF(Ecarts!F114=\"\",\"\",Ecarts!F114),\"\")","v":""},{"$f":"IF( Ecarts!$E114=$A$1, IF(Ecarts!I114=\"\",\"\",Ecarts!I114),\"\")","v":""},{"$f":"IF( Ecarts!$E114=$A$1, IF(Ecarts!J114=\"\",\"\",Ecarts!J114),\"\")","v":""},{"$f":"IF( Ecarts!$E114=$A$1, IF(Ecarts!K114=\"\",\"\",Ecarts!K114),\"\")","v":""},{"$f":"IF( Ecarts!$E114=$A$1, IF(Ecarts!L114=\"\",\"\",Ecarts!L114),\"\")","v":""},{"$f":"IF( Ecarts!$E114=$A$1, IF(Ecarts!M114=\"\",\"\",Ecarts!M114),\"\")","v":""},0,0]
[{"$f":"IF( Ecarts!$E115=$A$1,IF( Ecarts!B115=\"\",\"\",Ecarts!A115),\"\")","v":""},{"$f":"IF( Ecarts!$E115=$A$1,IF( Ecarts!C115=\"\",\"\",Ecarts!C115),\"\")","v":""},{"$f":"IF( Ecarts!$E115=$A$1, IF(Ecarts!F115=\"\",\"\",Ecarts!F115),\"\")","v":""},{"$f":"IF( Ecarts!$E115=$A$1, IF(Ecarts!I115=\"\",\"\",Ecarts!I115),\"\")","v":""},{"$f":"IF( Ecarts!$E115=$A$1, IF(Ecarts!J115=\"\",\"\",Ecarts!J115),\"\")","v":""},{"$f":"IF( Ecarts!$E115=$A$1, IF(Ecarts!K115=\"\",\"\",Ecarts!K115),\"\")","v":""},{"$f":"IF( Ecarts!$E115=$A$1, IF(Ecarts!L115=\"\",\"\",Ecarts!L115),\"\")","v":""},{"$f":"IF( Ecarts!$E115=$A$1, IF(Ecarts!M115=\"\",\"\",Ecarts!M115),\"\")","v":""},0,0]
[{"$f":"IF( Ecarts!$E116=$A$1,IF( Ecarts!B116=\"\",\"\",Ecarts!A116),\"\")","v":""},{"$f":"IF( Ecarts!$E116=$A$1,IF( Ecarts!C116=\"\",\"\",Ecarts!C116),\"\")","v":""},{"$f":"IF( Ecarts!$E116=$A$1, IF(Ecarts!F116=\"\",\"\",Ecarts!F116),\"\")","v":""},{"$f":"IF( Ecarts!$E116=$A$1, IF(Ecarts!I116=\"\",\"\",Ecarts!I116),\"\")","v":""},{"$f":"IF( Ecarts!$E116=$A$1, IF(Ecarts!J116=\"\",\"\",Ecarts!J116),\"\")","v":""},{"$f":"IF( Ecarts!$E116=$A$1, IF(Ecarts!K116=\"\",\"\",Ecarts!K116),\"\")","v":""},{"$f":"IF( Ecarts!$E116=$A$1, IF(Ecarts!L116=\"\",\"\",Ecarts!L116),\"\")","v":""},{"$f":"IF( Ecarts!$E116=$A$1, IF(Ecarts!M116=\"\",\"\",Ecarts!M116),\"\")","v":""},0,0]
[{"$f":"IF( Ecarts!$E117=$A$1,IF( Ecarts!B117=\"\",\"\",Ecarts!A117),\"\")","v":""},{"$f":"IF( Ecarts!$E117=$A$1,IF( Ecarts!C117=\"\",\"\",Ecarts!C117),\"\")","v":""},{"$f":"IF( Ecarts!$E117=$A$1, IF(Ecarts!F117=\"\",\"\",Ecarts!F117),\"\")","v":""},{"$f":"IF( Ecarts!$E117=$A$1, IF(Ecarts!I117=\"\",\"\",Ecarts!I117),\"\")","v":""},{"$f":"IF( Ecarts!$E117=$A$1, IF(Ecarts!J117=\"\",\"\",Ecarts!J117),\"\")","v":""},{"$f":"IF( Ecarts!$E117=$A$1, IF(Ecarts!K117=\"\",\"\",Ecarts!K117),\"\")","v":""},{"$f":"IF( Ecarts!$E117=$A$1, IF(Ecarts!L117=\"\",\"\",Ecarts!L117),\"\")","v":""},{"$f":"IF( Ecarts!$E117=$A$1, IF(Ecarts!M117=\"\",\"\",Ecarts!M117),\"\")","v":""},0,0]
[{"$f":"IF( Ecarts!$E118=$A$1,IF( Ecarts!B118=\"\",\"\",Ecarts!A118),\"\")","v":""},{"$f":"IF( Ecarts!$E118=$A$1,IF( Ecarts!C118=\"\",\"\",Ecarts!C118),\"\")","v":""},{"$f":"IF( Ecarts!$E118=$A$1, IF(Ecarts!F118=\"\",\"\",Ecarts!F118),\"\")","v":""},{"$f":"IF( Ecarts!$E118=$A$1, IF(Ecarts!I118=\"\",\"\",Ecarts!I118),\"\")","v":""},{"$f":"IF( Ecarts!$E118=$A$1, IF(Ecarts!J118=\"\",\"\",Ecarts!J118),\"\")","v":""},{"$f":"IF( Ecarts!$E118=$A$1, IF(Ecarts!K118=\"\",\"\",Ecarts!K118),\"\")","v":""},{"$f":"IF( Ecarts!$E118=$A$1, IF(Ecarts!L118=\"\",\"\",Ecarts!L118),\"\")","v":""},{"$f":"IF( Ecarts!$E118=$A$1, IF(Ecarts!M118=\"\",\"\",Ecarts!M118),\"\")","v":""},0,0]
[{"$f":"IF( Ecarts!$E119=$A$1,IF( Ecarts!B119=\"\",\"\",Ecarts!A119),\"\")","v":""},{"$f":"IF( Ecarts!$E119=$A$1,IF( Ecarts!C119=\"\",\"\",Ecarts!C119),\"\")","v":""},{"$f":"IF( Ecarts!$E119=$A$1, IF(Ecarts!F119=\"\",\"\",Ecarts!F119),\"\")","v":""},{"$f":"IF( Ecarts!$E119=$A$1, IF(Ecarts!I119=\"\",\"\",Ecarts!I119),\"\")","v":""},{"$f":"IF( Ecarts!$E119=$A$1, IF(Ecarts!J119=\"\",\"\",Ecarts!J119),\"\")","v":""},{"$f":"IF( Ecarts!$E119=$A$1, IF(Ecarts!K119=\"\",\"\",Ecarts!K119),\"\")","v":""},{"$f":"IF( Ecarts!$E119=$A$1, IF(Ecarts!L119=\"\",\"\",Ecarts!L119),\"\")","v":""},{"$f":"IF( Ecarts!$E119=$A$1, IF(Ecarts!M119=\"\",\"\",Ecarts!M119),\"\")","v":""},0,0]
[{"$f":"IF( Ecarts!$E120=$A$1,IF( Ecarts!B120=\"\",\"\",Ecarts!A120),\"\")","v":""},{"$f":"IF( Ecarts!$E120=$A$1,IF( Ecarts!C120=\"\",\"\",Ecarts!C120),\"\")","v":""},{"$f":"IF( Ecarts!$E120=$A$1, IF(Ecarts!F120=\"\",\"\",Ecarts!F120),\"\")","v":""},{"$f":"IF( Ecarts!$E120=$A$1, IF(Ecarts!I120=\"\",\"\",Ecarts!I120),\"\")","v":""},{"$f":"IF( Ecarts!$E120=$A$1, IF(Ecarts!J120=\"\",\"\",Ecarts!J120),\"\")","v":""},{"$f":"IF( Ecarts!$E120=$A$1, IF(Ecarts!K120=\"\",\"\",Ecarts!K120),\"\")","v":""},{"$f":"IF( Ecarts!$E120=$A$1, IF(Ecarts!L120=\"\",\"\",Ecarts!L120),\"\")","v":""},{"$f":"IF( Ecarts!$E120=$A$1, IF(Ecarts!M120=\"\",\"\",Ecarts!M120),\"\")","v":""},0,0]
[{"$f":"IF( Ecarts!$E121=$A$1,IF( Ecarts!B121=\"\",\"\",Ecarts!A121),\"\")","v":""},{"$f":"IF( Ecarts!$E121=$A$1,IF( Ecarts!C121=\"\",\"\",Ecarts!C121),\"\")","v":""},{"$f":"IF( Ecarts!$E121=$A$1, IF(Ecarts!F121=\"\",\"\",Ecarts!F121),\"\")","v":""},{"$f":"IF( Ecarts!$E121=$A$1, IF(Ecarts!I121=\"\",\"\",Ecarts!I121),\"\")","v":""},{"$f":"IF( Ecarts!$E121=$A$1, IF(Ecarts!J121=\"\",\"\",Ecarts!J121),\"\")","v":""},{"$f":"IF( Ecarts!$E121=$A$1, IF(Ecarts!K121=\"\",\"\",Ecarts!K121),\"\")","v":""},{"$f":"IF( Ecarts!$E121=$A$1, IF(Ecarts!L121=\"\",\"\",Ecarts!L121),\"\")","v":""},{"$f":"IF( Ecarts!$E121=$A$1, IF(Ecarts!M121=\"\",\"\",Ecarts!M121),\"\")","v":""},0,0]
[{"$f":"IF( Ecarts!$E122=$A$1,IF( Ecarts!B122=\"\",\"\",Ecarts!A122),\"\")","v":""},{"$f":"IF( Ecarts!$E122=$A$1,IF( Ecarts!C122=\"\",\"\",Ecarts!C122),\"\")","v":""},{"$f":"IF( Ecarts!$E122=$A$1, IF(Ecarts!F122=\"\",\"\",Ecarts!F122),\"\")","v":""},{"$f":"IF( Ecarts!$E122=$A$1, IF(Ecarts!I122=\"\",\"\",Ecarts!I122),\"\")","v":""},{"$f":"IF( Ecarts!$E122=$A$1, IF(Ecarts!J122=\"\",\"\",Ecarts!J122),\"\")","v":""},{"$f":"IF( Ecarts!$E122=$A$1, IF(Ecarts!K122=\"\",\"\",Ecarts!K122),\"\")","v":""},{"$f":"IF( Ecarts!$E122=$A$1, IF(Ecarts!L122=\"\",\"\",Ecarts!L122),\"\")","v":""},{"$f":"IF( Ecarts!$E122=$A$1, IF(Ecarts!M122=\"\",\"\",Ecarts!M122),\"\")","v":""},0,0]
[{"$f":"IF( Ecarts!$E123=$A$1,IF( Ecarts!B123=\"\",\"\",Ecarts!A123),\"\")","v":""},{"$f":"IF( Ecarts!$E123=$A$1,IF( Ecarts!C123=\"\",\"\",Ecarts!C123),\"\")","v":""},{"$f":"IF( Ecarts!$E123=$A$1, IF(Ecarts!F123=\"\",\"\",Ecarts!F123),\"\")","v":""},{"$f":"IF( Ecarts!$E123=$A$1, IF(Ecarts!I123=\"\",\"\",Ecarts!I123),\"\")","v":""},{"$f":"IF( Ecarts!$E123=$A$1, IF(Ecarts!J123=\"\",\"\",Ecarts!J123),\"\")","v":""},{"$f":"IF( Ecarts!$E123=$A$1, IF(Ecarts!K123=\"\",\"\",Ecarts!K123),\"\")","v":""},{"$f":"IF( Ecarts!$E123=$A$1, IF(Ecarts!L123=\"\",\"\",Ecarts!L123),\"\")","v":""},{"$f":"IF( Ecarts!$E123=$A$1, IF(Ecarts!M123=\"\",\"\",Ecarts!M123),\"\")","v":""},0,0]
[{"$f":"IF( Ecarts!$E124=$A$1,IF( Ecarts!B124=\"\",\"\",Ecarts!A124),\"\")","v":""},{"$f":"IF( Ecarts!$E124=$A$1,IF( Ecarts!C124=\"\",\"\",Ecarts!C124),\"\")","v":""},{"$f":"IF( Ecarts!$E124=$A$1, IF(Ecarts!F124=\"\",\"\",Ecarts!F124),\"\")","v":""},{"$f":"IF( Ecarts!$E124=$A$1, IF(Ecarts!I124=\"\",\"\",Ecarts!I124),\"\")","v":""},{"$f":"IF( Ecarts!$E124=$A$1, IF(Ecarts!J124=\"\",\"\",Ecarts!J124),\"\")","v":""},{"$f":"IF( Ecarts!$E124=$A$1, IF(Ecarts!K124=\"\",\"\",Ecarts!K124),\"\")","v":""},{"$f":"IF( Ecarts!$E124=$A$1, IF(Ecarts!L124=\"\",\"\",Ecarts!L124),\"\")","v":""},{"$f":"IF( Ecarts!$E124=$A$1, IF(Ecarts!M124=\"\",\"\",Ecarts!M124),\"\")","v":""},0,0]
[{"$f":"IF( Ecarts!$E125=$A$1,IF( Ecarts!B125=\"\",\"\",Ecarts!A125),\"\")","v":""},{"$f":"IF( Ecarts!$E125=$A$1,IF( Ecarts!C125=\"\",\"\",Ecarts!C125),\"\")","v":""},{"$f":"IF( Ecarts!$E125=$A$1, IF(Ecarts!F125=\"\",\"\",Ecarts!F125),\"\")","v":""},{"$f":"IF( Ecarts!$E125=$A$1, IF(Ecarts!I125=\"\",\"\",Ecarts!I125),\"\")","v":""},{"$f":"IF( Ecarts!$E125=$A$1, IF(Ecarts!J125=\"\",\"\",Ecarts!J125),\"\")","v":""},{"$f":"IF( Ecarts!$E125=$A$1, IF(Ecarts!K125=\"\",\"\",Ecarts!K125),\"\")","v":""},{"$f":"IF( Ecarts!$E125=$A$1, IF(Ecarts!L125=\"\",\"\",Ecarts!L125),\"\")","v":""},{"$f":"IF( Ecarts!$E125=$A$1, IF(Ecarts!M125=\"\",\"\",Ecarts!M125),\"\")","v":""},0,0]
[{"$f":"IF( Ecarts!$E126=$A$1,IF( Ecarts!B126=\"\",\"\",Ecarts!A126),\"\")","v":""},{"$f":"IF( Ecarts!$E126=$A$1,IF( Ecarts!C126=\"\",\"\",Ecarts!C126),\"\")","v":""},{"$f":"IF( Ecarts!$E126=$A$1, IF(Ecarts!F126=\"\",\"\",Ecarts!F126),\"\")","v":""},{"$f":"IF( Ecarts!$E126=$A$1, IF(Ecarts!I126=\"\",\"\",Ecarts!I126),\"\")","v":""},{"$f":"IF( Ecarts!$E126=$A$1, IF(Ecarts!J126=\"\",\"\",Ecarts!J126),\"\")","v":""},{"$f":"IF( Ecarts!$E126=$A$1, IF(Ecarts!K126=\"\",\"\",Ecarts!K126),\"\")","v":""},{"$f":"IF( Ecarts!$E126=$A$1, IF(Ecarts!L126=\"\",\"\",Ecarts!L126),\"\")","v":""},{"$f":"IF( Ecarts!$E126=$A$1, IF(Ecarts!M126=\"\",\"\",Ecarts!M126),\"\")","v":""},0,0]
[{"$f":"IF( Ecarts!$E127=$A$1,IF( Ecarts!B127=\"\",\"\",Ecarts!A127),\"\")","v":""},{"$f":"IF( Ecarts!$E127=$A$1,IF( Ecarts!C127=\"\",\"\",Ecarts!C127),\"\")","v":""},{"$f":"IF( Ecarts!$E127=$A$1, IF(Ecarts!F127=\"\",\"\",Ecarts!F127),\"\")","v":""},{"$f":"IF( Ecarts!$E127=$A$1, IF(Ecarts!I127=\"\",\"\",Ecarts!I127),\"\")","v":""},{"$f":"IF( Ecarts!$E127=$A$1, IF(Ecarts!J127=\"\",\"\",Ecarts!J127),\"\")","v":""},{"$f":"IF( Ecarts!$E127=$A$1, IF(Ecarts!K127=\"\",\"\",Ecarts!K127),\"\")","v":""},{"$f":"IF( Ecarts!$E127=$A$1, IF(Ecarts!L127=\"\",\"\",Ecarts!L127),\"\")","v":""},{"$f":"IF( Ecarts!$E127=$A$1, IF(Ecarts!M127=\"\",\"\",Ecarts!M127),\"\")","v":""},0,0]
[{"$f":"IF( Ecarts!$E128=$A$1,IF( Ecarts!B128=\"\",\"\",Ecarts!A128),\"\")","v":""},{"$f":"IF( Ecarts!$E128=$A$1,IF( Ecarts!C128=\"\",\"\",Ecarts!C128),\"\")","v":""},{"$f":"IF( Ecarts!$E128=$A$1, IF(Ecarts!F128=\"\",\"\",Ecarts!F128),\"\")","v":""},{"$f":"IF( Ecarts!$E128=$A$1, IF(Ecarts!I128=\"\",\"\",Ecarts!I128),\"\")","v":""},{"$f":"IF( Ecarts!$E128=$A$1, IF(Ecarts!J128=\"\",\"\",Ecarts!J128),\"\")","v":""},{"$f":"IF( Ecarts!$E128=$A$1, IF(Ecarts!K128=\"\",\"\",Ecarts!K128),\"\")","v":""},{"$f":"IF( Ecarts!$E128=$A$1, IF(Ecarts!L128=\"\",\"\",Ecarts!L128),\"\")","v":""},{"$f":"IF( Ecarts!$E128=$A$1, IF(Ecarts!M128=\"\",\"\",Ecarts!M128),\"\")","v":""},0,0]
[{"$f":"IF( Ecarts!$E129=$A$1,IF( Ecarts!B129=\"\",\"\",Ecarts!A129),\"\")","v":""},{"$f":"IF( Ecarts!$E129=$A$1,IF( Ecarts!C129=\"\",\"\",Ecarts!C129),\"\")","v":""},{"$f":"IF( Ecarts!$E129=$A$1, IF(Ecarts!F129=\"\",\"\",Ecarts!F129),\"\")","v":""},{"$f":"IF( Ecarts!$E129=$A$1, IF(Ecarts!I129=\"\",\"\",Ecarts!I129),\"\")","v":""},{"$f":"IF( Ecarts!$E129=$A$1, IF(Ecarts!J129=\"\",\"\",Ecarts!J129),\"\")","v":""},{"$f":"IF( Ecarts!$E129=$A$1, IF(Ecarts!K129=\"\",\"\",Ecarts!K129),\"\")","v":""},{"$f":"IF( Ecarts!$E129=$A$1, IF(Ecarts!L129=\"\",\"\",Ecarts!L129),\"\")","v":""},{"$f":"IF( Ecarts!$E129=$A$1, IF(Ecarts!M129=\"\",\"\",Ecarts!M129),\"\")","v":""},0,0]
[{"$f":"IF( Ecarts!$E130=$A$1,IF( Ecarts!B130=\"\",\"\",Ecarts!A130),\"\")","v":""},{"$f":"IF( Ecarts!$E130=$A$1,IF( Ecarts!C130=\"\",\"\",Ecarts!C130),\"\")","v":""},{"$f":"IF( Ecarts!$E130=$A$1, IF(Ecarts!F130=\"\",\"\",Ecarts!F130),\"\")","v":""},{"$f":"IF( Ecarts!$E130=$A$1, IF(Ecarts!I130=\"\",\"\",Ecarts!I130),\"\")","v":""},{"$f":"IF( Ecarts!$E130=$A$1, IF(Ecarts!J130=\"\",\"\",Ecarts!J130),\"\")","v":""},{"$f":"IF( Ecarts!$E130=$A$1, IF(Ecarts!K130=\"\",\"\",Ecarts!K130),\"\")","v":""},{"$f":"IF( Ecarts!$E130=$A$1, IF(Ecarts!L130=\"\",\"\",Ecarts!L130),\"\")","v":""},{"$f":"IF( Ecarts!$E130=$A$1, IF(Ecarts!M130=\"\",\"\",Ecarts!M130),\"\")","v":""},0,0]
[{"$f":"IF( Ecarts!$E131=$A$1,IF( Ecarts!B131=\"\",\"\",Ecarts!A131),\"\")","v":""},{"$f":"IF( Ecarts!$E131=$A$1,IF( Ecarts!C131=\"\",\"\",Ecarts!C131),\"\")","v":""},{"$f":"IF( Ecarts!$E131=$A$1, IF(Ecarts!F131=\"\",\"\",Ecarts!F131),\"\")","v":""},{"$f":"IF( Ecarts!$E131=$A$1, IF(Ecarts!I131=\"\",\"\",Ecarts!I131),\"\")","v":""},{"$f":"IF( Ecarts!$E131=$A$1, IF(Ecarts!J131=\"\",\"\",Ecarts!J131),\"\")","v":""},{"$f":"IF( Ecarts!$E131=$A$1, IF(Ecarts!K131=\"\",\"\",Ecarts!K131),\"\")","v":""},{"$f":"IF( Ecarts!$E131=$A$1, IF(Ecarts!L131=\"\",\"\",Ecarts!L131),\"\")","v":""},{"$f":"IF( Ecarts!$E131=$A$1, IF(Ecarts!M131=\"\",\"\",Ecarts!M131),\"\")","v":""},0,0]
[{"$f":"IF( Ecarts!$E132=$A$1,IF( Ecarts!B132=\"\",\"\",Ecarts!A132),\"\")","v":""},{"$f":"IF( Ecarts!$E132=$A$1,IF( Ecarts!C132=\"\",\"\",Ecarts!C132),\"\")","v":""},{"$f":"IF( Ecarts!$E132=$A$1, IF(Ecarts!F132=\"\",\"\",Ecarts!F132),\"\")","v":""},{"$f":"IF( Ecarts!$E132=$A$1, IF(Ecarts!I132=\"\",\"\",Ecarts!I132),\"\")","v":""},{"$f":"IF( Ecarts!$E132=$A$1, IF(Ecarts!J132=\"\",\"\",Ecarts!J132),\"\")","v":""},{"$f":"IF( Ecarts!$E132=$A$1, IF(Ecarts!K132=\"\",\"\",Ecarts!K132),\"\")","v":""},{"$f":"IF( Ecarts!$E132=$A$1, IF(Ecarts!L132=\"\",\"\",Ecarts!L132),\"\")","v":""},{"$f":"IF( Ecarts!$E132=$A$1, IF(Ecarts!M132=\"\",\"\",Ecarts!M132),\"\")","v":""},{"$f":"IF(B133=\"\",0,IF(G133=1,0,1))","v":0},{"$f":"IF(F133=\"\",0,IF(F133>(TODAY()-60),1,0))","v":0}]
[{"$f":"IF( Ecarts!$E133=$A$1,IF( Ecarts!B133=\"\",\"\",Ecarts!A133),\"\")","v":""},{"$f":"IF( Ecarts!$E133=$A$1,IF( Ecarts!C133=\"\",\"\",Ecarts!C133),\"\")","v":""},{"$f":"IF( Ecarts!$E133=$A$1, IF(Ecarts!F133=\"\",\"\",Ecarts!F133),\"\")","v":""},{"$f":"IF( Ecarts!$E133=$A$1, IF(Ecarts!I133=\"\",\"\",Ecarts!I133),\"\")","v":""},{"$f":"IF( Ecarts!$E133=$A$1, IF(Ecarts!J133=\"\",\"\",Ecarts!J133),\"\")","v":""},{"$f":"IF( Ecarts!$E133=$A$1, IF(Ecarts!K133=\"\",\"\",Ecarts!K133),\"\")","v":""},{"$f":"IF( Ecarts!$E133=$A$1, IF(Ecarts!L133=\"\",\"\",Ecarts!L133),\"\")","v":""},{"$f":"IF( Ecarts!$E133=$A$1, IF(Ecarts!M133=\"\",\"\",Ecarts!M133),\"\")","v":""},0,0]
[{"$f":"IF( Ecarts!$E134=$A$1,IF( Ecarts!B134=\"\",\"\",Ecarts!A134),\"\")","v":""},{"$f":"IF( Ecarts!$E134=$A$1,IF( Ecarts!C134=\"\",\"\",Ecarts!C134),\"\")","v":""},{"$f":"IF( Ecarts!$E134=$A$1, IF(Ecarts!F134=\"\",\"\",Ecarts!F134),\"\")","v":""},{"$f":"IF( Ecarts!$E134=$A$1, IF(Ecarts!I134=\"\",\"\",Ecarts!I134),\"\")","v":""},{"$f":"IF( Ecarts!$E134=$A$1, IF(Ecarts!J134=\"\",\"\",Ecarts!J134),\"\")","v":""},{"$f":"IF( Ecarts!$E134=$A$1, IF(Ecarts!K134=\"\",\"\",Ecarts!K134),\"\")","v":""},{"$f":"IF( Ecarts!$E134=$A$1, IF(Ecarts!L134=\"\",\"\",Ecarts!L134),\"\")","v":""},{"$f":"IF( Ecarts!$E134=$A$1, IF(Ecarts!M134=\"\",\"\",Ecarts!M134),\"\")","v":""},0,0]
[{"$f":"IF( Ecarts!$E135=$A$1,IF( Ecarts!B135=\"\",\"\",Ecarts!A135),\"\")","v":""},{"$f":"IF( Ecarts!$E135=$A$1,IF( Ecarts!C135=\"\",\"\",Ecarts!C135),\"\")","v":""},{"$f":"IF( Ecarts!$E135=$A$1, IF(Ecarts!F135=\"\",\"\",Ecarts!F135),\"\")","v":""},{"$f":"IF( Ecarts!$E135=$A$1, IF(Ecarts!I135=\"\",\"\",Ecarts!I135),\"\")","v":""},{"$f":"IF( Ecarts!$E135=$A$1, IF(Ecarts!J135=\"\",\"\",Ecarts!J135),\"\")","v":""},{"$f":"IF( Ecarts!$E135=$A$1, IF(Ecarts!K135=\"\",\"\",Ecarts!K135),\"\")","v":""},{"$f":"IF( Ecarts!$E135=$A$1, IF(Ecarts!L135=\"\",\"\",Ecarts!L135),\"\")","v":""},{"$f":"IF( Ecarts!$E135=$A$1, IF(Ecarts!M135=\"\",\"\",Ecarts!M135),\"\")","v":""},0,0]
[{"$f":"IF( Ecarts!$E136=$A$1,IF( Ecarts!B136=\"\",\"\",Ecarts!A136),\"\")","v":""},{"$f":"IF( Ecarts!$E136=$A$1,IF( Ecarts!C136=\"\",\"\",Ecarts!C136),\"\")","v":""},{"$f":"IF( Ecarts!$E136=$A$1, IF(Ecarts!F136=\"\",\"\",Ecarts!F136),\"\")","v":""},{"$f":"IF( Ecarts!$E136=$A$1, IF(Ecarts!I136=\"\",\"\",Ecarts!I136),\"\")","v":""},{"$f":"IF( Ecarts!$E136=$A$1, IF(Ecarts!J136=\"\",\"\",Ecarts!J136),\"\")","v":""},{"$f":"IF( Ecarts!$E136=$A$1, IF(Ecarts!K136=\"\",\"\",Ecarts!K136),\"\")","v":""},{"$f":"IF( Ecarts!$E136=$A$1, IF(Ecarts!L136=\"\",\"\",Ecarts!L136),\"\")","v":""},{"$f":"IF( Ecarts!$E136=$A$1, IF(Ecarts!M136=\"\",\"\",Ecarts!M136),\"\")","v":""},0,0]
[{"$f":"IF( Ecarts!$E137=$A$1,IF( Ecarts!B137=\"\",\"\",Ecarts!A137),\"\")","v":""},{"$f":"IF( Ecarts!$E137=$A$1,IF( Ecarts!C137=\"\",\"\",Ecarts!C137),\"\")","v":""},{"$f":"IF( Ecarts!$E137=$A$1, IF(Ecarts!F137=\"\",\"\",Ecarts!F137),\"\")","v":""},{"$f":"IF( Ecarts!$E137=$A$1, IF(Ecarts!I137=\"\",\"\",Ecarts!I137),\"\")","v":""},{"$f":"IF( Ecarts!$E137=$A$1, IF(Ecarts!J137=\"\",\"\",Ecarts!J137),\"\")","v":""},{"$f":"IF( Ecarts!$E137=$A$1, IF(Ecarts!K137=\"\",\"\",Ecarts!K137),\"\")","v":""},{"$f":"IF( Ecarts!$E137=$A$1, IF(Ecarts!L137=\"\",\"\",Ecarts!L137),\"\")","v":""},{"$f":"IF( Ecarts!$E137=$A$1, IF(Ecarts!M137=\"\",\"\",Ecarts!M137),\"\")","v":""},0,0]
[{"$f":"IF( Ecarts!$E138=$A$1,IF( Ecarts!B138=\"\",\"\",Ecarts!A138),\"\")","v":""},{"$f":"IF( Ecarts!$E138=$A$1,IF( Ecarts!C138=\"\",\"\",Ecarts!C138),\"\")","v":""},{"$f":"IF( Ecarts!$E138=$A$1, IF(Ecarts!F138=\"\",\"\",Ecarts!F138),\"\")","v":""},{"$f":"IF( Ecarts!$E138=$A$1, IF(Ecarts!I138=\"\",\"\",Ecarts!I138),\"\")","v":""},{"$f":"IF( Ecarts!$E138=$A$1, IF(Ecarts!J138=\"\",\"\",Ecarts!J138),\"\")","v":""},{"$f":"IF( Ecarts!$E138=$A$1, IF(Ecarts!K138=\"\",\"\",Ecarts!K138),\"\")","v":""},{"$f":"IF( Ecarts!$E138=$A$1, IF(Ecarts!L138=\"\",\"\",Ecarts!L138),\"\")","v":""},{"$f":"IF( Ecarts!$E138=$A$1, IF(Ecarts!M138=\"\",\"\",Ecarts!M138),\"\")","v":""},0,0]
[{"$f":"IF( Ecarts!$E139=$A$1,IF( Ecarts!B139=\"\",\"\",Ecarts!A139),\"\")","v":""},{"$f":"IF( Ecarts!$E139=$A$1,IF( Ecarts!C139=\"\",\"\",Ecarts!C139),\"\")","v":""},{"$f":"IF( Ecarts!$E139=$A$1, IF(Ecarts!F139=\"\",\"\",Ecarts!F139),\"\")","v":""},{"$f":"IF( Ecarts!$E139=$A$1, IF(Ecarts!I139=\"\",\"\",Ecarts!I139),\"\")","v":""},{"$f":"IF( Ecarts!$E139=$A$1, IF(Ecarts!J139=\"\",\"\",Ecarts!J139),\"\")","v":""},{"$f":"IF( Ecarts!$E139=$A$1, IF(Ecarts!K139=\"\",\"\",Ecarts!K139),\"\")","v":""},{"$f":"IF( Ecarts!$E139=$A$1, IF(Ecarts!L139=\"\",\"\",Ecarts!L139),\"\")","v":""},{"$f":"IF( Ecarts!$E139=$A$1, IF(Ecarts!M139=\"\",\"\",Ecarts!M139),\"\")","v":""},0,0]
[{"$f":"IF( Ecarts!$E140=$A$1,IF( Ecarts!B140=\"\",\"\",Ecarts!A140),\"\")","v":""},{"$f":"IF( Ecarts!$E140=$A$1,IF( Ecarts!C140=\"\",\"\",Ecarts!C140),\"\")","v":""},{"$f":"IF( Ecarts!$E140=$A$1, IF(Ecarts!F140=\"\",\"\",Ecarts!F140),\"\")","v":""},{"$f":"IF( Ecarts!$E140=$A$1, IF(Ecarts!I140=\"\",\"\",Ecarts!I140),\"\")","v":""},{"$f":"IF( Ecarts!$E140=$A$1, IF(Ecarts!J140=\"\",\"\",Ecarts!J140),\"\")","v":""},{"$f":"IF( Ecarts!$E140=$A$1, IF(Ecarts!K140=\"\",\"\",Ecarts!K140),\"\")","v":""},{"$f":"IF( Ecarts!$E140=$A$1, IF(Ecarts!L140=\"\",\"\",Ecarts!L140),\"\")","v":""},{"$f":"IF( Ecarts!$E140=$A$1, IF(Ecarts!M140=\"\",\"\",Ecarts!M140),\"\")","v":""},0,0]
[{"$f":"IF( Ecarts!$E141=$A$1,IF( Ecarts!B141=\"\",\"\",Ecarts!A141),\"\")","v":""},{"$f":"IF( Ecarts!$E141=$A$1,IF( Ecarts!C141=\"\",\"\",Ecarts!C141),\"\")","v":""},{"$f":"IF( Ecarts!$E141=$A$1, IF(Ecarts!F141=\"\",\"\",Ecarts!F141),\"\")","v":""},{"$f":"IF( Ecarts!$E141=$A$1, IF(Ecarts!I141=\"\",\"\",Ecarts!I141),\"\")","v":""},{"$f":"IF( Ecarts!$E141=$A$1, IF(Ecarts!J141=\"\",\"\",Ecarts!J141),\"\")","v":""},{"$f":"IF( Ecarts!$E141=$A$1, IF(Ecarts!K141=\"\",\"\",Ecarts!K141),\"\")","v":""},{"$f":"IF( Ecarts!$E141=$A$1, IF(Ecarts!L141=\"\",\"\",Ecarts!L141),\"\")","v":""},{"$f":"IF( Ecarts!$E141=$A$1, IF(Ecarts!M141=\"\",\"\",Ecarts!M141),\"\")","v":""},0,0]
[{"$f":"IF( Ecarts!$E142=$A$1,IF( Ecarts!B142=\"\",\"\",Ecarts!A142),\"\")","v":""},{"$f":"IF( Ecarts!$E142=$A$1,IF( Ecarts!C142=\"\",\"\",Ecarts!C142),\"\")","v":""},{"$f":"IF( Ecarts!$E142=$A$1, IF(Ecarts!F142=\"\",\"\",Ecarts!F142),\"\")","v":""},{"$f":"IF( Ecarts!$E142=$A$1, IF(Ecarts!I142=\"\",\"\",Ecarts!I142),\"\")","v":""},{"$f":"IF( Ecarts!$E142=$A$1, IF(Ecarts!J142=\"\",\"\",Ecarts!J142),\"\")","v":""},{"$f":"IF( Ecarts!$E142=$A$1, IF(Ecarts!K142=\"\",\"\",Ecarts!K142),\"\")","v":""},{"$f":"IF( Ecarts!$E142=$A$1, IF(Ecarts!L142=\"\",\"\",Ecarts!L142),\"\")","v":""},{"$f":"IF( Ecarts!$E142=$A$1, IF(Ecarts!M142=\"\",\"\",Ecarts!M142),\"\")","v":""},0,0]
[{"$f":"IF( Ecarts!$E143=$A$1,IF( Ecarts!B143=\"\",\"\",Ecarts!A143),\"\")","v":""},{"$f":"IF( Ecarts!$E143=$A$1,IF( Ecarts!C143=\"\",\"\",Ecarts!C143),\"\")","v":""},{"$f":"IF( Ecarts!$E143=$A$1, IF(Ecarts!F143=\"\",\"\",Ecarts!F143),\"\")","v":""},{"$f":"IF( Ecarts!$E143=$A$1, IF(Ecarts!I143=\"\",\"\",Ecarts!I143),\"\")","v":""},{"$f":"IF( Ecarts!$E143=$A$1, IF(Ecarts!J143=\"\",\"\",Ecarts!J143),\"\")","v":""},{"$f":"IF( Ecarts!$E143=$A$1, IF(Ecarts!K143=\"\",\"\",Ecarts!K143),\"\")","v":""},{"$f":"IF( Ecarts!$E143=$A$1, IF(Ecarts!L143=\"\",\"\",Ecarts!L143),\"\")","v":""},{"$f":"IF( Ecarts!$E143=$A$1, IF(Ecarts!M143=\"\",\"\",Ecarts!M143),\"\")","v":""},0,0]
[{"$f":"IF( Ecarts!$E144=$A$1,IF( Ecarts!B144=\"\",\"\",Ecarts!A144),\"\")","v":""},{"$f":"IF( Ecarts!$E144=$A$1,IF( Ecarts!C144=\"\",\"\",Ecarts!C144),\"\")","v":""},{"$f":"IF( Ecarts!$E144=$A$1, IF(Ecarts!F144=\"\",\"\",Ecarts!F144),\"\")","v":""},{"$f":"IF( Ecarts!$E144=$A$1, IF(Ecarts!I144=\"\",\"\",Ecarts!I144),\"\")","v":""},{"$f":"IF( Ecarts!$E144=$A$1, IF(Ecarts!J144=\"\",\"\",Ecarts!J144),\"\")","v":""},{"$f":"IF( Ecarts!$E144=$A$1, IF(Ecarts!K144=\"\",\"\",Ecarts!K144),\"\")","v":""},{"$f":"IF( Ecarts!$E144=$A$1, IF(Ecarts!L144=\"\",\"\",Ecarts!L144),\"\")","v":""},{"$f":"IF( Ecarts!$E144=$A$1, IF(Ecarts!M144=\"\",\"\",Ecarts!M144),\"\")","v":""},0,0]
[{"$f":"IF( Ecarts!$E145=$A$1,IF( Ecarts!B145=\"\",\"\",Ecarts!A145),\"\")","v":""},{"$f":"IF( Ecarts!$E145=$A$1,IF( Ecarts!C145=\"\",\"\",Ecarts!C145),\"\")","v":""},{"$f":"IF( Ecarts!$E145=$A$1, IF(Ecarts!F145=\"\",\"\",Ecarts!F145),\"\")","v":""},{"$f":"IF( Ecarts!$E145=$A$1, IF(Ecarts!I145=\"\",\"\",Ecarts!I145),\"\")","v":""},{"$f":"IF( Ecarts!$E145=$A$1, IF(Ecarts!J145=\"\",\"\",Ecarts!J145),\"\")","v":""},{"$f":"IF( Ecarts!$E145=$A$1, IF(Ecarts!K145=\"\",\"\",Ecarts!K145),\"\")","v":""},{"$f":"IF( Ecarts!$E145=$A$1, IF(Ecarts!L145=\"\",\"\",Ecarts!L145),\"\")","v":""},{"$f":"IF( Ecarts!$E145=$A$1, IF(Ecarts!M145=\"\",\"\",Ecarts!M145),\"\")","v":""},0,0]
[{"$f":"IF( Ecarts!$E146=$A$1,IF( Ecarts!B146=\"\",\"\",Ecarts!A146),\"\")","v":""},{"$f":"IF( Ecarts!$E146=$A$1,IF( Ecarts!C146=\"\",\"\",Ecarts!C146),\"\")","v":""},{"$f":"IF( Ecarts!$E146=$A$1, IF(Ecarts!F146=\"\",\"\",Ecarts!F146),\"\")","v":""},{"$f":"IF( Ecarts!$E146=$A$1, IF(Ecarts!I146=\"\",\"\",Ecarts!I146),\"\")","v":""},{"$f":"IF( Ecarts!$E146=$A$1, IF(Ecarts!J146=\"\",\"\",Ecarts!J146),\"\")","v":""},{"$f":"IF( Ecarts!$E146=$A$1, IF(Ecarts!K146=\"\",\"\",Ecarts!K146),\"\")","v":""},{"$f":"IF( Ecarts!$E146=$A$1, IF(Ecarts!L146=\"\",\"\",Ecarts!L146),\"\")","v":""},{"$f":"IF( Ecarts!$E146=$A$1, IF(Ecarts!M146=\"\",\"\",Ecarts!M146),\"\")","v":""},0,0]
[{"$f":"IF( Ecarts!$E147=$A$1,IF( Ecarts!B147=\"\",\"\",Ecarts!A147),\"\")","v":""},{"$f":"IF( Ecarts!$E147=$A$1,IF( Ecarts!C147=\"\",\"\",Ecarts!C147),\"\")","v":""},{"$f":"IF( Ecarts!$E147=$A$1, IF(Ecarts!F147=\"\",\"\",Ecarts!F147),\"\")","v":""},{"$f":"IF( Ecarts!$E147=$A$1, IF(Ecarts!I147=\"\",\"\",Ecarts!I147),\"\")","v":""},{"$f":"IF( Ecarts!$E147=$A$1, IF(Ecarts!J147=\"\",\"\",Ecarts!J147),\"\")","v":""},{"$f":"IF( Ecarts!$E147=$A$1, IF(Ecarts!K147=\"\",\"\",Ecarts!K147),\"\")","v":""},{"$f":"IF( Ecarts!$E147=$A$1, IF(Ecarts!L147=\"\",\"\",Ecarts!L147),\"\")","v":""},{"$f":"IF( Ecarts!$E147=$A$1, IF(Ecarts!M147=\"\",\"\",Ecarts!M147),\"\")","v":""},0,0]
[{"$f":"IF( Ecarts!$E148=$A$1,IF( Ecarts!B148=\"\",\"\",Ecarts!A148),\"\")","v":""},{"$f":"IF( Ecarts!$E148=$A$1,IF( Ecarts!C148=\"\",\"\",Ecarts!C148),\"\")","v":""},{"$f":"IF( Ecarts!$E148=$A$1, IF(Ecarts!F148=\"\",\"\",Ecarts!F148),\"\")","v":""},{"$f":"IF( Ecarts!$E148=$A$1, IF(Ecarts!I148=\"\",\"\",Ecarts!I148),\"\")","v":""},{"$f":"IF( Ecarts!$E148=$A$1, IF(Ecarts!J148=\"\",\"\",Ecarts!J148),\"\")","v":""},{"$f":"IF( Ecarts!$E148=$A$1, IF(Ecarts!K148=\"\",\"\",Ecarts!K148),\"\")","v":""},{"$f":"IF( Ecarts!$E148=$A$1, IF(Ecarts!L148=\"\",\"\",Ecarts!L148),\"\")","v":""},{"$f":"IF( Ecarts!$E148=$A$1, IF(Ecarts!M148=\"\",\"\",Ecarts!M148),\"\")","v":""},0,0]
[{"$f":"IF( Ecarts!$E149=$A$1,IF( Ecarts!B149=\"\",\"\",Ecarts!A149),\"\")","v":""},{"$f":"IF( Ecarts!$E149=$A$1,IF( Ecarts!C149=\"\",\"\",Ecarts!C149),\"\")","v":""},{"$f":"IF( Ecarts!$E149=$A$1, IF(Ecarts!F149=\"\",\"\",Ecarts!F149),\"\")","v":""},{"$f":"IF( Ecarts!$E149=$A$1, IF(Ecarts!I149=\"\",\"\",Ecarts!I149),\"\")","v":""},{"$f":"IF( Ecarts!$E149=$A$1, IF(Ecarts!J149=\"\",\"\",Ecarts!J149),\"\")","v":""},{"$f":"IF( Ecarts!$E149=$A$1, IF(Ecarts!K149=\"\",\"\",Ecarts!K149),\"\")","v":""},{"$f":"IF( Ecarts!$E149=$A$1, IF(Ecarts!L149=\"\",\"\",Ecarts!L149),\"\")","v":""},{"$f":"IF( Ecarts!$E149=$A$1, IF(Ecarts!M149=\"\",\"\",Ecarts!M149),\"\")","v":""},0,0]
[{"$f":"IF( Ecarts!$E150=$A$1,IF( Ecarts!B150=\"\",\"\",Ecarts!A150),\"\")","v":""},{"$f":"IF( Ecarts!$E150=$A$1,IF( Ecarts!C150=\"\",\"\",Ecarts!C150),\"\")","v":""},{"$f":"IF( Ecarts!$E150=$A$1, IF(Ecarts!F150=\"\",\"\",Ecarts!F150),\"\")","v":""},{"$f":"IF( Ecarts!$E150=$A$1, IF(Ecarts!I150=\"\",\"\",Ecarts!I150),\"\")","v":""},{"$f":"IF( Ecarts!$E150=$A$1, IF(Ecarts!J150=\"\",\"\",Ecarts!J150),\"\")","v":""},{"$f":"IF( Ecarts!$E150=$A$1, IF(Ecarts!K150=\"\",\"\",Ecarts!K150),\"\")","v":""},{"$f":"IF( Ecarts!$E150=$A$1, IF(Ecarts!L150=\"\",\"\",Ecarts!L150),\"\")","v":""},{"$f":"IF( Ecarts!$E150=$A$1, IF(Ecarts!M150=\"\",\"\",Ecarts!M150),\"\")","v":""},0,0]
[{"$f":"IF( Ecarts!$E151=$A$1,IF( Ecarts!B151=\"\",\"\",Ecarts!A151),\"\")","v":""},{"$f":"IF( Ecarts!$E151=$A$1,IF( Ecarts!C151=\"\",\"\",Ecarts!C151),\"\")","v":""},{"$f":"IF( Ecarts!$E151=$A$1, IF(Ecarts!F151=\"\",\"\",Ecarts!F151),\"\")","v":""},{"$f":"IF( Ecarts!$E151=$A$1, IF(Ecarts!I151=\"\",\"\",Ecarts!I151),\"\")","v":""},{"$f":"IF( Ecarts!$E151=$A$1, IF(Ecarts!J151=\"\",\"\",Ecarts!J151),\"\")","v":""},{"$f":"IF( Ecarts!$E151=$A$1, IF(Ecarts!K151=\"\",\"\",Ecarts!K151),\"\")","v":""},{"$f":"IF( Ecarts!$E151=$A$1, IF(Ecarts!L151=\"\",\"\",Ecarts!L151),\"\")","v":""},{"$f":"IF( Ecarts!$E151=$A$1, IF(Ecarts!M151=\"\",\"\",Ecarts!M151),\"\")","v":""},0,0]
[{"$f":"IF( Ecarts!$E152=$A$1,IF( Ecarts!B152=\"\",\"\",Ecarts!A152),\"\")","v":""},{"$f":"IF( Ecarts!$E152=$A$1,IF( Ecarts!C152=\"\",\"\",Ecarts!C152),\"\")","v":""},{"$f":"IF( Ecarts!$E152=$A$1, IF(Ecarts!F152=\"\",\"\",Ecarts!F152),\"\")","v":""},{"$f":"IF( Ecarts!$E152=$A$1, IF(Ecarts!I152=\"\",\"\",Ecarts!I152),\"\")","v":""},{"$f":"IF( Ecarts!$E152=$A$1, IF(Ecarts!J152=\"\",\"\",Ecarts!J152),\"\")","v":""},{"$f":"IF( Ecarts!$E152=$A$1, IF(Ecarts!K152=\"\",\"\",Ecarts!K152),\"\")","v":""},{"$f":"IF( Ecarts!$E152=$A$1, IF(Ecarts!L152=\"\",\"\",Ecarts!L152),\"\")","v":""},{"$f":"IF( Ecarts!$E152=$A$1, IF(Ecarts!M152=\"\",\"\",Ecarts!M152),\"\")","v":""},0,0]
[{"$f":"IF( Ecarts!$E153=$A$1,IF( Ecarts!B153=\"\",\"\",Ecarts!A153),\"\")","v":""},{"$f":"IF( Ecarts!$E153=$A$1,IF( Ecarts!C153=\"\",\"\",Ecarts!C153),\"\")","v":""},{"$f":"IF( Ecarts!$E153=$A$1, IF(Ecarts!F153=\"\",\"\",Ecarts!F153),\"\")","v":""},{"$f":"IF( Ecarts!$E153=$A$1, IF(Ecarts!I153=\"\",\"\",Ecarts!I153),\"\")","v":""},{"$f":"IF( Ecarts!$E153=$A$1, IF(Ecarts!J153=\"\",\"\",Ecarts!J153),\"\")","v":""},{"$f":"IF( Ecarts!$E153=$A$1, IF(Ecarts!K153=\"\",\"\",Ecarts!K153),\"\")","v":""},{"$f":"IF( Ecarts!$E153=$A$1, IF(Ecarts!L153=\"\",\"\",Ecarts!L153),\"\")","v":""},{"$f":"IF( Ecarts!$E153=$A$1, IF(Ecarts!M153=\"\",\"\",Ecarts!M153),\"\")","v":""},0,0]
[{"$f":"IF( Ecarts!$E154=$A$1,IF( Ecarts!B154=\"\",\"\",Ecarts!A154),\"\")","v":""},{"$f":"IF( Ecarts!$E154=$A$1,IF( Ecarts!C154=\"\",\"\",Ecarts!C154),\"\")","v":""},{"$f":"IF( Ecarts!$E154=$A$1, IF(Ecarts!F154=\"\",\"\",Ecarts!F154),\"\")","v":""},{"$f":"IF( Ecarts!$E154=$A$1, IF(Ecarts!I154=\"\",\"\",Ecarts!I154),\"\")","v":""},{"$f":"IF( Ecarts!$E154=$A$1, IF(Ecarts!J154=\"\",\"\",Ecarts!J154),\"\")","v":""},{"$f":"IF( Ecarts!$E154=$A$1, IF(Ecarts!K154=\"\",\"\",Ecarts!K154),\"\")","v":""},{"$f":"IF( Ecarts!$E154=$A$1, IF(Ecarts!L154=\"\",\"\",Ecarts!L154),\"\")","v":""},{"$f":"IF( Ecarts!$E154=$A$1, IF(Ecarts!M154=\"\",\"\",Ecarts!M154),\"\")","v":""},0,0]
[{"$f":"IF( Ecarts!$E155=$A$1,IF( Ecarts!B155=\"\",\"\",Ecarts!A155),\"\")","v":""},{"$f":"IF( Ecarts!$E155=$A$1,IF( Ecarts!C155=\"\",\"\",Ecarts!C155),\"\")","v":""},{"$f":"IF( Ecarts!$E155=$A$1, IF(Ecarts!F155=\"\",\"\",Ecarts!F155),\"\")","v":""},{"$f":"IF( Ecarts!$E155=$A$1, IF(Ecarts!I155=\"\",\"\",Ecarts!I155),\"\")","v":""},{"$f":"IF( Ecarts!$E155=$A$1, IF(Ecarts!J155=\"\",\"\",Ecarts!J155),\"\")","v":""},{"$f":"IF( Ecarts!$E155=$A$1, IF(Ecarts!K155=\"\",\"\",Ecarts!K155),\"\")","v":""},{"$f":"IF( Ecarts!$E155=$A$1, IF(Ecarts!L155=\"\",\"\",Ecarts!L155),\"\")","v":""},{"$f":"IF( Ecarts!$E155=$A$1, IF(Ecarts!M155=\"\",\"\",Ecarts!M155),\"\")","v":""},0,0]
[{"$f":"IF( Ecarts!$E156=$A$1,IF( Ecarts!B156=\"\",\"\",Ecarts!A156),\"\")","v":""},{"$f":"IF( Ecarts!$E156=$A$1,IF( Ecarts!C156=\"\",\"\",Ecarts!C156),\"\")","v":""},{"$f":"IF( Ecarts!$E156=$A$1, IF(Ecarts!F156=\"\",\"\",Ecarts!F156),\"\")","v":""},{"$f":"IF( Ecarts!$E156=$A$1, IF(Ecarts!I156=\"\",\"\",Ecarts!I156),\"\")","v":""},{"$f":"IF( Ecarts!$E156=$A$1, IF(Ecarts!J156=\"\",\"\",Ecarts!J156),\"\")","v":""},{"$f":"IF( Ecarts!$E156=$A$1, IF(Ecarts!K156=\"\",\"\",Ecarts!K156),\"\")","v":""},{"$f":"IF( Ecarts!$E156=$A$1, IF(Ecarts!L156=\"\",\"\",Ecarts!L156),\"\")","v":""},{"$f":"IF( Ecarts!$E156=$A$1, IF(Ecarts!M156=\"\",\"\",Ecarts!M156),\"\")","v":""},0,0]
[{"$f":"IF( Ecarts!$E157=$A$1,IF( Ecarts!B157=\"\",\"\",Ecarts!A157),\"\")","v":""},{"$f":"IF( Ecarts!$E157=$A$1,IF( Ecarts!C157=\"\",\"\",Ecarts!C157),\"\")","v":""},{"$f":"IF( Ecarts!$E157=$A$1, IF(Ecarts!F157=\"\",\"\",Ecarts!F157),\"\")","v":""},{"$f":"IF( Ecarts!$E157=$A$1, IF(Ecarts!I157=\"\",\"\",Ecarts!I157),\"\")","v":""},{"$f":"IF( Ecarts!$E157=$A$1, IF(Ecarts!J157=\"\",\"\",Ecarts!J157),\"\")","v":""},{"$f":"IF( Ecarts!$E157=$A$1, IF(Ecarts!K157=\"\",\"\",Ecarts!K157),\"\")","v":""},{"$f":"IF( Ecarts!$E157=$A$1, IF(Ecarts!L157=\"\",\"\",Ecarts!L157),\"\")","v":""},{"$f":"IF( Ecarts!$E157=$A$1, IF(Ecarts!M157=\"\",\"\",Ecarts!M157),\"\")","v":""},0,0]
[{"$f":"IF( Ecarts!$E158=$A$1,IF( Ecarts!B158=\"\",\"\",Ecarts!A158),\"\")","v":""},{"$f":"IF( Ecarts!$E158=$A$1,IF( Ecarts!C158=\"\",\"\",Ecarts!C158),\"\")","v":""},{"$f":"IF( Ecarts!$E158=$A$1, IF(Ecarts!F158=\"\",\"\",Ecarts!F158),\"\")","v":""},{"$f":"IF( Ecarts!$E158=$A$1, IF(Ecarts!I158=\"\",\"\",Ecarts!I158),\"\")","v":""},{"$f":"IF( Ecarts!$E158=$A$1, IF(Ecarts!J158=\"\",\"\",Ecarts!J158),\"\")","v":""},{"$f":"IF( Ecarts!$E158=$A$1, IF(Ecarts!K158=\"\",\"\",Ecarts!K158),\"\")","v":""},{"$f":"IF( Ecarts!$E158=$A$1, IF(Ecarts!L158=\"\",\"\",Ecarts!L158),\"\")","v":""},{"$f":"IF( Ecarts!$E158=$A$1, IF(Ecarts!M158=\"\",\"\",Ecarts!M158),\"\")","v":""},0,0]
[{"$f":"IF( Ecarts!$E159=$A$1,IF( Ecarts!B159=\"\",\"\",Ecarts!A159),\"\")","v":""},{"$f":"IF( Ecarts!$E159=$A$1,IF( Ecarts!C159=\"\",\"\",Ecarts!C159),\"\")","v":""},{"$f":"IF( Ecarts!$E159=$A$1, IF(Ecarts!F159=\"\",\"\",Ecarts!F159),\"\")","v":""},{"$f":"IF( Ecarts!$E159=$A$1, IF(Ecarts!I159=\"\",\"\",Ecarts!I159),\"\")","v":""},{"$f":"IF( Ecarts!$E159=$A$1, IF(Ecarts!J159=\"\",\"\",Ecarts!J159),\"\")","v":""},{"$f":"IF( Ecarts!$E159=$A$1, IF(Ecarts!K159=\"\",\"\",Ecarts!K159),\"\")","v":""},{"$f":"IF( Ecarts!$E159=$A$1, IF(Ecarts!L159=\"\",\"\",Ecarts!L159),\"\")","v":""},{"$f":"IF( Ecarts!$E159=$A$1, IF(Ecarts!M159=\"\",\"\",Ecarts!M159),\"\")","v":""},0,0]
[{"$f":"IF( Ecarts!$E160=$A$1,IF( Ecarts!B160=\"\",\"\",Ecarts!A160),\"\")","v":""},{"$f":"IF( Ecarts!$E160=$A$1,IF( Ecarts!C160=\"\",\"\",Ecarts!C160),\"\")","v":""},{"$f":"IF( Ecarts!$E160=$A$1, IF(Ecarts!F160=\"\",\"\",Ecarts!F160),\"\")","v":""},{"$f":"IF( Ecarts!$E160=$A$1, IF(Ecarts!I160=\"\",\"\",Ecarts!I160),\"\")","v":""},{"$f":"IF( Ecarts!$E160=$A$1, IF(Ecarts!J160=\"\",\"\",Ecarts!J160),\"\")","v":""},{"$f":"IF( Ecarts!$E160=$A$1, IF(Ecarts!K160=\"\",\"\",Ecarts!K160),\"\")","v":""},{"$f":"IF( Ecarts!$E160=$A$1, IF(Ecarts!L160=\"\",\"\",Ecarts!L160),\"\")","v":""},{"$f":"IF( Ecarts!$E160=$A$1, IF(Ecarts!M160=\"\",\"\",Ecarts!M160),\"\")","v":""},0,0]
[{"$f":"IF( Ecarts!$E161=$A$1,IF( Ecarts!B161=\"\",\"\",Ecarts!A161),\"\")","v":""},{"$f":"IF( Ecarts!$E161=$A$1,IF( Ecarts!C161=\"\",\"\",Ecarts!C161),\"\")","v":""},{"$f":"IF( Ecarts!$E161=$A$1, IF(Ecarts!F161=\"\",\"\",Ecarts!F161),\"\")","v":""},{"$f":"IF( Ecarts!$E161=$A$1, IF(Ecarts!I161=\"\",\"\",Ecarts!I161),\"\")","v":""},{"$f":"IF( Ecarts!$E161=$A$1, IF(Ecarts!J161=\"\",\"\",Ecarts!J161),\"\")","v":""},{"$f":"IF( Ecarts!$E161=$A$1, IF(Ecarts!K161=\"\",\"\",Ecarts!K161),\"\")","v":""},{"$f":"IF( Ecarts!$E161=$A$1, IF(Ecarts!L161=\"\",\"\",Ecarts!L161),\"\")","v":""},{"$f":"IF( Ecarts!$E161=$A$1, IF(Ecarts!M161=\"\",\"\",Ecarts!M161),\"\")","v":""},0,0]
[{"$f":"IF( Ecarts!$E162=$A$1,IF( Ecarts!B162=\"\",\"\",Ecarts!A162),\"\")","v":""},{"$f":"IF( Ecarts!$E162=$A$1,IF( Ecarts!C162=\"\",\"\",Ecarts!C162),\"\")","v":""},{"$f":"IF( Ecarts!$E162=$A$1, IF(Ecarts!F162=\"\",\"\",Ecarts!F162),\"\")","v":""},{"$f":"IF( Ecarts!$E162=$A$1, IF(Ecarts!I162=\"\",\"\",Ecarts!I162),\"\")","v":""},{"$f":"IF( Ecarts!$E162=$A$1, IF(Ecarts!J162=\"\",\"\",Ecarts!J162),\"\")","v":""},{"$f":"IF( Ecarts!$E162=$A$1, IF(Ecarts!K162=\"\",\"\",Ecarts!K162),\"\")","v":""},{"$f":"IF( Ecarts!$E162=$A$1, IF(Ecarts!L162=\"\",\"\",Ecarts!L162),\"\")","v":""},{"$f":"IF( Ecarts!$E162=$A$1, IF(Ecarts!M162=\"\",\"\",Ecarts!M162),\"\")","v":""},0,0]
[{"$f":"IF( Ecarts!$E163=$A$1,IF( Ecarts!B163=\"\",\"\",Ecarts!A163),\"\")","v":""},{"$f":"IF( Ecarts!$E163=$A$1,IF( Ecarts!C163=\"\",\"\",Ecarts!C163),\"\")","v":""},{"$f":"IF( Ecarts!$E163=$A$1, IF(Ecarts!F163=\"\",\"\",Ecarts!F163),\"\")","v":""},{"$f":"IF( Ecarts!$E163=$A$1, IF(Ecarts!I163=\"\",\"\",Ecarts!I163),\"\")","v":""},{"$f":"IF( Ecarts!$E163=$A$1, IF(Ecarts!J163=\"\",\"\",Ecarts!J163),\"\")","v":""},{"$f":"IF( Ecarts!$E163=$A$1, IF(Ecarts!K163=\"\",\"\",Ecarts!K163),\"\")","v":""},{"$f":"IF( Ecarts!$E163=$A$1, IF(Ecarts!L163=\"\",\"\",Ecarts!L163),\"\")","v":""},{"$f":"IF( Ecarts!$E163=$A$1, IF(Ecarts!M163=\"\",\"\",Ecarts!M163),\"\")","v":""},0,0]
[{"$f":"IF( Ecarts!$E164=$A$1,IF( Ecarts!B164=\"\",\"\",Ecarts!A164),\"\")","v":""},{"$f":"IF( Ecarts!$E164=$A$1,IF( Ecarts!C164=\"\",\"\",Ecarts!C164),\"\")","v":""},{"$f":"IF( Ecarts!$E164=$A$1, IF(Ecarts!F164=\"\",\"\",Ecarts!F164),\"\")","v":""},{"$f":"IF( Ecarts!$E164=$A$1, IF(Ecarts!I164=\"\",\"\",Ecarts!I164),\"\")","v":""},{"$f":"IF( Ecarts!$E164=$A$1, IF(Ecarts!J164=\"\",\"\",Ecarts!J164),\"\")","v":""},{"$f":"IF( Ecarts!$E164=$A$1, IF(Ecarts!K164=\"\",\"\",Ecarts!K164),\"\")","v":""},{"$f":"IF( Ecarts!$E164=$A$1, IF(Ecarts!L164=\"\",\"\",Ecarts!L164),\"\")","v":""},{"$f":"IF( Ecarts!$E164=$A$1, IF(Ecarts!M164=\"\",\"\",Ecarts!M164),\"\")","v":""},0,0]
[{"$f":"IF( Ecarts!$E165=$A$1,IF( Ecarts!B165=\"\",\"\",Ecarts!A165),\"\")","v":""},{"$f":"IF( Ecarts!$E165=$A$1,IF( Ecarts!C165=\"\",\"\",Ecarts!C165),\"\")","v":""},{"$f":"IF( Ecarts!$E165=$A$1, IF(Ecarts!F165=\"\",\"\",Ecarts!F165),\"\")","v":""},{"$f":"IF( Ecarts!$E165=$A$1, IF(Ecarts!I165=\"\",\"\",Ecarts!I165),\"\")","v":""},{"$f":"IF( Ecarts!$E165=$A$1, IF(Ecarts!J165=\"\",\"\",Ecarts!J165),\"\")","v":""},{"$f":"IF( Ecarts!$E165=$A$1, IF(Ecarts!K165=\"\",\"\",Ecarts!K165),\"\")","v":""},{"$f":"IF( Ecarts!$E165=$A$1, IF(Ecarts!L165=\"\",\"\",Ecarts!L165),\"\")","v":""},{"$f":"IF( Ecarts!$E165=$A$1, IF(Ecarts!M165=\"\",\"\",Ecarts!M165),\"\")","v":""},0,0]
[{"$f":"IF( Ecarts!$E166=$A$1,IF( Ecarts!B166=\"\",\"\",Ecarts!A166),\"\")","v":""},{"$f":"IF( Ecarts!$E166=$A$1,IF( Ecarts!C166=\"\",\"\",Ecarts!C166),\"\")","v":""},{"$f":"IF( Ecarts!$E166=$A$1, IF(Ecarts!F166=\"\",\"\",Ecarts!F166),\"\")","v":""},{"$f":"IF( Ecarts!$E166=$A$1, IF(Ecarts!I166=\"\",\"\",Ecarts!I166),\"\")","v":""},{"$f":"IF( Ecarts!$E166=$A$1, IF(Ecarts!J166=\"\",\"\",Ecarts!J166),\"\")","v":""},{"$f":"IF( Ecarts!$E166=$A$1, IF(Ecarts!K166=\"\",\"\",Ecarts!K166),\"\")","v":""},{"$f":"IF( Ecarts!$E166=$A$1, IF(Ecarts!L166=\"\",\"\",Ecarts!L166),\"\")","v":""},{"$f":"IF( Ecarts!$E166=$A$1, IF(Ecarts!M166=\"\",\"\",Ecarts!M166),\"\")","v":""},0,0]
[{"$f":"IF( Ecarts!$E167=$A$1,IF( Ecarts!B167=\"\",\"\",Ecarts!A167),\"\")","v":""},{"$f":"IF( Ecarts!$E167=$A$1,IF( Ecarts!C167=\"\",\"\",Ecarts!C167),\"\")","v":""},{"$f":"IF( Ecarts!$E167=$A$1, IF(Ecarts!F167=\"\",\"\",Ecarts!F167),\"\")","v":""},{"$f":"IF( Ecarts!$E167=$A$1, IF(Ecarts!I167=\"\",\"\",Ecarts!I167),\"\")","v":""},{"$f":"IF( Ecarts!$E167=$A$1, IF(Ecarts!J167=\"\",\"\",Ecarts!J167),\"\")","v":""},{"$f":"IF( Ecarts!$E167=$A$1, IF(Ecarts!K167=\"\",\"\",Ecarts!K167),\"\")","v":""},{"$f":"IF( Ecarts!$E167=$A$1, IF(Ecarts!L167=\"\",\"\",Ecarts!L167),\"\")","v":""},{"$f":"IF( Ecarts!$E167=$A$1, IF(Ecarts!M167=\"\",\"\",Ecarts!M167),\"\")","v":""},0,0]
[{"$f":"IF( Ecarts!$E168=$A$1,IF( Ecarts!B168=\"\",\"\",Ecarts!A168),\"\")","v":""},{"$f":"IF( Ecarts!$E168=$A$1,IF( Ecarts!C168=\"\",\"\",Ecarts!C168),\"\")","v":""},{"$f":"IF( Ecarts!$E168=$A$1, IF(Ecarts!F168=\"\",\"\",Ecarts!F168),\"\")","v":""},{"$f":"IF( Ecarts!$E168=$A$1, IF(Ecarts!I168=\"\",\"\",Ecarts!I168),\"\")","v":""},{"$f":"IF( Ecarts!$E168=$A$1, IF(Ecarts!J168=\"\",\"\",Ecarts!J168),\"\")","v":""},{"$f":"IF( Ecarts!$E168=$A$1, IF(Ecarts!K168=\"\",\"\",Ecarts!K168),\"\")","v":""},{"$f":"IF( Ecarts!$E168=$A$1, IF(Ecarts!L168=\"\",\"\",Ecarts!L168),\"\")","v":""},{"$f":"IF( Ecarts!$E168=$A$1, IF(Ecarts!M168=\"\",\"\",Ecarts!M168),\"\")","v":""},0,0]
[{"$f":"IF( Ecarts!$E169=$A$1,IF( Ecarts!B169=\"\",\"\",Ecarts!A169),\"\")","v":""},{"$f":"IF( Ecarts!$E169=$A$1,IF( Ecarts!C169=\"\",\"\",Ecarts!C169),\"\")","v":""},{"$f":"IF( Ecarts!$E169=$A$1, IF(Ecarts!F169=\"\",\"\",Ecarts!F169),\"\")","v":""},{"$f":"IF( Ecarts!$E169=$A$1, IF(Ecarts!I169=\"\",\"\",Ecarts!I169),\"\")","v":""},{"$f":"IF( Ecarts!$E169=$A$1, IF(Ecarts!J169=\"\",\"\",Ecarts!J169),\"\")","v":""},{"$f":"IF( Ecarts!$E169=$A$1, IF(Ecarts!K169=\"\",\"\",Ecarts!K169),\"\")","v":""},{"$f":"IF( Ecarts!$E169=$A$1, IF(Ecarts!L169=\"\",\"\",Ecarts!L169),\"\")","v":""},{"$f":"IF( Ecarts!$E169=$A$1, IF(Ecarts!M169=\"\",\"\",Ecarts!M169),\"\")","v":""},0,0]
[{"$f":"IF( Ecarts!$E170=$A$1,IF( Ecarts!B170=\"\",\"\",Ecarts!A170),\"\")","v":""},{"$f":"IF( Ecarts!$E170=$A$1,IF( Ecarts!C170=\"\",\"\",Ecarts!C170),\"\")","v":""},{"$f":"IF( Ecarts!$E170=$A$1, IF(Ecarts!F170=\"\",\"\",Ecarts!F170),\"\")","v":""},{"$f":"IF( Ecarts!$E170=$A$1, IF(Ecarts!I170=\"\",\"\",Ecarts!I170),\"\")","v":""},{"$f":"IF( Ecarts!$E170=$A$1, IF(Ecarts!J170=\"\",\"\",Ecarts!J170),\"\")","v":""},{"$f":"IF( Ecarts!$E170=$A$1, IF(Ecarts!K170=\"\",\"\",Ecarts!K170),\"\")","v":""},{"$f":"IF( Ecarts!$E170=$A$1, IF(Ecarts!L170=\"\",\"\",Ecarts!L170),\"\")","v":""},{"$f":"IF( Ecarts!$E170=$A$1, IF(Ecarts!M170=\"\",\"\",Ecarts!M170),\"\")","v":""},0,0]
[{"$f":"IF( Ecarts!$E171=$A$1,IF( Ecarts!B171=\"\",\"\",Ecarts!A171),\"\")","v":""},{"$f":"IF( Ecarts!$E171=$A$1,IF( Ecarts!C171=\"\",\"\",Ecarts!C171),\"\")","v":""},{"$f":"IF( Ecarts!$E171=$A$1, IF(Ecarts!F171=\"\",\"\",Ecarts!F171),\"\")","v":""},{"$f":"IF( Ecarts!$E171=$A$1, IF(Ecarts!I171=\"\",\"\",Ecarts!I171),\"\")","v":""},{"$f":"IF( Ecarts!$E171=$A$1, IF(Ecarts!J171=\"\",\"\",Ecarts!J171),\"\")","v":""},{"$f":"IF( Ecarts!$E171=$A$1, IF(Ecarts!K171=\"\",\"\",Ecarts!K171),\"\")","v":""},{"$f":"IF( Ecarts!$E171=$A$1, IF(Ecarts!L171=\"\",\"\",Ecarts!L171),\"\")","v":""},{"$f":"IF( Ecarts!$E171=$A$1, IF(Ecarts!M171=\"\",\"\",Ecarts!M171),\"\")","v":""},0,0]
[{"$f":"IF( Ecarts!$E172=$A$1,IF( Ecarts!B172=\"\",\"\",Ecarts!A172),\"\")","v":""},{"$f":"IF( Ecarts!$E172=$A$1,IF( Ecarts!C172=\"\",\"\",Ecarts!C172),\"\")","v":""},{"$f":"IF( Ecarts!$E172=$A$1, IF(Ecarts!F172=\"\",\"\",Ecarts!F172),\"\")","v":""},{"$f":"IF( Ecarts!$E172=$A$1, IF(Ecarts!I172=\"\",\"\",Ecarts!I172),\"\")","v":""},{"$f":"IF( Ecarts!$E172=$A$1, IF(Ecarts!J172=\"\",\"\",Ecarts!J172),\"\")","v":""},{"$f":"IF( Ecarts!$E172=$A$1, IF(Ecarts!K172=\"\",\"\",Ecarts!K172),\"\")","v":""},{"$f":"IF( Ecarts!$E172=$A$1, IF(Ecarts!L172=\"\",\"\",Ecarts!L172),\"\")","v":""},{"$f":"IF( Ecarts!$E172=$A$1, IF(Ecarts!M172=\"\",\"\",Ecarts!M172),\"\")","v":""},0,0]
[{"$f":"IF( Ecarts!$E173=$A$1,IF( Ecarts!B173=\"\",\"\",Ecarts!A173),\"\")","v":""},{"$f":"IF( Ecarts!$E173=$A$1,IF( Ecarts!C173=\"\",\"\",Ecarts!C173),\"\")","v":""},{"$f":"IF( Ecarts!$E173=$A$1, IF(Ecarts!F173=\"\",\"\",Ecarts!F173),\"\")","v":""},{"$f":"IF( Ecarts!$E173=$A$1, IF(Ecarts!I173=\"\",\"\",Ecarts!I173),\"\")","v":""},{"$f":"IF( Ecarts!$E173=$A$1, IF(Ecarts!J173=\"\",\"\",Ecarts!J173),\"\")","v":""},{"$f":"IF( Ecarts!$E173=$A$1, IF(Ecarts!K173=\"\",\"\",Ecarts!K173),\"\")","v":""},{"$f":"IF( Ecarts!$E173=$A$1, IF(Ecarts!L173=\"\",\"\",Ecarts!L173),\"\")","v":""},{"$f":"IF( Ecarts!$E173=$A$1, IF(Ecarts!M173=\"\",\"\",Ecarts!M173),\"\")","v":""},0,0]
[{"$f":"IF( Ecarts!$E174=$A$1,IF( Ecarts!B174=\"\",\"\",Ecarts!A174),\"\")","v":""},{"$f":"IF( Ecarts!$E174=$A$1,IF( Ecarts!C174=\"\",\"\",Ecarts!C174),\"\")","v":""},{"$f":"IF( Ecarts!$E174=$A$1, IF(Ecarts!F174=\"\",\"\",Ecarts!F174),\"\")","v":""},{"$f":"IF( Ecarts!$E174=$A$1, IF(Ecarts!I174=\"\",\"\",Ecarts!I174),\"\")","v":""},{"$f":"IF( Ecarts!$E174=$A$1, IF(Ecarts!J174=\"\",\"\",Ecarts!J174),\"\")","v":""},{"$f":"IF( Ecarts!$E174=$A$1, IF(Ecarts!K174=\"\",\"\",Ecarts!K174),\"\")","v":""},{"$f":"IF( Ecarts!$E174=$A$1, IF(Ecarts!L174=\"\",\"\",Ecarts!L174),\"\")","v":""},{"$f":"IF( Ecarts!$E174=$A$1, IF(Ecarts!M174=\"\",\"\",Ecarts!M174),\"\")","v":""},0,0]
[{"$f":"IF( Ecarts!$E175=$A$1,IF( Ecarts!B175=\"\",\"\",Ecarts!A175),\"\")","v":""},{"$f":"IF( Ecarts!$E175=$A$1,IF( Ecarts!C175=\"\",\"\",Ecarts!C175),\"\")","v":""},{"$f":"IF( Ecarts!$E175=$A$1, IF(Ecarts!F175=\"\",\"\",Ecarts!F175),\"\")","v":""},{"$f":"IF( Ecarts!$E175=$A$1, IF(Ecarts!I175=\"\",\"\",Ecarts!I175),\"\")","v":""},{"$f":"IF( Ecarts!$E175=$A$1, IF(Ecarts!J175=\"\",\"\",Ecarts!J175),\"\")","v":""},{"$f":"IF( Ecarts!$E175=$A$1, IF(Ecarts!K175=\"\",\"\",Ecarts!K175),\"\")","v":""},{"$f":"IF( Ecarts!$E175=$A$1, IF(Ecarts!L175=\"\",\"\",Ecarts!L175),\"\")","v":""},{"$f":"IF( Ecarts!$E175=$A$1, IF(Ecarts!M175=\"\",\"\",Ecarts!M175),\"\")","v":""},0,0]
[{"$f":"IF( Ecarts!$E176=$A$1,IF( Ecarts!B176=\"\",\"\",Ecarts!A176),\"\")","v":""},{"$f":"IF( Ecarts!$E176=$A$1,IF( Ecarts!C176=\"\",\"\",Ecarts!C176),\"\")","v":""},{"$f":"IF( Ecarts!$E176=$A$1, IF(Ecarts!F176=\"\",\"\",Ecarts!F176),\"\")","v":""},{"$f":"IF( Ecarts!$E176=$A$1, IF(Ecarts!I176=\"\",\"\",Ecarts!I176),\"\")","v":""},{"$f":"IF( Ecarts!$E176=$A$1, IF(Ecarts!J176=\"\",\"\",Ecarts!J176),\"\")","v":""},{"$f":"IF( Ecarts!$E176=$A$1, IF(Ecarts!K176=\"\",\"\",Ecarts!K176),\"\")","v":""},{"$f":"IF( Ecarts!$E176=$A$1, IF(Ecarts!L176=\"\",\"\",Ecarts!L176),\"\")","v":""},{"$f":"IF( Ecarts!$E176=$A$1, IF(Ecarts!M176=\"\",\"\",Ecarts!M176),\"\")","v":""},0,0]
[{"$f":"IF( Ecarts!$E177=$A$1,IF( Ecarts!B177=\"\",\"\",Ecarts!A177),\"\")","v":""},{"$f":"IF( Ecarts!$E177=$A$1,IF( Ecarts!C177=\"\",\"\",Ecarts!C177),\"\")","v":""},{"$f":"IF( Ecarts!$E177=$A$1, IF(Ecarts!F177=\"\",\"\",Ecarts!F177),\"\")","v":""},{"$f":"IF( Ecarts!$E177=$A$1, IF(Ecarts!I177=\"\",\"\",Ecarts!I177),\"\")","v":""},{"$f":"IF( Ecarts!$E177=$A$1, IF(Ecarts!J177=\"\",\"\",Ecarts!J177),\"\")","v":""},{"$f":"IF( Ecarts!$E177=$A$1, IF(Ecarts!K177=\"\",\"\",Ecarts!K177),\"\")","v":""},{"$f":"IF( Ecarts!$E177=$A$1, IF(Ecarts!L177=\"\",\"\",Ecarts!L177),\"\")","v":""},{"$f":"IF( Ecarts!$E177=$A$1, IF(Ecarts!M177=\"\",\"\",Ecarts!M177),\"\")","v":""},0,0]
[{"$f":"IF( Ecarts!$E178=$A$1,IF( Ecarts!B178=\"\",\"\",Ecarts!A178),\"\")","v":""},{"$f":"IF( Ecarts!$E178=$A$1,IF( Ecarts!C178=\"\",\"\",Ecarts!C178),\"\")","v":""},{"$f":"IF( Ecarts!$E178=$A$1, IF(Ecarts!F178=\"\",\"\",Ecarts!F178),\"\")","v":""},{"$f":"IF( Ecarts!$E178=$A$1, IF(Ecarts!I178=\"\",\"\",Ecarts!I178),\"\")","v":""},{"$f":"IF( Ecarts!$E178=$A$1, IF(Ecarts!J178=\"\",\"\",Ecarts!J178),\"\")","v":""},{"$f":"IF( Ecarts!$E178=$A$1, IF(Ecarts!K178=\"\",\"\",Ecarts!K178),\"\")","v":""},{"$f":"IF( Ecarts!$E178=$A$1, IF(Ecarts!L178=\"\",\"\",Ecarts!L178),\"\")","v":""},{"$f":"IF( Ecarts!$E178=$A$1, IF(Ecarts!M178=\"\",\"\",Ecarts!M178),\"\")","v":""},0,0]
[{"$f":"IF( Ecarts!$E179=$A$1,IF( Ecarts!B179=\"\",\"\",Ecarts!A179),\"\")","v":""},{"$f":"IF( Ecarts!$E179=$A$1,IF( Ecarts!C179=\"\",\"\",Ecarts!C179),\"\")","v":""},{"$f":"IF( Ecarts!$E179=$A$1, IF(Ecarts!F179=\"\",\"\",Ecarts!F179),\"\")","v":""},{"$f":"IF( Ecarts!$E179=$A$1, IF(Ecarts!I179=\"\",\"\",Ecarts!I179),\"\")","v":""},{"$f":"IF( Ecarts!$E179=$A$1, IF(Ecarts!J179=\"\",\"\",Ecarts!J179),\"\")","v":""},{"$f":"IF( Ecarts!$E179=$A$1, IF(Ecarts!K179=\"\",\"\",Ecarts!K179),\"\")","v":""},{"$f":"IF( Ecarts!$E179=$A$1, IF(Ecarts!L179=\"\",\"\",Ecarts!L179),\"\")","v":""},{"$f":"IF( Ecarts!$E179=$A$1, IF(Ecarts!M179=\"\",\"\",Ecarts!M179),\"\")","v":""},0,0]
[{"$f":"IF( Ecarts!$E180=$A$1,IF( Ecarts!B180=\"\",\"\",Ecarts!A180),\"\")","v":""},{"$f":"IF( Ecarts!$E180=$A$1,IF( Ecarts!C180=\"\",\"\",Ecarts!C180),\"\")","v":""},{"$f":"IF( Ecarts!$E180=$A$1, IF(Ecarts!F180=\"\",\"\",Ecarts!F180),\"\")","v":""},{"$f":"IF( Ecarts!$E180=$A$1, IF(Ecarts!I180=\"\",\"\",Ecarts!I180),\"\")","v":""},{"$f":"IF( Ecarts!$E180=$A$1, IF(Ecarts!J180=\"\",\"\",Ecarts!J180),\"\")","v":""},{"$f":"IF( Ecarts!$E180=$A$1, IF(Ecarts!K180=\"\",\"\",Ecarts!K180),\"\")","v":""},{"$f":"IF( Ecarts!$E180=$A$1, IF(Ecarts!L180=\"\",\"\",Ecarts!L180),\"\")","v":""},{"$f":"IF( Ecarts!$E180=$A$1, IF(Ecarts!M180=\"\",\"\",Ecarts!M180),\"\")","v":""},0,0]
[{"$f":"IF( Ecarts!$E181=$A$1,IF( Ecarts!B181=\"\",\"\",Ecarts!A181),\"\")","v":""},{"$f":"IF( Ecarts!$E181=$A$1,IF( Ecarts!C181=\"\",\"\",Ecarts!C181),\"\")","v":""},{"$f":"IF( Ecarts!$E181=$A$1, IF(Ecarts!F181=\"\",\"\",Ecarts!F181),\"\")","v":""},{"$f":"IF( Ecarts!$E181=$A$1, IF(Ecarts!I181=\"\",\"\",Ecarts!I181),\"\")","v":""},{"$f":"IF( Ecarts!$E181=$A$1, IF(Ecarts!J181=\"\",\"\",Ecarts!J181),\"\")","v":""},{"$f":"IF( Ecarts!$E181=$A$1, IF(Ecarts!K181=\"\",\"\",Ecarts!K181),\"\")","v":""},{"$f":"IF( Ecarts!$E181=$A$1, IF(Ecarts!L181=\"\",\"\",Ecarts!L181),\"\")","v":""},{"$f":"IF( Ecarts!$E181=$A$1, IF(Ecarts!M181=\"\",\"\",Ecarts!M181),\"\")","v":""},0,0]
[{"$f":"IF( Ecarts!$E182=$A$1,IF( Ecarts!B182=\"\",\"\",Ecarts!A182),\"\")","v":""},{"$f":"IF( Ecarts!$E182=$A$1,IF( Ecarts!C182=\"\",\"\",Ecarts!C182),\"\")","v":""},{"$f":"IF( Ecarts!$E182=$A$1, IF(Ecarts!F182=\"\",\"\",Ecarts!F182),\"\")","v":""},{"$f":"IF( Ecarts!$E182=$A$1, IF(Ecarts!I182=\"\",\"\",Ecarts!I182),\"\")","v":""},{"$f":"IF( Ecarts!$E182=$A$1, IF(Ecarts!J182=\"\",\"\",Ecarts!J182),\"\")","v":""},{"$f":"IF( Ecarts!$E182=$A$1, IF(Ecarts!K182=\"\",\"\",Ecarts!K182),\"\")","v":""},{"$f":"IF( Ecarts!$E182=$A$1, IF(Ecarts!L182=\"\",\"\",Ecarts!L182),\"\")","v":""},{"$f":"IF( Ecarts!$E182=$A$1, IF(Ecarts!M182=\"\",\"\",Ecarts!M182),\"\")","v":""},0,0]
[{"$f":"IF( Ecarts!$E183=$A$1,IF( Ecarts!B183=\"\",\"\",Ecarts!A183),\"\")","v":""},{"$f":"IF( Ecarts!$E183=$A$1,IF( Ecarts!C183=\"\",\"\",Ecarts!C183),\"\")","v":""},{"$f":"IF( Ecarts!$E183=$A$1, IF(Ecarts!F183=\"\",\"\",Ecarts!F183),\"\")","v":""},{"$f":"IF( Ecarts!$E183=$A$1, IF(Ecarts!I183=\"\",\"\",Ecarts!I183),\"\")","v":""},{"$f":"IF( Ecarts!$E183=$A$1, IF(Ecarts!J183=\"\",\"\",Ecarts!J183),\"\")","v":""},{"$f":"IF( Ecarts!$E183=$A$1, IF(Ecarts!K183=\"\",\"\",Ecarts!K183),\"\")","v":""},{"$f":"IF( Ecarts!$E183=$A$1, IF(Ecarts!L183=\"\",\"\",Ecarts!L183),\"\")","v":""},{"$f":"IF( Ecarts!$E183=$A$1, IF(Ecarts!M183=\"\",\"\",Ecarts!M183),\"\")","v":""},0,0]
[{"$f":"IF( Ecarts!$E184=$A$1,IF( Ecarts!B184=\"\",\"\",Ecarts!A184),\"\")","v":""},{"$f":"IF( Ecarts!$E184=$A$1,IF( Ecarts!C184=\"\",\"\",Ecarts!C184),\"\")","v":""},{"$f":"IF( Ecarts!$E184=$A$1, IF(Ecarts!F184=\"\",\"\",Ecarts!F184),\"\")","v":""},{"$f":"IF( Ecarts!$E184=$A$1, IF(Ecarts!I184=\"\",\"\",Ecarts!I184),\"\")","v":""},{"$f":"IF( Ecarts!$E184=$A$1, IF(Ecarts!J184=\"\",\"\",Ecarts!J184),\"\")","v":""},{"$f":"IF( Ecarts!$E184=$A$1, IF(Ecarts!K184=\"\",\"\",Ecarts!K184),\"\")","v":""},{"$f":"IF( Ecarts!$E184=$A$1, IF(Ecarts!L184=\"\",\"\",Ecarts!L184),\"\")","v":""},{"$f":"IF( Ecarts!$E184=$A$1, IF(Ecarts!M184=\"\",\"\",Ecarts!M184),\"\")","v":""},0,0]
[{"$f":"IF( Ecarts!$E185=$A$1,IF( Ecarts!B185=\"\",\"\",Ecarts!A185),\"\")","v":""},{"$f":"IF( Ecarts!$E185=$A$1,IF( Ecarts!C185=\"\",\"\",Ecarts!C185),\"\")","v":""},{"$f":"IF( Ecarts!$E185=$A$1, IF(Ecarts!F185=\"\",\"\",Ecarts!F185),\"\")","v":""},{"$f":"IF( Ecarts!$E185=$A$1, IF(Ecarts!I185=\"\",\"\",Ecarts!I185),\"\")","v":""},{"$f":"IF( Ecarts!$E185=$A$1, IF(Ecarts!J185=\"\",\"\",Ecarts!J185),\"\")","v":""},{"$f":"IF( Ecarts!$E185=$A$1, IF(Ecarts!K185=\"\",\"\",Ecarts!K185),\"\")","v":""},{"$f":"IF( Ecarts!$E185=$A$1, IF(Ecarts!L185=\"\",\"\",Ecarts!L185),\"\")","v":""},{"$f":"IF( Ecarts!$E185=$A$1, IF(Ecarts!M185=\"\",\"\",Ecarts!M185),\"\")","v":""},0,0]
[{"$f":"IF( Ecarts!$E186=$A$1,IF( Ecarts!B186=\"\",\"\",Ecarts!A186),\"\")","v":""},{"$f":"IF( Ecarts!$E186=$A$1,IF( Ecarts!C186=\"\",\"\",Ecarts!C186),\"\")","v":""},{"$f":"IF( Ecarts!$E186=$A$1, IF(Ecarts!F186=\"\",\"\",Ecarts!F186),\"\")","v":""},{"$f":"IF( Ecarts!$E186=$A$1, IF(Ecarts!I186=\"\",\"\",Ecarts!I186),\"\")","v":""},{"$f":"IF( Ecarts!$E186=$A$1, IF(Ecarts!J186=\"\",\"\",Ecarts!J186),\"\")","v":""},{"$f":"IF( Ecarts!$E186=$A$1, IF(Ecarts!K186=\"\",\"\",Ecarts!K186),\"\")","v":""},{"$f":"IF( Ecarts!$E186=$A$1, IF(Ecarts!L186=\"\",\"\",Ecarts!L186),\"\")","v":""},{"$f":"IF( Ecarts!$E186=$A$1, IF(Ecarts!M186=\"\",\"\",Ecarts!M186),\"\")","v":""},0,0]
[{"$f":"IF( Ecarts!$E187=$A$1,IF( Ecarts!B187=\"\",\"\",Ecarts!A187),\"\")","v":""},{"$f":"IF( Ecarts!$E187=$A$1,IF( Ecarts!C187=\"\",\"\",Ecarts!C187),\"\")","v":""},{"$f":"IF( Ecarts!$E187=$A$1, IF(Ecarts!F187=\"\",\"\",Ecarts!F187),\"\")","v":""},{"$f":"IF( Ecarts!$E187=$A$1, IF(Ecarts!I187=\"\",\"\",Ecarts!I187),\"\")","v":""},{"$f":"IF( Ecarts!$E187=$A$1, IF(Ecarts!J187=\"\",\"\",Ecarts!J187),\"\")","v":""},{"$f":"IF( Ecarts!$E187=$A$1, IF(Ecarts!K187=\"\",\"\",Ecarts!K187),\"\")","v":""},{"$f":"IF( Ecarts!$E187=$A$1, IF(Ecarts!L187=\"\",\"\",Ecarts!L187),\"\")","v":""},{"$f":"IF( Ecarts!$E187=$A$1, IF(Ecarts!M187=\"\",\"\",Ecarts!M187),\"\")","v":""},0,0]
[{"$f":"IF( Ecarts!$E188=$A$1,IF( Ecarts!B188=\"\",\"\",Ecarts!A188),\"\")","v":""},{"$f":"IF( Ecarts!$E188=$A$1,IF( Ecarts!C188=\"\",\"\",Ecarts!C188),\"\")","v":""},{"$f":"IF( Ecarts!$E188=$A$1, IF(Ecarts!F188=\"\",\"\",Ecarts!F188),\"\")","v":""},{"$f":"IF( Ecarts!$E188=$A$1, IF(Ecarts!I188=\"\",\"\",Ecarts!I188),\"\")","v":""},{"$f":"IF( Ecarts!$E188=$A$1, IF(Ecarts!J188=\"\",\"\",Ecarts!J188),\"\")","v":""},{"$f":"IF( Ecarts!$E188=$A$1, IF(Ecarts!K188=\"\",\"\",Ecarts!K188),\"\")","v":""},{"$f":"IF( Ecarts!$E188=$A$1, IF(Ecarts!L188=\"\",\"\",Ecarts!L188),\"\")","v":""},{"$f":"IF( Ecarts!$E188=$A$1, IF(Ecarts!M188=\"\",\"\",Ecarts!M188),\"\")","v":""},0,0]
[{"$f":"IF( Ecarts!$E189=$A$1,IF( Ecarts!B189=\"\",\"\",Ecarts!A189),\"\")","v":""},{"$f":"IF( Ecarts!$E189=$A$1,IF( Ecarts!C189=\"\",\"\",Ecarts!C189),\"\")","v":""},{"$f":"IF( Ecarts!$E189=$A$1, IF(Ecarts!F189=\"\",\"\",Ecarts!F189),\"\")","v":""},{"$f":"IF( Ecarts!$E189=$A$1, IF(Ecarts!I189=\"\",\"\",Ecarts!I189),\"\")","v":""},{"$f":"IF( Ecarts!$E189=$A$1, IF(Ecarts!J189=\"\",\"\",Ecarts!J189),\"\")","v":""},{"$f":"IF( Ecarts!$E189=$A$1, IF(Ecarts!K189=\"\",\"\",Ecarts!K189),\"\")","v":""},{"$f":"IF( Ecarts!$E189=$A$1, IF(Ecarts!L189=\"\",\"\",Ecarts!L189),\"\")","v":""},{"$f":"IF( Ecarts!$E189=$A$1, IF(Ecarts!M189=\"\",\"\",Ecarts!M189),\"\")","v":""},0,0]
[{"$f":"IF( Ecarts!$E190=$A$1,IF( Ecarts!B190=\"\",\"\",Ecarts!A190),\"\")","v":""},{"$f":"IF( Ecarts!$E190=$A$1,IF( Ecarts!C190=\"\",\"\",Ecarts!C190),\"\")","v":""},{"$f":"IF( Ecarts!$E190=$A$1, IF(Ecarts!F190=\"\",\"\",Ecarts!F190),\"\")","v":""},{"$f":"IF( Ecarts!$E190=$A$1, IF(Ecarts!I190=\"\",\"\",Ecarts!I190),\"\")","v":""},{"$f":"IF( Ecarts!$E190=$A$1, IF(Ecarts!J190=\"\",\"\",Ecarts!J190),\"\")","v":""},{"$f":"IF( Ecarts!$E190=$A$1, IF(Ecarts!K190=\"\",\"\",Ecarts!K190),\"\")","v":""},{"$f":"IF( Ecarts!$E190=$A$1, IF(Ecarts!L190=\"\",\"\",Ecarts!L190),\"\")","v":""},{"$f":"IF( Ecarts!$E190=$A$1, IF(Ecarts!M190=\"\",\"\",Ecarts!M190),\"\")","v":""},0,0]
[{"$f":"IF( Ecarts!$E191=$A$1,IF( Ecarts!B191=\"\",\"\",Ecarts!A191),\"\")","v":""},{"$f":"IF( Ecarts!$E191=$A$1,IF( Ecarts!C191=\"\",\"\",Ecarts!C191),\"\")","v":""},{"$f":"IF( Ecarts!$E191=$A$1, IF(Ecarts!F191=\"\",\"\",Ecarts!F191),\"\")","v":""},{"$f":"IF( Ecarts!$E191=$A$1, IF(Ecarts!I191=\"\",\"\",Ecarts!I191),\"\")","v":""},{"$f":"IF( Ecarts!$E191=$A$1, IF(Ecarts!J191=\"\",\"\",Ecarts!J191),\"\")","v":""},{"$f":"IF( Ecarts!$E191=$A$1, IF(Ecarts!K191=\"\",\"\",Ecarts!K191),\"\")","v":""},{"$f":"IF( Ecarts!$E191=$A$1, IF(Ecarts!L191=\"\",\"\",Ecarts!L191),\"\")","v":""},{"$f":"IF( Ecarts!$E191=$A$1, IF(Ecarts!M191=\"\",\"\",Ecarts!M191),\"\")","v":""},0,0]
[{"$f":"IF( Ecarts!$E192=$A$1,IF( Ecarts!B192=\"\",\"\",Ecarts!A192),\"\")","v":""},{"$f":"IF( Ecarts!$E192=$A$1,IF( Ecarts!C192=\"\",\"\",Ecarts!C192),\"\")","v":""},{"$f":"IF( Ecarts!$E192=$A$1, IF(Ecarts!F192=\"\",\"\",Ecarts!F192),\"\")","v":""},{"$f":"IF( Ecarts!$E192=$A$1, IF(Ecarts!I192=\"\",\"\",Ecarts!I192),\"\")","v":""},{"$f":"IF( Ecarts!$E192=$A$1, IF(Ecarts!J192=\"\",\"\",Ecarts!J192),\"\")","v":""},{"$f":"IF( Ecarts!$E192=$A$1, IF(Ecarts!K192=\"\",\"\",Ecarts!K192),\"\")","v":""},{"$f":"IF( Ecarts!$E192=$A$1, IF(Ecarts!L192=\"\",\"\",Ecarts!L192),\"\")","v":""},{"$f":"IF( Ecarts!$E192=$A$1, IF(Ecarts!M192=\"\",\"\",Ecarts!M192),\"\")","v":""},0,0]
[{"$f":"IF( Ecarts!$E193=$A$1,IF( Ecarts!B193=\"\",\"\",Ecarts!A193),\"\")","v":""},{"$f":"IF( Ecarts!$E193=$A$1,IF( Ecarts!C193=\"\",\"\",Ecarts!C193),\"\")","v":""},{"$f":"IF( Ecarts!$E193=$A$1, IF(Ecarts!F193=\"\",\"\",Ecarts!F193),\"\")","v":""},{"$f":"IF( Ecarts!$E193=$A$1, IF(Ecarts!I193=\"\",\"\",Ecarts!I193),\"\")","v":""},{"$f":"IF( Ecarts!$E193=$A$1, IF(Ecarts!J193=\"\",\"\",Ecarts!J193),\"\")","v":""},{"$f":"IF( Ecarts!$E193=$A$1, IF(Ecarts!K193=\"\",\"\",Ecarts!K193),\"\")","v":""},{"$f":"IF( Ecarts!$E193=$A$1, IF(Ecarts!L193=\"\",\"\",Ecarts!L193),\"\")","v":""},{"$f":"IF( Ecarts!$E193=$A$1, IF(Ecarts!M193=\"\",\"\",Ecarts!M193),\"\")","v":""},0,0]
[{"$f":"IF( Ecarts!$E194=$A$1,IF( Ecarts!B194=\"\",\"\",Ecarts!A194),\"\")","v":""},{"$f":"IF( Ecarts!$E194=$A$1,IF( Ecarts!C194=\"\",\"\",Ecarts!C194),\"\")","v":""},{"$f":"IF( Ecarts!$E194=$A$1, IF(Ecarts!F194=\"\",\"\",Ecarts!F194),\"\")","v":""},{"$f":"IF( Ecarts!$E194=$A$1, IF(Ecarts!I194=\"\",\"\",Ecarts!I194),\"\")","v":""},{"$f":"IF( Ecarts!$E194=$A$1, IF(Ecarts!J194=\"\",\"\",Ecarts!J194),\"\")","v":""},{"$f":"IF( Ecarts!$E194=$A$1, IF(Ecarts!K194=\"\",\"\",Ecarts!K194),\"\")","v":""},{"$f":"IF( Ecarts!$E194=$A$1, IF(Ecarts!L194=\"\",\"\",Ecarts!L194),\"\")","v":""},{"$f":"IF( Ecarts!$E194=$A$1, IF(Ecarts!M194=\"\",\"\",Ecarts!M194),\"\")","v":""},0,0]
[{"$f":"IF( Ecarts!$E195=$A$1,IF( Ecarts!B195=\"\",\"\",Ecarts!A195),\"\")","v":""},{"$f":"IF( Ecarts!$E195=$A$1,IF( Ecarts!C195=\"\",\"\",Ecarts!C195),\"\")","v":""},{"$f":"IF( Ecarts!$E195=$A$1, IF(Ecarts!F195=\"\",\"\",Ecarts!F195),\"\")","v":""},{"$f":"IF( Ecarts!$E195=$A$1, IF(Ecarts!I195=\"\",\"\",Ecarts!I195),\"\")","v":""},{"$f":"IF( Ecarts!$E195=$A$1, IF(Ecarts!J195=\"\",\"\",Ecarts!J195),\"\")","v":""},{"$f":"IF( Ecarts!$E195=$A$1, IF(Ecarts!K195=\"\",\"\",Ecarts!K195),\"\")","v":""},{"$f":"IF( Ecarts!$E195=$A$1, IF(Ecarts!L195=\"\",\"\",Ecarts!L195),\"\")","v":""},{"$f":"IF( Ecarts!$E195=$A$1, IF(Ecarts!M195=\"\",\"\",Ecarts!M195),\"\")","v":""},0,0]
[{"$f":"IF( Ecarts!$E196=$A$1,IF( Ecarts!B196=\"\",\"\",Ecarts!A196),\"\")","v":""},{"$f":"IF( Ecarts!$E196=$A$1,IF( Ecarts!C196=\"\",\"\",Ecarts!C196),\"\")","v":""},{"$f":"IF( Ecarts!$E196=$A$1, IF(Ecarts!F196=\"\",\"\",Ecarts!F196),\"\")","v":""},{"$f":"IF( Ecarts!$E196=$A$1, IF(Ecarts!I196=\"\",\"\",Ecarts!I196),\"\")","v":""},{"$f":"IF( Ecarts!$E196=$A$1, IF(Ecarts!J196=\"\",\"\",Ecarts!J196),\"\")","v":""},{"$f":"IF( Ecarts!$E196=$A$1, IF(Ecarts!K196=\"\",\"\",Ecarts!K196),\"\")","v":""},{"$f":"IF( Ecarts!$E196=$A$1, IF(Ecarts!L196=\"\",\"\",Ecarts!L196),\"\")","v":""},{"$f":"IF( Ecarts!$E196=$A$1, IF(Ecarts!M196=\"\",\"\",Ecarts!M196),\"\")","v":""},{"$f":"IF(B197=\"\",0,IF(G197=1,0,1))","v":0},{"$f":"IF(F197=\"\",0,IF(F197>(TODAY()-60),1,0))","v":0}]
[{"$f":"IF( Ecarts!$E197=$A$1,IF( Ecarts!B197=\"\",\"\",Ecarts!A197),\"\")","v":""},{"$f":"IF( Ecarts!$E197=$A$1,IF( Ecarts!C197=\"\",\"\",Ecarts!C197),\"\")","v":""},{"$f":"IF( Ecarts!$E197=$A$1, IF(Ecarts!F197=\"\",\"\",Ecarts!F197),\"\")","v":""},{"$f":"IF( Ecarts!$E197=$A$1, IF(Ecarts!I197=\"\",\"\",Ecarts!I197),\"\")","v":""},{"$f":"IF( Ecarts!$E197=$A$1, IF(Ecarts!J197=\"\",\"\",Ecarts!J197),\"\")","v":""},{"$f":"IF( Ecarts!$E197=$A$1, IF(Ecarts!K197=\"\",\"\",Ecarts!K197),\"\")","v":""},{"$f":"IF( Ecarts!$E197=$A$1, IF(Ecarts!L197=\"\",\"\",Ecarts!L197),\"\")","v":""},{"$f":"IF( Ecarts!$E197=$A$1, IF(Ecarts!M197=\"\",\"\",Ecarts!M197),\"\")","v":""},0,0]
[{"$f":"IF( Ecarts!$E198=$A$1,IF( Ecarts!B198=\"\",\"\",Ecarts!A198),\"\")","v":""},{"$f":"IF( Ecarts!$E198=$A$1,IF( Ecarts!C198=\"\",\"\",Ecarts!C198),\"\")","v":""},{"$f":"IF( Ecarts!$E198=$A$1, IF(Ecarts!F198=\"\",\"\",Ecarts!F198),\"\")","v":""},{"$f":"IF( Ecarts!$E198=$A$1, IF(Ecarts!I198=\"\",\"\",Ecarts!I198),\"\")","v":""},{"$f":"IF( Ecarts!$E198=$A$1, IF(Ecarts!J198=\"\",\"\",Ecarts!J198),\"\")","v":""},{"$f":"IF( Ecarts!$E198=$A$1, IF(Ecarts!K198=\"\",\"\",Ecarts!K198),\"\")","v":""},{"$f":"IF( Ecarts!$E198=$A$1, IF(Ecarts!L198=\"\",\"\",Ecarts!L198),\"\")","v":""},{"$f":"IF( Ecarts!$E198=$A$1, IF(Ecarts!M198=\"\",\"\",Ecarts!M198),\"\")","v":""},0,0]
[{"$f":"IF( Ecarts!$E199=$A$1,IF( Ecarts!B199=\"\",\"\",Ecarts!A199),\"\")","v":""},{"$f":"IF( Ecarts!$E199=$A$1,IF( Ecarts!C199=\"\",\"\",Ecarts!C199),\"\")","v":""},{"$f":"IF( Ecarts!$E199=$A$1, IF(Ecarts!F199=\"\",\"\",Ecarts!F199),\"\")","v":""},{"$f":"IF( Ecarts!$E199=$A$1, IF(Ecarts!I199=\"\",\"\",Ecarts!I199),\"\")","v":""},{"$f":"IF( Ecarts!$E199=$A$1, IF(Ecarts!J199=\"\",\"\",Ecarts!J199),\"\")","v":""},{"$f":"IF( Ecarts!$E199=$A$1, IF(Ecarts!K199=\"\",\"\",Ecarts!K199),\"\")","v":""},{"$f":"IF( Ecarts!$E199=$A$1, IF(Ecarts!L199=\"\",\"\",Ecarts!L199),\"\")","v":""},{"$f":"IF( Ecarts!$E199=$A$1, IF(Ecarts!M199=\"\",\"\",Ecarts!M199),\"\")","v":""},0,0]
[{"$f":"IF( Ecarts!$E200=$A$1,IF( Ecarts!B200=\"\",\"\",Ecarts!A200),\"\")","v":""},{"$f":"IF( Ecarts!$E200=$A$1,IF( Ecarts!C200=\"\",\"\",Ecarts!C200),\"\")","v":""},{"$f":"IF( Ecarts!$E200=$A$1, IF(Ecarts!F200=\"\",\"\",Ecarts!F200),\"\")","v":""},{"$f":"IF( Ecarts!$E200=$A$1, IF(Ecarts!I200=\"\",\"\",Ecarts!I200),\"\")","v":""},{"$f":"IF( Ecarts!$E200=$A$1, IF(Ecarts!J200=\"\",\"\",Ecarts!J200),\"\")","v":""},{"$f":"IF( Ecarts!$E200=$A$1, IF(Ecarts!K200=\"\",\"\",Ecarts!K200),\"\")","v":""},{"$f":"IF( Ecarts!$E200=$A$1, IF(Ecarts!L200=\"\",\"\",Ecarts!L200),\"\")","v":""},{"$f":"IF( Ecarts!$E200=$A$1, IF(Ecarts!M200=\"\",\"\",Ecarts!M200),\"\")","v":""},0,0]
[{"$f":"IF( Ecarts!$E201=$A$1,IF( Ecarts!B201=\"\",\"\",Ecarts!A201),\"\")","v":""},{"$f":"IF( Ecarts!$E201=$A$1,IF( Ecarts!C201=\"\",\"\",Ecarts!C201),\"\")","v":""},{"$f":"IF( Ecarts!$E201=$A$1, IF(Ecarts!F201=\"\",\"\",Ecarts!F201),\"\")","v":""},{"$f":"IF( Ecarts!$E201=$A$1, IF(Ecarts!I201=\"\",\"\",Ecarts!I201),\"\")","v":""},{"$f":"IF( Ecarts!$E201=$A$1, IF(Ecarts!J201=\"\",\"\",Ecarts!J201),\"\")","v":""},{"$f":"IF( Ecarts!$E201=$A$1, IF(Ecarts!K201=\"\",\"\",Ecarts!K201),\"\")","v":""},{"$f":"IF( Ecarts!$E201=$A$1, IF(Ecarts!L201=\"\",\"\",Ecarts!L201),\"\")","v":""},{"$f":"IF( Ecarts!$E201=$A$1, IF(Ecarts!M201=\"\",\"\",Ecarts!M201),\"\")","v":""},0,0]
[{"$f":"IF( Ecarts!$E202=$A$1,IF( Ecarts!B202=\"\",\"\",Ecarts!A202),\"\")","v":""},{"$f":"IF( Ecarts!$E202=$A$1,IF( Ecarts!C202=\"\",\"\",Ecarts!C202),\"\")","v":""},{"$f":"IF( Ecarts!$E202=$A$1, IF(Ecarts!F202=\"\",\"\",Ecarts!F202),\"\")","v":""},{"$f":"IF( Ecarts!$E202=$A$1, IF(Ecarts!I202=\"\",\"\",Ecarts!I202),\"\")","v":""},{"$f":"IF( Ecarts!$E202=$A$1, IF(Ecarts!J202=\"\",\"\",Ecarts!J202),\"\")","v":""},{"$f":"IF( Ecarts!$E202=$A$1, IF(Ecarts!K202=\"\",\"\",Ecarts!K202),\"\")","v":""},{"$f":"IF( Ecarts!$E202=$A$1, IF(Ecarts!L202=\"\",\"\",Ecarts!L202),\"\")","v":""},{"$f":"IF( Ecarts!$E202=$A$1, IF(Ecarts!M202=\"\",\"\",Ecarts!M202),\"\")","v":""},0,0]
[{"$f":"IF( Ecarts!$E203=$A$1,IF( Ecarts!B203=\"\",\"\",Ecarts!A203),\"\")","v":""},{"$f":"IF( Ecarts!$E203=$A$1,IF( Ecarts!C203=\"\",\"\",Ecarts!C203),\"\")","v":""},{"$f":"IF( Ecarts!$E203=$A$1, IF(Ecarts!F203=\"\",\"\",Ecarts!F203),\"\")","v":""},{"$f":"IF( Ecarts!$E203=$A$1, IF(Ecarts!I203=\"\",\"\",Ecarts!I203),\"\")","v":""},{"$f":"IF( Ecarts!$E203=$A$1, IF(Ecarts!J203=\"\",\"\",Ecarts!J203),\"\")","v":""},{"$f":"IF( Ecarts!$E203=$A$1, IF(Ecarts!K203=\"\",\"\",Ecarts!K203),\"\")","v":""},{"$f":"IF( Ecarts!$E203=$A$1, IF(Ecarts!L203=\"\",\"\",Ecarts!L203),\"\")","v":""},{"$f":"IF( Ecarts!$E203=$A$1, IF(Ecarts!M203=\"\",\"\",Ecarts!M203),\"\")","v":""},0,0]
[{"$f":"IF( Ecarts!$E204=$A$1,IF( Ecarts!B204=\"\",\"\",Ecarts!A204),\"\")","v":""},{"$f":"IF( Ecarts!$E204=$A$1,IF( Ecarts!C204=\"\",\"\",Ecarts!C204),\"\")","v":""},{"$f":"IF( Ecarts!$E204=$A$1, IF(Ecarts!F204=\"\",\"\",Ecarts!F204),\"\")","v":""},{"$f":"IF( Ecarts!$E204=$A$1, IF(Ecarts!I204=\"\",\"\",Ecarts!I204),\"\")","v":""},{"$f":"IF( Ecarts!$E204=$A$1, IF(Ecarts!J204=\"\",\"\",Ecarts!J204),\"\")","v":""},{"$f":"IF( Ecarts!$E204=$A$1, IF(Ecarts!K204=\"\",\"\",Ecarts!K204),\"\")","v":""},{"$f":"IF( Ecarts!$E204=$A$1, IF(Ecarts!L204=\"\",\"\",Ecarts!L204),\"\")","v":""},{"$f":"IF( Ecarts!$E204=$A$1, IF(Ecarts!M204=\"\",\"\",Ecarts!M204),\"\")","v":""},0,0]
[{"$f":"IF( Ecarts!$E205=$A$1,IF( Ecarts!B205=\"\",\"\",Ecarts!A205),\"\")","v":""},{"$f":"IF( Ecarts!$E205=$A$1,IF( Ecarts!C205=\"\",\"\",Ecarts!C205),\"\")","v":""},{"$f":"IF( Ecarts!$E205=$A$1, IF(Ecarts!F205=\"\",\"\",Ecarts!F205),\"\")","v":""},{"$f":"IF( Ecarts!$E205=$A$1, IF(Ecarts!I205=\"\",\"\",Ecarts!I205),\"\")","v":""},{"$f":"IF( Ecarts!$E205=$A$1, IF(Ecarts!J205=\"\",\"\",Ecarts!J205),\"\")","v":""},{"$f":"IF( Ecarts!$E205=$A$1, IF(Ecarts!K205=\"\",\"\",Ecarts!K205),\"\")","v":""},{"$f":"IF( Ecarts!$E205=$A$1, IF(Ecarts!L205=\"\",\"\",Ecarts!L205),\"\")","v":""},{"$f":"IF( Ecarts!$E205=$A$1, IF(Ecarts!M205=\"\",\"\",Ecarts!M205),\"\")","v":""},0,0]
[{"$f":"IF( Ecarts!$E206=$A$1,IF( Ecarts!B206=\"\",\"\",Ecarts!A206),\"\")","v":""},{"$f":"IF( Ecarts!$E206=$A$1,IF( Ecarts!C206=\"\",\"\",Ecarts!C206),\"\")","v":""},{"$f":"IF( Ecarts!$E206=$A$1, IF(Ecarts!F206=\"\",\"\",Ecarts!F206),\"\")","v":""},{"$f":"IF( Ecarts!$E206=$A$1, IF(Ecarts!I206=\"\",\"\",Ecarts!I206),\"\")","v":""},{"$f":"IF( Ecarts!$E206=$A$1, IF(Ecarts!J206=\"\",\"\",Ecarts!J206),\"\")","v":""},{"$f":"IF( Ecarts!$E206=$A$1, IF(Ecarts!K206=\"\",\"\",Ecarts!K206),\"\")","v":""},{"$f":"IF( Ecarts!$E206=$A$1, IF(Ecarts!L206=\"\",\"\",Ecarts!L206),\"\")","v":""},{"$f":"IF( Ecarts!$E206=$A$1, IF(Ecarts!M206=\"\",\"\",Ecarts!M206),\"\")","v":""},0,0]
[{"$f":"IF( Ecarts!$E207=$A$1,IF( Ecarts!B207=\"\",\"\",Ecarts!A207),\"\")","v":""},{"$f":"IF( Ecarts!$E207=$A$1,IF( Ecarts!C207=\"\",\"\",Ecarts!C207),\"\")","v":""},{"$f":"IF( Ecarts!$E207=$A$1, IF(Ecarts!F207=\"\",\"\",Ecarts!F207),\"\")","v":""},{"$f":"IF( Ecarts!$E207=$A$1, IF(Ecarts!I207=\"\",\"\",Ecarts!I207),\"\")","v":""},{"$f":"IF( Ecarts!$E207=$A$1, IF(Ecarts!J207=\"\",\"\",Ecarts!J207),\"\")","v":""},{"$f":"IF( Ecarts!$E207=$A$1, IF(Ecarts!K207=\"\",\"\",Ecarts!K207),\"\")","v":""},{"$f":"IF( Ecarts!$E207=$A$1, IF(Ecarts!L207=\"\",\"\",Ecarts!L207),\"\")","v":""},{"$f":"IF( Ecarts!$E207=$A$1, IF(Ecarts!M207=\"\",\"\",Ecarts!M207),\"\")","v":""},0,0]
[{"$f":"IF( Ecarts!$E208=$A$1,IF( Ecarts!B208=\"\",\"\",Ecarts!A208),\"\")","v":""},{"$f":"IF( Ecarts!$E208=$A$1,IF( Ecarts!C208=\"\",\"\",Ecarts!C208),\"\")","v":""},{"$f":"IF( Ecarts!$E208=$A$1, IF(Ecarts!F208=\"\",\"\",Ecarts!F208),\"\")","v":""},{"$f":"IF( Ecarts!$E208=$A$1, IF(Ecarts!I208=\"\",\"\",Ecarts!I208),\"\")","v":""},{"$f":"IF( Ecarts!$E208=$A$1, IF(Ecarts!J208=\"\",\"\",Ecarts!J208),\"\")","v":""},{"$f":"IF( Ecarts!$E208=$A$1, IF(Ecarts!K208=\"\",\"\",Ecarts!K208),\"\")","v":""},{"$f":"IF( Ecarts!$E208=$A$1, IF(Ecarts!L208=\"\",\"\",Ecarts!L208),\"\")","v":""},{"$f":"IF( Ecarts!$E208=$A$1, IF(Ecarts!M208=\"\",\"\",Ecarts!M208),\"\")","v":""},0,0]
[{"$f":"IF( Ecarts!$E209=$A$1,IF( Ecarts!B209=\"\",\"\",Ecarts!A209),\"\")","v":""},{"$f":"IF( Ecarts!$E209=$A$1,IF( Ecarts!C209=\"\",\"\",Ecarts!C209),\"\")","v":""},{"$f":"IF( Ecarts!$E209=$A$1, IF(Ecarts!F209=\"\",\"\",Ecarts!F209),\"\")","v":""},{"$f":"IF( Ecarts!$E209=$A$1, IF(Ecarts!I209=\"\",\"\",Ecarts!I209),\"\")","v":""},{"$f":"IF( Ecarts!$E209=$A$1, IF(Ecarts!J209=\"\",\"\",Ecarts!J209),\"\")","v":""},{"$f":"IF( Ecarts!$E209=$A$1, IF(Ecarts!K209=\"\",\"\",Ecarts!K209),\"\")","v":""},{"$f":"IF( Ecarts!$E209=$A$1, IF(Ecarts!L209=\"\",\"\",Ecarts!L209),\"\")","v":""},{"$f":"IF( Ecarts!$E209=$A$1, IF(Ecarts!M209=\"\",\"\",Ecarts!M209),\"\")","v":""},0,0]
[{"$f":"IF( Ecarts!$E210=$A$1,IF( Ecarts!B210=\"\",\"\",Ecarts!A210),\"\")","v":""},{"$f":"IF( Ecarts!$E210=$A$1,IF( Ecarts!C210=\"\",\"\",Ecarts!C210),\"\")","v":""},{"$f":"IF( Ecarts!$E210=$A$1, IF(Ecarts!F210=\"\",\"\",Ecarts!F210),\"\")","v":""},{"$f":"IF( Ecarts!$E210=$A$1, IF(Ecarts!I210=\"\",\"\",Ecarts!I210),\"\")","v":""},{"$f":"IF( Ecarts!$E210=$A$1, IF(Ecarts!J210=\"\",\"\",Ecarts!J210),\"\")","v":""},{"$f":"IF( Ecarts!$E210=$A$1, IF(Ecarts!K210=\"\",\"\",Ecarts!K210),\"\")","v":""},{"$f":"IF( Ecarts!$E210=$A$1, IF(Ecarts!L210=\"\",\"\",Ecarts!L210),\"\")","v":""},{"$f":"IF( Ecarts!$E210=$A$1, IF(Ecarts!M210=\"\",\"\",Ecarts!M210),\"\")","v":""},0,0]
[{"$f":"IF( Ecarts!$E211=$A$1,IF( Ecarts!B211=\"\",\"\",Ecarts!A211),\"\")","v":""},{"$f":"IF( Ecarts!$E211=$A$1,IF( Ecarts!C211=\"\",\"\",Ecarts!C211),\"\")","v":""},{"$f":"IF( Ecarts!$E211=$A$1, IF(Ecarts!F211=\"\",\"\",Ecarts!F211),\"\")","v":""},{"$f":"IF( Ecarts!$E211=$A$1, IF(Ecarts!I211=\"\",\"\",Ecarts!I211),\"\")","v":""},{"$f":"IF( Ecarts!$E211=$A$1, IF(Ecarts!J211=\"\",\"\",Ecarts!J211),\"\")","v":""},{"$f":"IF( Ecarts!$E211=$A$1, IF(Ecarts!K211=\"\",\"\",Ecarts!K211),\"\")","v":""},{"$f":"IF( Ecarts!$E211=$A$1, IF(Ecarts!L211=\"\",\"\",Ecarts!L211),\"\")","v":""},{"$f":"IF( Ecarts!$E211=$A$1, IF(Ecarts!M211=\"\",\"\",Ecarts!M211),\"\")","v":""},0,0]
[{"$f":"IF( Ecarts!$E212=$A$1,IF( Ecarts!B212=\"\",\"\",Ecarts!A212),\"\")","v":""},{"$f":"IF( Ecarts!$E212=$A$1,IF( Ecarts!C212=\"\",\"\",Ecarts!C212),\"\")","v":""},{"$f":"IF( Ecarts!$E212=$A$1, IF(Ecarts!F212=\"\",\"\",Ecarts!F212),\"\")","v":""},{"$f":"IF( Ecarts!$E212=$A$1, IF(Ecarts!I212=\"\",\"\",Ecarts!I212),\"\")","v":""},{"$f":"IF( Ecarts!$E212=$A$1, IF(Ecarts!J212=\"\",\"\",Ecarts!J212),\"\")","v":""},{"$f":"IF( Ecarts!$E212=$A$1, IF(Ecarts!K212=\"\",\"\",Ecarts!K212),\"\")","v":""},{"$f":"IF( Ecarts!$E212=$A$1, IF(Ecarts!L212=\"\",\"\",Ecarts!L212),\"\")","v":""},{"$f":"IF( Ecarts!$E212=$A$1, IF(Ecarts!M212=\"\",\"\",Ecarts!M212),\"\")","v":""},0,0]
[{"$f":"IF( Ecarts!$E213=$A$1,IF( Ecarts!B213=\"\",\"\",Ecarts!A213),\"\")","v":""},{"$f":"IF( Ecarts!$E213=$A$1,IF( Ecarts!C213=\"\",\"\",Ecarts!C213),\"\")","v":""},{"$f":"IF( Ecarts!$E213=$A$1, IF(Ecarts!F213=\"\",\"\",Ecarts!F213),\"\")","v":""},{"$f":"IF( Ecarts!$E213=$A$1, IF(Ecarts!I213=\"\",\"\",Ecarts!I213),\"\")","v":""},{"$f":"IF( Ecarts!$E213=$A$1, IF(Ecarts!J213=\"\",\"\",Ecarts!J213),\"\")","v":""},{"$f":"IF( Ecarts!$E213=$A$1, IF(Ecarts!K213=\"\",\"\",Ecarts!K213),\"\")","v":""},{"$f":"IF( Ecarts!$E213=$A$1, IF(Ecarts!L213=\"\",\"\",Ecarts!L213),\"\")","v":""},{"$f":"IF( Ecarts!$E213=$A$1, IF(Ecarts!M213=\"\",\"\",Ecarts!M213),\"\")","v":""},0,0]
[{"$f":"IF( Ecarts!$E214=$A$1,IF( Ecarts!B214=\"\",\"\",Ecarts!A214),\"\")","v":""},{"$f":"IF( Ecarts!$E214=$A$1,IF( Ecarts!C214=\"\",\"\",Ecarts!C214),\"\")","v":""},{"$f":"IF( Ecarts!$E214=$A$1, IF(Ecarts!F214=\"\",\"\",Ecarts!F214),\"\")","v":""},{"$f":"IF( Ecarts!$E214=$A$1, IF(Ecarts!I214=\"\",\"\",Ecarts!I214),\"\")","v":""},{"$f":"IF( Ecarts!$E214=$A$1, IF(Ecarts!J214=\"\",\"\",Ecarts!J214),\"\")","v":""},{"$f":"IF( Ecarts!$E214=$A$1, IF(Ecarts!K214=\"\",\"\",Ecarts!K214),\"\")","v":""},{"$f":"IF( Ecarts!$E214=$A$1, IF(Ecarts!L214=\"\",\"\",Ecarts!L214),\"\")","v":""},{"$f":"IF( Ecarts!$E214=$A$1, IF(Ecarts!M214=\"\",\"\",Ecarts!M214),\"\")","v":""},0,0]
[{"$f":"IF( Ecarts!$E215=$A$1,IF( Ecarts!B215=\"\",\"\",Ecarts!A215),\"\")","v":""},{"$f":"IF( Ecarts!$E215=$A$1,IF( Ecarts!C215=\"\",\"\",Ecarts!C215),\"\")","v":""},{"$f":"IF( Ecarts!$E215=$A$1, IF(Ecarts!F215=\"\",\"\",Ecarts!F215),\"\")","v":""},{"$f":"IF( Ecarts!$E215=$A$1, IF(Ecarts!I215=\"\",\"\",Ecarts!I215),\"\")","v":""},{"$f":"IF( Ecarts!$E215=$A$1, IF(Ecarts!J215=\"\",\"\",Ecarts!J215),\"\")","v":""},{"$f":"IF( Ecarts!$E215=$A$1, IF(Ecarts!K215=\"\",\"\",Ecarts!K215),\"\")","v":""},{"$f":"IF( Ecarts!$E215=$A$1, IF(Ecarts!L215=\"\",\"\",Ecarts!L215),\"\")","v":""},{"$f":"IF( Ecarts!$E215=$A$1, IF(Ecarts!M215=\"\",\"\",Ecarts!M215),\"\")","v":""},0,0]
[{"$f":"IF( Ecarts!$E216=$A$1,IF( Ecarts!B216=\"\",\"\",Ecarts!A216),\"\")","v":""},{"$f":"IF( Ecarts!$E216=$A$1,IF( Ecarts!C216=\"\",\"\",Ecarts!C216),\"\")","v":""},{"$f":"IF( Ecarts!$E216=$A$1, IF(Ecarts!F216=\"\",\"\",Ecarts!F216),\"\")","v":""},{"$f":"IF( Ecarts!$E216=$A$1, IF(Ecarts!I216=\"\",\"\",Ecarts!I216),\"\")","v":""},{"$f":"IF( Ecarts!$E216=$A$1, IF(Ecarts!J216=\"\",\"\",Ecarts!J216),\"\")","v":""},{"$f":"IF( Ecarts!$E216=$A$1, IF(Ecarts!K216=\"\",\"\",Ecarts!K216),\"\")","v":""},{"$f":"IF( Ecarts!$E216=$A$1, IF(Ecarts!L216=\"\",\"\",Ecarts!L216),\"\")","v":""},{"$f":"IF( Ecarts!$E216=$A$1, IF(Ecarts!M216=\"\",\"\",Ecarts!M216),\"\")","v":""},0,0]
[{"$f":"IF( Ecarts!$E217=$A$1,IF( Ecarts!B217=\"\",\"\",Ecarts!A217),\"\")","v":""},{"$f":"IF( Ecarts!$E217=$A$1,IF( Ecarts!C217=\"\",\"\",Ecarts!C217),\"\")","v":""},{"$f":"IF( Ecarts!$E217=$A$1, IF(Ecarts!F217=\"\",\"\",Ecarts!F217),\"\")","v":""},{"$f":"IF( Ecarts!$E217=$A$1, IF(Ecarts!I217=\"\",\"\",Ecarts!I217),\"\")","v":""},{"$f":"IF( Ecarts!$E217=$A$1, IF(Ecarts!J217=\"\",\"\",Ecarts!J217),\"\")","v":""},{"$f":"IF( Ecarts!$E217=$A$1, IF(Ecarts!K217=\"\",\"\",Ecarts!K217),\"\")","v":""},{"$f":"IF( Ecarts!$E217=$A$1, IF(Ecarts!L217=\"\",\"\",Ecarts!L217),\"\")","v":""},{"$f":"IF( Ecarts!$E217=$A$1, IF(Ecarts!M217=\"\",\"\",Ecarts!M217),\"\")","v":""},0,0]
[{"$f":"IF( Ecarts!$E218=$A$1,IF( Ecarts!B218=\"\",\"\",Ecarts!A218),\"\")","v":""},{"$f":"IF( Ecarts!$E218=$A$1,IF( Ecarts!C218=\"\",\"\",Ecarts!C218),\"\")","v":""},{"$f":"IF( Ecarts!$E218=$A$1, IF(Ecarts!F218=\"\",\"\",Ecarts!F218),\"\")","v":""},{"$f":"IF( Ecarts!$E218=$A$1, IF(Ecarts!I218=\"\",\"\",Ecarts!I218),\"\")","v":""},{"$f":"IF( Ecarts!$E218=$A$1, IF(Ecarts!J218=\"\",\"\",Ecarts!J218),\"\")","v":""},{"$f":"IF( Ecarts!$E218=$A$1, IF(Ecarts!K218=\"\",\"\",Ecarts!K218),\"\")","v":""},{"$f":"IF( Ecarts!$E218=$A$1, IF(Ecarts!L218=\"\",\"\",Ecarts!L218),\"\")","v":""},{"$f":"IF( Ecarts!$E218=$A$1, IF(Ecarts!M218=\"\",\"\",Ecarts!M218),\"\")","v":""},0,0]
[{"$f":"IF( Ecarts!$E219=$A$1,IF( Ecarts!B219=\"\",\"\",Ecarts!A219),\"\")","v":""},{"$f":"IF( Ecarts!$E219=$A$1,IF( Ecarts!C219=\"\",\"\",Ecarts!C219),\"\")","v":""},{"$f":"IF( Ecarts!$E219=$A$1, IF(Ecarts!F219=\"\",\"\",Ecarts!F219),\"\")","v":""},{"$f":"IF( Ecarts!$E219=$A$1, IF(Ecarts!I219=\"\",\"\",Ecarts!I219),\"\")","v":""},{"$f":"IF( Ecarts!$E219=$A$1, IF(Ecarts!J219=\"\",\"\",Ecarts!J219),\"\")","v":""},{"$f":"IF( Ecarts!$E219=$A$1, IF(Ecarts!K219=\"\",\"\",Ecarts!K219),\"\")","v":""},{"$f":"IF( Ecarts!$E219=$A$1, IF(Ecarts!L219=\"\",\"\",Ecarts!L219),\"\")","v":""},{"$f":"IF( Ecarts!$E219=$A$1, IF(Ecarts!M219=\"\",\"\",Ecarts!M219),\"\")","v":""},0,0]
[{"$f":"IF( Ecarts!$E220=$A$1,IF( Ecarts!B220=\"\",\"\",Ecarts!A220),\"\")","v":""},{"$f":"IF( Ecarts!$E220=$A$1,IF( Ecarts!C220=\"\",\"\",Ecarts!C220),\"\")","v":""},{"$f":"IF( Ecarts!$E220=$A$1, IF(Ecarts!F220=\"\",\"\",Ecarts!F220),\"\")","v":""},{"$f":"IF( Ecarts!$E220=$A$1, IF(Ecarts!I220=\"\",\"\",Ecarts!I220),\"\")","v":""},{"$f":"IF( Ecarts!$E220=$A$1, IF(Ecarts!J220=\"\",\"\",Ecarts!J220),\"\")","v":""},{"$f":"IF( Ecarts!$E220=$A$1, IF(Ecarts!K220=\"\",\"\",Ecarts!K220),\"\")","v":""},{"$f":"IF( Ecarts!$E220=$A$1, IF(Ecarts!L220=\"\",\"\",Ecarts!L220),\"\")","v":""},{"$f":"IF( Ecarts!$E220=$A$1, IF(Ecarts!M220=\"\",\"\",Ecarts!M220),\"\")","v":""},0,0]
[{"$f":"IF( Ecarts!$E221=$A$1,IF( Ecarts!B221=\"\",\"\",Ecarts!A221),\"\")","v":""},{"$f":"IF( Ecarts!$E221=$A$1,IF( Ecarts!C221=\"\",\"\",Ecarts!C221),\"\")","v":""},{"$f":"IF( Ecarts!$E221=$A$1, IF(Ecarts!F221=\"\",\"\",Ecarts!F221),\"\")","v":""},{"$f":"IF( Ecarts!$E221=$A$1, IF(Ecarts!I221=\"\",\"\",Ecarts!I221),\"\")","v":""},{"$f":"IF( Ecarts!$E221=$A$1, IF(Ecarts!J221=\"\",\"\",Ecarts!J221),\"\")","v":""},{"$f":"IF( Ecarts!$E221=$A$1, IF(Ecarts!K221=\"\",\"\",Ecarts!K221),\"\")","v":""},{"$f":"IF( Ecarts!$E221=$A$1, IF(Ecarts!L221=\"\",\"\",Ecarts!L221),\"\")","v":""},{"$f":"IF( Ecarts!$E221=$A$1, IF(Ecarts!M221=\"\",\"\",Ecarts!M221),\"\")","v":""},0,0]
[{"$f":"IF( Ecarts!$E222=$A$1,IF( Ecarts!B222=\"\",\"\",Ecarts!A222),\"\")","v":""},{"$f":"IF( Ecarts!$E222=$A$1,IF( Ecarts!C222=\"\",\"\",Ecarts!C222),\"\")","v":""},{"$f":"IF( Ecarts!$E222=$A$1, IF(Ecarts!F222=\"\",\"\",Ecarts!F222),\"\")","v":""},{"$f":"IF( Ecarts!$E222=$A$1, IF(Ecarts!I222=\"\",\"\",Ecarts!I222),\"\")","v":""},{"$f":"IF( Ecarts!$E222=$A$1, IF(Ecarts!J222=\"\",\"\",Ecarts!J222),\"\")","v":""},{"$f":"IF( Ecarts!$E222=$A$1, IF(Ecarts!K222=\"\",\"\",Ecarts!K222),\"\")","v":""},{"$f":"IF( Ecarts!$E222=$A$1, IF(Ecarts!L222=\"\",\"\",Ecarts!L222),\"\")","v":""},{"$f":"IF( Ecarts!$E222=$A$1, IF(Ecarts!M222=\"\",\"\",Ecarts!M222),\"\")","v":""},0,0]
[{"$f":"IF( Ecarts!$E223=$A$1,IF( Ecarts!B223=\"\",\"\",Ecarts!A223),\"\")","v":""},{"$f":"IF( Ecarts!$E223=$A$1,IF( Ecarts!C223=\"\",\"\",Ecarts!C223),\"\")","v":""},{"$f":"IF( Ecarts!$E223=$A$1, IF(Ecarts!F223=\"\",\"\",Ecarts!F223),\"\")","v":""},{"$f":"IF( Ecarts!$E223=$A$1, IF(Ecarts!I223=\"\",\"\",Ecarts!I223),\"\")","v":""},{"$f":"IF( Ecarts!$E223=$A$1, IF(Ecarts!J223=\"\",\"\",Ecarts!J223),\"\")","v":""},{"$f":"IF( Ecarts!$E223=$A$1, IF(Ecarts!K223=\"\",\"\",Ecarts!K223),\"\")","v":""},{"$f":"IF( Ecarts!$E223=$A$1, IF(Ecarts!L223=\"\",\"\",Ecarts!L223),\"\")","v":""},{"$f":"IF( Ecarts!$E223=$A$1, IF(Ecarts!M223=\"\",\"\",Ecarts!M223),\"\")","v":""},0,0]
[{"$f":"IF( Ecarts!$E224=$A$1,IF( Ecarts!B224=\"\",\"\",Ecarts!A224),\"\")","v":""},{"$f":"IF( Ecarts!$E224=$A$1,IF( Ecarts!C224=\"\",\"\",Ecarts!C224),\"\")","v":""},{"$f":"IF( Ecarts!$E224=$A$1, IF(Ecarts!F224=\"\",\"\",Ecarts!F224),\"\")","v":""},{"$f":"IF( Ecarts!$E224=$A$1, IF(Ecarts!I224=\"\",\"\",Ecarts!I224),\"\")","v":""},{"$f":"IF( Ecarts!$E224=$A$1, IF(Ecarts!J224=\"\",\"\",Ecarts!J224),\"\")","v":""},{"$f":"IF( Ecarts!$E224=$A$1, IF(Ecarts!K224=\"\",\"\",Ecarts!K224),\"\")","v":""},{"$f":"IF( Ecarts!$E224=$A$1, IF(Ecarts!L224=\"\",\"\",Ecarts!L224),\"\")","v":""},{"$f":"IF( Ecarts!$E224=$A$1, IF(Ecarts!M224=\"\",\"\",Ecarts!M224),\"\")","v":""},0,0]
[{"$f":"IF( Ecarts!$E225=$A$1,IF( Ecarts!B225=\"\",\"\",Ecarts!A225),\"\")","v":""},{"$f":"IF( Ecarts!$E225=$A$1,IF( Ecarts!C225=\"\",\"\",Ecarts!C225),\"\")","v":""},{"$f":"IF( Ecarts!$E225=$A$1, IF(Ecarts!F225=\"\",\"\",Ecarts!F225),\"\")","v":""},{"$f":"IF( Ecarts!$E225=$A$1, IF(Ecarts!I225=\"\",\"\",Ecarts!I225),\"\")","v":""},{"$f":"IF( Ecarts!$E225=$A$1, IF(Ecarts!J225=\"\",\"\",Ecarts!J225),\"\")","v":""},{"$f":"IF( Ecarts!$E225=$A$1, IF(Ecarts!K225=\"\",\"\",Ecarts!K225),\"\")","v":""},{"$f":"IF( Ecarts!$E225=$A$1, IF(Ecarts!L225=\"\",\"\",Ecarts!L225),\"\")","v":""},{"$f":"IF( Ecarts!$E225=$A$1, IF(Ecarts!M225=\"\",\"\",Ecarts!M225),\"\")","v":""},0,0]
[{"$f":"IF( Ecarts!$E226=$A$1,IF( Ecarts!B226=\"\",\"\",Ecarts!A226),\"\")","v":""},{"$f":"IF( Ecarts!$E226=$A$1,IF( Ecarts!C226=\"\",\"\",Ecarts!C226),\"\")","v":""},{"$f":"IF( Ecarts!$E226=$A$1, IF(Ecarts!F226=\"\",\"\",Ecarts!F226),\"\")","v":""},{"$f":"IF( Ecarts!$E226=$A$1, IF(Ecarts!I226=\"\",\"\",Ecarts!I226),\"\")","v":""},{"$f":"IF( Ecarts!$E226=$A$1, IF(Ecarts!J226=\"\",\"\",Ecarts!J226),\"\")","v":""},{"$f":"IF( Ecarts!$E226=$A$1, IF(Ecarts!K226=\"\",\"\",Ecarts!K226),\"\")","v":""},{"$f":"IF( Ecarts!$E226=$A$1, IF(Ecarts!L226=\"\",\"\",Ecarts!L226),\"\")","v":""},{"$f":"IF( Ecarts!$E226=$A$1, IF(Ecarts!M226=\"\",\"\",Ecarts!M226),\"\")","v":""},0,0]
[{"$f":"IF( Ecarts!$E227=$A$1,IF( Ecarts!B227=\"\",\"\",Ecarts!A227),\"\")","v":""},{"$f":"IF( Ecarts!$E227=$A$1,IF( Ecarts!C227=\"\",\"\",Ecarts!C227),\"\")","v":""},{"$f":"IF( Ecarts!$E227=$A$1, IF(Ecarts!F227=\"\",\"\",Ecarts!F227),\"\")","v":""},{"$f":"IF( Ecarts!$E227=$A$1, IF(Ecarts!I227=\"\",\"\",Ecarts!I227),\"\")","v":""},{"$f":"IF( Ecarts!$E227=$A$1, IF(Ecarts!J227=\"\",\"\",Ecarts!J227),\"\")","v":""},{"$f":"IF( Ecarts!$E227=$A$1, IF(Ecarts!K227=\"\",\"\",Ecarts!K227),\"\")","v":""},{"$f":"IF( Ecarts!$E227=$A$1, IF(Ecarts!L227=\"\",\"\",Ecarts!L227),\"\")","v":""},{"$f":"IF( Ecarts!$E227=$A$1, IF(Ecarts!M227=\"\",\"\",Ecarts!M227),\"\")","v":""},0,0]
[{"$f":"IF( Ecarts!$E228=$A$1,IF( Ecarts!B228=\"\",\"\",Ecarts!A228),\"\")","v":""},{"$f":"IF( Ecarts!$E228=$A$1,IF( Ecarts!C228=\"\",\"\",Ecarts!C228),\"\")","v":""},{"$f":"IF( Ecarts!$E228=$A$1, IF(Ecarts!F228=\"\",\"\",Ecarts!F228),\"\")","v":""},{"$f":"IF( Ecarts!$E228=$A$1, IF(Ecarts!I228=\"\",\"\",Ecarts!I228),\"\")","v":""},{"$f":"IF( Ecarts!$E228=$A$1, IF(Ecarts!J228=\"\",\"\",Ecarts!J228),\"\")","v":""},{"$f":"IF( Ecarts!$E228=$A$1, IF(Ecarts!K228=\"\",\"\",Ecarts!K228),\"\")","v":""},{"$f":"IF( Ecarts!$E228=$A$1, IF(Ecarts!L228=\"\",\"\",Ecarts!L228),\"\")","v":""},{"$f":"IF( Ecarts!$E228=$A$1, IF(Ecarts!M228=\"\",\"\",Ecarts!M228),\"\")","v":""},0,0]
[{"$f":"IF( Ecarts!$E229=$A$1,IF( Ecarts!B229=\"\",\"\",Ecarts!A229),\"\")","v":""},{"$f":"IF( Ecarts!$E229=$A$1,IF( Ecarts!C229=\"\",\"\",Ecarts!C229),\"\")","v":""},{"$f":"IF( Ecarts!$E229=$A$1, IF(Ecarts!F229=\"\",\"\",Ecarts!F229),\"\")","v":""},{"$f":"IF( Ecarts!$E229=$A$1, IF(Ecarts!I229=\"\",\"\",Ecarts!I229),\"\")","v":""},{"$f":"IF( Ecarts!$E229=$A$1, IF(Ecarts!J229=\"\",\"\",Ecarts!J229),\"\")","v":""},{"$f":"IF( Ecarts!$E229=$A$1, IF(Ecarts!K229=\"\",\"\",Ecarts!K229),\"\")","v":""},{"$f":"IF( Ecarts!$E229=$A$1, IF(Ecarts!L229=\"\",\"\",Ecarts!L229),\"\")","v":""},{"$f":"IF( Ecarts!$E229=$A$1, IF(Ecarts!M229=\"\",\"\",Ecarts!M229),\"\")","v":""},0,0]
[{"$f":"IF( Ecarts!$E230=$A$1,IF( Ecarts!B230=\"\",\"\",Ecarts!A230),\"\")","v":""},{"$f":"IF( Ecarts!$E230=$A$1,IF( Ecarts!C230=\"\",\"\",Ecarts!C230),\"\")","v":""},{"$f":"IF( Ecarts!$E230=$A$1, IF(Ecarts!F230=\"\",\"\",Ecarts!F230),\"\")","v":""},{"$f":"IF( Ecarts!$E230=$A$1, IF(Ecarts!I230=\"\",\"\",Ecarts!I230),\"\")","v":""},{"$f":"IF( Ecarts!$E230=$A$1, IF(Ecarts!J230=\"\",\"\",Ecarts!J230),\"\")","v":""},{"$f":"IF( Ecarts!$E230=$A$1, IF(Ecarts!K230=\"\",\"\",Ecarts!K230),\"\")","v":""},{"$f":"IF( Ecarts!$E230=$A$1, IF(Ecarts!L230=\"\",\"\",Ecarts!L230),\"\")","v":""},{"$f":"IF( Ecarts!$E230=$A$1, IF(Ecarts!M230=\"\",\"\",Ecarts!M230),\"\")","v":""},0,0]
[{"$f":"IF( Ecarts!$E231=$A$1,IF( Ecarts!B231=\"\",\"\",Ecarts!A231),\"\")","v":""},{"$f":"IF( Ecarts!$E231=$A$1,IF( Ecarts!C231=\"\",\"\",Ecarts!C231),\"\")","v":""},{"$f":"IF( Ecarts!$E231=$A$1, IF(Ecarts!F231=\"\",\"\",Ecarts!F231),\"\")","v":""},{"$f":"IF( Ecarts!$E231=$A$1, IF(Ecarts!I231=\"\",\"\",Ecarts!I231),\"\")","v":""},{"$f":"IF( Ecarts!$E231=$A$1, IF(Ecarts!J231=\"\",\"\",Ecarts!J231),\"\")","v":""},{"$f":"IF( Ecarts!$E231=$A$1, IF(Ecarts!K231=\"\",\"\",Ecarts!K231),\"\")","v":""},{"$f":"IF( Ecarts!$E231=$A$1, IF(Ecarts!L231=\"\",\"\",Ecarts!L231),\"\")","v":""},{"$f":"IF( Ecarts!$E231=$A$1, IF(Ecarts!M231=\"\",\"\",Ecarts!M231),\"\")","v":""},0,0]
[{"$f":"IF( Ecarts!$E232=$A$1,IF( Ecarts!B232=\"\",\"\",Ecarts!A232),\"\")","v":""},{"$f":"IF( Ecarts!$E232=$A$1,IF( Ecarts!C232=\"\",\"\",Ecarts!C232),\"\")","v":""},{"$f":"IF( Ecarts!$E232=$A$1, IF(Ecarts!F232=\"\",\"\",Ecarts!F232),\"\")","v":""},{"$f":"IF( Ecarts!$E232=$A$1, IF(Ecarts!I232=\"\",\"\",Ecarts!I232),\"\")","v":""},{"$f":"IF( Ecarts!$E232=$A$1, IF(Ecarts!J232=\"\",\"\",Ecarts!J232),\"\")","v":""},{"$f":"IF( Ecarts!$E232=$A$1, IF(Ecarts!K232=\"\",\"\",Ecarts!K232),\"\")","v":""},{"$f":"IF( Ecarts!$E232=$A$1, IF(Ecarts!L232=\"\",\"\",Ecarts!L232),\"\")","v":""},{"$f":"IF( Ecarts!$E232=$A$1, IF(Ecarts!M232=\"\",\"\",Ecarts!M232),\"\")","v":""},0,0]
[{"$f":"IF( Ecarts!$E233=$A$1,IF( Ecarts!B233=\"\",\"\",Ecarts!A233),\"\")","v":""},{"$f":"IF( Ecarts!$E233=$A$1,IF( Ecarts!C233=\"\",\"\",Ecarts!C233),\"\")","v":""},{"$f":"IF( Ecarts!$E233=$A$1, IF(Ecarts!F233=\"\",\"\",Ecarts!F233),\"\")","v":""},{"$f":"IF( Ecarts!$E233=$A$1, IF(Ecarts!I233=\"\",\"\",Ecarts!I233),\"\")","v":""},{"$f":"IF( Ecarts!$E233=$A$1, IF(Ecarts!J233=\"\",\"\",Ecarts!J233),\"\")","v":""},{"$f":"IF( Ecarts!$E233=$A$1, IF(Ecarts!K233=\"\",\"\",Ecarts!K233),\"\")","v":""},{"$f":"IF( Ecarts!$E233=$A$1, IF(Ecarts!L233=\"\",\"\",Ecarts!L233),\"\")","v":""},{"$f":"IF( Ecarts!$E233=$A$1, IF(Ecarts!M233=\"\",\"\",Ecarts!M233),\"\")","v":""},0,0]
[{"$f":"IF( Ecarts!$E234=$A$1,IF( Ecarts!B234=\"\",\"\",Ecarts!A234),\"\")","v":""},{"$f":"IF( Ecarts!$E234=$A$1,IF( Ecarts!C234=\"\",\"\",Ecarts!C234),\"\")","v":""},{"$f":"IF( Ecarts!$E234=$A$1, IF(Ecarts!F234=\"\",\"\",Ecarts!F234),\"\")","v":""},{"$f":"IF( Ecarts!$E234=$A$1, IF(Ecarts!I234=\"\",\"\",Ecarts!I234),\"\")","v":""},{"$f":"IF( Ecarts!$E234=$A$1, IF(Ecarts!J234=\"\",\"\",Ecarts!J234),\"\")","v":""},{"$f":"IF( Ecarts!$E234=$A$1, IF(Ecarts!K234=\"\",\"\",Ecarts!K234),\"\")","v":""},{"$f":"IF( Ecarts!$E234=$A$1, IF(Ecarts!L234=\"\",\"\",Ecarts!L234),\"\")","v":""},{"$f":"IF( Ecarts!$E234=$A$1, IF(Ecarts!M234=\"\",\"\",Ecarts!M234),\"\")","v":""},0,0]
[{"$f":"IF( Ecarts!$E235=$A$1,IF( Ecarts!B235=\"\",\"\",Ecarts!A235),\"\")","v":""},{"$f":"IF( Ecarts!$E235=$A$1,IF( Ecarts!C235=\"\",\"\",Ecarts!C235),\"\")","v":""},{"$f":"IF( Ecarts!$E235=$A$1, IF(Ecarts!F235=\"\",\"\",Ecarts!F235),\"\")","v":""},{"$f":"IF( Ecarts!$E235=$A$1, IF(Ecarts!I235=\"\",\"\",Ecarts!I235),\"\")","v":""},{"$f":"IF( Ecarts!$E235=$A$1, IF(Ecarts!J235=\"\",\"\",Ecarts!J235),\"\")","v":""},{"$f":"IF( Ecarts!$E235=$A$1, IF(Ecarts!K235=\"\",\"\",Ecarts!K235),\"\")","v":""},{"$f":"IF( Ecarts!$E235=$A$1, IF(Ecarts!L235=\"\",\"\",Ecarts!L235),\"\")","v":""},{"$f":"IF( Ecarts!$E235=$A$1, IF(Ecarts!M235=\"\",\"\",Ecarts!M235),\"\")","v":""},0,0]
[{"$f":"IF( Ecarts!$E236=$A$1,IF( Ecarts!B236=\"\",\"\",Ecarts!A236),\"\")","v":""},{"$f":"IF( Ecarts!$E236=$A$1,IF( Ecarts!C236=\"\",\"\",Ecarts!C236),\"\")","v":""},{"$f":"IF( Ecarts!$E236=$A$1, IF(Ecarts!F236=\"\",\"\",Ecarts!F236),\"\")","v":""},{"$f":"IF( Ecarts!$E236=$A$1, IF(Ecarts!I236=\"\",\"\",Ecarts!I236),\"\")","v":""},{"$f":"IF( Ecarts!$E236=$A$1, IF(Ecarts!J236=\"\",\"\",Ecarts!J236),\"\")","v":""},{"$f":"IF( Ecarts!$E236=$A$1, IF(Ecarts!K236=\"\",\"\",Ecarts!K236),\"\")","v":""},{"$f":"IF( Ecarts!$E236=$A$1, IF(Ecarts!L236=\"\",\"\",Ecarts!L236),\"\")","v":""},{"$f":"IF( Ecarts!$E236=$A$1, IF(Ecarts!M236=\"\",\"\",Ecarts!M236),\"\")","v":""},0,0]
[{"$f":"IF( Ecarts!$E237=$A$1,IF( Ecarts!B237=\"\",\"\",Ecarts!A237),\"\")","v":""},{"$f":"IF( Ecarts!$E237=$A$1,IF( Ecarts!C237=\"\",\"\",Ecarts!C237),\"\")","v":""},{"$f":"IF( Ecarts!$E237=$A$1, IF(Ecarts!F237=\"\",\"\",Ecarts!F237),\"\")","v":""},{"$f":"IF( Ecarts!$E237=$A$1, IF(Ecarts!I237=\"\",\"\",Ecarts!I237),\"\")","v":""},{"$f":"IF( Ecarts!$E237=$A$1, IF(Ecarts!J237=\"\",\"\",Ecarts!J237),\"\")","v":""},{"$f":"IF( Ecarts!$E237=$A$1, IF(Ecarts!K237=\"\",\"\",Ecarts!K237),\"\")","v":""},{"$f":"IF( Ecarts!$E237=$A$1, IF(Ecarts!L237=\"\",\"\",Ecarts!L237),\"\")","v":""},{"$f":"IF( Ecarts!$E237=$A$1, IF(Ecarts!M237=\"\",\"\",Ecarts!M237),\"\")","v":""},0,0]
[{"$f":"IF( Ecarts!$E238=$A$1,IF( Ecarts!B238=\"\",\"\",Ecarts!A238),\"\")","v":""},{"$f":"IF( Ecarts!$E238=$A$1,IF( Ecarts!C238=\"\",\"\",Ecarts!C238),\"\")","v":""},{"$f":"IF( Ecarts!$E238=$A$1, IF(Ecarts!F238=\"\",\"\",Ecarts!F238),\"\")","v":""},{"$f":"IF( Ecarts!$E238=$A$1, IF(Ecarts!I238=\"\",\"\",Ecarts!I238),\"\")","v":""},{"$f":"IF( Ecarts!$E238=$A$1, IF(Ecarts!J238=\"\",\"\",Ecarts!J238),\"\")","v":""},{"$f":"IF( Ecarts!$E238=$A$1, IF(Ecarts!K238=\"\",\"\",Ecarts!K238),\"\")","v":""},{"$f":"IF( Ecarts!$E238=$A$1, IF(Ecarts!L238=\"\",\"\",Ecarts!L238),\"\")","v":""},{"$f":"IF( Ecarts!$E238=$A$1, IF(Ecarts!M238=\"\",\"\",Ecarts!M238),\"\")","v":""},0,0]
[{"$f":"IF( Ecarts!$E239=$A$1,IF( Ecarts!B239=\"\",\"\",Ecarts!A239),\"\")","v":""},{"$f":"IF( Ecarts!$E239=$A$1,IF( Ecarts!C239=\"\",\"\",Ecarts!C239),\"\")","v":""},{"$f":"IF( Ecarts!$E239=$A$1, IF(Ecarts!F239=\"\",\"\",Ecarts!F239),\"\")","v":""},{"$f":"IF( Ecarts!$E239=$A$1, IF(Ecarts!I239=\"\",\"\",Ecarts!I239),\"\")","v":""},{"$f":"IF( Ecarts!$E239=$A$1, IF(Ecarts!J239=\"\",\"\",Ecarts!J239),\"\")","v":""},{"$f":"IF( Ecarts!$E239=$A$1, IF(Ecarts!K239=\"\",\"\",Ecarts!K239),\"\")","v":""},{"$f":"IF( Ecarts!$E239=$A$1, IF(Ecarts!L239=\"\",\"\",Ecarts!L239),\"\")","v":""},{"$f":"IF( Ecarts!$E239=$A$1, IF(Ecarts!M239=\"\",\"\",Ecarts!M239),\"\")","v":""},0,0]
[{"$f":"IF( Ecarts!$E240=$A$1,IF( Ecarts!B240=\"\",\"\",Ecarts!A240),\"\")","v":""},{"$f":"IF( Ecarts!$E240=$A$1,IF( Ecarts!C240=\"\",\"\",Ecarts!C240),\"\")","v":""},{"$f":"IF( Ecarts!$E240=$A$1, IF(Ecarts!F240=\"\",\"\",Ecarts!F240),\"\")","v":""},{"$f":"IF( Ecarts!$E240=$A$1, IF(Ecarts!I240=\"\",\"\",Ecarts!I240),\"\")","v":""},{"$f":"IF( Ecarts!$E240=$A$1, IF(Ecarts!J240=\"\",\"\",Ecarts!J240),\"\")","v":""},{"$f":"IF( Ecarts!$E240=$A$1, IF(Ecarts!K240=\"\",\"\",Ecarts!K240),\"\")","v":""},{"$f":"IF( Ecarts!$E240=$A$1, IF(Ecarts!L240=\"\",\"\",Ecarts!L240),\"\")","v":""},{"$f":"IF( Ecarts!$E240=$A$1, IF(Ecarts!M240=\"\",\"\",Ecarts!M240),\"\")","v":""},0,0]
[{"$f":"IF( Ecarts!$E241=$A$1,IF( Ecarts!B241=\"\",\"\",Ecarts!A241),\"\")","v":""},{"$f":"IF( Ecarts!$E241=$A$1,IF( Ecarts!C241=\"\",\"\",Ecarts!C241),\"\")","v":""},{"$f":"IF( Ecarts!$E241=$A$1, IF(Ecarts!F241=\"\",\"\",Ecarts!F241),\"\")","v":""},{"$f":"IF( Ecarts!$E241=$A$1, IF(Ecarts!I241=\"\",\"\",Ecarts!I241),\"\")","v":""},{"$f":"IF( Ecarts!$E241=$A$1, IF(Ecarts!J241=\"\",\"\",Ecarts!J241),\"\")","v":""},{"$f":"IF( Ecarts!$E241=$A$1, IF(Ecarts!K241=\"\",\"\",Ecarts!K241),\"\")","v":""},{"$f":"IF( Ecarts!$E241=$A$1, IF(Ecarts!L241=\"\",\"\",Ecarts!L241),\"\")","v":""},{"$f":"IF( Ecarts!$E241=$A$1, IF(Ecarts!M241=\"\",\"\",Ecarts!M241),\"\")","v":""},0,0]
[{"$f":"IF( Ecarts!$E242=$A$1,IF( Ecarts!B242=\"\",\"\",Ecarts!A242),\"\")","v":""},{"$f":"IF( Ecarts!$E242=$A$1,IF( Ecarts!C242=\"\",\"\",Ecarts!C242),\"\")","v":""},{"$f":"IF( Ecarts!$E242=$A$1, IF(Ecarts!F242=\"\",\"\",Ecarts!F242),\"\")","v":""},{"$f":"IF( Ecarts!$E242=$A$1, IF(Ecarts!I242=\"\",\"\",Ecarts!I242),\"\")","v":""},{"$f":"IF( Ecarts!$E242=$A$1, IF(Ecarts!J242=\"\",\"\",Ecarts!J242),\"\")","v":""},{"$f":"IF( Ecarts!$E242=$A$1, IF(Ecarts!K242=\"\",\"\",Ecarts!K242),\"\")","v":""},{"$f":"IF( Ecarts!$E242=$A$1, IF(Ecarts!L242=\"\",\"\",Ecarts!L242),\"\")","v":""},{"$f":"IF( Ecarts!$E242=$A$1, IF(Ecarts!M242=\"\",\"\",Ecarts!M242),\"\")","v":""},0,0]
[{"$f":"IF( Ecarts!$E243=$A$1,IF( Ecarts!B243=\"\",\"\",Ecarts!A243),\"\")","v":""},{"$f":"IF( Ecarts!$E243=$A$1,IF( Ecarts!C243=\"\",\"\",Ecarts!C243),\"\")","v":""},{"$f":"IF( Ecarts!$E243=$A$1, IF(Ecarts!F243=\"\",\"\",Ecarts!F243),\"\")","v":""},{"$f":"IF( Ecarts!$E243=$A$1, IF(Ecarts!I243=\"\",\"\",Ecarts!I243),\"\")","v":""},{"$f":"IF( Ecarts!$E243=$A$1, IF(Ecarts!J243=\"\",\"\",Ecarts!J243),\"\")","v":""},{"$f":"IF( Ecarts!$E243=$A$1, IF(Ecarts!K243=\"\",\"\",Ecarts!K243),\"\")","v":""},{"$f":"IF( Ecarts!$E243=$A$1, IF(Ecarts!L243=\"\",\"\",Ecarts!L243),\"\")","v":""},{"$f":"IF( Ecarts!$E243=$A$1, IF(Ecarts!M243=\"\",\"\",Ecarts!M243),\"\")","v":""},0,0]
[{"$f":"IF( Ecarts!$E244=$A$1,IF( Ecarts!B244=\"\",\"\",Ecarts!A244),\"\")","v":""},{"$f":"IF( Ecarts!$E244=$A$1,IF( Ecarts!C244=\"\",\"\",Ecarts!C244),\"\")","v":""},{"$f":"IF( Ecarts!$E244=$A$1, IF(Ecarts!F244=\"\",\"\",Ecarts!F244),\"\")","v":""},{"$f":"IF( Ecarts!$E244=$A$1, IF(Ecarts!I244=\"\",\"\",Ecarts!I244),\"\")","v":""},{"$f":"IF( Ecarts!$E244=$A$1, IF(Ecarts!J244=\"\",\"\",Ecarts!J244),\"\")","v":""},{"$f":"IF( Ecarts!$E244=$A$1, IF(Ecarts!K244=\"\",\"\",Ecarts!K244),\"\")","v":""},{"$f":"IF( Ecarts!$E244=$A$1, IF(Ecarts!L244=\"\",\"\",Ecarts!L244),\"\")","v":""},{"$f":"IF( Ecarts!$E244=$A$1, IF(Ecarts!M244=\"\",\"\",Ecarts!M244),\"\")","v":""},0,0]
[{"$f":"IF( Ecarts!$E245=$A$1,IF( Ecarts!B245=\"\",\"\",Ecarts!A245),\"\")","v":""},{"$f":"IF( Ecarts!$E245=$A$1,IF( Ecarts!C245=\"\",\"\",Ecarts!C245),\"\")","v":""},{"$f":"IF( Ecarts!$E245=$A$1, IF(Ecarts!F245=\"\",\"\",Ecarts!F245),\"\")","v":""},{"$f":"IF( Ecarts!$E245=$A$1, IF(Ecarts!I245=\"\",\"\",Ecarts!I245),\"\")","v":""},{"$f":"IF( Ecarts!$E245=$A$1, IF(Ecarts!J245=\"\",\"\",Ecarts!J245),\"\")","v":""},{"$f":"IF( Ecarts!$E245=$A$1, IF(Ecarts!K245=\"\",\"\",Ecarts!K245),\"\")","v":""},{"$f":"IF( Ecarts!$E245=$A$1, IF(Ecarts!L245=\"\",\"\",Ecarts!L245),\"\")","v":""},{"$f":"IF( Ecarts!$E245=$A$1, IF(Ecarts!M245=\"\",\"\",Ecarts!M245),\"\")","v":""},0,0]
[{"$f":"IF( Ecarts!$E246=$A$1,IF( Ecarts!B246=\"\",\"\",Ecarts!A246),\"\")","v":""},{"$f":"IF( Ecarts!$E246=$A$1,IF( Ecarts!C246=\"\",\"\",Ecarts!C246),\"\")","v":""},{"$f":"IF( Ecarts!$E246=$A$1, IF(Ecarts!F246=\"\",\"\",Ecarts!F246),\"\")","v":""},{"$f":"IF( Ecarts!$E246=$A$1, IF(Ecarts!I246=\"\",\"\",Ecarts!I246),\"\")","v":""},{"$f":"IF( Ecarts!$E246=$A$1, IF(Ecarts!J246=\"\",\"\",Ecarts!J246),\"\")","v":""},{"$f":"IF( Ecarts!$E246=$A$1, IF(Ecarts!K246=\"\",\"\",Ecarts!K246),\"\")","v":""},{"$f":"IF( Ecarts!$E246=$A$1, IF(Ecarts!L246=\"\",\"\",Ecarts!L246),\"\")","v":""},{"$f":"IF( Ecarts!$E246=$A$1, IF(Ecarts!M246=\"\",\"\",Ecarts!M246),\"\")","v":""},0,0]
[{"$f":"IF( Ecarts!$E247=$A$1,IF( Ecarts!B247=\"\",\"\",Ecarts!A247),\"\")","v":""},{"$f":"IF( Ecarts!$E247=$A$1,IF( Ecarts!C247=\"\",\"\",Ecarts!C247),\"\")","v":""},{"$f":"IF( Ecarts!$E247=$A$1, IF(Ecarts!F247=\"\",\"\",Ecarts!F247),\"\")","v":""},{"$f":"IF( Ecarts!$E247=$A$1, IF(Ecarts!I247=\"\",\"\",Ecarts!I247),\"\")","v":""},{"$f":"IF( Ecarts!$E247=$A$1, IF(Ecarts!J247=\"\",\"\",Ecarts!J247),\"\")","v":""},{"$f":"IF( Ecarts!$E247=$A$1, IF(Ecarts!K247=\"\",\"\",Ecarts!K247),\"\")","v":""},{"$f":"IF( Ecarts!$E247=$A$1, IF(Ecarts!L247=\"\",\"\",Ecarts!L247),\"\")","v":""},{"$f":"IF( Ecarts!$E247=$A$1, IF(Ecarts!M247=\"\",\"\",Ecarts!M247),\"\")","v":""},0,0]
[{"$f":"IF( Ecarts!$E248=$A$1,IF( Ecarts!B248=\"\",\"\",Ecarts!A248),\"\")","v":""},{"$f":"IF( Ecarts!$E248=$A$1,IF( Ecarts!C248=\"\",\"\",Ecarts!C248),\"\")","v":""},{"$f":"IF( Ecarts!$E248=$A$1, IF(Ecarts!F248=\"\",\"\",Ecarts!F248),\"\")","v":""},{"$f":"IF( Ecarts!$E248=$A$1, IF(Ecarts!I248=\"\",\"\",Ecarts!I248),\"\")","v":""},{"$f":"IF( Ecarts!$E248=$A$1, IF(Ecarts!J248=\"\",\"\",Ecarts!J248),\"\")","v":""},{"$f":"IF( Ecarts!$E248=$A$1, IF(Ecarts!K248=\"\",\"\",Ecarts!K248),\"\")","v":""},{"$f":"IF( Ecarts!$E248=$A$1, IF(Ecarts!L248=\"\",\"\",Ecarts!L248),\"\")","v":""},{"$f":"IF( Ecarts!$E248=$A$1, IF(Ecarts!M248=\"\",\"\",Ecarts!M248),\"\")","v":""},0,0]
[{"$f":"IF( Ecarts!$E249=$A$1,IF( Ecarts!B249=\"\",\"\",Ecarts!A249),\"\")","v":""},{"$f":"IF( Ecarts!$E249=$A$1,IF( Ecarts!C249=\"\",\"\",Ecarts!C249),\"\")","v":""},{"$f":"IF( Ecarts!$E249=$A$1, IF(Ecarts!F249=\"\",\"\",Ecarts!F249),\"\")","v":""},{"$f":"IF( Ecarts!$E249=$A$1, IF(Ecarts!I249=\"\",\"\",Ecarts!I249),\"\")","v":""},{"$f":"IF( Ecarts!$E249=$A$1, IF(Ecarts!J249=\"\",\"\",Ecarts!J249),\"\")","v":""},{"$f":"IF( Ecarts!$E249=$A$1, IF(Ecarts!K249=\"\",\"\",Ecarts!K249),\"\")","v":""},{"$f":"IF( Ecarts!$E249=$A$1, IF(Ecarts!L249=\"\",\"\",Ecarts!L249),\"\")","v":""},{"$f":"IF( Ecarts!$E249=$A$1, IF(Ecarts!M249=\"\",\"\",Ecarts!M249),\"\")","v":""},0,0]
[{"$f":"IF( Ecarts!$E250=$A$1,IF( Ecarts!B250=\"\",\"\",Ecarts!A250),\"\")","v":""},{"$f":"IF( Ecarts!$E250=$A$1,IF( Ecarts!C250=\"\",\"\",Ecarts!C250),\"\")","v":""},{"$f":"IF( Ecarts!$E250=$A$1, IF(Ecarts!F250=\"\",\"\",Ecarts!F250),\"\")","v":""},{"$f":"IF( Ecarts!$E250=$A$1, IF(Ecarts!I250=\"\",\"\",Ecarts!I250),\"\")","v":""},{"$f":"IF( Ecarts!$E250=$A$1, IF(Ecarts!J250=\"\",\"\",Ecarts!J250),\"\")","v":""},{"$f":"IF( Ecarts!$E250=$A$1, IF(Ecarts!K250=\"\",\"\",Ecarts!K250),\"\")","v":""},{"$f":"IF( Ecarts!$E250=$A$1, IF(Ecarts!L250=\"\",\"\",Ecarts!L250),\"\")","v":""},{"$f":"IF( Ecarts!$E250=$A$1, IF(Ecarts!M250=\"\",\"\",Ecarts!M250),\"\")","v":""},0,0]
[{"$f":"IF( Ecarts!$E251=$A$1,IF( Ecarts!B251=\"\",\"\",Ecarts!A251),\"\")","v":""},{"$f":"IF( Ecarts!$E251=$A$1,IF( Ecarts!C251=\"\",\"\",Ecarts!C251),\"\")","v":""},{"$f":"IF( Ecarts!$E251=$A$1, IF(Ecarts!F251=\"\",\"\",Ecarts!F251),\"\")","v":""},{"$f":"IF( Ecarts!$E251=$A$1, IF(Ecarts!I251=\"\",\"\",Ecarts!I251),\"\")","v":""},{"$f":"IF( Ecarts!$E251=$A$1, IF(Ecarts!J251=\"\",\"\",Ecarts!J251),\"\")","v":""},{"$f":"IF( Ecarts!$E251=$A$1, IF(Ecarts!K251=\"\",\"\",Ecarts!K251),\"\")","v":""},{"$f":"IF( Ecarts!$E251=$A$1, IF(Ecarts!L251=\"\",\"\",Ecarts!L251),\"\")","v":""},{"$f":"IF( Ecarts!$E251=$A$1, IF(Ecarts!M251=\"\",\"\",Ecarts!M251),\"\")","v":""},0,0]
[{"$f":"IF( Ecarts!$E252=$A$1,IF( Ecarts!B252=\"\",\"\",Ecarts!A252),\"\")","v":""},{"$f":"IF( Ecarts!$E252=$A$1,IF( Ecarts!C252=\"\",\"\",Ecarts!C252),\"\")","v":""},{"$f":"IF( Ecarts!$E252=$A$1, IF(Ecarts!F252=\"\",\"\",Ecarts!F252),\"\")","v":""},{"$f":"IF( Ecarts!$E252=$A$1, IF(Ecarts!I252=\"\",\"\",Ecarts!I252),\"\")","v":""},{"$f":"IF( Ecarts!$E252=$A$1, IF(Ecarts!J252=\"\",\"\",Ecarts!J252),\"\")","v":""},{"$f":"IF( Ecarts!$E252=$A$1, IF(Ecarts!K252=\"\",\"\",Ecarts!K252),\"\")","v":""},{"$f":"IF( Ecarts!$E252=$A$1, IF(Ecarts!L252=\"\",\"\",Ecarts!L252),\"\")","v":""},{"$f":"IF( Ecarts!$E252=$A$1, IF(Ecarts!M252=\"\",\"\",Ecarts!M252),\"\")","v":""},0,0]
[{"$f":"IF( Ecarts!$E253=$A$1,IF( Ecarts!B253=\"\",\"\",Ecarts!A253),\"\")","v":""},{"$f":"IF( Ecarts!$E253=$A$1,IF( Ecarts!C253=\"\",\"\",Ecarts!C253),\"\")","v":""},{"$f":"IF( Ecarts!$E253=$A$1, IF(Ecarts!F253=\"\",\"\",Ecarts!F253),\"\")","v":""},{"$f":"IF( Ecarts!$E253=$A$1, IF(Ecarts!I253=\"\",\"\",Ecarts!I253),\"\")","v":""},{"$f":"IF( Ecarts!$E253=$A$1, IF(Ecarts!J253=\"\",\"\",Ecarts!J253),\"\")","v":""},{"$f":"IF( Ecarts!$E253=$A$1, IF(Ecarts!K253=\"\",\"\",Ecarts!K253),\"\")","v":""},{"$f":"IF( Ecarts!$E253=$A$1, IF(Ecarts!L253=\"\",\"\",Ecarts!L253),\"\")","v":""},{"$f":"IF( Ecarts!$E253=$A$1, IF(Ecarts!M253=\"\",\"\",Ecarts!M253),\"\")","v":""},0,0]
[{"$f":"IF( Ecarts!$E254=$A$1,IF( Ecarts!B254=\"\",\"\",Ecarts!A254),\"\")","v":""},{"$f":"IF( Ecarts!$E254=$A$1,IF( Ecarts!C254=\"\",\"\",Ecarts!C254),\"\")","v":""},{"$f":"IF( Ecarts!$E254=$A$1, IF(Ecarts!F254=\"\",\"\",Ecarts!F254),\"\")","v":""},{"$f":"IF( Ecarts!$E254=$A$1, IF(Ecarts!I254=\"\",\"\",Ecarts!I254),\"\")","v":""},{"$f":"IF( Ecarts!$E254=$A$1, IF(Ecarts!J254=\"\",\"\",Ecarts!J254),\"\")","v":""},{"$f":"IF( Ecarts!$E254=$A$1, IF(Ecarts!K254=\"\",\"\",Ecarts!K254),\"\")","v":""},{"$f":"IF( Ecarts!$E254=$A$1, IF(Ecarts!L254=\"\",\"\",Ecarts!L254),\"\")","v":""},{"$f":"IF( Ecarts!$E254=$A$1, IF(Ecarts!M254=\"\",\"\",Ecarts!M254),\"\")","v":""},0,0]
[{"$f":"IF( Ecarts!$E255=$A$1,IF( Ecarts!B255=\"\",\"\",Ecarts!A255),\"\")","v":""},{"$f":"IF( Ecarts!$E255=$A$1,IF( Ecarts!C255=\"\",\"\",Ecarts!C255),\"\")","v":""},{"$f":"IF( Ecarts!$E255=$A$1, IF(Ecarts!F255=\"\",\"\",Ecarts!F255),\"\")","v":""},{"$f":"IF( Ecarts!$E255=$A$1, IF(Ecarts!I255=\"\",\"\",Ecarts!I255),\"\")","v":""},{"$f":"IF( Ecarts!$E255=$A$1, IF(Ecarts!J255=\"\",\"\",Ecarts!J255),\"\")","v":""},{"$f":"IF( Ecarts!$E255=$A$1, IF(Ecarts!K255=\"\",\"\",Ecarts!K255),\"\")","v":""},{"$f":"IF( Ecarts!$E255=$A$1, IF(Ecarts!L255=\"\",\"\",Ecarts!L255),\"\")","v":""},{"$f":"IF( Ecarts!$E255=$A$1, IF(Ecarts!M255=\"\",\"\",Ecarts!M255),\"\")","v":""},0,0]
[{"$f":"IF( Ecarts!$E256=$A$1,IF( Ecarts!B256=\"\",\"\",Ecarts!A256),\"\")","v":""},{"$f":"IF( Ecarts!$E256=$A$1,IF( Ecarts!C256=\"\",\"\",Ecarts!C256),\"\")","v":""},{"$f":"IF( Ecarts!$E256=$A$1, IF(Ecarts!F256=\"\",\"\",Ecarts!F256),\"\")","v":""},{"$f":"IF( Ecarts!$E256=$A$1, IF(Ecarts!I256=\"\",\"\",Ecarts!I256),\"\")","v":""},{"$f":"IF( Ecarts!$E256=$A$1, IF(Ecarts!J256=\"\",\"\",Ecarts!J256),\"\")","v":""},{"$f":"IF( Ecarts!$E256=$A$1, IF(Ecarts!K256=\"\",\"\",Ecarts!K256),\"\")","v":""},{"$f":"IF( Ecarts!$E256=$A$1, IF(Ecarts!L256=\"\",\"\",Ecarts!L256),\"\")","v":""},{"$f":"IF( Ecarts!$E256=$A$1, IF(Ecarts!M256=\"\",\"\",Ecarts!M256),\"\")","v":""},0,0]
[{"$f":"IF( Ecarts!$E257=$A$1,IF( Ecarts!B257=\"\",\"\",Ecarts!A257),\"\")","v":""},{"$f":"IF( Ecarts!$E257=$A$1,IF( Ecarts!C257=\"\",\"\",Ecarts!C257),\"\")","v":""},{"$f":"IF( Ecarts!$E257=$A$1, IF(Ecarts!F257=\"\",\"\",Ecarts!F257),\"\")","v":""},{"$f":"IF( Ecarts!$E257=$A$1, IF(Ecarts!I257=\"\",\"\",Ecarts!I257),\"\")","v":""},{"$f":"IF( Ecarts!$E257=$A$1, IF(Ecarts!J257=\"\",\"\",Ecarts!J257),\"\")","v":""},{"$f":"IF( Ecarts!$E257=$A$1, IF(Ecarts!K257=\"\",\"\",Ecarts!K257),\"\")","v":""},{"$f":"IF( Ecarts!$E257=$A$1, IF(Ecarts!L257=\"\",\"\",Ecarts!L257),\"\")","v":""},{"$f":"IF( Ecarts!$E257=$A$1, IF(Ecarts!M257=\"\",\"\",Ecarts!M257),\"\")","v":""},0,0]
[{"$f":"IF( Ecarts!$E258=$A$1,IF( Ecarts!B258=\"\",\"\",Ecarts!A258),\"\")","v":""},{"$f":"IF( Ecarts!$E258=$A$1,IF( Ecarts!C258=\"\",\"\",Ecarts!C258),\"\")","v":""},{"$f":"IF( Ecarts!$E258=$A$1, IF(Ecarts!F258=\"\",\"\",Ecarts!F258),\"\")","v":""},{"$f":"IF( Ecarts!$E258=$A$1, IF(Ecarts!I258=\"\",\"\",Ecarts!I258),\"\")","v":""},{"$f":"IF( Ecarts!$E258=$A$1, IF(Ecarts!J258=\"\",\"\",Ecarts!J258),\"\")","v":""},{"$f":"IF( Ecarts!$E258=$A$1, IF(Ecarts!K258=\"\",\"\",Ecarts!K258),\"\")","v":""},{"$f":"IF( Ecarts!$E258=$A$1, IF(Ecarts!L258=\"\",\"\",Ecarts!L258),\"\")","v":""},{"$f":"IF( Ecarts!$E258=$A$1, IF(Ecarts!M258=\"\",\"\",Ecarts!M258),\"\")","v":""},0,0]
[{"$f":"IF( Ecarts!$E259=$A$1,IF( Ecarts!B259=\"\",\"\",Ecarts!A259),\"\")","v":""},{"$f":"IF( Ecarts!$E259=$A$1,IF( Ecarts!C259=\"\",\"\",Ecarts!C259),\"\")","v":""},{"$f":"IF( Ecarts!$E259=$A$1, IF(Ecarts!F259=\"\",\"\",Ecarts!F259),\"\")","v":""},{"$f":"IF( Ecarts!$E259=$A$1, IF(Ecarts!I259=\"\",\"\",Ecarts!I259),\"\")","v":""},{"$f":"IF( Ecarts!$E259=$A$1, IF(Ecarts!J259=\"\",\"\",Ecarts!J259),\"\")","v":""},{"$f":"IF( Ecarts!$E259=$A$1, IF(Ecarts!K259=\"\",\"\",Ecarts!K259),\"\")","v":""},{"$f":"IF( Ecarts!$E259=$A$1, IF(Ecarts!L259=\"\",\"\",Ecarts!L259),\"\")","v":""},{"$f":"IF( Ecarts!$E259=$A$1, IF(Ecarts!M259=\"\",\"\",Ecarts!M259),\"\")","v":""},0,0]
[{"$f":"IF( Ecarts!$E260=$A$1,IF( Ecarts!B260=\"\",\"\",Ecarts!A260),\"\")","v":""},{"$f":"IF( Ecarts!$E260=$A$1,IF( Ecarts!C260=\"\",\"\",Ecarts!C260),\"\")","v":""},{"$f":"IF( Ecarts!$E260=$A$1, IF(Ecarts!F260=\"\",\"\",Ecarts!F260),\"\")","v":""},{"$f":"IF( Ecarts!$E260=$A$1, IF(Ecarts!I260=\"\",\"\",Ecarts!I260),\"\")","v":""},{"$f":"IF( Ecarts!$E260=$A$1, IF(Ecarts!J260=\"\",\"\",Ecarts!J260),\"\")","v":""},{"$f":"IF( Ecarts!$E260=$A$1, IF(Ecarts!K260=\"\",\"\",Ecarts!K260),\"\")","v":""},{"$f":"IF( Ecarts!$E260=$A$1, IF(Ecarts!L260=\"\",\"\",Ecarts!L260),\"\")","v":""},{"$f":"IF( Ecarts!$E260=$A$1, IF(Ecarts!M260=\"\",\"\",Ecarts!M260),\"\")","v":""},{"$f":"IF(B261=\"\",0,IF(G261=1,0,1))","v":0},{"$f":"IF(F261=\"\",0,IF(F261>(TODAY()-60),1,0))","v":0}]
[{"$f":"IF( Ecarts!$E261=$A$1,IF( Ecarts!B261=\"\",\"\",Ecarts!A261),\"\")","v":""},{"$f":"IF( Ecarts!$E261=$A$1,IF( Ecarts!C261=\"\",\"\",Ecarts!C261),\"\")","v":""},{"$f":"IF( Ecarts!$E261=$A$1, IF(Ecarts!F261=\"\",\"\",Ecarts!F261),\"\")","v":""},{"$f":"IF( Ecarts!$E261=$A$1, IF(Ecarts!I261=\"\",\"\",Ecarts!I261),\"\")","v":""},{"$f":"IF( Ecarts!$E261=$A$1, IF(Ecarts!J261=\"\",\"\",Ecarts!J261),\"\")","v":""},{"$f":"IF( Ecarts!$E261=$A$1, IF(Ecarts!K261=\"\",\"\",Ecarts!K261),\"\")","v":""},{"$f":"IF( Ecarts!$E261=$A$1, IF(Ecarts!L261=\"\",\"\",Ecarts!L261),\"\")","v":""},{"$f":"IF( Ecarts!$E261=$A$1, IF(Ecarts!M261=\"\",\"\",Ecarts!M261),\"\")","v":""},0,0]
[{"$f":"IF( Ecarts!$E262=$A$1,IF( Ecarts!B262=\"\",\"\",Ecarts!A262),\"\")","v":""},{"$f":"IF( Ecarts!$E262=$A$1,IF( Ecarts!C262=\"\",\"\",Ecarts!C262),\"\")","v":""},{"$f":"IF( Ecarts!$E262=$A$1, IF(Ecarts!F262=\"\",\"\",Ecarts!F262),\"\")","v":""},{"$f":"IF( Ecarts!$E262=$A$1, IF(Ecarts!I262=\"\",\"\",Ecarts!I262),\"\")","v":""},{"$f":"IF( Ecarts!$E262=$A$1, IF(Ecarts!J262=\"\",\"\",Ecarts!J262),\"\")","v":""},{"$f":"IF( Ecarts!$E262=$A$1, IF(Ecarts!K262=\"\",\"\",Ecarts!K262),\"\")","v":""},{"$f":"IF( Ecarts!$E262=$A$1, IF(Ecarts!L262=\"\",\"\",Ecarts!L262),\"\")","v":""},{"$f":"IF( Ecarts!$E262=$A$1, IF(Ecarts!M262=\"\",\"\",Ecarts!M262),\"\")","v":""},0,0]
[{"$f":"IF( Ecarts!$E263=$A$1,IF( Ecarts!B263=\"\",\"\",Ecarts!A263),\"\")","v":""},{"$f":"IF( Ecarts!$E263=$A$1,IF( Ecarts!C263=\"\",\"\",Ecarts!C263),\"\")","v":""},{"$f":"IF( Ecarts!$E263=$A$1, IF(Ecarts!F263=\"\",\"\",Ecarts!F263),\"\")","v":""},{"$f":"IF( Ecarts!$E263=$A$1, IF(Ecarts!I263=\"\",\"\",Ecarts!I263),\"\")","v":""},{"$f":"IF( Ecarts!$E263=$A$1, IF(Ecarts!J263=\"\",\"\",Ecarts!J263),\"\")","v":""},{"$f":"IF( Ecarts!$E263=$A$1, IF(Ecarts!K263=\"\",\"\",Ecarts!K263),\"\")","v":""},{"$f":"IF( Ecarts!$E263=$A$1, IF(Ecarts!L263=\"\",\"\",Ecarts!L263),\"\")","v":""},{"$f":"IF( Ecarts!$E263=$A$1, IF(Ecarts!M263=\"\",\"\",Ecarts!M263),\"\")","v":""},0,0]
[{"$f":"IF( Ecarts!$E264=$A$1,IF( Ecarts!B264=\"\",\"\",Ecarts!A264),\"\")","v":""},{"$f":"IF( Ecarts!$E264=$A$1,IF( Ecarts!C264=\"\",\"\",Ecarts!C264),\"\")","v":""},{"$f":"IF( Ecarts!$E264=$A$1, IF(Ecarts!F264=\"\",\"\",Ecarts!F264),\"\")","v":""},{"$f":"IF( Ecarts!$E264=$A$1, IF(Ecarts!I264=\"\",\"\",Ecarts!I264),\"\")","v":""},{"$f":"IF( Ecarts!$E264=$A$1, IF(Ecarts!J264=\"\",\"\",Ecarts!J264),\"\")","v":""},{"$f":"IF( Ecarts!$E264=$A$1, IF(Ecarts!K264=\"\",\"\",Ecarts!K264),\"\")","v":""},{"$f":"IF( Ecarts!$E264=$A$1, IF(Ecarts!L264=\"\",\"\",Ecarts!L264),\"\")","v":""},{"$f":"IF( Ecarts!$E264=$A$1, IF(Ecarts!M264=\"\",\"\",Ecarts!M264),\"\")","v":""},0,0]
[{"$f":"IF( Ecarts!$E265=$A$1,IF( Ecarts!B265=\"\",\"\",Ecarts!A265),\"\")","v":""},{"$f":"IF( Ecarts!$E265=$A$1,IF( Ecarts!C265=\"\",\"\",Ecarts!C265),\"\")","v":""},{"$f":"IF( Ecarts!$E265=$A$1, IF(Ecarts!F265=\"\",\"\",Ecarts!F265),\"\")","v":""},{"$f":"IF( Ecarts!$E265=$A$1, IF(Ecarts!I265=\"\",\"\",Ecarts!I265),\"\")","v":""},{"$f":"IF( Ecarts!$E265=$A$1, IF(Ecarts!J265=\"\",\"\",Ecarts!J265),\"\")","v":""},{"$f":"IF( Ecarts!$E265=$A$1, IF(Ecarts!K265=\"\",\"\",Ecarts!K265),\"\")","v":""},{"$f":"IF( Ecarts!$E265=$A$1, IF(Ecarts!L265=\"\",\"\",Ecarts!L265),\"\")","v":""},{"$f":"IF( Ecarts!$E265=$A$1, IF(Ecarts!M265=\"\",\"\",Ecarts!M265),\"\")","v":""},0,0]
[{"$f":"IF( Ecarts!$E266=$A$1,IF( Ecarts!B266=\"\",\"\",Ecarts!A266),\"\")","v":""},{"$f":"IF( Ecarts!$E266=$A$1,IF( Ecarts!C266=\"\",\"\",Ecarts!C266),\"\")","v":""},{"$f":"IF( Ecarts!$E266=$A$1, IF(Ecarts!F266=\"\",\"\",Ecarts!F266),\"\")","v":""},{"$f":"IF( Ecarts!$E266=$A$1, IF(Ecarts!I266=\"\",\"\",Ecarts!I266),\"\")","v":""},{"$f":"IF( Ecarts!$E266=$A$1, IF(Ecarts!J266=\"\",\"\",Ecarts!J266),\"\")","v":""},{"$f":"IF( Ecarts!$E266=$A$1, IF(Ecarts!K266=\"\",\"\",Ecarts!K266),\"\")","v":""},{"$f":"IF( Ecarts!$E266=$A$1, IF(Ecarts!L266=\"\",\"\",Ecarts!L266),\"\")","v":""},{"$f":"IF( Ecarts!$E266=$A$1, IF(Ecarts!M266=\"\",\"\",Ecarts!M266),\"\")","v":""},0,0]
[{"$f":"IF( Ecarts!$E267=$A$1,IF( Ecarts!B267=\"\",\"\",Ecarts!A267),\"\")","v":""},{"$f":"IF( Ecarts!$E267=$A$1,IF( Ecarts!C267=\"\",\"\",Ecarts!C267),\"\")","v":""},{"$f":"IF( Ecarts!$E267=$A$1, IF(Ecarts!F267=\"\",\"\",Ecarts!F267),\"\")","v":""},{"$f":"IF( Ecarts!$E267=$A$1, IF(Ecarts!I267=\"\",\"\",Ecarts!I267),\"\")","v":""},{"$f":"IF( Ecarts!$E267=$A$1, IF(Ecarts!J267=\"\",\"\",Ecarts!J267),\"\")","v":""},{"$f":"IF( Ecarts!$E267=$A$1, IF(Ecarts!K267=\"\",\"\",Ecarts!K267),\"\")","v":""},{"$f":"IF( Ecarts!$E267=$A$1, IF(Ecarts!L267=\"\",\"\",Ecarts!L267),\"\")","v":""},{"$f":"IF( Ecarts!$E267=$A$1, IF(Ecarts!M267=\"\",\"\",Ecarts!M267),\"\")","v":""},0,0]
[{"$f":"IF( Ecarts!$E268=$A$1,IF( Ecarts!B268=\"\",\"\",Ecarts!A268),\"\")","v":""},{"$f":"IF( Ecarts!$E268=$A$1,IF( Ecarts!C268=\"\",\"\",Ecarts!C268),\"\")","v":""},{"$f":"IF( Ecarts!$E268=$A$1, IF(Ecarts!F268=\"\",\"\",Ecarts!F268),\"\")","v":""},{"$f":"IF( Ecarts!$E268=$A$1, IF(Ecarts!I268=\"\",\"\",Ecarts!I268),\"\")","v":""},{"$f":"IF( Ecarts!$E268=$A$1, IF(Ecarts!J268=\"\",\"\",Ecarts!J268),\"\")","v":""},{"$f":"IF( Ecarts!$E268=$A$1, IF(Ecarts!K268=\"\",\"\",Ecarts!K268),\"\")","v":""},{"$f":"IF( Ecarts!$E268=$A$1, IF(Ecarts!L268=\"\",\"\",Ecarts!L268),\"\")","v":""},{"$f":"IF( Ecarts!$E268=$A$1, IF(Ecarts!M268=\"\",\"\",Ecarts!M268),\"\")","v":""},0,0]
[{"$f":"IF( Ecarts!$E269=$A$1,IF( Ecarts!B269=\"\",\"\",Ecarts!A269),\"\")","v":""},{"$f":"IF( Ecarts!$E269=$A$1,IF( Ecarts!C269=\"\",\"\",Ecarts!C269),\"\")","v":""},{"$f":"IF( Ecarts!$E269=$A$1, IF(Ecarts!F269=\"\",\"\",Ecarts!F269),\"\")","v":""},{"$f":"IF( Ecarts!$E269=$A$1, IF(Ecarts!I269=\"\",\"\",Ecarts!I269),\"\")","v":""},{"$f":"IF( Ecarts!$E269=$A$1, IF(Ecarts!J269=\"\",\"\",Ecarts!J269),\"\")","v":""},{"$f":"IF( Ecarts!$E269=$A$1, IF(Ecarts!K269=\"\",\"\",Ecarts!K269),\"\")","v":""},{"$f":"IF( Ecarts!$E269=$A$1, IF(Ecarts!L269=\"\",\"\",Ecarts!L269),\"\")","v":""},{"$f":"IF( Ecarts!$E269=$A$1, IF(Ecarts!M269=\"\",\"\",Ecarts!M269),\"\")","v":""},0,0]
[{"$f":"IF( Ecarts!$E270=$A$1,IF( Ecarts!B270=\"\",\"\",Ecarts!A270),\"\")","v":""},{"$f":"IF( Ecarts!$E270=$A$1,IF( Ecarts!C270=\"\",\"\",Ecarts!C270),\"\")","v":""},{"$f":"IF( Ecarts!$E270=$A$1, IF(Ecarts!F270=\"\",\"\",Ecarts!F270),\"\")","v":""},{"$f":"IF( Ecarts!$E270=$A$1, IF(Ecarts!I270=\"\",\"\",Ecarts!I270),\"\")","v":""},{"$f":"IF( Ecarts!$E270=$A$1, IF(Ecarts!J270=\"\",\"\",Ecarts!J270),\"\")","v":""},{"$f":"IF( Ecarts!$E270=$A$1, IF(Ecarts!K270=\"\",\"\",Ecarts!K270),\"\")","v":""},{"$f":"IF( Ecarts!$E270=$A$1, IF(Ecarts!L270=\"\",\"\",Ecarts!L270),\"\")","v":""},{"$f":"IF( Ecarts!$E270=$A$1, IF(Ecarts!M270=\"\",\"\",Ecarts!M270),\"\")","v":""},0,0]
[{"$f":"IF( Ecarts!$E271=$A$1,IF( Ecarts!B271=\"\",\"\",Ecarts!A271),\"\")","v":""},{"$f":"IF( Ecarts!$E271=$A$1,IF( Ecarts!C271=\"\",\"\",Ecarts!C271),\"\")","v":""},{"$f":"IF( Ecarts!$E271=$A$1, IF(Ecarts!F271=\"\",\"\",Ecarts!F271),\"\")","v":""},{"$f":"IF( Ecarts!$E271=$A$1, IF(Ecarts!I271=\"\",\"\",Ecarts!I271),\"\")","v":""},{"$f":"IF( Ecarts!$E271=$A$1, IF(Ecarts!J271=\"\",\"\",Ecarts!J271),\"\")","v":""},{"$f":"IF( Ecarts!$E271=$A$1, IF(Ecarts!K271=\"\",\"\",Ecarts!K271),\"\")","v":""},{"$f":"IF( Ecarts!$E271=$A$1, IF(Ecarts!L271=\"\",\"\",Ecarts!L271),\"\")","v":""},{"$f":"IF( Ecarts!$E271=$A$1, IF(Ecarts!M271=\"\",\"\",Ecarts!M271),\"\")","v":""},0,0]
[{"$f":"IF( Ecarts!$E272=$A$1,IF( Ecarts!B272=\"\",\"\",Ecarts!A272),\"\")","v":""},{"$f":"IF( Ecarts!$E272=$A$1,IF( Ecarts!C272=\"\",\"\",Ecarts!C272),\"\")","v":""},{"$f":"IF( Ecarts!$E272=$A$1, IF(Ecarts!F272=\"\",\"\",Ecarts!F272),\"\")","v":""},{"$f":"IF( Ecarts!$E272=$A$1, IF(Ecarts!I272=\"\",\"\",Ecarts!I272),\"\")","v":""},{"$f":"IF( Ecarts!$E272=$A$1, IF(Ecarts!J272=\"\",\"\",Ecarts!J272),\"\")","v":""},{"$f":"IF( Ecarts!$E272=$A$1, IF(Ecarts!K272=\"\",\"\",Ecarts!K272),\"\")","v":""},{"$f":"IF( Ecarts!$E272=$A$1, IF(Ecarts!L272=\"\",\"\",Ecarts!L272),\"\")","v":""},{"$f":"IF( Ecarts!$E272=$A$1, IF(Ecarts!M272=\"\",\"\",Ecarts!M272),\"\")","v":""},0,0]
[{"$f":"IF( Ecarts!$E273=$A$1,IF( Ecarts!B273=\"\",\"\",Ecarts!A273),\"\")","v":""},{"$f":"IF( Ecarts!$E273=$A$1,IF( Ecarts!C273=\"\",\"\",Ecarts!C273),\"\")","v":""},{"$f":"IF( Ecarts!$E273=$A$1, IF(Ecarts!F273=\"\",\"\",Ecarts!F273),\"\")","v":""},{"$f":"IF( Ecarts!$E273=$A$1, IF(Ecarts!I273=\"\",\"\",Ecarts!I273),\"\")","v":""},{"$f":"IF( Ecarts!$E273=$A$1, IF(Ecarts!J273=\"\",\"\",Ecarts!J273),\"\")","v":""},{"$f":"IF( Ecarts!$E273=$A$1, IF(Ecarts!K273=\"\",\"\",Ecarts!K273),\"\")","v":""},{"$f":"IF( Ecarts!$E273=$A$1, IF(Ecarts!L273=\"\",\"\",Ecarts!L273),\"\")","v":""},{"$f":"IF( Ecarts!$E273=$A$1, IF(Ecarts!M273=\"\",\"\",Ecarts!M273),\"\")","v":""},0,0]
[{"$f":"IF( Ecarts!$E274=$A$1,IF( Ecarts!B274=\"\",\"\",Ecarts!A274),\"\")","v":""},{"$f":"IF( Ecarts!$E274=$A$1,IF( Ecarts!C274=\"\",\"\",Ecarts!C274),\"\")","v":""},{"$f":"IF( Ecarts!$E274=$A$1, IF(Ecarts!F274=\"\",\"\",Ecarts!F274),\"\")","v":""},{"$f":"IF( Ecarts!$E274=$A$1, IF(Ecarts!I274=\"\",\"\",Ecarts!I274),\"\")","v":""},{"$f":"IF( Ecarts!$E274=$A$1, IF(Ecarts!J274=\"\",\"\",Ecarts!J274),\"\")","v":""},{"$f":"IF( Ecarts!$E274=$A$1, IF(Ecarts!K274=\"\",\"\",Ecarts!K274),\"\")","v":""},{"$f":"IF( Ecarts!$E274=$A$1, IF(Ecarts!L274=\"\",\"\",Ecarts!L274),\"\")","v":""},{"$f":"IF( Ecarts!$E274=$A$1, IF(Ecarts!M274=\"\",\"\",Ecarts!M274),\"\")","v":""},0,0]
[{"$f":"IF( Ecarts!$E275=$A$1,IF( Ecarts!B275=\"\",\"\",Ecarts!A275),\"\")","v":""},{"$f":"IF( Ecarts!$E275=$A$1,IF( Ecarts!C275=\"\",\"\",Ecarts!C275),\"\")","v":""},{"$f":"IF( Ecarts!$E275=$A$1, IF(Ecarts!F275=\"\",\"\",Ecarts!F275),\"\")","v":""},{"$f":"IF( Ecarts!$E275=$A$1, IF(Ecarts!I275=\"\",\"\",Ecarts!I275),\"\")","v":""},{"$f":"IF( Ecarts!$E275=$A$1, IF(Ecarts!J275=\"\",\"\",Ecarts!J275),\"\")","v":""},{"$f":"IF( Ecarts!$E275=$A$1, IF(Ecarts!K275=\"\",\"\",Ecarts!K275),\"\")","v":""},{"$f":"IF( Ecarts!$E275=$A$1, IF(Ecarts!L275=\"\",\"\",Ecarts!L275),\"\")","v":""},{"$f":"IF( Ecarts!$E275=$A$1, IF(Ecarts!M275=\"\",\"\",Ecarts!M275),\"\")","v":""},0,0]
[{"$f":"IF( Ecarts!$E276=$A$1,IF( Ecarts!B276=\"\",\"\",Ecarts!A276),\"\")","v":""},{"$f":"IF( Ecarts!$E276=$A$1,IF( Ecarts!C276=\"\",\"\",Ecarts!C276),\"\")","v":""},{"$f":"IF( Ecarts!$E276=$A$1, IF(Ecarts!F276=\"\",\"\",Ecarts!F276),\"\")","v":""},{"$f":"IF( Ecarts!$E276=$A$1, IF(Ecarts!I276=\"\",\"\",Ecarts!I276),\"\")","v":""},{"$f":"IF( Ecarts!$E276=$A$1, IF(Ecarts!J276=\"\",\"\",Ecarts!J276),\"\")","v":""},{"$f":"IF( Ecarts!$E276=$A$1, IF(Ecarts!K276=\"\",\"\",Ecarts!K276),\"\")","v":""},{"$f":"IF( Ecarts!$E276=$A$1, IF(Ecarts!L276=\"\",\"\",Ecarts!L276),\"\")","v":""},{"$f":"IF( Ecarts!$E276=$A$1, IF(Ecarts!M276=\"\",\"\",Ecarts!M276),\"\")","v":""},0,0]
[{"$f":"IF( Ecarts!$E277=$A$1,IF( Ecarts!B277=\"\",\"\",Ecarts!A277),\"\")","v":""},{"$f":"IF( Ecarts!$E277=$A$1,IF( Ecarts!C277=\"\",\"\",Ecarts!C277),\"\")","v":""},{"$f":"IF( Ecarts!$E277=$A$1, IF(Ecarts!F277=\"\",\"\",Ecarts!F277),\"\")","v":""},{"$f":"IF( Ecarts!$E277=$A$1, IF(Ecarts!I277=\"\",\"\",Ecarts!I277),\"\")","v":""},{"$f":"IF( Ecarts!$E277=$A$1, IF(Ecarts!J277=\"\",\"\",Ecarts!J277),\"\")","v":""},{"$f":"IF( Ecarts!$E277=$A$1, IF(Ecarts!K277=\"\",\"\",Ecarts!K277),\"\")","v":""},{"$f":"IF( Ecarts!$E277=$A$1, IF(Ecarts!L277=\"\",\"\",Ecarts!L277),\"\")","v":""},{"$f":"IF( Ecarts!$E277=$A$1, IF(Ecarts!M277=\"\",\"\",Ecarts!M277),\"\")","v":""},0,0]
[{"$f":"IF( Ecarts!$E278=$A$1,IF( Ecarts!B278=\"\",\"\",Ecarts!A278),\"\")","v":""},{"$f":"IF( Ecarts!$E278=$A$1,IF( Ecarts!C278=\"\",\"\",Ecarts!C278),\"\")","v":""},{"$f":"IF( Ecarts!$E278=$A$1, IF(Ecarts!F278=\"\",\"\",Ecarts!F278),\"\")","v":""},{"$f":"IF( Ecarts!$E278=$A$1, IF(Ecarts!I278=\"\",\"\",Ecarts!I278),\"\")","v":""},{"$f":"IF( Ecarts!$E278=$A$1, IF(Ecarts!J278=\"\",\"\",Ecarts!J278),\"\")","v":""},{"$f":"IF( Ecarts!$E278=$A$1, IF(Ecarts!K278=\"\",\"\",Ecarts!K278),\"\")","v":""},{"$f":"IF( Ecarts!$E278=$A$1, IF(Ecarts!L278=\"\",\"\",Ecarts!L278),\"\")","v":""},{"$f":"IF( Ecarts!$E278=$A$1, IF(Ecarts!M278=\"\",\"\",Ecarts!M278),\"\")","v":""},0,0]
[{"$f":"IF( Ecarts!$E279=$A$1,IF( Ecarts!B279=\"\",\"\",Ecarts!A279),\"\")","v":""},{"$f":"IF( Ecarts!$E279=$A$1,IF( Ecarts!C279=\"\",\"\",Ecarts!C279),\"\")","v":""},{"$f":"IF( Ecarts!$E279=$A$1, IF(Ecarts!F279=\"\",\"\",Ecarts!F279),\"\")","v":""},{"$f":"IF( Ecarts!$E279=$A$1, IF(Ecarts!I279=\"\",\"\",Ecarts!I279),\"\")","v":""},{"$f":"IF( Ecarts!$E279=$A$1, IF(Ecarts!J279=\"\",\"\",Ecarts!J279),\"\")","v":""},{"$f":"IF( Ecarts!$E279=$A$1, IF(Ecarts!K279=\"\",\"\",Ecarts!K279),\"\")","v":""},{"$f":"IF( Ecarts!$E279=$A$1, IF(Ecarts!L279=\"\",\"\",Ecarts!L279),\"\")","v":""},{"$f":"IF( Ecarts!$E279=$A$1, IF(Ecarts!M279=\"\",\"\",Ecarts!M279),\"\")","v":""},0,0]
[{"$f":"IF( Ecarts!$E280=$A$1,IF( Ecarts!B280=\"\",\"\",Ecarts!A280),\"\")","v":""},{"$f":"IF( Ecarts!$E280=$A$1,IF( Ecarts!C280=\"\",\"\",Ecarts!C280),\"\")","v":""},{"$f":"IF( Ecarts!$E280=$A$1, IF(Ecarts!F280=\"\",\"\",Ecarts!F280),\"\")","v":""},{"$f":"IF( Ecarts!$E280=$A$1, IF(Ecarts!I280=\"\",\"\",Ecarts!I280),\"\")","v":""},{"$f":"IF( Ecarts!$E280=$A$1, IF(Ecarts!J280=\"\",\"\",Ecarts!J280),\"\")","v":""},{"$f":"IF( Ecarts!$E280=$A$1, IF(Ecarts!K280=\"\",\"\",Ecarts!K280),\"\")","v":""},{"$f":"IF( Ecarts!$E280=$A$1, IF(Ecarts!L280=\"\",\"\",Ecarts!L280),\"\")","v":""},{"$f":"IF( Ecarts!$E280=$A$1, IF(Ecarts!M280=\"\",\"\",Ecarts!M280),\"\")","v":""},0,0]
[{"$f":"IF( Ecarts!$E281=$A$1,IF( Ecarts!B281=\"\",\"\",Ecarts!A281),\"\")","v":""},{"$f":"IF( Ecarts!$E281=$A$1,IF( Ecarts!C281=\"\",\"\",Ecarts!C281),\"\")","v":""},{"$f":"IF( Ecarts!$E281=$A$1, IF(Ecarts!F281=\"\",\"\",Ecarts!F281),\"\")","v":""},{"$f":"IF( Ecarts!$E281=$A$1, IF(Ecarts!I281=\"\",\"\",Ecarts!I281),\"\")","v":""},{"$f":"IF( Ecarts!$E281=$A$1, IF(Ecarts!J281=\"\",\"\",Ecarts!J281),\"\")","v":""},{"$f":"IF( Ecarts!$E281=$A$1, IF(Ecarts!K281=\"\",\"\",Ecarts!K281),\"\")","v":""},{"$f":"IF( Ecarts!$E281=$A$1, IF(Ecarts!L281=\"\",\"\",Ecarts!L281),\"\")","v":""},{"$f":"IF( Ecarts!$E281=$A$1, IF(Ecarts!M281=\"\",\"\",Ecarts!M281),\"\")","v":""},0,0]
[{"$f":"IF( Ecarts!$E282=$A$1,IF( Ecarts!B282=\"\",\"\",Ecarts!A282),\"\")","v":""},{"$f":"IF( Ecarts!$E282=$A$1,IF( Ecarts!C282=\"\",\"\",Ecarts!C282),\"\")","v":""},{"$f":"IF( Ecarts!$E282=$A$1, IF(Ecarts!F282=\"\",\"\",Ecarts!F282),\"\")","v":""},{"$f":"IF( Ecarts!$E282=$A$1, IF(Ecarts!I282=\"\",\"\",Ecarts!I282),\"\")","v":""},{"$f":"IF( Ecarts!$E282=$A$1, IF(Ecarts!J282=\"\",\"\",Ecarts!J282),\"\")","v":""},{"$f":"IF( Ecarts!$E282=$A$1, IF(Ecarts!K282=\"\",\"\",Ecarts!K282),\"\")","v":""},{"$f":"IF( Ecarts!$E282=$A$1, IF(Ecarts!L282=\"\",\"\",Ecarts!L282),\"\")","v":""},{"$f":"IF( Ecarts!$E282=$A$1, IF(Ecarts!M282=\"\",\"\",Ecarts!M282),\"\")","v":""},0,0]
[{"$f":"IF( Ecarts!$E283=$A$1,IF( Ecarts!B283=\"\",\"\",Ecarts!A283),\"\")","v":""},{"$f":"IF( Ecarts!$E283=$A$1,IF( Ecarts!C283=\"\",\"\",Ecarts!C283),\"\")","v":""},{"$f":"IF( Ecarts!$E283=$A$1, IF(Ecarts!F283=\"\",\"\",Ecarts!F283),\"\")","v":""},{"$f":"IF( Ecarts!$E283=$A$1, IF(Ecarts!I283=\"\",\"\",Ecarts!I283),\"\")","v":""},{"$f":"IF( Ecarts!$E283=$A$1, IF(Ecarts!J283=\"\",\"\",Ecarts!J283),\"\")","v":""},{"$f":"IF( Ecarts!$E283=$A$1, IF(Ecarts!K283=\"\",\"\",Ecarts!K283),\"\")","v":""},{"$f":"IF( Ecarts!$E283=$A$1, IF(Ecarts!L283=\"\",\"\",Ecarts!L283),\"\")","v":""},{"$f":"IF( Ecarts!$E283=$A$1, IF(Ecarts!M283=\"\",\"\",Ecarts!M283),\"\")","v":""},0,0]
[{"$f":"IF( Ecarts!$E284=$A$1,IF( Ecarts!B284=\"\",\"\",Ecarts!A284),\"\")","v":""},{"$f":"IF( Ecarts!$E284=$A$1,IF( Ecarts!C284=\"\",\"\",Ecarts!C284),\"\")","v":""},{"$f":"IF( Ecarts!$E284=$A$1, IF(Ecarts!F284=\"\",\"\",Ecarts!F284),\"\")","v":""},{"$f":"IF( Ecarts!$E284=$A$1, IF(Ecarts!I284=\"\",\"\",Ecarts!I284),\"\")","v":""},{"$f":"IF( Ecarts!$E284=$A$1, IF(Ecarts!J284=\"\",\"\",Ecarts!J284),\"\")","v":""},{"$f":"IF( Ecarts!$E284=$A$1, IF(Ecarts!K284=\"\",\"\",Ecarts!K284),\"\")","v":""},{"$f":"IF( Ecarts!$E284=$A$1, IF(Ecarts!L284=\"\",\"\",Ecarts!L284),\"\")","v":""},{"$f":"IF( Ecarts!$E284=$A$1, IF(Ecarts!M284=\"\",\"\",Ecarts!M284),\"\")","v":""},0,0]
[{"$f":"IF( Ecarts!$E285=$A$1,IF( Ecarts!B285=\"\",\"\",Ecarts!A285),\"\")","v":""},{"$f":"IF( Ecarts!$E285=$A$1,IF( Ecarts!C285=\"\",\"\",Ecarts!C285),\"\")","v":""},{"$f":"IF( Ecarts!$E285=$A$1, IF(Ecarts!F285=\"\",\"\",Ecarts!F285),\"\")","v":""},{"$f":"IF( Ecarts!$E285=$A$1, IF(Ecarts!I285=\"\",\"\",Ecarts!I285),\"\")","v":""},{"$f":"IF( Ecarts!$E285=$A$1, IF(Ecarts!J285=\"\",\"\",Ecarts!J285),\"\")","v":""},{"$f":"IF( Ecarts!$E285=$A$1, IF(Ecarts!K285=\"\",\"\",Ecarts!K285),\"\")","v":""},{"$f":"IF( Ecarts!$E285=$A$1, IF(Ecarts!L285=\"\",\"\",Ecarts!L285),\"\")","v":""},{"$f":"IF( Ecarts!$E285=$A$1, IF(Ecarts!M285=\"\",\"\",Ecarts!M285),\"\")","v":""},0,0]
[{"$f":"IF( Ecarts!$E286=$A$1,IF( Ecarts!B286=\"\",\"\",Ecarts!A286),\"\")","v":""},{"$f":"IF( Ecarts!$E286=$A$1,IF( Ecarts!C286=\"\",\"\",Ecarts!C286),\"\")","v":""},{"$f":"IF( Ecarts!$E286=$A$1, IF(Ecarts!F286=\"\",\"\",Ecarts!F286),\"\")","v":""},{"$f":"IF( Ecarts!$E286=$A$1, IF(Ecarts!I286=\"\",\"\",Ecarts!I286),\"\")","v":""},{"$f":"IF( Ecarts!$E286=$A$1, IF(Ecarts!J286=\"\",\"\",Ecarts!J286),\"\")","v":""},{"$f":"IF( Ecarts!$E286=$A$1, IF(Ecarts!K286=\"\",\"\",Ecarts!K286),\"\")","v":""},{"$f":"IF( Ecarts!$E286=$A$1, IF(Ecarts!L286=\"\",\"\",Ecarts!L286),\"\")","v":""},{"$f":"IF( Ecarts!$E286=$A$1, IF(Ecarts!M286=\"\",\"\",Ecarts!M286),\"\")","v":""},0,0]
[{"$f":"IF( Ecarts!$E287=$A$1,IF( Ecarts!B287=\"\",\"\",Ecarts!A287),\"\")","v":""},{"$f":"IF( Ecarts!$E287=$A$1,IF( Ecarts!C287=\"\",\"\",Ecarts!C287),\"\")","v":""},{"$f":"IF( Ecarts!$E287=$A$1, IF(Ecarts!F287=\"\",\"\",Ecarts!F287),\"\")","v":""},{"$f":"IF( Ecarts!$E287=$A$1, IF(Ecarts!I287=\"\",\"\",Ecarts!I287),\"\")","v":""},{"$f":"IF( Ecarts!$E287=$A$1, IF(Ecarts!J287=\"\",\"\",Ecarts!J287),\"\")","v":""},{"$f":"IF( Ecarts!$E287=$A$1, IF(Ecarts!K287=\"\",\"\",Ecarts!K287),\"\")","v":""},{"$f":"IF( Ecarts!$E287=$A$1, IF(Ecarts!L287=\"\",\"\",Ecarts!L287),\"\")","v":""},{"$f":"IF( Ecarts!$E287=$A$1, IF(Ecarts!M287=\"\",\"\",Ecarts!M287),\"\")","v":""},0,0]
[{"$f":"IF( Ecarts!$E288=$A$1,IF( Ecarts!B288=\"\",\"\",Ecarts!A288),\"\")","v":""},{"$f":"IF( Ecarts!$E288=$A$1,IF( Ecarts!C288=\"\",\"\",Ecarts!C288),\"\")","v":""},{"$f":"IF( Ecarts!$E288=$A$1, IF(Ecarts!F288=\"\",\"\",Ecarts!F288),\"\")","v":""},{"$f":"IF( Ecarts!$E288=$A$1, IF(Ecarts!I288=\"\",\"\",Ecarts!I288),\"\")","v":""},{"$f":"IF( Ecarts!$E288=$A$1, IF(Ecarts!J288=\"\",\"\",Ecarts!J288),\"\")","v":""},{"$f":"IF( Ecarts!$E288=$A$1, IF(Ecarts!K288=\"\",\"\",Ecarts!K288),\"\")","v":""},{"$f":"IF( Ecarts!$E288=$A$1, IF(Ecarts!L288=\"\",\"\",Ecarts!L288),\"\")","v":""},{"$f":"IF( Ecarts!$E288=$A$1, IF(Ecarts!M288=\"\",\"\",Ecarts!M288),\"\")","v":""},0,0]
[{"$f":"IF( Ecarts!$E289=$A$1,IF( Ecarts!B289=\"\",\"\",Ecarts!A289),\"\")","v":""},{"$f":"IF( Ecarts!$E289=$A$1,IF( Ecarts!C289=\"\",\"\",Ecarts!C289),\"\")","v":""},{"$f":"IF( Ecarts!$E289=$A$1, IF(Ecarts!F289=\"\",\"\",Ecarts!F289),\"\")","v":""},{"$f":"IF( Ecarts!$E289=$A$1, IF(Ecarts!I289=\"\",\"\",Ecarts!I289),\"\")","v":""},{"$f":"IF( Ecarts!$E289=$A$1, IF(Ecarts!J289=\"\",\"\",Ecarts!J289),\"\")","v":""},{"$f":"IF( Ecarts!$E289=$A$1, IF(Ecarts!K289=\"\",\"\",Ecarts!K289),\"\")","v":""},{"$f":"IF( Ecarts!$E289=$A$1, IF(Ecarts!L289=\"\",\"\",Ecarts!L289),\"\")","v":""},{"$f":"IF( Ecarts!$E289=$A$1, IF(Ecarts!M289=\"\",\"\",Ecarts!M289),\"\")","v":""},0,0]
[{"$f":"IF( Ecarts!$E290=$A$1,IF( Ecarts!B290=\"\",\"\",Ecarts!A290),\"\")","v":""},{"$f":"IF( Ecarts!$E290=$A$1,IF( Ecarts!C290=\"\",\"\",Ecarts!C290),\"\")","v":""},{"$f":"IF( Ecarts!$E290=$A$1, IF(Ecarts!F290=\"\",\"\",Ecarts!F290),\"\")","v":""},{"$f":"IF( Ecarts!$E290=$A$1, IF(Ecarts!I290=\"\",\"\",Ecarts!I290),\"\")","v":""},{"$f":"IF( Ecarts!$E290=$A$1, IF(Ecarts!J290=\"\",\"\",Ecarts!J290),\"\")","v":""},{"$f":"IF( Ecarts!$E290=$A$1, IF(Ecarts!K290=\"\",\"\",Ecarts!K290),\"\")","v":""},{"$f":"IF( Ecarts!$E290=$A$1, IF(Ecarts!L290=\"\",\"\",Ecarts!L290),\"\")","v":""},{"$f":"IF( Ecarts!$E290=$A$1, IF(Ecarts!M290=\"\",\"\",Ecarts!M290),\"\")","v":""},0,0]
[{"$f":"IF( Ecarts!$E291=$A$1,IF( Ecarts!B291=\"\",\"\",Ecarts!A291),\"\")","v":""},{"$f":"IF( Ecarts!$E291=$A$1,IF( Ecarts!C291=\"\",\"\",Ecarts!C291),\"\")","v":""},{"$f":"IF( Ecarts!$E291=$A$1, IF(Ecarts!F291=\"\",\"\",Ecarts!F291),\"\")","v":""},{"$f":"IF( Ecarts!$E291=$A$1, IF(Ecarts!I291=\"\",\"\",Ecarts!I291),\"\")","v":""},{"$f":"IF( Ecarts!$E291=$A$1, IF(Ecarts!J291=\"\",\"\",Ecarts!J291),\"\")","v":""},{"$f":"IF( Ecarts!$E291=$A$1, IF(Ecarts!K291=\"\",\"\",Ecarts!K291),\"\")","v":""},{"$f":"IF( Ecarts!$E291=$A$1, IF(Ecarts!L291=\"\",\"\",Ecarts!L291),\"\")","v":""},{"$f":"IF( Ecarts!$E291=$A$1, IF(Ecarts!M291=\"\",\"\",Ecarts!M291),\"\")","v":""},0,0]
[{"$f":"IF( Ecarts!$E292=$A$1,IF( Ecarts!B292=\"\",\"\",Ecarts!A292),\"\")","v":""},{"$f":"IF( Ecarts!$E292=$A$1,IF( Ecarts!C292=\"\",\"\",Ecarts!C292),\"\")","v":""},{"$f":"IF( Ecarts!$E292=$A$1, IF(Ecarts!F292=\"\",\"\",Ecarts!F292),\"\")","v":""},{"$f":"IF( Ecarts!$E292=$A$1, IF(Ecarts!I292=\"\",\"\",Ecarts!I292),\"\")","v":""},{"$f":"IF( Ecarts!$E292=$A$1, IF(Ecarts!J292=\"\",\"\",Ecarts!J292),\"\")","v":""},{"$f":"IF( Ecarts!$E292=$A$1, IF(Ecarts!K292=\"\",\"\",Ecarts!K292),\"\")","v":""},{"$f":"IF( Ecarts!$E292=$A$1, IF(Ecarts!L292=\"\",\"\",Ecarts!L292),\"\")","v":""},{"$f":"IF( Ecarts!$E292=$A$1, IF(Ecarts!M292=\"\",\"\",Ecarts!M292),\"\")","v":""},0,0]
[{"$f":"IF( Ecarts!$E293=$A$1,IF( Ecarts!B293=\"\",\"\",Ecarts!A293),\"\")","v":""},{"$f":"IF( Ecarts!$E293=$A$1,IF( Ecarts!C293=\"\",\"\",Ecarts!C293),\"\")","v":""},{"$f":"IF( Ecarts!$E293=$A$1, IF(Ecarts!F293=\"\",\"\",Ecarts!F293),\"\")","v":""},{"$f":"IF( Ecarts!$E293=$A$1, IF(Ecarts!I293=\"\",\"\",Ecarts!I293),\"\")","v":""},{"$f":"IF( Ecarts!$E293=$A$1, IF(Ecarts!J293=\"\",\"\",Ecarts!J293),\"\")","v":""},{"$f":"IF( Ecarts!$E293=$A$1, IF(Ecarts!K293=\"\",\"\",Ecarts!K293),\"\")","v":""},{"$f":"IF( Ecarts!$E293=$A$1, IF(Ecarts!L293=\"\",\"\",Ecarts!L293),\"\")","v":""},{"$f":"IF( Ecarts!$E293=$A$1, IF(Ecarts!M293=\"\",\"\",Ecarts!M293),\"\")","v":""},0,0]
[{"$f":"IF( Ecarts!$E294=$A$1,IF( Ecarts!B294=\"\",\"\",Ecarts!A294),\"\")","v":""},{"$f":"IF( Ecarts!$E294=$A$1,IF( Ecarts!C294=\"\",\"\",Ecarts!C294),\"\")","v":""},{"$f":"IF( Ecarts!$E294=$A$1, IF(Ecarts!F294=\"\",\"\",Ecarts!F294),\"\")","v":""},{"$f":"IF( Ecarts!$E294=$A$1, IF(Ecarts!I294=\"\",\"\",Ecarts!I294),\"\")","v":""},{"$f":"IF( Ecarts!$E294=$A$1, IF(Ecarts!J294=\"\",\"\",Ecarts!J294),\"\")","v":""},{"$f":"IF( Ecarts!$E294=$A$1, IF(Ecarts!K294=\"\",\"\",Ecarts!K294),\"\")","v":""},{"$f":"IF( Ecarts!$E294=$A$1, IF(Ecarts!L294=\"\",\"\",Ecarts!L294),\"\")","v":""},{"$f":"IF( Ecarts!$E294=$A$1, IF(Ecarts!M294=\"\",\"\",Ecarts!M294),\"\")","v":""},0,0]
[{"$f":"IF( Ecarts!$E295=$A$1,IF( Ecarts!B295=\"\",\"\",Ecarts!A295),\"\")","v":""},{"$f":"IF( Ecarts!$E295=$A$1,IF( Ecarts!C295=\"\",\"\",Ecarts!C295),\"\")","v":""},{"$f":"IF( Ecarts!$E295=$A$1, IF(Ecarts!F295=\"\",\"\",Ecarts!F295),\"\")","v":""},{"$f":"IF( Ecarts!$E295=$A$1, IF(Ecarts!I295=\"\",\"\",Ecarts!I295),\"\")","v":""},{"$f":"IF( Ecarts!$E295=$A$1, IF(Ecarts!J295=\"\",\"\",Ecarts!J295),\"\")","v":""},{"$f":"IF( Ecarts!$E295=$A$1, IF(Ecarts!K295=\"\",\"\",Ecarts!K295),\"\")","v":""},{"$f":"IF( Ecarts!$E295=$A$1, IF(Ecarts!L295=\"\",\"\",Ecarts!L295),\"\")","v":""},{"$f":"IF( Ecarts!$E295=$A$1, IF(Ecarts!M295=\"\",\"\",Ecarts!M295),\"\")","v":""},0,0]
[{"$f":"IF( Ecarts!$E296=$A$1,IF( Ecarts!B296=\"\",\"\",Ecarts!A296),\"\")","v":""},{"$f":"IF( Ecarts!$E296=$A$1,IF( Ecarts!C296=\"\",\"\",Ecarts!C296),\"\")","v":""},{"$f":"IF( Ecarts!$E296=$A$1, IF(Ecarts!F296=\"\",\"\",Ecarts!F296),\"\")","v":""},{"$f":"IF( Ecarts!$E296=$A$1, IF(Ecarts!I296=\"\",\"\",Ecarts!I296),\"\")","v":""},{"$f":"IF( Ecarts!$E296=$A$1, IF(Ecarts!J296=\"\",\"\",Ecarts!J296),\"\")","v":""},{"$f":"IF( Ecarts!$E296=$A$1, IF(Ecarts!K296=\"\",\"\",Ecarts!K296),\"\")","v":""},{"$f":"IF( Ecarts!$E296=$A$1, IF(Ecarts!L296=\"\",\"\",Ecarts!L296),\"\")","v":""},{"$f":"IF( Ecarts!$E296=$A$1, IF(Ecarts!M296=\"\",\"\",Ecarts!M296),\"\")","v":""},0,0]
[{"$f":"IF( Ecarts!$E297=$A$1,IF( Ecarts!B297=\"\",\"\",Ecarts!A297),\"\")","v":""},{"$f":"IF( Ecarts!$E297=$A$1,IF( Ecarts!C297=\"\",\"\",Ecarts!C297),\"\")","v":""},{"$f":"IF( Ecarts!$E297=$A$1, IF(Ecarts!F297=\"\",\"\",Ecarts!F297),\"\")","v":""},{"$f":"IF( Ecarts!$E297=$A$1, IF(Ecarts!I297=\"\",\"\",Ecarts!I297),\"\")","v":""},{"$f":"IF( Ecarts!$E297=$A$1, IF(Ecarts!J297=\"\",\"\",Ecarts!J297),\"\")","v":""},{"$f":"IF( Ecarts!$E297=$A$1, IF(Ecarts!K297=\"\",\"\",Ecarts!K297),\"\")","v":""},{"$f":"IF( Ecarts!$E297=$A$1, IF(Ecarts!L297=\"\",\"\",Ecarts!L297),\"\")","v":""},{"$f":"IF( Ecarts!$E297=$A$1, IF(Ecarts!M297=\"\",\"\",Ecarts!M297),\"\")","v":""},0,0]
[{"$f":"IF( Ecarts!$E298=$A$1,IF( Ecarts!B298=\"\",\"\",Ecarts!A298),\"\")","v":""},{"$f":"IF( Ecarts!$E298=$A$1,IF( Ecarts!C298=\"\",\"\",Ecarts!C298),\"\")","v":""},{"$f":"IF( Ecarts!$E298=$A$1, IF(Ecarts!F298=\"\",\"\",Ecarts!F298),\"\")","v":""},{"$f":"IF( Ecarts!$E298=$A$1, IF(Ecarts!I298=\"\",\"\",Ecarts!I298),\"\")","v":""},{"$f":"IF( Ecarts!$E298=$A$1, IF(Ecarts!J298=\"\",\"\",Ecarts!J298),\"\")","v":""},{"$f":"IF( Ecarts!$E298=$A$1, IF(Ecarts!K298=\"\",\"\",Ecarts!K298),\"\")","v":""},{"$f":"IF( Ecarts!$E298=$A$1, IF(Ecarts!L298=\"\",\"\",Ecarts!L298),\"\")","v":""},{"$f":"IF( Ecarts!$E298=$A$1, IF(Ecarts!M298=\"\",\"\",Ecarts!M298),\"\")","v":""},0,0]
[{"$f":"IF( Ecarts!$E299=$A$1,IF( Ecarts!B299=\"\",\"\",Ecarts!A299),\"\")","v":""},{"$f":"IF( Ecarts!$E299=$A$1,IF( Ecarts!C299=\"\",\"\",Ecarts!C299),\"\")","v":""},{"$f":"IF( Ecarts!$E299=$A$1, IF(Ecarts!F299=\"\",\"\",Ecarts!F299),\"\")","v":""},{"$f":"IF( Ecarts!$E299=$A$1, IF(Ecarts!I299=\"\",\"\",Ecarts!I299),\"\")","v":""},{"$f":"IF( Ecarts!$E299=$A$1, IF(Ecarts!J299=\"\",\"\",Ecarts!J299),\"\")","v":""},{"$f":"IF( Ecarts!$E299=$A$1, IF(Ecarts!K299=\"\",\"\",Ecarts!K299),\"\")","v":""},{"$f":"IF( Ecarts!$E299=$A$1, IF(Ecarts!L299=\"\",\"\",Ecarts!L299),\"\")","v":""},{"$f":"IF( Ecarts!$E299=$A$1, IF(Ecarts!M299=\"\",\"\",Ecarts!M299),\"\")","v":""},0,0]
[{"$f":"IF( Ecarts!$E300=$A$1,IF( Ecarts!B300=\"\",\"\",Ecarts!A300),\"\")","v":""},{"$f":"IF( Ecarts!$E300=$A$1,IF( Ecarts!C300=\"\",\"\",Ecarts!C300),\"\")","v":""},{"$f":"IF( Ecarts!$E300=$A$1, IF(Ecarts!F300=\"\",\"\",Ecarts!F300),\"\")","v":""},{"$f":"IF( Ecarts!$E300=$A$1, IF(Ecarts!I300=\"\",\"\",Ecarts!I300),\"\")","v":""},{"$f":"IF( Ecarts!$E300=$A$1, IF(Ecarts!J300=\"\",\"\",Ecarts!J300),\"\")","v":""},{"$f":"IF( Ecarts!$E300=$A$1, IF(Ecarts!K300=\"\",\"\",Ecarts!K300),\"\")","v":""},{"$f":"IF( Ecarts!$E300=$A$1, IF(Ecarts!L300=\"\",\"\",Ecarts!L300),\"\")","v":""},{"$f":"IF( Ecarts!$E300=$A$1, IF(Ecarts!M300=\"\",\"\",Ecarts!M300),\"\")","v":""},0,0]
[{"$f":"IF( Ecarts!$E301=$A$1,IF( Ecarts!B301=\"\",\"\",Ecarts!A301),\"\")","v":""},{"$f":"IF( Ecarts!$E301=$A$1,IF( Ecarts!C301=\"\",\"\",Ecarts!C301),\"\")","v":""},{"$f":"IF( Ecarts!$E301=$A$1, IF(Ecarts!F301=\"\",\"\",Ecarts!F301),\"\")","v":""},{"$f":"IF( Ecarts!$E301=$A$1, IF(Ecarts!I301=\"\",\"\",Ecarts!I301),\"\")","v":""},{"$f":"IF( Ecarts!$E301=$A$1, IF(Ecarts!J301=\"\",\"\",Ecarts!J301),\"\")","v":""},{"$f":"IF( Ecarts!$E301=$A$1, IF(Ecarts!K301=\"\",\"\",Ecarts!K301),\"\")","v":""},{"$f":"IF( Ecarts!$E301=$A$1, IF(Ecarts!L301=\"\",\"\",Ecarts!L301),\"\")","v":""},{"$f":"IF( Ecarts!$E301=$A$1, IF(Ecarts!M301=\"\",\"\",Ecarts!M301),\"\")","v":""},0,0]
[{"$f":"IF( Ecarts!$E360=$A$1,IF( Ecarts!B360=\"\",\"\",Ecarts!A360),\"\")","v":""},{"$f":"IF( Ecarts!$E360=$A$1,IF( Ecarts!C360=\"\",\"\",Ecarts!C360),\"\")","v":""},{"$f":"IF( Ecarts!$E360=$A$1, IF(Ecarts!F360=\"\",\"\",Ecarts!F360),\"\")","v":""},{"$f":"IF( Ecarts!$E360=$A$1, IF(Ecarts!I360=\"\",\"\",Ecarts!I360),\"\")","v":""},{"$f":"IF( Ecarts!$E360=$A$1, IF(Ecarts!J360=\"\",\"\",Ecarts!J360),\"\")","v":""},{"$f":"IF( Ecarts!$E302=$A$1, IF(Ecarts!K302=\"\",\"\",Ecarts!K302),\"\")","v":""},{"$f":"IF( Ecarts!$E302=$A$1, IF(Ecarts!L302=\"\",\"\",Ecarts!L302),\"\")","v":""},{"$f":"IF( Ecarts!$E302=$A$1, IF(Ecarts!M302=\"\",\"\",Ecarts!M302),\"\")","v":""},0,0]

{"sheet":"Florence","index":5,"n_rows":303,"n_cols":10,"rows_kept":303,"cut":false,"hidden":true,"merged":[[0,0,1,1]]}
[{"$f":"MID(CELL(\"nomfichier\",J1),FIND(\"]\",CELL(\"nomfichier\",J1),20)+1,32)","v":"Florence"},null,null,{"$f":"IF(SUM(I$1:I$64839)=0,\"Aucune action ouverte\",IF(SUM(I$1:I$64839)>1,CONCATENATE(SUM(I$1:I$64839),\" actions ouvertes\"),\"Une action ouverte\"))","v":"Aucune action ouverte"}]
[null,null,123,{"$f":"IF(SUM(J$1:J$64839)=0,\"Aucune action clôturée en 2 mois\",IF(SUM(J$1:J$64839)>1,CONCATENATE(SUM(J$1:J$64839),\" actions réglées en 2 mois\"),\"Une action réglée en 2 mois\"))","v":"Aucune action clôturée en 2 mois"}]
["N°","Libellé","Date enregistrement","Actions","Date objectif","Date clôture","Efficacité","Commentaires"]
[{"$f":"IF( Ecarts!$E3=$A$1,IF( Ecarts!B3=\"\",\"\",Ecarts!A3),\"\")","v":""},{"$f":"IF( Ecarts!$E3=$A$1,IF( Ecarts!C3=\"\",\"\",Ecarts!C3),\"\")","v":""},{"$f":"IF( Ecarts!$E3=$A$1, IF(Ecarts!F3=\"\",\"\",Ecarts!F3),\"\")","v":""},{"$f":"IF( Ecarts!$E3=$A$1, IF(Ecarts!I3=\"\",\"\",Ecarts!I3),\"\")","v":""},{"$f":"IF( Ecarts!$E3=$A$1, IF(Ecarts!J3=\"\",\"\",Ecarts!J3),\"\")","v":""},{"$f":"IF( Ecarts!$E3=$A$1, IF(Ecarts!K3=\"\",\"\",Ecarts!K3),\"\")","v":""},{"$f":"IF( Ecarts!$E3=$A$1, IF(Ecarts!L3=\"\",\"\",Ecarts!L3),\"\")","v":""},{"$f":"IF( Ecarts!$E3=$A$1, IF(Ecarts!M3=\"\",\"\",Ecarts!M3),\"\")","v":""},{"$f":"IF(B4=\"\",0,IF(G4=1,0,1))","v":0},{"$f":"IF(F4=\"\",0,IF(F4>(TODAY()-60),1,0))","v":0}]
[{"$f":"IF( Ecarts!$E4=$A$1,IF( Ecarts!B4=\"\",\"\",Ecarts!A4),\"\")","v":""},{"$f":"IF( Ecarts!$E4=$A$1,IF( Ecarts!C4=\"\",\"\",Ecarts!C4),\"\")","v":""},{"$f":"IF( Ecarts!$E4=$A$1, IF(Ecarts!F4=\"\",\"\",Ecarts!F4),\"\")","v":""},{"$f":"IF( Ecarts!$E4=$A$1, IF(Ecarts!I4=\"\",\"\",Ecarts!I4),\"\")","v":""},{"$f":"IF( Ecarts!$E4=$A$1, IF(Ecarts!J4=\"\",\"\",Ecarts!J4),\"\")","v":""},{"$f":"IF( Ecarts!$E4=$A$1, IF(Ecarts!K4=\"\",\"\",Ecarts!K4),\"\")","v":""},{"$f":"IF( Ecarts!$E4=$A$1, IF(Ecarts!L4=\"\",\"\",Ecarts!L4),\"\")","v":""},{"$f":"IF( Ecarts!$E4=$A$1, IF(Ecarts!M4=\"\",\"\",Ecarts!M4),\"\")","v":""},{"$f":"IF(B5=\"\",0,IF(G5=1,0,1))","v":0},{"$f":"IF(F5=\"\",0,IF(F5>(TODAY()-60),1,0))","v":0}]
[{"$f":"IF( Ecarts!$E5=$A$1,IF( Ecarts!B5=\"\",\"\",Ecarts!A5),\"\")","v":""},{"$f":"IF( Ecarts!$E5=$A$1,IF( Ecarts!C5=\"\",\"\",Ecarts!C5),\"\")","v":""},{"$f":"IF( Ecarts!$E5=$A$1, IF(Ecarts!F5=\"\",\"\",Ecarts!F5),\"\")","v":""},{"$f":"IF( Ecarts!$E5=$A$1, IF(Ecarts!I5=\"\",\"\",Ecarts!I5),\"\")","v":""},{"$f":"IF( Ecarts!$E5=$A$1, IF(Ecarts!J5=\"\",\"\",Ecarts!J5),\"\")","v":""},{"$f":"IF( Ecarts!$E5=$A$1, IF(Ecarts!K5=\"\",\"\",Ecarts!K5),\"\")","v":""},{"$f":"IF( Ecarts!$E5=$A$1, IF(Ecarts!L5=\"\",\"\",Ecarts!L5),\"\")","v":""},{"$f":"IF( Ecarts!$E5=$A$1, IF(Ecarts!M5=\"\",\"\",Ecarts!M5),\"\")","v":""},0,0]
[{"$f":"IF( Ecarts!$E6=$A$1,IF( Ecarts!B6=\"\",\"\",Ecarts!A6),\"\")","v":""},{"$f":"IF( Ecarts!$E6=$A$1,IF( Ecarts!C6=\"\",\"\",Ecarts!C6),\"\")","v":""},{"$f":"IF( Ecarts!$E6=$A$1, IF(Ecarts!F6=\"\",\"\",Ecarts!F6),\"\")","v":""},{"$f":"IF( Ecarts!$E6=$A$1, IF(Ecarts!I6=\"\",\"\",Ecarts!I6),\"\")","v":""},{"$f":"IF( Ecarts!$E6=$A$1, IF(Ecarts!J6=\"\",\"\",Ecarts!J6),\"\")","v":""},{"$f":"IF( Ecarts!$E6=$A$1, IF(Ecarts!K6=\"\",\"\",Ecarts!K6),\"\")","v":""},{"$f":"IF( Ecarts!$E6=$A$1, IF(Ecarts!L6=\"\",\"\",Ecarts!L6),\"\")","v":""},{"$f":"IF( Ecarts!$E6=$A$1, IF(Ecarts!M6=\"\",\"\",Ecarts!M6),\"\")","v":""},0,0]
[{"$f":"IF( Ecarts!$E7=$A$1,IF( Ecarts!B7=\"\",\"\",Ecarts!A7),\"\")","v":""},{"$f":"IF( Ecarts!$E7=$A$1,IF( Ecarts!C7=\"\",\"\",Ecarts!C7),\"\")","v":""},{"$f":"IF( Ecarts!$E7=$A$1, IF(Ecarts!F7=\"\",\"\",Ecarts!F7),\"\")","v":""},{"$f":"IF( Ecarts!$E7=$A$1, IF(Ecarts!I7=\"\",\"\",Ecarts!I7),\"\")","v":""},{"$f":"IF( Ecarts!$E7=$A$1, IF(Ecarts!J7=\"\",\"\",Ecarts!J7),\"\")","v":""},{"$f":"IF( Ecarts!$E7=$A$1, IF(Ecarts!K7=\"\",\"\",Ecarts!K7),\"\")","v":""},{"$f":"IF( Ecarts!$E7=$A$1, IF(Ecarts!L7=\"\",\"\",Ecarts!L7),\"\")","v":""},{"$f":"IF( Ecarts!$E7=$A$1, IF(Ecarts!M7=\"\",\"\",Ecarts!M7),\"\")","v":""},0,0]
[{"$f":"IF( Ecarts!$E8=$A$1,IF( Ecarts!B8=\"\",\"\",Ecarts!A8),\"\")","v":""},{"$f":"IF( Ecarts!$E8=$A$1,IF( Ecarts!C8=\"\",\"\",Ecarts!C8),\"\")","v":""},{"$f":"IF( Ecarts!$E8=$A$1, IF(Ecarts!F8=\"\",\"\",Ecarts!F8),\"\")","v":""},{"$f":"IF( Ecarts!$E8=$A$1, IF(Ecarts!I8=\"\",\"\",Ecarts!I8),\"\")","v":""},{"$f":"IF( Ecarts!$E8=$A$1, IF(Ecarts!J8=\"\",\"\",Ecarts!J8),\"\")","v":""},{"$f":"IF( Ecarts!$E8=$A$1, IF(Ecarts!K8=\"\",\"\",Ecarts!K8),\"\")","v":""},{"$f":"IF( Ecarts!$E8=$A$1, IF(Ecarts!L8=\"\",\"\",Ecarts!L8),\"\")","v":""},{"$f":"IF( Ecarts!$E8=$A$1, IF(Ecarts!M8=\"\",\"\",Ecarts!M8),\"\")","v":""},0,0]
[{"$f":"IF( Ecarts!$E9=$A$1,IF( Ecarts!B9=\"\",\"\",Ecarts!A9),\"\")","v":""},{"$f":"IF( Ecarts!$E9=$A$1,IF( Ecarts!C9=\"\",\"\",Ecarts!C9),\"\")","v":""},{"$f":"IF( Ecarts!$E9=$A$1, IF(Ecarts!F9=\"\",\"\",Ecarts!F9),\"\")","v":""},{"$f":"IF( Ecarts!$E9=$A$1, IF(Ecarts!I9=\"\",\"\",Ecarts!I9),\"\")","v":""},{"$f":"IF( Ecarts!$E9=$A$1, IF(Ecarts!J9=\"\",\"\",Ecarts!J9),\"\")","v":""},{"$f":"IF( Ecarts!$E9=$A$1, IF(Ecarts!K9=\"\",\"\",Ecarts!K9),\"\")","v":""},{"$f":"IF( Ecarts!$E9=$A$1, IF(Ecarts!L9=\"\",\"\",Ecarts!L9),\"\")","v":""},{"$f":"IF( Ecarts!$E9=$A$1, IF(Ecarts!M9=\"\",\"\",Ecarts!M9),\"\")","v":""},0,0]
[{"$f":"IF( Ecarts!$E10=$A$1,IF( Ecarts!B10=\"\",\"\",Ecarts!A10),\"\")","v":""},{"$f":"IF( Ecarts!$E10=$A$1,IF( Ecarts!C10=\"\",\"\",Ecarts!C10),\"\")","v":""},{"$f":"IF( Ecarts!$E10=$A$1, IF(Ecarts!F10=\"\",\"\",Ecarts!F10),\"\")","v":""},{"$f":"IF( Ecarts!$E10=$A$1, IF(Ecarts!I10=\"\",\"\",Ecarts!I10),\"\")","v":""},{"$f":"IF( Ecarts!$E10=$A$1, IF(Ecarts!J10=\"\",\"\",Ecarts!J10),\"\")","v":""},{"$f":"IF( Ecarts!$E10=$A$1, IF(Ecarts!K10=\"\",\"\",Ecarts!K10),\"\")","v":""},{"$f":"IF( Ecarts!$E10=$A$1, IF(Ecarts!L10=\"\",\"\",Ecarts!L10),\"\")","v":""},{"$f":"IF( Ecarts!$E10=$A$1, IF(Ecarts!M10=\"\",\"\",Ecarts!M10),\"\")","v":""},0,0]
[{"$f":"IF( Ecarts!$E11=$A$1,IF( Ecarts!B11=\"\",\"\",Ecarts!A11),\"\")","v":""},{"$f":"IF( Ecarts!$E11=$A$1,IF( Ecarts!C11=\"\",\"\",Ecarts!C11),\"\")","v":""},{"$f":"IF( Ecarts!$E11=$A$1, IF(Ecarts!F11=\"\",\"\",Ecarts!F11),\"\")","v":""},{"$f":"IF( Ecarts!$E11=$A$1, IF(Ecarts!I11=\"\",\"\",Ecarts!I11),\"\")","v":""},{"$f":"IF( Ecarts!$E11=$A$1, IF(Ecarts!J11=\"\",\"\",Ecarts!J11),\"\")","v":""},{"$f":"IF( Ecarts!$E11=$A$1, IF(Ecarts!K11=\"\",\"\",Ecarts!K11),\"\")","v":""},{"$f":"IF( Ecarts!$E11=$A$1, IF(Ecarts!L11=\"\",\"\",Ecarts!L11),\"\")","v":""},{"$f":"IF( Ecarts!$E11=$A$1, IF(Ecarts!M11=\"\",\"\",Ecarts!M11),\"\")","v":""},0,0]
[{"$f":"IF( Ecarts!$E12=$A$1,IF( Ecarts!B12=\"\",\"\",Ecarts!A12),\"\")","v":""},{"$f":"IF( Ecarts!$E12=$A$1,IF( Ecarts!C12=\"\",\"\",Ecarts!C12),\"\")","v":""},{"$f":"IF( Ecarts!$E12=$A$1, IF(Ecarts!F12=\"\",\"\",Ecarts!F12),\"\")","v":""},{"$f":"IF( Ecarts!$E12=$A$1, IF(Ecarts!I12=\"\",\"\",Ecarts!I12),\"\")","v":""},{"$f":"IF( Ecarts!$E12=$A$1, IF(Ecarts!J12=\"\",\"\",Ecarts!J12),\"\")","v":""},{"$f":"IF( Ecarts!$E12=$A$1, IF(Ecarts!K12=\"\",\"\",Ecarts!K12),\"\")","v":""},{"$f":"IF( Ecarts!$E12=$A$1, IF(Ecarts!L12=\"\",\"\",Ecarts!L12),\"\")","v":""},{"$f":"IF( Ecarts!$E12=$A$1, IF(Ecarts!M12=\"\",\"\",Ecarts!M12),\"\")","v":""},0,0]
[{"$f":"IF( Ecarts!$E13=$A$1,IF( Ecarts!B13=\"\",\"\",Ecarts!A13),\"\")","v":""},{"$f":"IF( Ecarts!$E13=$A$1,IF( Ecarts!C13=\"\",\"\",Ecarts!C13),\"\")","v":""},{"$f":"IF( Ecarts!$E13=$A$1, IF(Ecarts!F13=\"\",\"\",Ecarts!F13),\"\")","v":""},{"$f":"IF( Ecarts!$E13=$A$1, IF(Ecarts!I13=\"\",\"\",Ecarts!I13),\"\")","v":""},{"$f":"IF( Ecarts!$E13=$A$1, IF(Ecarts!J13=\"\",\"\",Ecarts!J13),\"\")","v":""},{"$f":"IF( Ecarts!$E13=$A$1, IF(Ecarts!K13=\"\",\"\",Ecarts!K13),\"\")","v":""},{"$f":"IF( Ecarts!$E13=$A$1, IF(Ecarts!L13=\"\",\"\",Ecarts!L13),\"\")","v":""},{"$f":"IF( Ecarts!$E13=$A$1, IF(Ecarts!M13=\"\",\"\",Ecarts!M13),\"\")","v":""},0,0]
[{"$f":"IF( Ecarts!$E14=$A$1,IF( Ecarts!B14=\"\",\"\",Ecarts!A14),\"\")","v":""},{"$f":"IF( Ecarts!$E14=$A$1,IF( Ecarts!C14=\"\",\"\",Ecarts!C14),\"\")","v":""},{"$f":"IF( Ecarts!$E14=$A$1, IF(Ecarts!F14=\"\",\"\",Ecarts!F14),\"\")","v":""},{"$f":"IF( Ecarts!$E14=$A$1, IF(Ecarts!I14=\"\",\"\",Ecarts!I14),\"\")","v":""},{"$f":"IF( Ecarts!$E14=$A$1, IF(Ecarts!J14=\"\",\"\",Ecarts!J14),\"\")","v":""},{"$f":"IF( Ecarts!$E14=$A$1, IF(Ecarts!K14=\"\",\"\",Ecarts!K14),\"\")","v":""},{"$f":"IF( Ecarts!$E14=$A$1, IF(Ecarts!L14=\"\",\"\",Ecarts!L14),\"\")","v":""},{"$f":"IF( Ecarts!$E14=$A$1, IF(Ecarts!M14=\"\",\"\",Ecarts!M14),\"\")","v":""},0,0]
[{"$f":"IF( Ecarts!$E15=$A$1,IF( Ecarts!B15=\"\",\"\",Ecarts!A15),\"\")","v":""},{"$f":"IF( Ecarts!$E15=$A$1,IF( Ecarts!C15=\"\",\"\",Ecarts!C15),\"\")","v":""},{"$f":"IF( Ecarts!$E15=$A$1, IF(Ecarts!F15=\"\",\"\",Ecarts!F15),\"\")","v":""},{"$f":"IF( Ecarts!$E15=$A$1, IF(Ecarts!I15=\"\",\"\",Ecarts!I15),\"\")","v":""},{"$f":"IF( Ecarts!$E15=$A$1, IF(Ecarts!J15=\"\",\"\",Ecarts!J15),\"\")","v":""},{"$f":"IF( Ecarts!$E15=$A$1, IF(Ecarts!K15=\"\",\"\",Ecarts!K15),\"\")","v":""},{"$f":"IF( Ecarts!$E15=$A$1, IF(Ecarts!L15=\"\",\"\",Ecarts!L15),\"\")","v":""},{"$f":"IF( Ecarts!$E15=$A$1, IF(Ecarts!M15=\"\",\"\",Ecarts!M15),\"\")","v":""},0,0]
[{"$f":"IF( Ecarts!$E16=$A$1,IF( Ecarts!B16=\"\",\"\",Ecarts!A16),\"\")","v":""},{"$f":"IF( Ecarts!$E16=$A$1,IF( Ecarts!C16=\"\",\"\",Ecarts!C16),\"\")","v":""},{"$f":"IF( Ecarts!$E16=$A$1, IF(Ecarts!F16=\"\",\"\",Ecarts!F16),\"\")","v":""},{"$f":"IF( Ecarts!$E16=$A$1, IF(Ecarts!I16=\"\",\"\",Ecarts!I16),\"\")","v":""},{"$f":"IF( Ecarts!$E16=$A$1, IF(Ecarts!J16=\"\",\"\",Ecarts!J16),\"\")","v":""},{"$f":"IF( Ecarts!$E16=$A$1, IF(Ecarts!K16=\"\",\"\",Ecarts!K16),\"\")","v":""},{"$f":"IF( Ecarts!$E16=$A$1, IF(Ecarts!L16=\"\",\"\",Ecarts!L16),\"\")","v":""},{"$f":"IF( Ecarts!$E16=$A$1, IF(Ecarts!M16=\"\",\"\",Ecarts!M16),\"\")","v":""},0,0]
[{"$f":"IF( Ecarts!$E17=$A$1,IF( Ecarts!B17=\"\",\"\",Ecarts!A17),\"\")","v":""},{"$f":"IF( Ecarts!$E17=$A$1,IF( Ecarts!C17=\"\",\"\",Ecarts!C17),\"\")","v":""},{"$f":"IF( Ecarts!$E17=$A$1, IF(Ecarts!F17=\"\",\"\",Ecarts!F17),\"\")","v":""},{"$f":"IF( Ecarts!$E17=$A$1, IF(Ecarts!I17=\"\",\"\",Ecarts!I17),\"\")","v":""},{"$f":"IF( Ecarts!$E17=$A$1, IF(Ecarts!J17=\"\",\"\",Ecarts!J17),\"\")","v":""},{"$f":"IF( Ecarts!$E17=$A$1, IF(Ecarts!K17=\"\",\"\",Ecarts!K17),\"\")","v":""},{"$f":"IF( Ecarts!$E17=$A$1, IF(Ecarts!L17=\"\",\"\",Ecarts!L17),\"\")","v":""},{"$f":"IF( Ecarts!$E17=$A$1, IF(Ecarts!M17=\"\",\"\",Ecarts!M17),\"\")","v":""},0,0]
[{"$f":"IF( Ecarts!$E18=$A$1,IF( Ecarts!B18=\"\",\"\",Ecarts!A18),\"\")","v":""},{"$f":"IF( Ecarts!$E18=$A$1,IF( Ecarts!C18=\"\",\"\",Ecarts!C18),\"\")","v":""},{"$f":"IF( Ecarts!$E18=$A$1, IF(Ecarts!F18=\"\",\"\",Ecarts!F18),\"\")","v":""},{"$f":"IF( Ecarts!$E18=$A$1, IF(Ecarts!I18=\"\",\"\",Ecarts!I18),\"\")","v":""},{"$f":"IF( Ecarts!$E18=$A$1, IF(Ecarts!J18=\"\",\"\",Ecarts!J18),\"\")","v":""},{"$f":"IF( Ecarts!$E18=$A$1, IF(Ecarts!K18=\"\",\"\",Ecarts!K18),\"\")","v":""},{"$f":"IF( Ecarts!$E18=$A$1, IF(Ecarts!L18=\"\",\"\",Ecarts!L18),\"\")","v":""},{"$f":"IF( Ecarts!$E18=$A$1, IF(Ecarts!M18=\"\",\"\",Ecarts!M18),\"\")","v":""},0,0]
[{"$f":"IF( Ecarts!$E19=$A$1,IF( Ecarts!B19=\"\",\"\",Ecarts!A19),\"\")","v":""},{"$f":"IF( Ecarts!$E19=$A$1,IF( Ecarts!C19=\"\",\"\",Ecarts!C19),\"\")","v":""},{"$f":"IF( Ecarts!$E19=$A$1, IF(Ecarts!F19=\"\",\"\",Ecarts!F19),\"\")","v":""},{"$f":"IF( Ecarts!$E19=$A$1, IF(Ecarts!I19=\"\",\"\",Ecarts!I19),\"\")","v":""},{"$f":"IF( Ecarts!$E19=$A$1, IF(Ecarts!J19=\"\",\"\",Ecarts!J19),\"\")","v":""},{"$f":"IF( Ecarts!$E19=$A$1, IF(Ecarts!K19=\"\",\"\",Ecarts!K19),\"\")","v":""},{"$f":"IF( Ecarts!$E19=$A$1, IF(Ecarts!L19=\"\",\"\",Ecarts!L19),\"\")","v":""},{"$f":"IF( Ecarts!$E19=$A$1, IF(Ecarts!M19=\"\",\"\",Ecarts!M19),\"\")","v":""},0,0]
[{"$f":"IF( Ecarts!$E20=$A$1,IF( Ecarts!B20=\"\",\"\",Ecarts!A20),\"\")","v":""},{"$f":"IF( Ecarts!$E20=$A$1,IF( Ecarts!C20=\"\",\"\",Ecarts!C20),\"\")","v":""},{"$f":"IF( Ecarts!$E20=$A$1, IF(Ecarts!F20=\"\",\"\",Ecarts!F20),\"\")","v":""},{"$f":"IF( Ecarts!$E20=$A$1, IF(Ecarts!I20=\"\",\"\",Ecarts!I20),\"\")","v":""},{"$f":"IF( Ecarts!$E20=$A$1, IF(Ecarts!J20=\"\",\"\",Ecarts!J20),\"\")","v":""},{"$f":"IF( Ecarts!$E20=$A$1, IF(Ecarts!K20=\"\",\"\",Ecarts!K20),\"\")","v":""},{"$f":"IF( Ecarts!$E20=$A$1, IF(Ecarts!L20=\"\",\"\",Ecarts!L20),\"\")","v":""},{"$f":"IF( Ecarts!$E20=$A$1, IF(Ecarts!M20=\"\",\"\",Ecarts!M20),\"\")","v":""},0,0]
[{"$f":"IF( Ecarts!$E21=$A$1,IF( Ecarts!B21=\"\",\"\",Ecarts!A21),\"\")","v":""},{"$f":"IF( Ecarts!$E21=$A$1,IF( Ecarts!C21=\"\",\"\",Ecarts!C21),\"\")","v":""},{"$f":"IF( Ecarts!$E21=$A$1, IF(Ecarts!F21=\"\",\"\",Ecarts!F21),\"\")","v":""},{"$f":"IF( Ecarts!$E21=$A$1, IF(Ecarts!I21=\"\",\"\",Ecarts!I21),\"\")","v":""},{"$f":"IF( Ecarts!$E21=$A$1, IF(Ecarts!J21=\"\",\"\",Ecarts!J21),\"\")","v":""},{"$f":"IF( Ecarts!$E21=$A$1, IF(Ecarts!K21=\"\",\"\",Ecarts!K21),\"\")","v":""},{"$f":"IF( Ecarts!$E21=$A$1, IF(Ecarts!L21=\"\",\"\",Ecarts!L21),\"\")","v":""},{"$f":"IF( Ecarts!$E21=$A$1, IF(Ecarts!M21=\"\",\"\",Ecarts!M21),\"\")","v":""},0,0]
[{"$f":"IF( Ecarts!$E22=$A$1,IF( Ecarts!B22=\"\",\"\",Ecarts!A22),\"\")","v":""},{"$f":"IF( Ecarts!$E22=$A$1,IF( Ecarts!C22=\"\",\"\",Ecarts!C22),\"\")","v":""},{"$f":"IF( Ecarts!$E22=$A$1, IF(Ecarts!F22=\"\",\"\",Ecarts!F22),\"\")","v":""},{"$f":"IF( Ecarts!$E22=$A$1, IF(Ecarts!I22=\"\",\"\",Ecarts!I22),\"\")","v":""},{"$f":"IF( Ecarts!$E22=$A$1, IF(Ecarts!J22=\"\",\"\",Ecarts!J22),\"\")","v":""},{"$f":"IF( Ecarts!$E22=$A$1, IF(Ecarts!K22=\"\",\"\",Ecarts!K22),\"\")","v":""},{"$f":"IF( Ecarts!$E22=$A$1, IF(Ecarts!L22=\"\",\"\",Ecarts!L22),\"\")","v":""},{"$f":"IF( Ecarts!$E22=$A$1, IF(Ecarts!M22=\"\",\"\",Ecarts!M22),\"\")","v":""},0,0]
[{"$f":"IF( Ecarts!$E23=$A$1,IF( Ecarts!B23=\"\",\"\",Ecarts!A23),\"\")","v":""},{"$f":"IF( Ecarts!$E23=$A$1,IF( Ecarts!C23=\"\",\"\",Ecarts!C23),\"\")","v":""},{"$f":"IF( Ecarts!$E23=$A$1, IF(Ecarts!F23=\"\",\"\",Ecarts!F23),\"\")","v":""},{"$f":"IF( Ecarts!$E23=$A$1, IF(Ecarts!I23=\"\",\"\",Ecarts!I23),\"\")","v":""},{"$f":"IF( Ecarts!$E23=$A$1, IF(Ecarts!J23=\"\",\"\",Ecarts!J23),\"\")","v":""},{"$f":"IF( Ecarts!$E23=$A$1, IF(Ecarts!K23=\"\",\"\",Ecarts!K23),\"\")","v":""},{"$f":"IF( Ecarts!$E23=$A$1, IF(Ecarts!L23=\"\",\"\",Ecarts!L23),\"\")","v":""},{"$f":"IF( Ecarts!$E23=$A$1, IF(Ecarts!M23=\"\",\"\",Ecarts!M23),\"\")","v":""},0,0]
[{"$f":"IF( Ecarts!$E24=$A$1,IF( Ecarts!B24=\"\",\"\",Ecarts!A24),\"\")","v":""},{"$f":"IF( Ecarts!$E24=$A$1,IF( Ecarts!C24=\"\",\"\",Ecarts!C24),\"\")","v":""},{"$f":"IF( Ecarts!$E24=$A$1, IF(Ecarts!F24=\"\",\"\",Ecarts!F24),\"\")","v":""},{"$f":"IF( Ecarts!$E24=$A$1, IF(Ecarts!I24=\"\",\"\",Ecarts!I24),\"\")","v":""},{"$f":"IF( Ecarts!$E24=$A$1, IF(Ecarts!J24=\"\",\"\",Ecarts!J24),\"\")","v":""},{"$f":"IF( Ecarts!$E24=$A$1, IF(Ecarts!K24=\"\",\"\",Ecarts!K24),\"\")","v":""},{"$f":"IF( Ecarts!$E24=$A$1, IF(Ecarts!L24=\"\",\"\",Ecarts!L24),\"\")","v":""},{"$f":"IF( Ecarts!$E24=$A$1, IF(Ecarts!M24=\"\",\"\",Ecarts!M24),\"\")","v":""},0,0]
[{"$f":"IF( Ecarts!$E25=$A$1,IF( Ecarts!B25=\"\",\"\",Ecarts!A25),\"\")","v":""},{"$f":"IF( Ecarts!$E25=$A$1,IF( Ecarts!C25=\"\",\"\",Ecarts!C25),\"\")","v":""},{"$f":"IF( Ecarts!$E25=$A$1, IF(Ecarts!F25=\"\",\"\",Ecarts!F25),\"\")","v":""},{"$f":"IF( Ecarts!$E25=$A$1, IF(Ecarts!I25=\"\",\"\",Ecarts!I25),\"\")","v":""},{"$f":"IF( Ecarts!$E25=$A$1, IF(Ecarts!J25=\"\",\"\",Ecarts!J25),\"\")","v":""},{"$f":"IF( Ecarts!$E25=$A$1, IF(Ecarts!K25=\"\",\"\",Ecarts!K25),\"\")","v":""},{"$f":"IF( Ecarts!$E25=$A$1, IF(Ecarts!L25=\"\",\"\",Ecarts!L25),\"\")","v":""},{"$f":"IF( Ecarts!$E25=$A$1, IF(Ecarts!M25=\"\",\"\",Ecarts!M25),\"\")","v":""},0,0]
[{"$f":"IF( Ecarts!$E26=$A$1,IF( Ecarts!B26=\"\",\"\",Ecarts!A26),\"\")","v":""},{"$f":"IF( Ecarts!$E26=$A$1,IF( Ecarts!C26=\"\",\"\",Ecarts!C26),\"\")","v":""},{"$f":"IF( Ecarts!$E26=$A$1, IF(Ecarts!F26=\"\",\"\",Ecarts!F26),\"\")","v":""},{"$f":"IF( Ecarts!$E26=$A$1, IF(Ecarts!I26=\"\",\"\",Ecarts!I26),\"\")","v":""},{"$f":"IF( Ecarts!$E26=$A$1, IF(Ecarts!J26=\"\",\"\",Ecarts!J26),\"\")","v":""},{"$f":"IF( Ecarts!$E26=$A$1, IF(Ecarts!K26=\"\",\"\",Ecarts!K26),\"\")","v":""},{"$f":"IF( Ecarts!$E26=$A$1, IF(Ecarts!L26=\"\",\"\",Ecarts!L26),\"\")","v":""},{"$f":"IF( Ecarts!$E26=$A$1, IF(Ecarts!M26=\"\",\"\",Ecarts!M26),\"\")","v":""},0,0]
[{"$f":"IF( Ecarts!$E27=$A$1,IF( Ecarts!B27=\"\",\"\",Ecarts!A27),\"\")","v":""},{"$f":"IF( Ecarts!$E27=$A$1,IF( Ecarts!C27=\"\",\"\",Ecarts!C27),\"\")","v":""},{"$f":"IF( Ecarts!$E27=$A$1, IF(Ecarts!F27=\"\",\"\",Ecarts!F27),\"\")","v":""},{"$f":"IF( Ecarts!$E27=$A$1, IF(Ecarts!I27=\"\",\"\",Ecarts!I27),\"\")","v":""},{"$f":"IF( Ecarts!$E27=$A$1, IF(Ecarts!J27=\"\",\"\",Ecarts!J27),\"\")","v":""},{"$f":"IF( Ecarts!$E27=$A$1, IF(Ecarts!K27=\"\",\"\",Ecarts!K27),\"\")","v":""},{"$f":"IF( Ecarts!$E27=$A$1, IF(Ecarts!L27=\"\",\"\",Ecarts!L27),\"\")","v":""},{"$f":"IF( Ecarts!$E27=$A$1, IF(Ecarts!M27=\"\",\"\",Ecarts!M27),\"\")","v":""},0,0]
[{"$f":"IF( Ecarts!$E28=$A$1,IF( Ecarts!B28=\"\",\"\",Ecarts!A28),\"\")","v":""},{"$f":"IF( Ecarts!$E28=$A$1,IF( Ecarts!C28=\"\",\"\",Ecarts!C28),\"\")","v":""},{"$f":"IF( Ecarts!$E28=$A$1, IF(Ecarts!F28=\"\",\"\",Ecarts!F28),\"\")","v":""},{"$f":"IF( Ecarts!$E28=$A$1, IF(Ecarts!I28=\"\",\"\",Ecarts!I28),\"\")","v":""},{"$f":"IF( Ecarts!$E28=$A$1, IF(Ecarts!J28=\"\",\"\",Ecarts!J28),\"\")","v":""},{"$f":"IF( Ecarts!$E28=$A$1, IF(Ecarts!K28=\"\",\"\",Ecarts!K28),\"\")","v":""},{"$f":"IF( Ecarts!$E28=$A$1, IF(Ecarts!L28=\"\",\"\",Ecarts!L28),\"\")","v":""},{"$f":"IF( Ecarts!$E28=$A$1, IF(Ecarts!M28=\"\",\"\",Ecarts!M28),\"\")","v":""},0,0]
[{"$f":"IF( Ecarts!$E29=$A$1,IF( Ecarts!B29=\"\",\"\",Ecarts!A29),\"\")","v":""},{"$f":"IF( Ecarts!$E29=$A$1,IF( Ecarts!C29=\"\",\"\",Ecarts!C29),\"\")","v":""},{"$f":"IF( Ecarts!$E29=$A$1, IF(Ecarts!F29=\"\",\"\",Ecarts!F29),\"\")","v":""},{"$f":"IF( Ecarts!$E29=$A$1, IF(Ecarts!I29=\"\",\"\",Ecarts!I29),\"\")","v":""},{"$f":"IF( Ecarts!$E29=$A$1, IF(Ecarts!J29=\"\",\"\",Ecarts!J29),\"\")","v":""},{"$f":"IF( Ecarts!$E29=$A$1, IF(Ecarts!K29=\"\",\"\",Ecarts!K29),\"\")","v":""},{"$f":"IF( Ecarts!$E29=$A$1, IF(Ecarts!L29=\"\",\"\",Ecarts!L29),\"\")","v":""},{"$f":"IF( Ecarts!$E29=$A$1, IF(Ecarts!M29=\"\",\"\",Ecarts!M29),\"\")","v":""},0,0]
[{"$f":"IF( Ecarts!$E30=$A$1,IF( Ecarts!B30=\"\",\"\",Ecarts!A30),\"\")","v":""},{"$f":"IF( Ecarts!$E30=$A$1,IF( Ecarts!C30=\"\",\"\",Ecarts!C30),\"\")","v":""},{"$f":"IF( Ecarts!$E30=$A$1, IF(Ecarts!F30=\"\",\"\",Ecarts!F30),\"\")","v":""},{"$f":"IF( Ecarts!$E30=$A$1, IF(Ecarts!I30=\"\",\"\",Ecarts!I30),\"\")","v":""},{"$f":"IF( Ecarts!$E30=$A$1, IF(Ecarts!J30=\"\",\"\",Ecarts!J30),\"\")","v":""},{"$f":"IF( Ecarts!$E30=$A$1, IF(Ecarts!K30=\"\",\"\",Ecarts!K30),\"\")","v":""},{"$f":"IF( Ecarts!$E30=$A$1, IF(Ecarts!L30=\"\",\"\",Ecarts!L30),\"\")","v":""},{"$f":"IF( Ecarts!$E30=$A$1, IF(Ecarts!M30=\"\",\"\",Ecarts!M30),\"\")","v":""},0,0]
[{"$f":"IF( Ecarts!$E31=$A$1,IF( Ecarts!B31=\"\",\"\",Ecarts!A31),\"\")","v":""},{"$f":"IF( Ecarts!$E31=$A$1,IF( Ecarts!C31=\"\",\"\",Ecarts!C31),\"\")","v":""},{"$f":"IF( Ecarts!$E31=$A$1, IF(Ecarts!F31=\"\",\"\",Ecarts!F31),\"\")","v":""},{"$f":"IF( Ecarts!$E31=$A$1, IF(Ecarts!I31=\"\",\"\",Ecarts!I31),\"\")","v":""},{"$f":"IF( Ecarts!$E31=$A$1, IF(Ecarts!J31=\"\",\"\",Ecarts!J31),\"\")","v":""},{"$f":"IF( Ecarts!$E31=$A$1, IF(Ecarts!K31=\"\",\"\",Ecarts!K31),\"\")","v":""},{"$f":"IF( Ecarts!$E31=$A$1, IF(Ecarts!L31=\"\",\"\",Ecarts!L31),\"\")","v":""},{"$f":"IF( Ecarts!$E31=$A$1, IF(Ecarts!M31=\"\",\"\",Ecarts!M31),\"\")","v":""},0,0]
[{"$f":"IF( Ecarts!$E32=$A$1,IF( Ecarts!B32=\"\",\"\",Ecarts!A32),\"\")","v":""},{"$f":"IF( Ecarts!$E32=$A$1,IF( Ecarts!C32=\"\",\"\",Ecarts!C32),\"\")","v":""},{"$f":"IF( Ecarts!$E32=$A$1, IF(Ecarts!F32=\"\",\"\",Ecarts!F32),\"\")","v":""},{"$f":"IF( Ecarts!$E32=$A$1, IF(Ecarts!I32=\"\",\"\",Ecarts!I32),\"\")","v":""},{"$f":"IF( Ecarts!$E32=$A$1, IF(Ecarts!J32=\"\",\"\",Ecarts!J32),\"\")","v":""},{"$f":"IF( Ecarts!$E32=$A$1, IF(Ecarts!K32=\"\",\"\",Ecarts!K32),\"\")","v":""},{"$f":"IF( Ecarts!$E32=$A$1, IF(Ecarts!L32=\"\",\"\",Ecarts!L32),\"\")","v":""},{"$f":"IF( Ecarts!$E32=$A$1, IF(Ecarts!M32=\"\",\"\",Ecarts!M32),\"\")","v":""},0,0]
[{"$f":"IF( Ecarts!$E33=$A$1,IF( Ecarts!B33=\"\",\"\",Ecarts!A33),\"\")","v":""},{"$f":"IF( Ecarts!$E33=$A$1,IF( Ecarts!C33=\"\",\"\",Ecarts!C33),\"\")","v":""},{"$f":"IF( Ecarts!$E33=$A$1, IF(Ecarts!F33=\"\",\"\",Ecarts!F33),\"\")","v":""},{"$f":"IF( Ecarts!$E33=$A$1, IF(Ecarts!I33=\"\",\"\",Ecarts!I33),\"\")","v":""},{"$f":"IF( Ecarts!$E33=$A$1, IF(Ecarts!J33=\"\",\"\",Ecarts!J33),\"\")","v":""},{"$f":"IF( Ecarts!$E33=$A$1, IF(Ecarts!K33=\"\",\"\",Ecarts!K33),\"\")","v":""},{"$f":"IF( Ecarts!$E33=$A$1, IF(Ecarts!L33=\"\",\"\",Ecarts!L33),\"\")","v":""},{"$f":"IF( Ecarts!$E33=$A$1, IF(Ecarts!M33=\"\",\"\",Ecarts!M33),\"\")","v":""},0,0]
[{"$f":"IF( Ecarts!$E34=$A$1,IF( Ecarts!B34=\"\",\"\",Ecarts!A34),\"\")","v":""},{"$f":"IF( Ecarts!$E34=$A$1,IF( Ecarts!C34=\"\",\"\",Ecarts!C34),\"\")","v":""},{"$f":"IF( Ecarts!$E34=$A$1, IF(Ecarts!F34=\"\",\"\",Ecarts!F34),\"\")","v":""},{"$f":"IF( Ecarts!$E34=$A$1, IF(Ecarts!I34=\"\",\"\",Ecarts!I34),\"\")","v":""},{"$f":"IF( Ecarts!$E34=$A$1, IF(Ecarts!J34=\"\",\"\",Ecarts!J34),\"\")","v":""},{"$f":"IF( Ecarts!$E34=$A$1, IF(Ecarts!K34=\"\",\"\",Ecarts!K34),\"\")","v":""},{"$f":"IF( Ecarts!$E34=$A$1, IF(Ecarts!L34=\"\",\"\",Ecarts!L34),\"\")","v":""},{"$f":"IF( Ecarts!$E34=$A$1, IF(Ecarts!M34=\"\",\"\",Ecarts!M34),\"\")","v":""},0,0]
[{"$f":"IF( Ecarts!$E35=$A$1,IF( Ecarts!B35=\"\",\"\",Ecarts!A35),\"\")","v":""},{"$f":"IF( Ecarts!$E35=$A$1,IF( Ecarts!C35=\"\",\"\",Ecarts!C35),\"\")","v":""},{"$f":"IF( Ecarts!$E35=$A$1, IF(Ecarts!F35=\"\",\"\",Ecarts!F35),\"\")","v":""},{"$f":"IF( Ecarts!$E35=$A$1, IF(Ecarts!I35=\"\",\"\",Ecarts!I35),\"\")","v":""},{"$f":"IF( Ecarts!$E35=$A$1, IF(Ecarts!J35=\"\",\"\",Ecarts!J35),\"\")","v":""},{"$f":"IF( Ecarts!$E35=$A$1, IF(Ecarts!K35=\"\",\"\",Ecarts!K35),\"\")","v":""},{"$f":"IF( Ecarts!$E35=$A$1, IF(Ecarts!L35=\"\",\"\",Ecarts!L35),\"\")","v":""},{"$f":"IF( Ecarts!$E35=$A$1, IF(Ecarts!M35=\"\",\"\",Ecarts!M35),\"\")","v":""},0,0]
[{"$f":"IF( Ecarts!$E36=$A$1,IF( Ecarts!B36=\"\",\"\",Ecarts!A36),\"\")","v":""},{"$f":"IF( Ecarts!$E36=$A$1,IF( Ecarts!C36=\"\",\"\",Ecarts!C36),\"\")","v":""},{"$f":"IF( Ecarts!$E36=$A$1, IF(Ecarts!F36=\"\",\"\",Ecarts!F36),\"\")","v":""},{"$f":"IF( Ecarts!$E36=$A$1, IF(Ecarts!I36=\"\",\"\",Ecarts!I36),\"\")","v":""},{"$f":"IF( Ecarts!$E36=$A$1, IF(Ecarts!J36=\"\",\"\",Ecarts!J36),\"\")","v":""},{"$f":"IF( Ecarts!$E36=$A$1, IF(Ecarts!K36=\"\",\"\",Ecarts!K36),\"\")","v":""},{"$f":"IF( Ecarts!$E36=$A$1, IF(Ecarts!L36=\"\",\"\",Ecarts!L36),\"\")","v":""},{"$f":"IF( Ecarts!$E36=$A$1, IF(Ecarts!M36=\"\",\"\",Ecarts!M36),\"\")","v":""},0,0]
[{"$f":"IF( Ecarts!$E37=$A$1,IF( Ecarts!B37=\"\",\"\",Ecarts!A37),\"\")","v":""},{"$f":"IF( Ecarts!$E37=$A$1,IF( Ecarts!C37=\"\",\"\",Ecarts!C37),\"\")","v":""},{"$f":"IF( Ecarts!$E37=$A$1, IF(Ecarts!F37=\"\",\"\",Ecarts!F37),\"\")","v":""},{"$f":"IF( Ecarts!$E37=$A$1, IF(Ecarts!I37=\"\",\"\",Ecarts!I37),\"\")","v":""},{"$f":"IF( Ecarts!$E37=$A$1, IF(Ecarts!J37=\"\",\"\",Ecarts!J37),\"\")","v":""},{"$f":"IF( Ecarts!$E37=$A$1, IF(Ecarts!K37=\"\",\"\",Ecarts!K37),\"\")","v":""},{"$f":"IF( Ecarts!$E37=$A$1, IF(Ecarts!L37=\"\",\"\",Ecarts!L37),\"\")","v":""},{"$f":"IF( Ecarts!$E37=$A$1, IF(Ecarts!M37=\"\",\"\",Ecarts!M37),\"\")","v":""},0,0]
[{"$f":"IF( Ecarts!$E38=$A$1,IF( Ecarts!B38=\"\",\"\",Ecarts!A38),\"\")","v":""},{"$f":"IF( Ecarts!$E38=$A$1,IF( Ecarts!C38=\"\",\"\",Ecarts!C38),\"\")","v":""},{"$f":"IF( Ecarts!$E38=$A$1, IF(Ecarts!F38=\"\",\"\",Ecarts!F38),\"\")","v":""},{"$f":"IF( Ecarts!$E38=$A$1, IF(Ecarts!I38=\"\",\"\",Ecarts!I38),\"\")","v":""},{"$f":"IF( Ecarts!$E38=$A$1, IF(Ecarts!J38=\"\",\"\",Ecarts!J38),\"\")","v":""},{"$f":"IF( Ecarts!$E38=$A$1, IF(Ecarts!K38=\"\",\"\",Ecarts!K38),\"\")","v":""},{"$f":"IF( Ecarts!$E38=$A$1, IF(Ecarts!L38=\"\",\"\",Ecarts!L38),\"\")","v":""},{"$f":"IF( Ecarts!$E38=$A$1, IF(Ecarts!M38=\"\",\"\",Ecarts!M38),\"\")","v":""},0,0]
[{"$f":"IF( Ecarts!$E39=$A$1,IF( Ecarts!B39=\"\",\"\",Ecarts!A39),\"\")","v":""},{"$f":"IF( Ecarts!$E39=$A$1,IF( Ecarts!C39=\"\",\"\",Ecarts!C39),\"\")","v":""},{"$f":"IF( Ecarts!$E39=$A$1, IF(Ecarts!F39=\"\",\"\",Ecarts!F39),\"\")","v":""},{"$f":"IF( Ecarts!$E39=$A$1, IF(Ecarts!I39=\"\",\"\",Ecarts!I39),\"\")","v":""},{"$f":"IF( Ecarts!$E39=$A$1, IF(Ecarts!J39=\"\",\"\",Ecarts!J39),\"\")","v":""},{"$f":"IF( Ecarts!$E39=$A$1, IF(Ecarts!K39=\"\",\"\",Ecarts!K39),\"\")","v":""},{"$f":"IF( Ecarts!$E39=$A$1, IF(Ecarts!L39=\"\",\"\",Ecarts!L39),\"\")","v":""},{"$f":"IF( Ecarts!$E39=$A$1, IF(Ecarts!M39=\"\",\"\",Ecarts!M39),\"\")","v":""},0,0]
[{"$f":"IF( Ecarts!$E40=$A$1,IF( Ecarts!B40=\"\",\"\",Ecarts!A40),\"\")","v":""},{"$f":"IF( Ecarts!$E40=$A$1,IF( Ecarts!C40=\"\",\"\",Ecarts!C40),\"\")","v":""},{"$f":"IF( Ecarts!$E40=$A$1, IF(Ecarts!F40=\"\",\"\",Ecarts!F40),\"\")","v":""},{"$f":"IF( Ecarts!$E40=$A$1, IF(Ecarts!I40=\"\",\"\",Ecarts!I40),\"\")","v":""},{"$f":"IF( Ecarts!$E40=$A$1, IF(Ecarts!J40=\"\",\"\",Ecarts!J40),\"\")","v":""},{"$f":"IF( Ecarts!$E40=$A$1, IF(Ecarts!K40=\"\",\"\",Ecarts!K40),\"\")","v":""},{"$f":"IF( Ecarts!$E40=$A$1, IF(Ecarts!L40=\"\",\"\",Ecarts!L40),\"\")","v":""},{"$f":"IF( Ecarts!$E40=$A$1, IF(Ecarts!M40=\"\",\"\",Ecarts!M40),\"\")","v":""},0,0]
[{"$f":"IF( Ecarts!$E41=$A$1,IF( Ecarts!B41=\"\",\"\",Ecarts!A41),\"\")","v":""},{"$f":"IF( Ecarts!$E41=$A$1,IF( Ecarts!C41=\"\",\"\",Ecarts!C41),\"\")","v":""},{"$f":"IF( Ecarts!$E41=$A$1, IF(Ecarts!F41=\"\",\"\",Ecarts!F41),\"\")","v":""},{"$f":"IF( Ecarts!$E41=$A$1, IF(Ecarts!I41=\"\",\"\",Ecarts!I41),\"\")","v":""},{"$f":"IF( Ecarts!$E41=$A$1, IF(Ecarts!J41=\"\",\"\",Ecarts!J41),\"\")","v":""},{"$f":"IF( Ecarts!$E41=$A$1, IF(Ecarts!K41=\"\",\"\",Ecarts!K41),\"\")","v":""},{"$f":"IF( Ecarts!$E41=$A$1, IF(Ecarts!L41=\"\",\"\",Ecarts!L41),\"\")","v":""},{"$f":"IF( Ecarts!$E41=$A$1, IF(Ecarts!M41=\"\",\"\",Ecarts!M41),\"\")","v":""},0,0]
[{"$f":"IF( Ecarts!$E42=$A$1,IF( Ecarts!B42=\"\",\"\",Ecarts!A42),\"\")","v":""},{"$f":"IF( Ecarts!$E42=$A$1,IF( Ecarts!C42=\"\",\"\",Ecarts!C42),\"\")","v":""},{"$f":"IF( Ecarts!$E42=$A$1, IF(Ecarts!F42=\"\",\"\",Ecarts!F42),\"\")","v":""},{"$f":"IF( Ecarts!$E42=$A$1, IF(Ecarts!I42=\"\",\"\",Ecarts!I42),\"\")","v":""},{"$f":"IF( Ecarts!$E42=$A$1, IF(Ecarts!J42=\"\",\"\",Ecarts!J42),\"\")","v":""},{"$f":"IF( Ecarts!$E42=$A$1, IF(Ecarts!K42=\"\",\"\",Ecarts!K42),\"\")","v":""},{"$f":"IF( Ecarts!$E42=$A$1, IF(Ecarts!L42=\"\",\"\",Ecarts!L42),\"\")","v":""},{"$f":"IF( Ecarts!$E42=$A$1, IF(Ecarts!M42=\"\",\"\",Ecarts!M42),\"\")","v":""},0,0]
[{"$f":"IF( Ecarts!$E43=$A$1,IF( Ecarts!B43=\"\",\"\",Ecarts!A43),\"\")","v":""},{"$f":"IF( Ecarts!$E43=$A$1,IF( Ecarts!C43=\"\",\"\",Ecarts!C43),\"\")","v":""},{"$f":"IF( Ecarts!$E43=$A$1, IF(Ecarts!F43=\"\",\"\",Ecarts!F43),\"\")","v":""},{"$f":"IF( Ecarts!$E43=$A$1, IF(Ecarts!I43=\"\",\"\",Ecarts!I43),\"\")","v":""},{"$f":"IF( Ecarts!$E43=$A$1, IF(Ecarts!J43=\"\",\"\",Ecarts!J43),\"\")","v":""},{"$f":"IF( Ecarts!$E43=$A$1, IF(Ecarts!K43=\"\",\"\",Ecarts!K43),\"\")","v":""},{"$f":"IF( Ecarts!$E43=$A$1, IF(Ecarts!L43=\"\",\"\",Ecarts!L43),\"\")","v":""},{"$f":"IF( Ecarts!$E43=$A$1, IF(Ecarts!M43=\"\",\"\",Ecarts!M43),\"\")","v":""},0,0]
[{"$f":"IF( Ecarts!$E44=$A$1,IF( Ecarts!B44=\"\",\"\",Ecarts!A44),\"\")","v":""},{"$f":"IF( Ecarts!$E44=$A$1,IF( Ecarts!C44=\"\",\"\",Ecarts!C44),\"\")","v":""},{"$f":"IF( Ecarts!$E44=$A$1, IF(Ecarts!F44=\"\",\"\",Ecarts!F44),\"\")","v":""},{"$f":"IF( Ecarts!$E44=$A$1, IF(Ecarts!I44=\"\",\"\",Ecarts!I44),\"\")","v":""},{"$f":"IF( Ecarts!$E44=$A$1, IF(Ecarts!J44=\"\",\"\",Ecarts!J44),\"\")","v":""},{"$f":"IF( Ecarts!$E44=$A$1, IF(Ecarts!K44=\"\",\"\",Ecarts!K44),\"\")","v":""},{"$f":"IF( Ecarts!$E44=$A$1, IF(Ecarts!L44=\"\",\"\",Ecarts!L44),\"\")","v":""},{"$f":"IF( Ecarts!$E44=$A$1, IF(Ecarts!M44=\"\",\"\",Ecarts!M44),\"\")","v":""},0,0]
[{"$f":"IF( Ecarts!$E45=$A$1,IF( Ecarts!B45=\"\",\"\",Ecarts!A45),\"\")","v":""},{"$f":"IF( Ecarts!$E45=$A$1,IF( Ecarts!C45=\"\",\"\",Ecarts!C45),\"\")","v":""},{"$f":"IF( Ecarts!$E45=$A$1, IF(Ecarts!F45=\"\",\"\",Ecarts!F45),\"\")","v":""},{"$f":"IF( Ecarts!$E45=$A$1, IF(Ecarts!I45=\"\",\"\",Ecarts!I45),\"\")","v":""},{"$f":"IF( Ecarts!$E45=$A$1, IF(Ecarts!J45=\"\",\"\",Ecarts!J45),\"\")","v":""},{"$f":"IF( Ecarts!$E45=$A$1, IF(Ecarts!K45=\"\",\"\",Ecarts!K45),\"\")","v":""},{"$f":"IF( Ecarts!$E45=$A$1, IF(Ecarts!L45=\"\",\"\",Ecarts!L45),\"\")","v":""},{"$f":"IF( Ecarts!$E45=$A$1, IF(Ecarts!M45=\"\",\"\",Ecarts!M45),\"\")","v":""},0,0]
[{"$f":"IF( Ecarts!$E46=$A$1,IF( Ecarts!B46=\"\",\"\",Ecarts!A46),\"\")","v":""},{"$f":"IF( Ecarts!$E46=$A$1,IF( Ecarts!C46=\"\",\"\",Ecarts!C46),\"\")","v":""},{"$f":"IF( Ecarts!$E46=$A$1, IF(Ecarts!F46=\"\",\"\",Ecarts!F46),\"\")","v":""},{"$f":"IF( Ecarts!$E46=$A$1, IF(Ecarts!I46=\"\",\"\",Ecarts!I46),\"\")","v":""},{"$f":"IF( Ecarts!$E46=$A$1, IF(Ecarts!J46=\"\",\"\",Ecarts!J46),\"\")","v":""},{"$f":"IF( Ecarts!$E46=$A$1, IF(Ecarts!K46=\"\",\"\",Ecarts!K46),\"\")","v":""},{"$f":"IF( Ecarts!$E46=$A$1, IF(Ecarts!L46=\"\",\"\",Ecarts!L46),\"\")","v":""},{"$f":"IF( Ecarts!$E46=$A$1, IF(Ecarts!M46=\"\",\"\",Ecarts!M46),\"\")","v":""},0,0]
[{"$f":"IF( Ecarts!$E47=$A$1,IF( Ecarts!B47=\"\",\"\",Ecarts!A47),\"\")","v":""},{"$f":"IF( Ecarts!$E47=$A$1,IF( Ecarts!C47=\"\",\"\",Ecarts!C47),\"\")","v":""},{"$f":"IF( Ecarts!$E47=$A$1, IF(Ecarts!F47=\"\",\"\",Ecarts!F47),\"\")","v":""},{"$f":"IF( Ecarts!$E47=$A$1, IF(Ecarts!I47=\"\",\"\",Ecarts!I47),\"\")","v":""},{"$f":"IF( Ecarts!$E47=$A$1, IF(Ecarts!J47=\"\",\"\",Ecarts!J47),\"\")","v":""},{"$f":"IF( Ecarts!$E47=$A$1, IF(Ecarts!K47=\"\",\"\",Ecarts!K47),\"\")","v":""},{"$f":"IF( Ecarts!$E47=$A$1, IF(Ecarts!L47=\"\",\"\",Ecarts!L47),\"\")","v":""},{"$f":"IF( Ecarts!$E47=$A$1, IF(Ecarts!M47=\"\",\"\",Ecarts!M47),\"\")","v":""},0,0]
[{"$f":"IF( Ecarts!$E48=$A$1,IF( Ecarts!B48=\"\",\"\",Ecarts!A48),\"\")","v":""},{"$f":"IF( Ecarts!$E48=$A$1,IF( Ecarts!C48=\"\",\"\",Ecarts!C48),\"\")","v":""},{"$f":"IF( Ecarts!$E48=$A$1, IF(Ecarts!F48=\"\",\"\",Ecarts!F48),\"\")","v":""},{"$f":"IF( Ecarts!$E48=$A$1, IF(Ecarts!I48=\"\",\"\",Ecarts!I48),\"\")","v":""},{"$f":"IF( Ecarts!$E48=$A$1, IF(Ecarts!J48=\"\",\"\",Ecarts!J48),\"\")","v":""},{"$f":"IF( Ecarts!$E48=$A$1, IF(Ecarts!K48=\"\",\"\",Ecarts!K48),\"\")","v":""},{"$f":"IF( Ecarts!$E48=$A$1, IF(Ecarts!L48=\"\",\"\",Ecarts!L48),\"\")","v":""},{"$f":"IF( Ecarts!$E48=$A$1, IF(Ecarts!M48=\"\",\"\",Ecarts!M48),\"\")","v":""},0,0]
[{"$f":"IF( Ecarts!$E49=$A$1,IF( Ecarts!B49=\"\",\"\",Ecarts!A49),\"\")","v":""},{"$f":"IF( Ecarts!$E49=$A$1,IF( Ecarts!C49=\"\",\"\",Ecarts!C49),\"\")","v":""},{"$f":"IF( Ecarts!$E49=$A$1, IF(Ecarts!F49=\"\",\"\",Ecarts!F49),\"\")","v":""},{"$f":"IF( Ecarts!$E49=$A$1, IF(Ecarts!I49=\"\",\"\",Ecarts!I49),\"\")","v":""},{"$f":"IF( Ecarts!$E49=$A$1, IF(Ecarts!J49=\"\",\"\",Ecarts!J49),\"\")","v":""},{"$f":"IF( Ecarts!$E49=$A$1, IF(Ecarts!K49=\"\",\"\",Ecarts!K49),\"\")","v":""},{"$f":"IF( Ecarts!$E49=$A$1, IF(Ecarts!L49=\"\",\"\",Ecarts!L49),\"\")","v":""},{"$f":"IF( Ecarts!$E49=$A$1, IF(Ecarts!M49=\"\",\"\",Ecarts!M49),\"\")","v":""},0,0]
[{"$f":"IF( Ecarts!$E50=$A$1,IF( Ecarts!B50=\"\",\"\",Ecarts!A50),\"\")","v":""},{"$f":"IF( Ecarts!$E50=$A$1,IF( Ecarts!C50=\"\",\"\",Ecarts!C50),\"\")","v":""},{"$f":"IF( Ecarts!$E50=$A$1, IF(Ecarts!F50=\"\",\"\",Ecarts!F50),\"\")","v":""},{"$f":"IF( Ecarts!$E50=$A$1, IF(Ecarts!I50=\"\",\"\",Ecarts!I50),\"\")","v":""},{"$f":"IF( Ecarts!$E50=$A$1, IF(Ecarts!J50=\"\",\"\",Ecarts!J50),\"\")","v":""},{"$f":"IF( Ecarts!$E50=$A$1, IF(Ecarts!K50=\"\",\"\",Ecarts!K50),\"\")","v":""},{"$f":"IF( Ecarts!$E50=$A$1, IF(Ecarts!L50=\"\",\"\",Ecarts!L50),\"\")","v":""},{"$f":"IF( Ecarts!$E50=$A$1, IF(Ecarts!M50=\"\",\"\",Ecarts!M50),\"\")","v":""},0,0]
[{"$f":"IF( Ecarts!$E51=$A$1,IF( Ecarts!B51=\"\",\"\",Ecarts!A51),\"\")","v":""},{"$f":"IF( Ecarts!$E51=$A$1,IF( Ecarts!C51=\"\",\"\",Ecarts!C51),\"\")","v":""},{"$f":"IF( Ecarts!$E51=$A$1, IF(Ecarts!F51=\"\",\"\",Ecarts!F51),\"\")","v":""},{"$f":"IF( Ecarts!$E51=$A$1, IF(Ecarts!I51=\"\",\"\",Ecarts!I51),\"\")","v":""},{"$f":"IF( Ecarts!$E51=$A$1, IF(Ecarts!J51=\"\",\"\",Ecarts!J51),\"\")","v":""},{"$f":"IF( Ecarts!$E51=$A$1, IF(Ecarts!K51=\"\",\"\",Ecarts!K51),\"\")","v":""},{"$f":"IF( Ecarts!$E51=$A$1, IF(Ecarts!L51=\"\",\"\",Ecarts!L51),\"\")","v":""},{"$f":"IF( Ecarts!$E51=$A$1, IF(Ecarts!M51=\"\",\"\",Ecarts!M51),\"\")","v":""},0,0]
[{"$f":"IF( Ecarts!$E52=$A$1,IF( Ecarts!B52=\"\",\"\",Ecarts!A52),\"\")","v":""},{"$f":"IF( Ecarts!$E52=$A$1,IF( Ecarts!C52=\"\",\"\",Ecarts!C52),\"\")","v":""},{"$f":"IF( Ecarts!$E52=$A$1, IF(Ecarts!F52=\"\",\"\",Ecarts!F52),\"\")","v":""},{"$f":"IF( Ecarts!$E52=$A$1, IF(Ecarts!I52=\"\",\"\",Ecarts!I52),\"\")","v":""},{"$f":"IF( Ecarts!$E52=$A$1, IF(Ecarts!J52=\"\",\"\",Ecarts!J52),\"\")","v":""},{"$f":"IF( Ecarts!$E52=$A$1, IF(Ecarts!K52=\"\",\"\",Ecarts!K52),\"\")","v":""},{"$f":"IF( Ecarts!$E52=$A$1, IF(Ecarts!L52=\"\",\"\",Ecarts!L52),\"\")","v":""},{"$f":"IF( Ecarts!$E52=$A$1, IF(Ecarts!M52=\"\",\"\",Ecarts!M52),\"\")","v":""},0,0]
[{"$f":"IF( Ecarts!$E53=$A$1,IF( Ecarts!B53=\"\",\"\",Ecarts!A53),\"\")","v":""},{"$f":"IF( Ecarts!$E53=$A$1,IF( Ecarts!C53=\"\",\"\",Ecarts!C53),\"\")","v":""},{"$f":"IF( Ecarts!$E53=$A$1, IF(Ecarts!F53=\"\",\"\",Ecarts!F53),\"\")","v":""},{"$f":"IF( Ecarts!$E53=$A$1, IF(Ecarts!I53=\"\",\"\",Ecarts!I53),\"\")","v":""},{"$f":"IF( Ecarts!$E53=$A$1, IF(Ecarts!J53=\"\",\"\",Ecarts!J53),\"\")","v":""},{"$f":"IF( Ecarts!$E53=$A$1, IF(Ecarts!K53=\"\",\"\",Ecarts!K53),\"\")","v":""},{"$f":"IF( Ecarts!$E53=$A$1, IF(Ecarts!L53=\"\",\"\",Ecarts!L53),\"\")","v":""},{"$f":"IF( Ecarts!$E53=$A$1, IF(Ecarts!M53=\"\",\"\",Ecarts!M53),\"\")","v":""},0,0]
[{"$f":"IF( Ecarts!$E54=$A$1,IF( Ecarts!B54=\"\",\"\",Ecarts!A54),\"\")","v":""},{"$f":"IF( Ecarts!$E54=$A$1,IF( Ecarts!C54=\"\",\"\",Ecarts!C54),\"\")","v":""},{"$f":"IF( Ecarts!$E54=$A$1, IF(Ecarts!F54=\"\",\"\",Ecarts!F54),\"\")","v":""},{"$f":"IF( Ecarts!$E54=$A$1, IF(Ecarts!I54=\"\",\"\",Ecarts!I54),\"\")","v":""},{"$f":"IF( Ecarts!$E54=$A$1, IF(Ecarts!J54=\"\",\"\",Ecarts!J54),\"\")","v":""},{"$f":"IF( Ecarts!$E54=$A$1, IF(Ecarts!K54=\"\",\"\",Ecarts!K54),\"\")","v":""},{"$f":"IF( Ecarts!$E54=$A$1, IF(Ecarts!L54=\"\",\"\",Ecarts!L54),\"\")","v":""},{"$f":"IF( Ecarts!$E54=$A$1, IF(Ecarts!M54=\"\",\"\",Ecarts!M54),\"\")","v":""},0,0]
[{"$f":"IF( Ecarts!$E55=$A$1,IF( Ecarts!B55=\"\",\"\",Ecarts!A55),\"\")","v":""},{"$f":"IF( Ecarts!$E55=$A$1,IF( Ecarts!C55=\"\",\"\",Ecarts!C55),\"\")","v":""},{"$f":"IF( Ecarts!$E55=$A$1, IF(Ecarts!F55=\"\",\"\",Ecarts!F55),\"\")","v":""},{"$f":"IF( Ecarts!$E55=$A$1, IF(Ecarts!I55=\"\",\"\",Ecarts!I55),\"\")","v":""},{"$f":"IF( Ecarts!$E55=$A$1, IF(Ecarts!J55=\"\",\"\",Ecarts!J55),\"\")","v":""},{"$f":"IF( Ecarts!$E55=$A$1, IF(Ecarts!K55=\"\",\"\",Ecarts!K55),\"\")","v":""},{"$f":"IF( Ecarts!$E55=$A$1, IF(Ecarts!L55=\"\",\"\",Ecarts!L55),\"\")","v":""},{"$f":"IF( Ecarts!$E55=$A$1, IF(Ecarts!M55=\"\",\"\",Ecarts!M55),\"\")","v":""},0,0]
[{"$f":"IF( Ecarts!$E56=$A$1,IF( Ecarts!B56=\"\",\"\",Ecarts!A56),\"\")","v":""},{"$f":"IF( Ecarts!$E56=$A$1,IF( Ecarts!C56=\"\",\"\",Ecarts!C56),\"\")","v":""},{"$f":"IF( Ecarts!$E56=$A$1, IF(Ecarts!F56=\"\",\"\",Ecarts!F56),\"\")","v":""},{"$f":"IF( Ecarts!$E56=$A$1, IF(Ecarts!I56=\"\",\"\",Ecarts!I56),\"\")","v":""},{"$f":"IF( Ecarts!$E56=$A$1, IF(Ecarts!J56=\"\",\"\",Ecarts!J56),\"\")","v":""},{"$f":"IF( Ecarts!$E56=$A$1, IF(Ecarts!K56=\"\",\"\",Ecarts!K56),\"\")","v":""},{"$f":"IF( Ecarts!$E56=$A$1, IF(Ecarts!L56=\"\",\"\",Ecarts!L56),\"\")","v":""},{"$f":"IF( Ecarts!$E56=$A$1, IF(Ecarts!M56=\"\",\"\",Ecarts!M56),\"\")","v":""},0,0]
[{"$f":"IF( Ecarts!$E57=$A$1,IF( Ecarts!B57=\"\",\"\",Ecarts!A57),\"\")","v":""},{"$f":"IF( Ecarts!$E57=$A$1,IF( Ecarts!C57=\"\",\"\",Ecarts!C57),\"\")","v":""},{"$f":"IF( Ecarts!$E57=$A$1, IF(Ecarts!F57=\"\",\"\",Ecarts!F57),\"\")","v":""},{"$f":"IF( Ecarts!$E57=$A$1, IF(Ecarts!I57=\"\",\"\",Ecarts!I57),\"\")","v":""},{"$f":"IF( Ecarts!$E57=$A$1, IF(Ecarts!J57=\"\",\"\",Ecarts!J57),\"\")","v":""},{"$f":"IF( Ecarts!$E57=$A$1, IF(Ecarts!K57=\"\",\"\",Ecarts!K57),\"\")","v":""},{"$f":"IF( Ecarts!$E57=$A$1, IF(Ecarts!L57=\"\",\"\",Ecarts!L57),\"\")","v":""},{"$f":"IF( Ecarts!$E57=$A$1, IF(Ecarts!M57=\"\",\"\",Ecarts!M57),\"\")","v":""},0,0]
[{"$f":"IF( Ecarts!$E58=$A$1,IF( Ecarts!B58=\"\",\"\",Ecarts!A58),\"\")","v":""},{"$f":"IF( Ecarts!$E58=$A$1,IF( Ecarts!C58=\"\",\"\",Ecarts!C58),\"\")","v":""},{"$f":"IF( Ecarts!$E58=$A$1, IF(Ecarts!F58=\"\",\"\",Ecarts!F58),\"\")","v":""},{"$f":"IF( Ecarts!$E58=$A$1, IF(Ecarts!I58=\"\",\"\",Ecarts!I58),\"\")","v":""},{"$f":"IF( Ecarts!$E58=$A$1, IF(Ecarts!J58=\"\",\"\",Ecarts!J58),\"\")","v":""},{"$f":"IF( Ecarts!$E58=$A$1, IF(Ecarts!K58=\"\",\"\",Ecarts!K58),\"\")","v":""},{"$f":"IF( Ecarts!$E58=$A$1, IF(Ecarts!L58=\"\",\"\",Ecarts!L58),\"\")","v":""},{"$f":"IF( Ecarts!$E58=$A$1, IF(Ecarts!M58=\"\",\"\",Ecarts!M58),\"\")","v":""},0,0]
[{"$f":"IF( Ecarts!$E59=$A$1,IF( Ecarts!B59=\"\",\"\",Ecarts!A59),\"\")","v":""},{"$f":"IF( Ecarts!$E59=$A$1,IF( Ecarts!C59=\"\",\"\",Ecarts!C59),\"\")","v":""},{"$f":"IF( Ecarts!$E59=$A$1, IF(Ecarts!F59=\"\",\"\",Ecarts!F59),\"\")","v":""},{"$f":"IF( Ecarts!$E59=$A$1, IF(Ecarts!I59=\"\",\"\",Ecarts!I59),\"\")","v":""},{"$f":"IF( Ecarts!$E59=$A$1, IF(Ecarts!J59=\"\",\"\",Ecarts!J59),\"\")","v":""},{"$f":"IF( Ecarts!$E59=$A$1, IF(Ecarts!K59=\"\",\"\",Ecarts!K59),\"\")","v":""},{"$f":"IF( Ecarts!$E59=$A$1, IF(Ecarts!L59=\"\",\"\",Ecarts!L59),\"\")","v":""},{"$f":"IF( Ecarts!$E59=$A$1, IF(Ecarts!M59=\"\",\"\",Ecarts!M59),\"\")","v":""},0,0]
[{"$f":"IF( Ecarts!$E60=$A$1,IF( Ecarts!B60=\"\",\"\",Ecarts!A60),\"\")","v":""},{"$f":"IF( Ecarts!$E60=$A$1,IF( Ecarts!C60=\"\",\"\",Ecarts!C60),\"\")","v":""},{"$f":"IF( Ecarts!$E60=$A$1, IF(Ecarts!F60=\"\",\"\",Ecarts!F60),\"\")","v":""},{"$f":"IF( Ecarts!$E60=$A$1, IF(Ecarts!I60=\"\",\"\",Ecarts!I60),\"\")","v":""},{"$f":"IF( Ecarts!$E60=$A$1, IF(Ecarts!J60=\"\",\"\",Ecarts!J60),\"\")","v":""},{"$f":"IF( Ecarts!$E60=$A$1, IF(Ecarts!K60=\"\",\"\",Ecarts!K60),\"\")","v":""},{"$f":"IF( Ecarts!$E60=$A$1, IF(Ecarts!L60=\"\",\"\",Ecarts!L60),\"\")","v":""},{"$f":"IF( Ecarts!$E60=$A$1, IF(Ecarts!M60=\"\",\"\",Ecarts!M60),\"\")","v":""},0,0]
[{"$f":"IF( Ecarts!$E61=$A$1,IF( Ecarts!B61=\"\",\"\",Ecarts!A61),\"\")","v":""},{"$f":"IF( Ecarts!$E61=$A$1,IF( Ecarts!C61=\"\",\"\",Ecarts!C61),\"\")","v":""},{"$f":"IF( Ecarts!$E61=$A$1, IF(Ecarts!F61=\"\",\"\",Ecarts!F61),\"\")","v":""},{"$f":"IF( Ecarts!$E61=$A$1, IF(Ecarts!I61=\"\",\"\",Ecarts!I61),\"\")","v":""},{"$f":"IF( Ecarts!$E61=$A$1, IF(Ecarts!J61=\"\",\"\",Ecarts!J61),\"\")","v":""},{"$f":"IF( Ecarts!$E61=$A$1, IF(Ecarts!K61=\"\",\"\",Ecarts!K61),\"\")","v":""},{"$f":"IF( Ecarts!$E61=$A$1, IF(Ecarts!L61=\"\",\"\",Ecarts!L61),\"\")","v":""},{"$f":"IF( Ecarts!$E61=$A$1, IF(Ecarts!M61=\"\",\"\",Ecarts!M61),\"\")","v":""},0,0]
[{"$f":"IF( Ecarts!$E62=$A$1,IF( Ecarts!B62=\"\",\"\",Ecarts!A62),\"\")","v":""},{"$f":"IF( Ecarts!$E62=$A$1,IF( Ecarts!C62=\"\",\"\",Ecarts!C62),\"\")","v":""},{"$f":"IF( Ecarts!$E62=$A$1, IF(Ecarts!F62=\"\",\"\",Ecarts!F62),\"\")","v":""},{"$f":"IF( Ecarts!$E62=$A$1, IF(Ecarts!I62=\"\",\"\",Ecarts!I62),\"\")","v":""},{"$f":"IF( Ecarts!$E62=$A$1, IF(Ecarts!J62=\"\",\"\",Ecarts!J62),\"\")","v":""},{"$f":"IF( Ecarts!$E62=$A$1, IF(Ecarts!K62=\"\",\"\",Ecarts!K62),\"\")","v":""},{"$f":"IF( Ecarts!$E62=$A$1, IF(Ecarts!L62=\"\",\"\",Ecarts!L62),\"\")","v":""},{"$f":"IF( Ecarts!$E62=$A$1, IF(Ecarts!M62=\"\",\"\",Ecarts!M62),\"\")","v":""},0,0]
[{"$f":"IF( Ecarts!$E63=$A$1,IF( Ecarts!B63=\"\",\"\",Ecarts!A63),\"\")","v":""},{"$f":"IF( Ecarts!$E63=$A$1,IF( Ecarts!C63=\"\",\"\",Ecarts!C63),\"\")","v":""},{"$f":"IF( Ecarts!$E63=$A$1, IF(Ecarts!F63=\"\",\"\",Ecarts!F63),\"\")","v":""},{"$f":"IF( Ecarts!$E63=$A$1, IF(Ecarts!I63=\"\",\"\",Ecarts!I63),\"\")","v":""},{"$f":"IF( Ecarts!$E63=$A$1, IF(Ecarts!J63=\"\",\"\",Ecarts!J63),\"\")","v":""},{"$f":"IF( Ecarts!$E63=$A$1, IF(Ecarts!K63=\"\",\"\",Ecarts!K63),\"\")","v":""},{"$f":"IF( Ecarts!$E63=$A$1, IF(Ecarts!L63=\"\",\"\",Ecarts!L63),\"\")","v":""},{"$f":"IF( Ecarts!$E63=$A$1, IF(Ecarts!M63=\"\",\"\",Ecarts!M63),\"\")","v":""},0,0]
[{"$f":"IF( Ecarts!$E64=$A$1,IF( Ecarts!B64=\"\",\"\",Ecarts!A64),\"\")","v":""},{"$f":"IF( Ecarts!$E64=$A$1,IF( Ecarts!C64=\"\",\"\",Ecarts!C64),\"\")","v":""},{"$f":"IF( Ecarts!$E64=$A$1, IF(Ecarts!F64=\"\",\"\",Ecarts!F64),\"\")","v":""},{"$f":"IF( Ecarts!$E64=$A$1, IF(Ecarts!I64=\"\",\"\",Ecarts!I64),\"\")","v":""},{"$f":"IF( Ecarts!$E64=$A$1, IF(Ecarts!J64=\"\",\"\",Ecarts!J64),\"\")","v":""},{"$f":"IF( Ecarts!$E64=$A$1, IF(Ecarts!K64=\"\",\"\",Ecarts!K64),\"\")","v":""},{"$f":"IF( Ecarts!$E64=$A$1, IF(Ecarts!L64=\"\",\"\",Ecarts!L64),\"\")","v":""},{"$f":"IF( Ecarts!$E64=$A$1, IF(Ecarts!M64=\"\",\"\",Ecarts!M64),\"\")","v":""},0,0]
[{"$f":"IF( Ecarts!$E65=$A$1,IF( Ecarts!B65=\"\",\"\",Ecarts!A65),\"\")","v":""},{"$f":"IF( Ecarts!$E65=$A$1,IF( Ecarts!C65=\"\",\"\",Ecarts!C65),\"\")","v":""},{"$f":"IF( Ecarts!$E65=$A$1, IF(Ecarts!F65=\"\",\"\",Ecarts!F65),\"\")","v":""},{"$f":"IF( Ecarts!$E65=$A$1, IF(Ecarts!I65=\"\",\"\",Ecarts!I65),\"\")","v":""},{"$f":"IF( Ecarts!$E65=$A$1, IF(Ecarts!J65=\"\",\"\",Ecarts!J65),\"\")","v":""},{"$f":"IF( Ecarts!$E65=$A$1, IF(Ecarts!K65=\"\",\"\",Ecarts!K65),\"\")","v":""},{"$f":"IF( Ecarts!$E65=$A$1, IF(Ecarts!L65=\"\",\"\",Ecarts!L65),\"\")","v":""},{"$f":"IF( Ecarts!$E65=$A$1, IF(Ecarts!M65=\"\",\"\",Ecarts!M65),\"\")","v":""},0,0]
[{"$f":"IF( Ecarts!$E66=$A$1,IF( Ecarts!B66=\"\",\"\",Ecarts!A66),\"\")","v":""},{"$f":"IF( Ecarts!$E66=$A$1,IF( Ecarts!C66=\"\",\"\",Ecarts!C66),\"\")","v":""},{"$f":"IF( Ecarts!$E66=$A$1, IF(Ecarts!F66=\"\",\"\",Ecarts!F66),\"\")","v":""},{"$f":"IF( Ecarts!$E66=$A$1, IF(Ecarts!I66=\"\",\"\",Ecarts!I66),\"\")","v":""},{"$f":"IF( Ecarts!$E66=$A$1, IF(Ecarts!J66=\"\",\"\",Ecarts!J66),\"\")","v":""},{"$f":"IF( Ecarts!$E66=$A$1, IF(Ecarts!K66=\"\",\"\",Ecarts!K66),\"\")","v":""},{"$f":"IF( Ecarts!$E66=$A$1, IF(Ecarts!L66=\"\",\"\",Ecarts!L66),\"\")","v":""},{"$f":"IF( Ecarts!$E66=$A$1, IF(Ecarts!M66=\"\",\"\",Ecarts!M66),\"\")","v":""},0,0]
[{"$f":"IF( Ecarts!$E67=$A$1,IF( Ecarts!B67=\"\",\"\",Ecarts!A67),\"\")","v":""},{"$f":"IF( Ecarts!$E67=$A$1,IF( Ecarts!C67=\"\",\"\",Ecarts!C67),\"\")","v":""},{"$f":"IF( Ecarts!$E67=$A$1, IF(Ecarts!F67=\"\",\"\",Ecarts!F67),\"\")","v":""},{"$f":"IF( Ecarts!$E67=$A$1, IF(Ecarts!I67=\"\",\"\",Ecarts!I67),\"\")","v":""},{"$f":"IF( Ecarts!$E67=$A$1, IF(Ecarts!J67=\"\",\"\",Ecarts!J67),\"\")","v":""},{"$f":"IF( Ecarts!$E67=$A$1, IF(Ecarts!K67=\"\",\"\",Ecarts!K67),\"\")","v":""},{"$f":"IF( Ecarts!$E67=$A$1, IF(Ecarts!L67=\"\",\"\",Ecarts!L67),\"\")","v":""},{"$f":"IF( Ecarts!$E67=$A$1, IF(Ecarts!M67=\"\",\"\",Ecarts!M67),\"\")","v":""},0,0]
[{"$f":"IF( Ecarts!$E68=$A$1,IF( Ecarts!B68=\"\",\"\",Ecarts!A68),\"\")","v":""},{"$f":"IF( Ecarts!$E68=$A$1,IF( Ecarts!C68=\"\",\"\",Ecarts!C68),\"\")","v":""},{"$f":"IF( Ecarts!$E68=$A$1, IF(Ecarts!F68=\"\",\"\",Ecarts!F68),\"\")","v":""},{"$f":"IF( Ecarts!$E68=$A$1, IF(Ecarts!I68=\"\",\"\",Ecarts!I68),\"\")","v":""},{"$f":"IF( Ecarts!$E68=$A$1, IF(Ecarts!J68=\"\",\"\",Ecarts!J68),\"\")","v":""},{"$f":"IF( Ecarts!$E68=$A$1, IF(Ecarts!K68=\"\",\"\",Ecarts!K68),\"\")","v":""},{"$f":"IF( Ecarts!$E68=$A$1, IF(Ecarts!L68=\"\",\"\",Ecarts!L68),\"\")","v":""},{"$f":"IF( Ecarts!$E68=$A$1, IF(Ecarts!M68=\"\",\"\",Ecarts!M68),\"\")","v":""},{"$f":"IF(B69=\"\",0,IF(G69=1,0,1))","v":0},{"$f":"IF(F69=\"\",0,IF(F69>(TODAY()-60),1,0))","v":0}]
[{"$f":"IF( Ecarts!$E69=$A$1,IF( Ecarts!B69=\"\",\"\",Ecarts!A69),\"\")","v":""},{"$f":"IF( Ecarts!$E69=$A$1,IF( Ecarts!C69=\"\",\"\",Ecarts!C69),\"\")","v":""},{"$f":"IF( Ecarts!$E69=$A$1, IF(Ecarts!F69=\"\",\"\",Ecarts!F69),\"\")","v":""},{"$f":"IF( Ecarts!$E69=$A$1, IF(Ecarts!I69=\"\",\"\",Ecarts!I69),\"\")","v":""},{"$f":"IF( Ecarts!$E69=$A$1, IF(Ecarts!J69=\"\",\"\",Ecarts!J69),\"\")","v":""},{"$f":"IF( Ecarts!$E69=$A$1, IF(Ecarts!K69=\"\",\"\",Ecarts!K69),\"\")","v":""},{"$f":"IF( Ecarts!$E69=$A$1, IF(Ecarts!L69=\"\",\"\",Ecarts!L69),\"\")","v":""},{"$f":"IF( Ecarts!$E69=$A$1, IF(Ecarts!M69=\"\",\"\",Ecarts!M69),\"\")","v":""},0,0]
[{"$f":"IF( Ecarts!$E70=$A$1,IF( Ecarts!B70=\"\",\"\",Ecarts!A70),\"\")","v":""},{"$f":"IF( Ecarts!$E70=$A$1,IF( Ecarts!C70=\"\",\"\",Ecarts!C70),\"\")","v":""},{"$f":"IF( Ecarts!$E70=$A$1, IF(Ecarts!F70=\"\",\"\",Ecarts!F70),\"\")","v":""},{"$f":"IF( Ecarts!$E70=$A$1, IF(Ecarts!I70=\"\",\"\",Ecarts!I70),\"\")","v":""},{"$f":"IF( Ecarts!$E70=$A$1, IF(Ecarts!J70=\"\",\"\",Ecarts!J70),\"\")","v":""},{"$f":"IF( Ecarts!$E70=$A$1, IF(Ecarts!K70=\"\",\"\",Ecarts!K70),\"\")","v":""},{"$f":"IF( Ecarts!$E70=$A$1, IF(Ecarts!L70=\"\",\"\",Ecarts!L70),\"\")","v":""},{"$f":"IF( Ecarts!$E70=$A$1, IF(Ecarts!M70=\"\",\"\",Ecarts!M70),\"\")","v":""},0,0]
[{"$f":"IF( Ecarts!$E71=$A$1,IF( Ecarts!B71=\"\",\"\",Ecarts!A71),\"\")","v":""},{"$f":"IF( Ecarts!$E71=$A$1,IF( Ecarts!C71=\"\",\"\",Ecarts!C71),\"\")","v":""},{"$f":"IF( Ecarts!$E71=$A$1, IF(Ecarts!F71=\"\",\"\",Ecarts!F71),\"\")","v":""},{"$f":"IF( Ecarts!$E71=$A$1, IF(Ecarts!I71=\"\",\"\",Ecarts!I71),\"\")","v":""},{"$f":"IF( Ecarts!$E71=$A$1, IF(Ecarts!J71=\"\",\"\",Ecarts!J71),\"\")","v":""},{"$f":"IF( Ecarts!$E71=$A$1, IF(Ecarts!K71=\"\",\"\",Ecarts!K71),\"\")","v":""},{"$f":"IF( Ecarts!$E71=$A$1, IF(Ecarts!L71=\"\",\"\",Ecarts!L71),\"\")","v":""},{"$f":"IF( Ecarts!$E71=$A$1, IF(Ecarts!M71=\"\",\"\",Ecarts!M71),\"\")","v":""},0,0]
[{"$f":"IF( Ecarts!$E72=$A$1,IF( Ecarts!B72=\"\",\"\",Ecarts!A72),\"\")","v":""},{"$f":"IF( Ecarts!$E72=$A$1,IF( Ecarts!C72=\"\",\"\",Ecarts!C72),\"\")","v":""},{"$f":"IF( Ecarts!$E72=$A$1, IF(Ecarts!F72=\"\",\"\",Ecarts!F72),\"\")","v":""},{"$f":"IF( Ecarts!$E72=$A$1, IF(Ecarts!I72=\"\",\"\",Ecarts!I72),\"\")","v":""},{"$f":"IF( Ecarts!$E72=$A$1, IF(Ecarts!J72=\"\",\"\",Ecarts!J72),\"\")","v":""},{"$f":"IF( Ecarts!$E72=$A$1, IF(Ecarts!K72=\"\",\"\",Ecarts!K72),\"\")","v":""},{"$f":"IF( Ecarts!$E72=$A$1, IF(Ecarts!L72=\"\",\"\",Ecarts!L72),\"\")","v":""},{"$f":"IF( Ecarts!$E72=$A$1, IF(Ecarts!M72=\"\",\"\",Ecarts!M72),\"\")","v":""},0,0]
[{"$f":"IF( Ecarts!$E73=$A$1,IF( Ecarts!B73=\"\",\"\",Ecarts!A73),\"\")","v":""},{"$f":"IF( Ecarts!$E73=$A$1,IF( Ecarts!C73=\"\",\"\",Ecarts!C73),\"\")","v":""},{"$f":"IF( Ecarts!$E73=$A$1, IF(Ecarts!F73=\"\",\"\",Ecarts!F73),\"\")","v":""},{"$f":"IF( Ecarts!$E73=$A$1, IF(Ecarts!I73=\"\",\"\",Ecarts!I73),\"\")","v":""},{"$f":"IF( Ecarts!$E73=$A$1, IF(Ecarts!J73=\"\",\"\",Ecarts!J73),\"\")","v":""},{"$f":"IF( Ecarts!$E73=$A$1, IF(Ecarts!K73=\"\",\"\",Ecarts!K73),\"\")","v":""},{"$f":"IF( Ecarts!$E73=$A$1, IF(Ecarts!L73=\"\",\"\",Ecarts!L73),\"\")","v":""},{"$f":"IF( Ecarts!$E73=$A$1, IF(Ecarts!M73=\"\",\"\",Ecarts!M73),\"\")","v":""},0,0]
[{"$f":"IF( Ecarts!$E74=$A$1,IF( Ecarts!B74=\"\",\"\",Ecarts!A74),\"\")","v":""},{"$f":"IF( Ecarts!$E74=$A$1,IF( Ecarts!C74=\"\",\"\",Ecarts!C74),\"\")","v":""},{"$f":"IF( Ecarts!$E74=$A$1, IF(Ecarts!F74=\"\",\"\",Ecarts!F74),\"\")","v":""},{"$f":"IF( Ecarts!$E74=$A$1, IF(Ecarts!I74=\"\",\"\",Ecarts!I74),\"\")","v":""},{"$f":"IF( Ecarts!$E74=$A$1, IF(Ecarts!J74=\"\",\"\",Ecarts!J74),\"\")","v":""},{"$f":"IF( Ecarts!$E74=$A$1, IF(Ecarts!K74=\"\",\"\",Ecarts!K74),\"\")","v":""},{"$f":"IF( Ecarts!$E74=$A$1, IF(Ecarts!L74=\"\",\"\",Ecarts!L74),\"\")","v":""},{"$f":"IF( Ecarts!$E74=$A$1, IF(Ecarts!M74=\"\",\"\",Ecarts!M74),\"\")","v":""},0,0]
[{"$f":"IF( Ecarts!$E75=$A$1,IF( Ecarts!B75=\"\",\"\",Ecarts!A75),\"\")","v":""},{"$f":"IF( Ecarts!$E75=$A$1,IF( Ecarts!C75=\"\",\"\",Ecarts!C75),\"\")","v":""},{"$f":"IF( Ecarts!$E75=$A$1, IF(Ecarts!F75=\"\",\"\",Ecarts!F75),\"\")","v":""},{"$f":"IF( Ecarts!$E75=$A$1, IF(Ecarts!I75=\"\",\"\",Ecarts!I75),\"\")","v":""},{"$f":"IF( Ecarts!$E75=$A$1, IF(Ecarts!J75=\"\",\"\",Ecarts!J75),\"\")","v":""},{"$f":"IF( Ecarts!$E75=$A$1, IF(Ecarts!K75=\"\",\"\",Ecarts!K75),\"\")","v":""},{"$f":"IF( Ecarts!$E75=$A$1, IF(Ecarts!L75=\"\",\"\",Ecarts!L75),\"\")","v":""},{"$f":"IF( Ecarts!$E75=$A$1, IF(Ecarts!M75=\"\",\"\",Ecarts!M75),\"\")","v":""},0,0]
[{"$f":"IF( Ecarts!$E76=$A$1,IF( Ecarts!B76=\"\",\"\",Ecarts!A76),\"\")","v":""},{"$f":"IF( Ecarts!$E76=$A$1,IF( Ecarts!C76=\"\",\"\",Ecarts!C76),\"\")","v":""},{"$f":"IF( Ecarts!$E76=$A$1, IF(Ecarts!F76=\"\",\"\",Ecarts!F76),\"\")","v":""},{"$f":"IF( Ecarts!$E76=$A$1, IF(Ecarts!I76=\"\",\"\",Ecarts!I76),\"\")","v":""},{"$f":"IF( Ecarts!$E76=$A$1, IF(Ecarts!J76=\"\",\"\",Ecarts!J76),\"\")","v":""},{"$f":"IF( Ecarts!$E76=$A$1, IF(Ecarts!K76=\"\",\"\",Ecarts!K76),\"\")","v":""},{"$f":"IF( Ecarts!$E76=$A$1, IF(Ecarts!L76=\"\",\"\",Ecarts!L76),\"\")","v":""},{"$f":"IF( Ecarts!$E76=$A$1, IF(Ecarts!M76=\"\",\"\",Ecarts!M76),\"\")","v":""},0,0]
[{"$f":"IF( Ecarts!$E77=$A$1,IF( Ecarts!B77=\"\",\"\",Ecarts!A77),\"\")","v":""},{"$f":"IF( Ecarts!$E77=$A$1,IF( Ecarts!C77=\"\",\"\",Ecarts!C77),\"\")","v":""},{"$f":"IF( Ecarts!$E77=$A$1, IF(Ecarts!F77=\"\",\"\",Ecarts!F77),\"\")","v":""},{"$f":"IF( Ecarts!$E77=$A$1, IF(Ecarts!I77=\"\",\"\",Ecarts!I77),\"\")","v":""},{"$f":"IF( Ecarts!$E77=$A$1, IF(Ecarts!J77=\"\",\"\",Ecarts!J77),\"\")","v":""},{"$f":"IF( Ecarts!$E77=$A$1, IF(Ecarts!K77=\"\",\"\",Ecarts!K77),\"\")","v":""},{"$f":"IF( Ecarts!$E77=$A$1, IF(Ecarts!L77=\"\",\"\",Ecarts!L77),\"\")","v":""},{"$f":"IF( Ecarts!$E77=$A$1, IF(Ecarts!M77=\"\",\"\",Ecarts!M77),\"\")","v":""},0,0]
[{"$f":"IF( Ecarts!$E78=$A$1,IF( Ecarts!B78=\"\",\"\",Ecarts!A78),\"\")","v":""},{"$f":"IF( Ecarts!$E78=$A$1,IF( Ecarts!C78=\"\",\"\",Ecarts!C78),\"\")","v":""},{"$f":"IF( Ecarts!$E78=$A$1, IF(Ecarts!F78=\"\",\"\",Ecarts!F78),\"\")","v":""},{"$f":"IF( Ecarts!$E78=$A$1, IF(Ecarts!I78=\"\",\"\",Ecarts!I78),\"\")","v":""},{"$f":"IF( Ecarts!$E78=$A$1, IF(Ecarts!J78=\"\",\"\",Ecarts!J78),\"\")","v":""},{"$f":"IF( Ecarts!$E78=$A$1, IF(Ecarts!K78=\"\",\"\",Ecarts!K78),\"\")","v":""},{"$f":"IF( Ecarts!$E78=$A$1, IF(Ecarts!L78=\"\",\"\",Ecarts!L78),\"\")","v":""},{"$f":"IF( Ecarts!$E78=$A$1, IF(Ecarts!M78=\"\",\"\",Ecarts!M78),\"\")","v":""},0,0]
[{"$f":"IF( Ecarts!$E79=$A$1,IF( Ecarts!B79=\"\",\"\",Ecarts!A79),\"\")","v":""},{"$f":"IF( Ecarts!$E79=$A$1,IF( Ecarts!C79=\"\",\"\",Ecarts!C79),\"\")","v":""},{"$f":"IF( Ecarts!$E79=$A$1, IF(Ecarts!F79=\"\",\"\",Ecarts!F79),\"\")","v":""},{"$f":"IF( Ecarts!$E79=$A$1, IF(Ecarts!I79=\"\",\"\",Ecarts!I79),\"\")","v":""},{"$f":"IF( Ecarts!$E79=$A$1, IF(Ecarts!J79=\"\",\"\",Ecarts!J79),\"\")","v":""},{"$f":"IF( Ecarts!$E79=$A$1, IF(Ecarts!K79=\"\",\"\",Ecarts!K79),\"\")","v":""},{"$f":"IF( Ecarts!$E79=$A$1, IF(Ecarts!L79=\"\",\"\",Ecarts!L79),\"\")","v":""},{"$f":"IF( Ecarts!$E79=$A$1, IF(Ecarts!M79=\"\",\"\",Ecarts!M79),\"\")","v":""},0,0]
[{"$f":"IF( Ecarts!$E80=$A$1,IF( Ecarts!B80=\"\",\"\",Ecarts!A80),\"\")","v":""},{"$f":"IF( Ecarts!$E80=$A$1,IF( Ecarts!C80=\"\",\"\",Ecarts!C80),\"\")","v":""},{"$f":"IF( Ecarts!$E80=$A$1, IF(Ecarts!F80=\"\",\"\",Ecarts!F80),\"\")","v":""},{"$f":"IF( Ecarts!$E80=$A$1, IF(Ecarts!I80=\"\",\"\",Ecarts!I80),\"\")","v":""},{"$f":"IF( Ecarts!$E80=$A$1, IF(Ecarts!J80=\"\",\"\",Ecarts!J80),\"\")","v":""},{"$f":"IF( Ecarts!$E80=$A$1, IF(Ecarts!K80=\"\",\"\",Ecarts!K80),\"\")","v":""},{"$f":"IF( Ecarts!$E80=$A$1, IF(Ecarts!L80=\"\",\"\",Ecarts!L80),\"\")","v":""},{"$f":"IF( Ecarts!$E80=$A$1, IF(Ecarts!M80=\"\",\"\",Ecarts!M80),\"\")","v":""},0,0]
[{"$f":"IF( Ecarts!$E81=$A$1,IF( Ecarts!B81=\"\",\"\",Ecarts!A81),\"\")","v":""},{"$f":"IF( Ecarts!$E81=$A$1,IF( Ecarts!C81=\"\",\"\",Ecarts!C81),\"\")","v":""},{"$f":"IF( Ecarts!$E81=$A$1, IF(Ecarts!F81=\"\",\"\",Ecarts!F81),\"\")","v":""},{"$f":"IF( Ecarts!$E81=$A$1, IF(Ecarts!I81=\"\",\"\",Ecarts!I81),\"\")","v":""},{"$f":"IF( Ecarts!$E81=$A$1, IF(Ecarts!J81=\"\",\"\",Ecarts!J81),\"\")","v":""},{"$f":"IF( Ecarts!$E81=$A$1, IF(Ecarts!K81=\"\",\"\",Ecarts!K81),\"\")","v":""},{"$f":"IF( Ecarts!$E81=$A$1, IF(Ecarts!L81=\"\",\"\",Ecarts!L81),\"\")","v":""},{"$f":"IF( Ecarts!$E81=$A$1, IF(Ecarts!M81=\"\",\"\",Ecarts!M81),\"\")","v":""},0,0]
[{"$f":"IF( Ecarts!$E82=$A$1,IF( Ecarts!B82=\"\",\"\",Ecarts!A82),\"\")","v":""},{"$f":"IF( Ecarts!$E82=$A$1,IF( Ecarts!C82=\"\",\"\",Ecarts!C82),\"\")","v":""},{"$f":"IF( Ecarts!$E82=$A$1, IF(Ecarts!F82=\"\",\"\",Ecarts!F82),\"\")","v":""},{"$f":"IF( Ecarts!$E82=$A$1, IF(Ecarts!I82=\"\",\"\",Ecarts!I82),\"\")","v":""},{"$f":"IF( Ecarts!$E82=$A$1, IF(Ecarts!J82=\"\",\"\",Ecarts!J82),\"\")","v":""},{"$f":"IF( Ecarts!$E82=$A$1, IF(Ecarts!K82=\"\",\"\",Ecarts!K82),\"\")","v":""},{"$f":"IF( Ecarts!$E82=$A$1, IF(Ecarts!L82=\"\",\"\",Ecarts!L82),\"\")","v":""},{"$f":"IF( Ecarts!$E82=$A$1, IF(Ecarts!M82=\"\",\"\",Ecarts!M82),\"\")","v":""},0,0]
[{"$f":"IF( Ecarts!$E83=$A$1,IF( Ecarts!B83=\"\",\"\",Ecarts!A83),\"\")","v":""},{"$f":"IF( Ecarts!$E83=$A$1,IF( Ecarts!C83=\"\",\"\",Ecarts!C83),\"\")","v":""},{"$f":"IF( Ecarts!$E83=$A$1, IF(Ecarts!F83=\"\",\"\",Ecarts!F83),\"\")","v":""},{"$f":"IF( Ecarts!$E83=$A$1, IF(Ecarts!I83=\"\",\"\",Ecarts!I83),\"\")","v":""},{"$f":"IF( Ecarts!$E83=$A$1, IF(Ecarts!J83=\"\",\"\",Ecarts!J83),\"\")","v":""},{"$f":"IF( Ecarts!$E83=$A$1, IF(Ecarts!K83=\"\",\"\",Ecarts!K83),\"\")","v":""},{"$f":"IF( Ecarts!$E83=$A$1, IF(Ecarts!L83=\"\",\"\",Ecarts!L83),\"\")","v":""},{"$f":"IF( Ecarts!$E83=$A$1, IF(Ecarts!M83=\"\",\"\",Ecarts!M83),\"\")","v":""},0,0]
[{"$f":"IF( Ecarts!$E84=$A$1,IF( Ecarts!B84=\"\",\"\",Ecarts!A84),\"\")","v":""},{"$f":"IF( Ecarts!$E84=$A$1,IF( Ecarts!C84=\"\",\"\",Ecarts!C84),\"\")","v":""},{"$f":"IF( Ecarts!$E84=$A$1, IF(Ecarts!F84=\"\",\"\",Ecarts!F84),\"\")","v":""},{"$f":"IF( Ecarts!$E84=$A$1, IF(Ecarts!I84=\"\",\"\",Ecarts!I84),\"\")","v":""},{"$f":"IF( Ecarts!$E84=$A$1, IF(Ecarts!J84=\"\",\"\",Ecarts!J84),\"\")","v":""},{"$f":"IF( Ecarts!$E84=$A$1, IF(Ecarts!K84=\"\",\"\",Ecarts!K84),\"\")","v":""},{"$f":"IF( Ecarts!$E84=$A$1, IF(Ecarts!L84=\"\",\"\",Ecarts!L84),\"\")","v":""},{"$f":"IF( Ecarts!$E84=$A$1, IF(Ecarts!M84=\"\",\"\",Ecarts!M84),\"\")","v":""},0,0]
[{"$f":"IF( Ecarts!$E85=$A$1,IF( Ecarts!B85=\"\",\"\",Ecarts!A85),\"\")","v":""},{"$f":"IF( Ecarts!$E85=$A$1,IF( Ecarts!C85=\"\",\"\",Ecarts!C85),\"\")","v":""},{"$f":"IF( Ecarts!$E85=$A$1, IF(Ecarts!F85=\"\",\"\",Ecarts!F85),\"\")","v":""},{"$f":"IF( Ecarts!$E85=$A$1, IF(Ecarts!I85=\"\",\"\",Ecarts!I85),\"\")","v":""},{"$f":"IF( Ecarts!$E85=$A$1, IF(Ecarts!J85=\"\",\"\",Ecarts!J85),\"\")","v":""},{"$f":"IF( Ecarts!$E85=$A$1, IF(Ecarts!K85=\"\",\"\",Ecarts!K85),\"\")","v":""},{"$f":"IF( Ecarts!$E85=$A$1, IF(Ecarts!L85=\"\",\"\",Ecarts!L85),\"\")","v":""},{"$f":"IF( Ecarts!$E85=$A$1, IF(Ecarts!M85=\"\",\"\",Ecarts!M85),\"\")","v":""},0,0]
[{"$f":"IF( Ecarts!$E86=$A$1,IF( Ecarts!B86=\"\",\"\",Ecarts!A86),\"\")","v":""},{"$f":"IF( Ecarts!$E86=$A$1,IF( Ecarts!C86=\"\",\"\",Ecarts!C86),\"\")","v":""},{"$f":"IF( Ecarts!$E86=$A$1, IF(Ecarts!F86=\"\",\"\",Ecarts!F86),\"\")","v":""},{"$f":"IF( Ecarts!$E86=$A$1, IF(Ecarts!I86=\"\",\"\",Ecarts!I86),\"\")","v":""},{"$f":"IF( Ecarts!$E86=$A$1, IF(Ecarts!J86=\"\",\"\",Ecarts!J86),\"\")","v":""},{"$f":"IF( Ecarts!$E86=$A$1, IF(Ecarts!K86=\"\",\"\",Ecarts!K86),\"\")","v":""},{"$f":"IF( Ecarts!$E86=$A$1, IF(Ecarts!L86=\"\",\"\",Ecarts!L86),\"\")","v":""},{"$f":"IF( Ecarts!$E86=$A$1, IF(Ecarts!M86=\"\",\"\",Ecarts!M86),\"\")","v":""},0,0]
[{"$f":"IF( Ecarts!$E87=$A$1,IF( Ecarts!B87=\"\",\"\",Ecarts!A87),\"\")","v":""},{"$f":"IF( Ecarts!$E87=$A$1,IF( Ecarts!C87=\"\",\"\",Ecarts!C87),\"\")","v":""},{"$f":"IF( Ecarts!$E87=$A$1, IF(Ecarts!F87=\"\",\"\",Ecarts!F87),\"\")","v":""},{"$f":"IF( Ecarts!$E87=$A$1, IF(Ecarts!I87=\"\",\"\",Ecarts!I87),\"\")","v":""},{"$f":"IF( Ecarts!$E87=$A$1, IF(Ecarts!J87=\"\",\"\",Ecarts!J87),\"\")","v":""},{"$f":"IF( Ecarts!$E87=$A$1, IF(Ecarts!K87=\"\",\"\",Ecarts!K87),\"\")","v":""},{"$f":"IF( Ecarts!$E87=$A$1, IF(Ecarts!L87=\"\",\"\",Ecarts!L87),\"\")","v":""},{"$f":"IF( Ecarts!$E87=$A$1, IF(Ecarts!M87=\"\",\"\",Ecarts!M87),\"\")","v":""},0,0]
[{"$f":"IF( Ecarts!$E88=$A$1,IF( Ecarts!B88=\"\",\"\",Ecarts!A88),\"\")","v":""},{"$f":"IF( Ecarts!$E88=$A$1,IF( Ecarts!C88=\"\",\"\",Ecarts!C88),\"\")","v":""},{"$f":"IF( Ecarts!$E88=$A$1, IF(Ecarts!F88=\"\",\"\",Ecarts!F88),\"\")","v":""},{"$f":"IF( Ecarts!$E88=$A$1, IF(Ecarts!I88=\"\",\"\",Ecarts!I88),\"\")","v":""},{"$f":"IF( Ecarts!$E88=$A$1, IF(Ecarts!J88=\"\",\"\",Ecarts!J88),\"\")","v":""},{"$f":"IF( Ecarts!$E88=$A$1, IF(Ecarts!K88=\"\",\"\",Ecarts!K88),\"\")","v":""},{"$f":"IF( Ecarts!$E88=$A$1, IF(Ecarts!L88=\"\",\"\",Ecarts!L88),\"\")","v":""},{"$f":"IF( Ecarts!$E88=$A$1, IF(Ecarts!M88=\"\",\"\",Ecarts!M88),\"\")","v":""},0,0]
[{"$f":"IF( Ecarts!$E89=$A$1,IF( Ecarts!B89=\"\",\"\",Ecarts!A89),\"\")","v":""},{"$f":"IF( Ecarts!$E89=$A$1,IF( Ecarts!C89=\"\",\"\",Ecarts!C89),\"\")","v":""},{"$f":"IF( Ecarts!$E89=$A$1, IF(Ecarts!F89=\"\",\"\",Ecarts!F89),\"\")","v":""},{"$f":"IF( Ecarts!$E89=$A$1, IF(Ecarts!I89=\"\",\"\",Ecarts!I89),\"\")","v":""},{"$f":"IF( Ecarts!$E89=$A$1, IF(Ecarts!J89=\"\",\"\",Ecarts!J89),\"\")","v":""},{"$f":"IF( Ecarts!$E89=$A$1, IF(Ecarts!K89=\"\",\"\",Ecarts!K89),\"\")","v":""},{"$f":"IF( Ecarts!$E89=$A$1, IF(Ecarts!L89=\"\",\"\",Ecarts!L89),\"\")","v":""},{"$f":"IF( Ecarts!$E89=$A$1, IF(Ecarts!M89=\"\",\"\",Ecarts!M89),\"\")","v":""},0,0]
[{"$f":"IF( Ecarts!$E90=$A$1,IF( Ecarts!B90=\"\",\"\",Ecarts!A90),\"\")","v":""},{"$f":"IF( Ecarts!$E90=$A$1,IF( Ecarts!C90=\"\",\"\",Ecarts!C90),\"\")","v":""},{"$f":"IF( Ecarts!$E90=$A$1, IF(Ecarts!F90=\"\",\"\",Ecarts!F90),\"\")","v":""},{"$f":"IF( Ecarts!$E90=$A$1, IF(Ecarts!I90=\"\",\"\",Ecarts!I90),\"\")","v":""},{"$f":"IF( Ecarts!$E90=$A$1, IF(Ecarts!J90=\"\",\"\",Ecarts!J90),\"\")","v":""},{"$f":"IF( Ecarts!$E90=$A$1, IF(Ecarts!K90=\"\",\"\",Ecarts!K90),\"\")","v":""},{"$f":"IF( Ecarts!$E90=$A$1, IF(Ecarts!L90=\"\",\"\",Ecarts!L90),\"\")","v":""},{"$f":"IF( Ecarts!$E90=$A$1, IF(Ecarts!M90=\"\",\"\",Ecarts!M90),\"\")","v":""},0,0]
[{"$f":"IF( Ecarts!$E91=$A$1,IF( Ecarts!B91=\"\",\"\",Ecarts!A91),\"\")","v":""},{"$f":"IF( Ecarts!$E91=$A$1,IF( Ecarts!C91=\"\",\"\",Ecarts!C91),\"\")","v":""},{"$f":"IF( Ecarts!$E91=$A$1, IF(Ecarts!F91=\"\",\"\",Ecarts!F91),\"\")","v":""},{"$f":"IF( Ecarts!$E91=$A$1, IF(Ecarts!I91=\"\",\"\",Ecarts!I91),\"\")","v":""},{"$f":"IF( Ecarts!$E91=$A$1, IF(Ecarts!J91=\"\",\"\",Ecarts!J91),\"\")","v":""},{"$f":"IF( Ecarts!$E91=$A$1, IF(Ecarts!K91=\"\",\"\",Ecarts!K91),\"\")","v":""},{"$f":"IF( Ecarts!$E91=$A$1, IF(Ecarts!L91=\"\",\"\",Ecarts!L91),\"\")","v":""},{"$f":"IF( Ecarts!$E91=$A$1, IF(Ecarts!M91=\"\",\"\",Ecarts!M91),\"\")","v":""},0,0]
[{"$f":"IF( Ecarts!$E92=$A$1,IF( Ecarts!B92=\"\",\"\",Ecarts!A92),\"\")","v":""},{"$f":"IF( Ecarts!$E92=$A$1,IF( Ecarts!C92=\"\",\"\",Ecarts!C92),\"\")","v":""},{"$f":"IF( Ecarts!$E92=$A$1, IF(Ecarts!F92=\"\",\"\",Ecarts!F92),\"\")","v":""},{"$f":"IF( Ecarts!$E92=$A$1, IF(Ecarts!I92=\"\",\"\",Ecarts!I92),\"\")","v":""},{"$f":"IF( Ecarts!$E92=$A$1, IF(Ecarts!J92=\"\",\"\",Ecarts!J92),\"\")","v":""},{"$f":"IF( Ecarts!$E92=$A$1, IF(Ecarts!K92=\"\",\"\",Ecarts!K92),\"\")","v":""},{"$f":"IF( Ecarts!$E92=$A$1, IF(Ecarts!L92=\"\",\"\",Ecarts!L92),\"\")","v":""},{"$f":"IF( Ecarts!$E92=$A$1, IF(Ecarts!M92=\"\",\"\",Ecarts!M92),\"\")","v":""},0,0]
[{"$f":"IF( Ecarts!$E93=$A$1,IF( Ecarts!B93=\"\",\"\",Ecarts!A93),\"\")","v":""},{"$f":"IF( Ecarts!$E93=$A$1,IF( Ecarts!C93=\"\",\"\",Ecarts!C93),\"\")","v":""},{"$f":"IF( Ecarts!$E93=$A$1, IF(Ecarts!F93=\"\",\"\",Ecarts!F93),\"\")","v":""},{"$f":"IF( Ecarts!$E93=$A$1, IF(Ecarts!I93=\"\",\"\",Ecarts!I93),\"\")","v":""},{"$f":"IF( Ecarts!$E93=$A$1, IF(Ecarts!J93=\"\",\"\",Ecarts!J93),\"\")","v":""},{"$f":"IF( Ecarts!$E93=$A$1, IF(Ecarts!K93=\"\",\"\",Ecarts!K93),\"\")","v":""},{"$f":"IF( Ecarts!$E93=$A$1, IF(Ecarts!L93=\"\",\"\",Ecarts!L93),\"\")","v":""},{"$f":"IF( Ecarts!$E93=$A$1, IF(Ecarts!M93=\"\",\"\",Ecarts!M93),\"\")","v":""},0,0]
[{"$f":"IF( Ecarts!$E94=$A$1,IF( Ecarts!B94=\"\",\"\",Ecarts!A94),\"\")","v":""},{"$f":"IF( Ecarts!$E94=$A$1,IF( Ecarts!C94=\"\",\"\",Ecarts!C94),\"\")","v":""},{"$f":"IF( Ecarts!$E94=$A$1, IF(Ecarts!F94=\"\",\"\",Ecarts!F94),\"\")","v":""},{"$f":"IF( Ecarts!$E94=$A$1, IF(Ecarts!I94=\"\",\"\",Ecarts!I94),\"\")","v":""},{"$f":"IF( Ecarts!$E94=$A$1, IF(Ecarts!J94=\"\",\"\",Ecarts!J94),\"\")","v":""},{"$f":"IF( Ecarts!$E94=$A$1, IF(Ecarts!K94=\"\",\"\",Ecarts!K94),\"\")","v":""},{"$f":"IF( Ecarts!$E94=$A$1, IF(Ecarts!L94=\"\",\"\",Ecarts!L94),\"\")","v":""},{"$f":"IF( Ecarts!$E94=$A$1, IF(Ecarts!M94=\"\",\"\",Ecarts!M94),\"\")","v":""},0,0]
[{"$f":"IF( Ecarts!$E95=$A$1,IF( Ecarts!B95=\"\",\"\",Ecarts!A95),\"\")","v":""},{"$f":"IF( Ecarts!$E95=$A$1,IF( Ecarts!C95=\"\",\"\",Ecarts!C95),\"\")","v":""},{"$f":"IF( Ecarts!$E95=$A$1, IF(Ecarts!F95=\"\",\"\",Ecarts!F95),\"\")","v":""},{"$f":"IF( Ecarts!$E95=$A$1, IF(Ecarts!I95=\"\",\"\",Ecarts!I95),\"\")","v":""},{"$f":"IF( Ecarts!$E95=$A$1, IF(Ecarts!J95=\"\",\"\",Ecarts!J95),\"\")","v":""},{"$f":"IF( Ecarts!$E95=$A$1, IF(Ecarts!K95=\"\",\"\",Ecarts!K95),\"\")","v":""},{"$f":"IF( Ecarts!$E95=$A$1, IF(Ecarts!L95=\"\",\"\",Ecarts!L95),\"\")","v":""},{"$f":"IF( Ecarts!$E95=$A$1, IF(Ecarts!M95=\"\",\"\",Ecarts!M95),\"\")","v":""},0,0]
[{"$f":"IF( Ecarts!$E96=$A$1,IF( Ecarts!B96=\"\",\"\",Ecarts!A96),\"\")","v":""},{"$f":"IF( Ecarts!$E96=$A$1,IF( Ecarts!C96=\"\",\"\",Ecarts!C96),\"\")","v":""},{"$f":"IF( Ecarts!$E96=$A$1, IF(Ecarts!F96=\"\",\"\",Ecarts!F96),\"\")","v":""},{"$f":"IF( Ecarts!$E96=$A$1, IF(Ecarts!I96=\"\",\"\",Ecarts!I96),\"\")","v":""},{"$f":"IF( Ecarts!$E96=$A$1, IF(Ecarts!J96=\"\",\"\",Ecarts!J96),\"\")","v":""},{"$f":"IF( Ecarts!$E96=$A$1, IF(Ecarts!K96=\"\",\"\",Ecarts!K96),\"\")","v":""},{"$f":"IF( Ecarts!$E96=$A$1, IF(Ecarts!L96=\"\",\"\",Ecarts!L96),\"\")","v":""},{"$f":"IF( Ecarts!$E96=$A$1, IF(Ecarts!M96=\"\",\"\",Ecarts!M96),\"\")","v":""},0,0]
[{"$f":"IF( Ecarts!$E97=$A$1,IF( Ecarts!B97=\"\",\"\",Ecarts!A97),\"\")","v":""},{"$f":"IF( Ecarts!$E97=$A$1,IF( Ecarts!C97=\"\",\"\",Ecarts!C97),\"\")","v":""},{"$f":"IF( Ecarts!$E97=$A$1, IF(Ecarts!F97=\"\",\"\",Ecarts!F97),\"\")","v":""},{"$f":"IF( Ecarts!$E97=$A$1, IF(Ecarts!I97=\"\",\"\",Ecarts!I97),\"\")","v":""},{"$f":"IF( Ecarts!$E97=$A$1, IF(Ecarts!J97=\"\",\"\",Ecarts!J97),\"\")","v":""},{"$f":"IF( Ecarts!$E97=$A$1, IF(Ecarts!K97=\"\",\"\",Ecarts!K97),\"\")","v":""},{"$f":"IF( Ecarts!$E97=$A$1, IF(Ecarts!L97=\"\",\"\",Ecarts!L97),\"\")","v":""},{"$f":"IF( Ecarts!$E97=$A$1, IF(Ecarts!M97=\"\",\"\",Ecarts!M97),\"\")","v":""},0,0]
[{"$f":"IF( Ecarts!$E98=$A$1,IF( Ecarts!B98=\"\",\"\",Ecarts!A98),\"\")","v":""},{"$f":"IF( Ecarts!$E98=$A$1,IF( Ecarts!C98=\"\",\"\",Ecarts!C98),\"\")","v":""},{"$f":"IF( Ecarts!$E98=$A$1, IF(Ecarts!F98=\"\",\"\",Ecarts!F98),\"\")","v":""},{"$f":"IF( Ecarts!$E98=$A$1, IF(Ecarts!I98=\"\",\"\",Ecarts!I98),\"\")","v":""},{"$f":"IF( Ecarts!$E98=$A$1, IF(Ecarts!J98=\"\",\"\",Ecarts!J98),\"\")","v":""},{"$f":"IF( Ecarts!$E98=$A$1, IF(Ecarts!K98=\"\",\"\",Ecarts!K98),\"\")","v":""},{"$f":"IF( Ecarts!$E98=$A$1, IF(Ecarts!L98=\"\",\"\",Ecarts!L98),\"\")","v":""},{"$f":"IF( Ecarts!$E98=$A$1, IF(Ecarts!M98=\"\",\"\",Ecarts!M98),\"\")","v":""},0,0]
[{"$f":"IF( Ecarts!$E99=$A$1,IF( Ecarts!B99=\"\",\"\",Ecarts!A99),\"\")","v":""},{"$f":"IF( Ecarts!$E99=$A$1,IF( Ecarts!C99=\"\",\"\",Ecarts!C99),\"\")","v":""},{"$f":"IF( Ecarts!$E99=$A$1, IF(Ecarts!F99=\"\",\"\",Ecarts!F99),\"\")","v":""},{"$f":"IF( Ecarts!$E99=$A$1, IF(Ecarts!I99=\"\",\"\",Ecarts!I99),\"\")","v":""},{"$f":"IF( Ecarts!$E99=$A$1, IF(Ecarts!J99=\"\",\"\",Ecarts!J99),\"\")","v":""},{"$f":"IF( Ecarts!$E99=$A$1, IF(Ecarts!K99=\"\",\"\",Ecarts!K99),\"\")","v":""},{"$f":"IF( Ecarts!$E99=$A$1, IF(Ecarts!L99=\"\",\"\",Ecarts!L99),\"\")","v":""},{"$f":"IF( Ecarts!$E99=$A$1, IF(Ecarts!M99=\"\",\"\",Ecarts!M99),\"\")","v":""},0,0]
[{"$f":"IF( Ecarts!$E100=$A$1,IF( Ecarts!B100=\"\",\"\",Ecarts!A100),\"\")","v":""},{"$f":"IF( Ecarts!$E100=$A$1,IF( Ecarts!C100=\"\",\"\",Ecarts!C100),\"\")","v":""},{"$f":"IF( Ecarts!$E100=$A$1, IF(Ecarts!F100=\"\",\"\",Ecarts!F100),\"\")","v":""},{"$f":"IF( Ecarts!$E100=$A$1, IF(Ecarts!I100=\"\",\"\",Ecarts!I100),\"\")","v":""},{"$f":"IF( Ecarts!$E100=$A$1, IF(Ecarts!J100=\"\",\"\",Ecarts!J100),\"\")","v":""},{"$f":"IF( Ecarts!$E100=$A$1, IF(Ecarts!K100=\"\",\"\",Ecarts!K100),\"\")","v":""},{"$f":"IF( Ecarts!$E100=$A$1, IF(Ecarts!L100=\"\",\"\",Ecarts!L100),\"\")","v":""},{"$f":"IF( Ecarts!$E100=$A$1, IF(Ecarts!M100=\"\",\"\",Ecarts!M100),\"\")","v":""},0,0]
[{"$f":"IF( Ecarts!$E101=$A$1,IF( Ecarts!B101=\"\",\"\",Ecarts!A101),\"\")","v":""},{"$f":"IF( Ecarts!$E101=$A$1,IF( Ecarts!C101=\"\",\"\",Ecarts!C101),\"\")","v":""},{"$f":"IF( Ecarts!$E101=$A$1, IF(Ecarts!F101=\"\",\"\",Ecarts!F101),\"\")","v":""},{"$f":"IF( Ecarts!$E101=$A$1, IF(Ecarts!I101=\"\",\"\",Ecarts!I101),\"\")","v":""},{"$f":"IF( Ecarts!$E101=$A$1, IF(Ecarts!J101=\"\",\"\",Ecarts!J101),\"\")","v":""},{"$f":"IF( Ecarts!$E101=$A$1, IF(Ecarts!K101=\"\",\"\",Ecarts!K101),\"\")","v":""},{"$f":"IF( Ecarts!$E101=$A$1, IF(Ecarts!L101=\"\",\"\",Ecarts!L101),\"\")","v":""},{"$f":"IF( Ecarts!$E101=$A$1, IF(Ecarts!M101=\"\",\"\",Ecarts!M101),\"\")","v":""},0,0]
[{"$f":"IF( Ecarts!$E102=$A$1,IF( Ecarts!B102=\"\",\"\",Ecarts!A102),\"\")","v":""},{"$f":"IF( Ecarts!$E102=$A$1,IF( Ecarts!C102=\"\",\"\",Ecarts!C102),\"\")","v":""},{"$f":"IF( Ecarts!$E102=$A$1, IF(Ecarts!F102=\"\",\"\",Ecarts!F102),\"\")","v":""},{"$f":"IF( Ecarts!$E102=$A$1, IF(Ecarts!I102=\"\",\"\",Ecarts!I102),\"\")","v":""},{"$f":"IF( Ecarts!$E102=$A$1, IF(Ecarts!J102=\"\",\"\",Ecarts!J102),\"\")","v":""},{"$f":"IF( Ecarts!$E102=$A$1, IF(Ecarts!K102=\"\",\"\",Ecarts!K102),\"\")","v":""},{"$f":"IF( Ecarts!$E102=$A$1, IF(Ecarts!L102=\"\",\"\",Ecarts!L102),\"\")","v":""},{"$f":"IF( Ecarts!$E102=$A$1, IF(Ecarts!M102=\"\",\"\",Ecarts!M102),\"\")","v":""},0,0]
[{"$f":"IF( Ecarts!$E103=$A$1,IF( Ecarts!B103=\"\",\"\",Ecarts!A103),\"\")","v":""},{"$f":"IF( Ecarts!$E103=$A$1,IF( Ecarts!C103=\"\",\"\",Ecarts!C103),\"\")","v":""},{"$f":"IF( Ecarts!$E103=$A$1, IF(Ecarts!F103=\"\",\"\",Ecarts!F103),\"\")","v":""},{"$f":"IF( Ecarts!$E103=$A$1, IF(Ecarts!I103=\"\",\"\",Ecarts!I103),\"\")","v":""},{"$f":"IF( Ecarts!$E103=$A$1, IF(Ecarts!J103=\"\",\"\",Ecarts!J103),\"\")","v":""},{"$f":"IF( Ecarts!$E103=$A$1, IF(Ecarts!K103=\"\",\"\",Ecarts!K103),\"\")","v":""},{"$f":"IF( Ecarts!$E103=$A$1, IF(Ecarts!L103=\"\",\"\",Ecarts!L103),\"\")","v":""},{"$f":"IF( Ecarts!$E103=$A$1, IF(Ecarts!M103=\"\",\"\",Ecarts!M103),\"\")","v":""},0,0]
[{"$f":"IF( Ecarts!$E104=$A$1,IF( Ecarts!B104=\"\",\"\",Ecarts!A104),\"\")","v":""},{"$f":"IF( Ecarts!$E104=$A$1,IF( Ecarts!C104=\"\",\"\",Ecarts!C104),\"\")","v":""},{"$f":"IF( Ecarts!$E104=$A$1, IF(Ecarts!F104=\"\",\"\",Ecarts!F104),\"\")","v":""},{"$f":"IF( Ecarts!$E104=$A$1, IF(Ecarts!I104=\"\",\"\",Ecarts!I104),\"\")","v":""},{"$f":"IF( Ecarts!$E104=$A$1, IF(Ecarts!J104=\"\",\"\",Ecarts!J104),\"\")","v":""},{"$f":"IF( Ecarts!$E104=$A$1, IF(Ecarts!K104=\"\",\"\",Ecarts!K104),\"\")","v":""},{"$f":"IF( Ecarts!$E104=$A$1, IF(Ecarts!L104=\"\",\"\",Ecarts!L104),\"\")","v":""},{"$f":"IF( Ecarts!$E104=$A$1, IF(Ecarts!M104=\"\",\"\",Ecarts!M104),\"\")","v":""},0,0]
[{"$f":"IF( Ecarts!$E105=$A$1,IF( Ecarts!B105=\"\",\"\",Ecarts!A105),\"\")","v":""},{"$f":"IF( Ecarts!$E105=$A$1,IF( Ecarts!C105=\"\",\"\",Ecarts!C105),\"\")","v":""},{"$f":"IF( Ecarts!$E105=$A$1, IF(Ecarts!F105=\"\",\"\",Ecarts!F105),\"\")","v":""},{"$f":"IF( Ecarts!$E105=$A$1, IF(Ecarts!I105=\"\",\"\",Ecarts!I105),\"\")","v":""},{"$f":"IF( Ecarts!$E105=$A$1, IF(Ecarts!J105=\"\",\"\",Ecarts!J105),\"\")","v":""},{"$f":"IF( Ecarts!$E105=$A$1, IF(Ecarts!K105=\"\",\"\",Ecarts!K105),\"\")","v":""},{"$f":"IF( Ecarts!$E105=$A$1, IF(Ecarts!L105=\"\",\"\",Ecarts!L105),\"\")","v":""},{"$f":"IF( Ecarts!$E105=$A$1, IF(Ecarts!M105=\"\",\"\",Ecarts!M105),\"\")","v":""},0,0]
[{"$f":"IF( Ecarts!$E106=$A$1,IF( Ecarts!B106=\"\",\"\",Ecarts!A106),\"\")","v":""},{"$f":"IF( Ecarts!$E106=$A$1,IF( Ecarts!C106=\"\",\"\",Ecarts!C106),\"\")","v":""},{"$f":"IF( Ecarts!$E106=$A$1, IF(Ecarts!F106=\"\",\"\",Ecarts!F106),\"\")","v":""},{"$f":"IF( Ecarts!$E106=$A$1, IF(Ecarts!I106=\"\",\"\",Ecarts!I106),\"\")","v":""},{"$f":"IF( Ecarts!$E106=$A$1, IF(Ecarts!J106=\"\",\"\",Ecarts!J106),\"\")","v":""},{"$f":"IF( Ecarts!$E106=$A$1, IF(Ecarts!K106=\"\",\"\",Ecarts!K106),\"\")","v":""},{"$f":"IF( Ecarts!$E106=$A$1, IF(Ecarts!L106=\"\",\"\",Ecarts!L106),\"\")","v":""},{"$f":"IF( Ecarts!$E106=$A$1, IF(Ecarts!M106=\"\",\"\",Ecarts!M106),\"\")","v":""},0,0]
[{"$f":"IF( Ecarts!$E107=$A$1,IF( Ecarts!B107=\"\",\"\",Ecarts!A107),\"\")","v":""},{"$f":"IF( Ecarts!$E107=$A$1,IF( Ecarts!C107=\"\",\"\",Ecarts!C107),\"\")","v":""},{"$f":"IF( Ecarts!$E107=$A$1, IF(Ecarts!F107=\"\",\"\",Ecarts!F107),\"\")","v":""},{"$f":"IF( Ecarts!$E107=$A$1, IF(Ecarts!I107=\"\",\"\",Ecarts!I107),\"\")","v":""},{"$f":"IF( Ecarts!$E107=$A$1, IF(Ecarts!J107=\"\",\"\",Ecarts!J107),\"\")","v":""},{"$f":"IF( Ecarts!$E107=$A$1, IF(Ecarts!K107=\"\",\"\",Ecarts!K107),\"\")","v":""},{"$f":"IF( Ecarts!$E107=$A$1, IF(Ecarts!L107=\"\",\"\",Ecarts!L107),\"\")","v":""},{"$f":"IF( Ecarts!$E107=$A$1, IF(Ecarts!M107=\"\",\"\",Ecarts!M107),\"\")","v":""},0,0]
[{"$f":"IF( Ecarts!$E108=$A$1,IF( Ecarts!B108=\"\",\"\",Ecarts!A108),\"\")","v":""},{"$f":"IF( Ecarts!$E108=$A$1,IF( Ecarts!C108=\"\",\"\",Ecarts!C108),\"\")","v":""},{"$f":"IF( Ecarts!$E108=$A$1, IF(Ecarts!F108=\"\",\"\",Ecarts!F108),\"\")","v":""},{"$f":"IF( Ecarts!$E108=$A$1, IF(Ecarts!I108=\"\",\"\",Ecarts!I108),\"\")","v":""},{"$f":"IF( Ecarts!$E108=$A$1, IF(Ecarts!J108=\"\",\"\",Ecarts!J108),\"\")","v":""},{"$f":"IF( Ecarts!$E108=$A$1, IF(Ecarts!K108=\"\",\"\",Ecarts!K108),\"\")","v":""},{"$f":"IF( Ecarts!$E108=$A$1, IF(Ecarts!L108=\"\",\"\",Ecarts!L108),\"\")","v":""},{"$f":"IF( Ecarts!$E108=$A$1, IF(Ecarts!M108=\"\",\"\",Ecarts!M108),\"\")","v":""},0,0]
[{"$f":"IF( Ecarts!$E109=$A$1,IF( Ecarts!B109=\"\",\"\",Ecarts!A109),\"\")","v":""},{"$f":"IF( Ecarts!$E109=$A$1,IF( Ecarts!C109=\"\",\"\",Ecarts!C109),\"\")","v":""},{"$f":"IF( Ecarts!$E109=$A$1, IF(Ecarts!F109=\"\",\"\",Ecarts!F109),\"\")","v":""},{"$f":"IF( Ecarts!$E109=$A$1, IF(Ecarts!I109=\"\",\"\",Ecarts!I109),\"\")","v":""},{"$f":"IF( Ecarts!$E109=$A$1, IF(Ecarts!J109=\"\",\"\",Ecarts!J109),\"\")","v":""},{"$f":"IF( Ecarts!$E109=$A$1, IF(Ecarts!K109=\"\",\"\",Ecarts!K109),\"\")","v":""},{"$f":"IF( Ecarts!$E109=$A$1, IF(Ecarts!L109=\"\",\"\",Ecarts!L109),\"\")","v":""},{"$f":"IF( Ecarts!$E109=$A$1, IF(Ecarts!M109=\"\",\"\",Ecarts!M109),\"\")","v":""},0,0]
[{"$f":"IF( Ecarts!$E110=$A$1,IF( Ecarts!B110=\"\",\"\",Ecarts!A110),\"\")","v":""},{"$f":"IF( Ecarts!$E110=$A$1,IF( Ecarts!C110=\"\",\"\",Ecarts!C110),\"\")","v":""},{"$f":"IF( Ecarts!$E110=$A$1, IF(Ecarts!F110=\"\",\"\",Ecarts!F110),\"\")","v":""},{"$f":"IF( Ecarts!$E110=$A$1, IF(Ecarts!I110=\"\",\"\",Ecarts!I110),\"\")","v":""},{"$f":"IF( Ecarts!$E110=$A$1, IF(Ecarts!J110=\"\",\"\",Ecarts!J110),\"\")","v":""},{"$f":"IF( Ecarts!$E110=$A$1, IF(Ecarts!K110=\"\",\"\",Ecarts!K110),\"\")","v":""},{"$f":"IF( Ecarts!$E110=$A$1, IF(Ecarts!L110=\"\",\"\",Ecarts!L110),\"\")","v":""},{"$f":"IF( Ecarts!$E110=$A$1, IF(Ecarts!M110=\"\",\"\",Ecarts!M110),\"\")","v":""},0,0]
[{"$f":"IF( Ecarts!$E111=$A$1,IF( Ecarts!B111=\"\",\"\",Ecarts!A111),\"\")","v":""},{"$f":"IF( Ecarts!$E111=$A$1,IF( Ecarts!C111=\"\",\"\",Ecarts!C111),\"\")","v":""},{"$f":"IF( Ecarts!$E111=$A$1, IF(Ecarts!F111=\"\",\"\",Ecarts!F111),\"\")","v":""},{"$f":"IF( Ecarts!$E111=$A$1, IF(Ecarts!I111=\"\",\"\",Ecarts!I111),\"\")","v":""},{"$f":"IF( Ecarts!$E111=$A$1, IF(Ecarts!J111=\"\",\"\",Ecarts!J111),\"\")","v":""},{"$f":"IF( Ecarts!$E111=$A$1, IF(Ecarts!K111=\"\",\"\",Ecarts!K111),\"\")","v":""},{"$f":"IF( Ecarts!$E111=$A$1, IF(Ecarts!L111=\"\",\"\",Ecarts!L111),\"\")","v":""},{"$f":"IF( Ecarts!$E111=$A$1, IF(Ecarts!M111=\"\",\"\",Ecarts!M111),\"\")","v":""},0,0]
[{"$f":"IF( Ecarts!$E112=$A$1,IF( Ecarts!B112=\"\",\"\",Ecarts!A112),\"\")","v":""},{"$f":"IF( Ecarts!$E112=$A$1,IF( Ecarts!C112=\"\",\"\",Ecarts!C112),\"\")","v":""},{"$f":"IF( Ecarts!$E112=$A$1, IF(Ecarts!F112=\"\",\"\",Ecarts!F112),\"\")","v":""},{"$f":"IF( Ecarts!$E112=$A$1, IF(Ecarts!I112=\"\",\"\",Ecarts!I112),\"\")","v":""},{"$f":"IF( Ecarts!$E112=$A$1, IF(Ecarts!J112=\"\",\"\",Ecarts!J112),\"\")","v":""},{"$f":"IF( Ecarts!$E112=$A$1, IF(Ecarts!K112=\"\",\"\",Ecarts!K112),\"\")","v":""},{"$f":"IF( Ecarts!$E112=$A$1, IF(Ecarts!L112=\"\",\"\",Ecarts!L112),\"\")","v":""},{"$f":"IF( Ecarts!$E112=$A$1, IF(Ecarts!M112=\"\",\"\",Ecarts!M112),\"\")","v":""},0,0]
[{"$f":"IF( Ecarts!$E113=$A$1,IF( Ecarts!B113=\"\",\"\",Ecarts!A113),\"\")","v":""},{"$f":"IF( Ecarts!$E113=$A$1,IF( Ecarts!C113=\"\",\"\",Ecarts!C113),\"\")","v":""},{"$f":"IF( Ecarts!$E113=$A$1, IF(Ecarts!F113=\"\",\"\",Ecarts!F113),\"\")","v":""},{"$f":"IF( Ecarts!$E113=$A$1, IF(Ecarts!I113=\"\",\"\",Ecarts!I113),\"\")","v":""},{"$f":"IF( Ecarts!$E113=$A$1, IF(Ecarts!J113=\"\",\"\",Ecarts!J113),\"\")","v":""},{"$f":"IF( Ecarts!$E113=$A$1, IF(Ecarts!K113=\"\",\"\",Ecarts!K113),\"\")","v":""},{"$f":"IF( Ecarts!$E113=$A$1, IF(Ecarts!L113=\"\",\"\",Ecarts!L113),\"\")","v":""},{"$f":"IF( Ecarts!$E113=$A$1, IF(Ecarts!M113=\"\",\"\",Ecarts!M113),\"\")","v":""},0,0]
[{"$f":"IF( Ecarts!$E114=$A$1,IF( Ecarts!B114=\"\",\"\",Ecarts!A114),\"\")","v":""},{"$f":"IF( Ecarts!$E114=$A$1,IF( Ecarts!C114=\"\",\"\",Ecarts!C114),\"\")","v":""},{"$f":"IF( Ecarts!$E114=$A$1, IF(Ecarts!F114=\"\",\"\",Ecarts!F114),\"\")","v":""},{"$f":"IF( Ecarts!$E114=$A$1, IF(Ecarts!I114=\"\",\"\",Ecarts!I114),\"\")","v":""},{"$f":"IF( Ecarts!$E114=$A$1, IF(Ecarts!J114=\"\",\"\",Ecarts!J114),\"\")","v":""},{"$f":"IF( Ecarts!$E114=$A$1, IF(Ecarts!K114=\"\",\"\",Ecarts!K114),\"\")","v":""},{"$f":"IF( Ecarts!$E114=$A$1, IF(Ecarts!L114=\"\",\"\",Ecarts!L114),\"\")","v":""},{"$f":"IF( Ecarts!$E114=$A$1, IF(Ecarts!M114=\"\",\"\",Ecarts!M114),\"\")","v":""},0,0]
[{"$f":"IF( Ecarts!$E115=$A$1,IF( Ecarts!B115=\"\",\"\",Ecarts!A115),\"\")","v":""},{"$f":"IF( Ecarts!$E115=$A$1,IF( Ecarts!C115=\"\",\"\",Ecarts!C115),\"\")","v":""},{"$f":"IF( Ecarts!$E115=$A$1, IF(Ecarts!F115=\"\",\"\",Ecarts!F115),\"\")","v":""},{"$f":"IF( Ecarts!$E115=$A$1, IF(Ecarts!I115=\"\",\"\",Ecarts!I115),\"\")","v":""},{"$f":"IF( Ecarts!$E115=$A$1, IF(Ecarts!J115=\"\",\"\",Ecarts!J115),\"\")","v":""},{"$f":"IF( Ecarts!$E115=$A$1, IF(Ecarts!K115=\"\",\"\",Ecarts!K115),\"\")","v":""},{"$f":"IF( Ecarts!$E115=$A$1, IF(Ecarts!L115=\"\",\"\",Ecarts!L115),\"\")","v":""},{"$f":"IF( Ecarts!$E115=$A$1, IF(Ecarts!M115=\"\",\"\",Ecarts!M115),\"\")","v":""},0,0]
[{"$f":"IF( Ecarts!$E116=$A$1,IF( Ecarts!B116=\"\",\"\",Ecarts!A116),\"\")","v":""},{"$f":"IF( Ecarts!$E116=$A$1,IF( Ecarts!C116=\"\",\"\",Ecarts!C116),\"\")","v":""},{"$f":"IF( Ecarts!$E116=$A$1, IF(Ecarts!F116=\"\",\"\",Ecarts!F116),\"\")","v":""},{"$f":"IF( Ecarts!$E116=$A$1, IF(Ecarts!I116=\"\",\"\",Ecarts!I116),\"\")","v":""},{"$f":"IF( Ecarts!$E116=$A$1, IF(Ecarts!J116=\"\",\"\",Ecarts!J116),\"\")","v":""},{"$f":"IF( Ecarts!$E116=$A$1, IF(Ecarts!K116=\"\",\"\",Ecarts!K116),\"\")","v":""},{"$f":"IF( Ecarts!$E116=$A$1, IF(Ecarts!L116=\"\",\"\",Ecarts!L116),\"\")","v":""},{"$f":"IF( Ecarts!$E116=$A$1, IF(Ecarts!M116=\"\",\"\",Ecarts!M116),\"\")","v":""},0,0]
[{"$f":"IF( Ecarts!$E117=$A$1,IF( Ecarts!B117=\"\",\"\",Ecarts!A117),\"\")","v":""},{"$f":"IF( Ecarts!$E117=$A$1,IF( Ecarts!C117=\"\",\"\",Ecarts!C117),\"\")","v":""},{"$f":"IF( Ecarts!$E117=$A$1, IF(Ecarts!F117=\"\",\"\",Ecarts!F117),\"\")","v":""},{"$f":"IF( Ecarts!$E117=$A$1, IF(Ecarts!I117=\"\",\"\",Ecarts!I117),\"\")","v":""},{"$f":"IF( Ecarts!$E117=$A$1, IF(Ecarts!J117=\"\",\"\",Ecarts!J117),\"\")","v":""},{"$f":"IF( Ecarts!$E117=$A$1, IF(Ecarts!K117=\"\",\"\",Ecarts!K117),\"\")","v":""},{"$f":"IF( Ecarts!$E117=$A$1, IF(Ecarts!L117=\"\",\"\",Ecarts!L117),\"\")","v":""},{"$f":"IF( Ecarts!$E117=$A$1, IF(Ecarts!M117=\"\",\"\",Ecarts!M117),\"\")","v":""},0,0]
[{"$f":"IF( Ecarts!$E118=$A$1,IF( Ecarts!B118=\"\",\"\",Ecarts!A118),\"\")","v":""},{"$f":"IF( Ecarts!$E118=$A$1,IF( Ecarts!C118=\"\",\"\",Ecarts!C118),\"\")","v":""},{"$f":"IF( Ecarts!$E118=$A$1, IF(Ecarts!F118=\"\",\"\",Ecarts!F118),\"\")","v":""},{"$f":"IF( Ecarts!$E118=$A$1, IF(Ecarts!I118=\"\",\"\",Ecarts!I118),\"\")","v":""},{"$f":"IF( Ecarts!$E118=$A$1, IF(Ecarts!J118=\"\",\"\",Ecarts!J118),\"\")","v":""},{"$f":"IF( Ecarts!$E118=$A$1, IF(Ecarts!K118=\"\",\"\",Ecarts!K118),\"\")","v":""},{"$f":"IF( Ecarts!$E118=$A$1, IF(Ecarts!L118=\"\",\"\",Ecarts!L118),\"\")","v":""},{"$f":"IF( Ecarts!$E118=$A$1, IF(Ecarts!M118=\"\",\"\",Ecarts!M118),\"\")","v":""},0,0]
[{"$f":"IF( Ecarts!$E119=$A$1,IF( Ecarts!B119=\"\",\"\",Ecarts!A119),\"\")","v":""},{"$f":"IF( Ecarts!$E119=$A$1,IF( Ecarts!C119=\"\",\"\",Ecarts!C119),\"\")","v":""},{"$f":"IF( Ecarts!$E119=$A$1, IF(Ecarts!F119=\"\",\"\",Ecarts!F119),\"\")","v":""},{"$f":"IF( Ecarts!$E119=$A$1, IF(Ecarts!I119=\"\",\"\",Ecarts!I119),\"\")","v":""},{"$f":"IF( Ecarts!$E119=$A$1, IF(Ecarts!J119=\"\",\"\",Ecarts!J119),\"\")","v":""},{"$f":"IF( Ecarts!$E119=$A$1, IF(Ecarts!K119=\"\",\"\",Ecarts!K119),\"\")","v":""},{"$f":"IF( Ecarts!$E119=$A$1, IF(Ecarts!L119=\"\",\"\",Ecarts!L119),\"\")","v":""},{"$f":"IF( Ecarts!$E119=$A$1, IF(Ecarts!M119=\"\",\"\",Ecarts!M119),\"\")","v":""},0,0]
[{"$f":"IF( Ecarts!$E120=$A$1,IF( Ecarts!B120=\"\",\"\",Ecarts!A120),\"\")","v":""},{"$f":"IF( Ecarts!$E120=$A$1,IF( Ecarts!C120=\"\",\"\",Ecarts!C120),\"\")","v":""},{"$f":"IF( Ecarts!$E120=$A$1, IF(Ecarts!F120=\"\",\"\",Ecarts!F120),\"\")","v":""},{"$f":"IF( Ecarts!$E120=$A$1, IF(Ecarts!I120=\"\",\"\",Ecarts!I120),\"\")","v":""},{"$f":"IF( Ecarts!$E120=$A$1, IF(Ecarts!J120=\"\",\"\",Ecarts!J120),\"\")","v":""},{"$f":"IF( Ecarts!$E120=$A$1, IF(Ecarts!K120=\"\",\"\",Ecarts!K120),\"\")","v":""},{"$f":"IF( Ecarts!$E120=$A$1, IF(Ecarts!L120=\"\",\"\",Ecarts!L120),\"\")","v":""},{"$f":"IF( Ecarts!$E120=$A$1, IF(Ecarts!M120=\"\",\"\",Ecarts!M120),\"\")","v":""},0,0]
[{"$f":"IF( Ecarts!$E121=$A$1,IF( Ecarts!B121=\"\",\"\",Ecarts!A121),\"\")","v":""},{"$f":"IF( Ecarts!$E121=$A$1,IF( Ecarts!C121=\"\",\"\",Ecarts!C121),\"\")","v":""},{"$f":"IF( Ecarts!$E121=$A$1, IF(Ecarts!F121=\"\",\"\",Ecarts!F121),\"\")","v":""},{"$f":"IF( Ecarts!$E121=$A$1, IF(Ecarts!I121=\"\",\"\",Ecarts!I121),\"\")","v":""},{"$f":"IF( Ecarts!$E121=$A$1, IF(Ecarts!J121=\"\",\"\",Ecarts!J121),\"\")","v":""},{"$f":"IF( Ecarts!$E121=$A$1, IF(Ecarts!K121=\"\",\"\",Ecarts!K121),\"\")","v":""},{"$f":"IF( Ecarts!$E121=$A$1, IF(Ecarts!L121=\"\",\"\",Ecarts!L121),\"\")","v":""},{"$f":"IF( Ecarts!$E121=$A$1, IF(Ecarts!M121=\"\",\"\",Ecarts!M121),\"\")","v":""},0,0]
[{"$f":"IF( Ecarts!$E122=$A$1,IF( Ecarts!B122=\"\",\"\",Ecarts!A122),\"\")","v":""},{"$f":"IF( Ecarts!$E122=$A$1,IF( Ecarts!C122=\"\",\"\",Ecarts!C122),\"\")","v":""},{"$f":"IF( Ecarts!$E122=$A$1, IF(Ecarts!F122=\"\",\"\",Ecarts!F122),\"\")","v":""},{"$f":"IF( Ecarts!$E122=$A$1, IF(Ecarts!I122=\"\",\"\",Ecarts!I122),\"\")","v":""},{"$f":"IF( Ecarts!$E122=$A$1, IF(Ecarts!J122=\"\",\"\",Ecarts!J122),\"\")","v":""},{"$f":"IF( Ecarts!$E122=$A$1, IF(Ecarts!K122=\"\",\"\",Ecarts!K122),\"\")","v":""},{"$f":"IF( Ecarts!$E122=$A$1, IF(Ecarts!L122=\"\",\"\",Ecarts!L122),\"\")","v":""},{"$f":"IF( Ecarts!$E122=$A$1, IF(Ecarts!M122=\"\",\"\",Ecarts!M122),\"\")","v":""},0,0]
[{"$f":"IF( Ecarts!$E123=$A$1,IF( Ecarts!B123=\"\",\"\",Ecarts!A123),\"\")","v":""},{"$f":"IF( Ecarts!$E123=$A$1,IF( Ecarts!C123=\"\",\"\",Ecarts!C123),\"\")","v":""},{"$f":"IF( Ecarts!$E123=$A$1, IF(Ecarts!F123=\"\",\"\",Ecarts!F123),\"\")","v":""},{"$f":"IF( Ecarts!$E123=$A$1, IF(Ecarts!I123=\"\",\"\",Ecarts!I123),\"\")","v":""},{"$f":"IF( Ecarts!$E123=$A$1, IF(Ecarts!J123=\"\",\"\",Ecarts!J123),\"\")","v":""},{"$f":"IF( Ecarts!$E123=$A$1, IF(Ecarts!K123=\"\",\"\",Ecarts!K123),\"\")","v":""},{"$f":"IF( Ecarts!$E123=$A$1, IF(Ecarts!L123=\"\",\"\",Ecarts!L123),\"\")","v":""},{"$f":"IF( Ecarts!$E123=$A$1, IF(Ecarts!M123=\"\",\"\",Ecarts!M123),\"\")","v":""},0,0]
[{"$f":"IF( Ecarts!$E124=$A$1,IF( Ecarts!B124=\"\",\"\",Ecarts!A124),\"\")","v":""},{"$f":"IF( Ecarts!$E124=$A$1,IF( Ecarts!C124=\"\",\"\",Ecarts!C124),\"\")","v":""},{"$f":"IF( Ecarts!$E124=$A$1, IF(Ecarts!F124=\"\",\"\",Ecarts!F124),\"\")","v":""},{"$f":"IF( Ecarts!$E124=$A$1, IF(Ecarts!I124=\"\",\"\",Ecarts!I124),\"\")","v":""},{"$f":"IF( Ecarts!$E124=$A$1, IF(Ecarts!J124=\"\",\"\",Ecarts!J124),\"\")","v":""},{"$f":"IF( Ecarts!$E124=$A$1, IF(Ecarts!K124=\"\",\"\",Ecarts!K124),\"\")","v":""},{"$f":"IF( Ecarts!$E124=$A$1, IF(Ecarts!L124=\"\",\"\",Ecarts!L124),\"\")","v":""},{"$f":"IF( Ecarts!$E124=$A$1, IF(Ecarts!M124=\"\",\"\",Ecarts!M124),\"\")","v":""},0,0]
[{"$f":"IF( Ecarts!$E125=$A$1,IF( Ecarts!B125=\"\",\"\",Ecarts!A125),\"\")","v":""},{"$f":"IF( Ecarts!$E125=$A$1,IF( Ecarts!C125=\"\",\"\",Ecarts!C125),\"\")","v":""},{"$f":"IF( Ecarts!$E125=$A$1, IF(Ecarts!F125=\"\",\"\",Ecarts!F125),\"\")","v":""},{"$f":"IF( Ecarts!$E125=$A$1, IF(Ecarts!I125=\"\",\"\",Ecarts!I125),\"\")","v":""},{"$f":"IF( Ecarts!$E125=$A$1, IF(Ecarts!J125=\"\",\"\",Ecarts!J125),\"\")","v":""},{"$f":"IF( Ecarts!$E125=$A$1, IF(Ecarts!K125=\"\",\"\",Ecarts!K125),\"\")","v":""},{"$f":"IF( Ecarts!$E125=$A$1, IF(Ecarts!L125=\"\",\"\",Ecarts!L125),\"\")","v":""},{"$f":"IF( Ecarts!$E125=$A$1, IF(Ecarts!M125=\"\",\"\",Ecarts!M125),\"\")","v":""},0,0]
[{"$f":"IF( Ecarts!$E126=$A$1,IF( Ecarts!B126=\"\",\"\",Ecarts!A126),\"\")","v":""},{"$f":"IF( Ecarts!$E126=$A$1,IF( Ecarts!C126=\"\",\"\",Ecarts!C126),\"\")","v":""},{"$f":"IF( Ecarts!$E126=$A$1, IF(Ecarts!F126=\"\",\"\",Ecarts!F126),\"\")","v":""},{"$f":"IF( Ecarts!$E126=$A$1, IF(Ecarts!I126=\"\",\"\",Ecarts!I126),\"\")","v":""},{"$f":"IF( Ecarts!$E126=$A$1, IF(Ecarts!J126=\"\",\"\",Ecarts!J126),\"\")","v":""},{"$f":"IF( Ecarts!$E126=$A$1, IF(Ecarts!K126=\"\",\"\",Ecarts!K126),\"\")","v":""},{"$f":"IF( Ecarts!$E126=$A$1, IF(Ecarts!L126=\"\",\"\",Ecarts!L126),\"\")","v":""},{"$f":"IF( Ecarts!$E126=$A$1, IF(Ecarts!M126=\"\",\"\",Ecarts!M126),\"\")","v":""},0,0]
[{"$f":"IF( Ecarts!$E127=$A$1,IF( Ecarts!B127=\"\",\"\",Ecarts!A127),\"\")","v":""},{"$f":"IF( Ecarts!$E127=$A$1,IF( Ecarts!C127=\"\",\"\",Ecarts!C127),\"\")","v":""},{"$f":"IF( Ecarts!$E127=$A$1, IF(Ecarts!F127=\"\",\"\",Ecarts!F127),\"\")","v":""},{"$f":"IF( Ecarts!$E127=$A$1, IF(Ecarts!I127=\"\",\"\",Ecarts!I127),\"\")","v":""},{"$f":"IF( Ecarts!$E127=$A$1, IF(Ecarts!J127=\"\",\"\",Ecarts!J127),\"\")","v":""},{"$f":"IF( Ecarts!$E127=$A$1, IF(Ecarts!K127=\"\",\"\",Ecarts!K127),\"\")","v":""},{"$f":"IF( Ecarts!$E127=$A$1, IF(Ecarts!L127=\"\",\"\",Ecarts!L127),\"\")","v":""},{"$f":"IF( Ecarts!$E127=$A$1, IF(Ecarts!M127=\"\",\"\",Ecarts!M127),\"\")","v":""},0,0]
[{"$f":"IF( Ecarts!$E128=$A$1,IF( Ecarts!B128=\"\",\"\",Ecarts!A128),\"\")","v":""},{"$f":"IF( Ecarts!$E128=$A$1,IF( Ecarts!C128=\"\",\"\",Ecarts!C128),\"\")","v":""},{"$f":"IF( Ecarts!$E128=$A$1, IF(Ecarts!F128=\"\",\"\",Ecarts!F128),\"\")","v":""},{"$f":"IF( Ecarts!$E128=$A$1, IF(Ecarts!I128=\"\",\"\",Ecarts!I128),\"\")","v":""},{"$f":"IF( Ecarts!$E128=$A$1, IF(Ecarts!J128=\"\",\"\",Ecarts!J128),\"\")","v":""},{"$f":"IF( Ecarts!$E128=$A$1, IF(Ecarts!K128=\"\",\"\",Ecarts!K128),\"\")","v":""},{"$f":"IF( Ecarts!$E128=$A$1, IF(Ecarts!L128=\"\",\"\",Ecarts!L128),\"\")","v":""},{"$f":"IF( Ecarts!$E128=$A$1, IF(Ecarts!M128=\"\",\"\",Ecarts!M128),\"\")","v":""},0,0]
[{"$f":"IF( Ecarts!$E129=$A$1,IF( Ecarts!B129=\"\",\"\",Ecarts!A129),\"\")","v":""},{"$f":"IF( Ecarts!$E129=$A$1,IF( Ecarts!C129=\"\",\"\",Ecarts!C129),\"\")","v":""},{"$f":"IF( Ecarts!$E129=$A$1, IF(Ecarts!F129=\"\",\"\",Ecarts!F129),\"\")","v":""},{"$f":"IF( Ecarts!$E129=$A$1, IF(Ecarts!I129=\"\",\"\",Ecarts!I129),\"\")","v":""},{"$f":"IF( Ecarts!$E129=$A$1, IF(Ecarts!J129=\"\",\"\",Ecarts!J129),\"\")","v":""},{"$f":"IF( Ecarts!$E129=$A$1, IF(Ecarts!K129=\"\",\"\",Ecarts!K129),\"\")","v":""},{"$f":"IF( Ecarts!$E129=$A$1, IF(Ecarts!L129=\"\",\"\",Ecarts!L129),\"\")","v":""},{"$f":"IF( Ecarts!$E129=$A$1, IF(Ecarts!M129=\"\",\"\",Ecarts!M129),\"\")","v":""},0,0]
[{"$f":"IF( Ecarts!$E130=$A$1,IF( Ecarts!B130=\"\",\"\",Ecarts!A130),\"\")","v":""},{"$f":"IF( Ecarts!$E130=$A$1,IF( Ecarts!C130=\"\",\"\",Ecarts!C130),\"\")","v":""},{"$f":"IF( Ecarts!$E130=$A$1, IF(Ecarts!F130=\"\",\"\",Ecarts!F130),\"\")","v":""},{"$f":"IF( Ecarts!$E130=$A$1, IF(Ecarts!I130=\"\",\"\",Ecarts!I130),\"\")","v":""},{"$f":"IF( Ecarts!$E130=$A$1, IF(Ecarts!J130=\"\",\"\",Ecarts!J130),\"\")","v":""},{"$f":"IF( Ecarts!$E130=$A$1, IF(Ecarts!K130=\"\",\"\",Ecarts!K130),\"\")","v":""},{"$f":"IF( Ecarts!$E130=$A$1, IF(Ecarts!L130=\"\",\"\",Ecarts!L130),\"\")","v":""},{"$f":"IF( Ecarts!$E130=$A$1, IF(Ecarts!M130=\"\",\"\",Ecarts!M130),\"\")","v":""},0,0]
[{"$f":"IF( Ecarts!$E131=$A$1,IF( Ecarts!B131=\"\",\"\",Ecarts!A131),\"\")","v":""},{"$f":"IF( Ecarts!$E131=$A$1,IF( Ecarts!C131=\"\",\"\",Ecarts!C131),\"\")","v":""},{"$f":"IF( Ecarts!$E131=$A$1, IF(Ecarts!F131=\"\",\"\",Ecarts!F131),\"\")","v":""},{"$f":"IF( Ecarts!$E131=$A$1, IF(Ecarts!I131=\"\",\"\",Ecarts!I131),\"\")","v":""},{"$f":"IF( Ecarts!$E131=$A$1, IF(Ecarts!J131=\"\",\"\",Ecarts!J131),\"\")","v":""},{"$f":"IF( Ecarts!$E131=$A$1, IF(Ecarts!K131=\"\",\"\",Ecarts!K131),\"\")","v":""},{"$f":"IF( Ecarts!$E131=$A$1, IF(Ecarts!L131=\"\",\"\",Ecarts!L131),\"\")","v":""},{"$f":"IF( Ecarts!$E131=$A$1, IF(Ecarts!M131=\"\",\"\",Ecarts!M131),\"\")","v":""},0,0]
[{"$f":"IF( Ecarts!$E132=$A$1,IF( Ecarts!B132=\"\",\"\",Ecarts!A132),\"\")","v":""},{"$f":"IF( Ecarts!$E132=$A$1,IF( Ecarts!C132=\"\",\"\",Ecarts!C132),\"\")","v":""},{"$f":"IF( Ecarts!$E132=$A$1, IF(Ecarts!F132=\"\",\"\",Ecarts!F132),\"\")","v":""},{"$f":"IF( Ecarts!$E132=$A$1, IF(Ecarts!I132=\"\",\"\",Ecarts!I132),\"\")","v":""},{"$f":"IF( Ecarts!$E132=$A$1, IF(Ecarts!J132=\"\",\"\",Ecarts!J132),\"\")","v":""},{"$f":"IF( Ecarts!$E132=$A$1, IF(Ecarts!K132=\"\",\"\",Ecarts!K132),\"\")","v":""},{"$f":"IF( Ecarts!$E132=$A$1, IF(Ecarts!L132=\"\",\"\",Ecarts!L132),\"\")","v":""},{"$f":"IF( Ecarts!$E132=$A$1, IF(Ecarts!M132=\"\",\"\",Ecarts!M132),\"\")","v":""},{"$f":"IF(B133=\"\",0,IF(G133=1,0,1))","v":0},{"$f":"IF(F133=\"\",0,IF(F133>(TODAY()-60),1,0))","v":0}]
[{"$f":"IF( Ecarts!$E133=$A$1,IF( Ecarts!B133=\"\",\"\",Ecarts!A133),\"\")","v":""},{"$f":"IF( Ecarts!$E133=$A$1,IF( Ecarts!C133=\"\",\"\",Ecarts!C133),\"\")","v":""},{"$f":"IF( Ecarts!$E133=$A$1, IF(Ecarts!F133=\"\",\"\",Ecarts!F133),\"\")","v":""},{"$f":"IF( Ecarts!$E133=$A$1, IF(Ecarts!I133=\"\",\"\",Ecarts!I133),\"\")","v":""},{"$f":"IF( Ecarts!$E133=$A$1, IF(Ecarts!J133=\"\",\"\",Ecarts!J133),\"\")","v":""},{"$f":"IF( Ecarts!$E133=$A$1, IF(Ecarts!K133=\"\",\"\",Ecarts!K133),\"\")","v":""},{"$f":"IF( Ecarts!$E133=$A$1, IF(Ecarts!L133=\"\",\"\",Ecarts!L133),\"\")","v":""},{"$f":"IF( Ecarts!$E133=$A$1, IF(Ecarts!M133=\"\",\"\",Ecarts!M133),\"\")","v":""},0,0]
[{"$f":"IF( Ecarts!$E134=$A$1,IF( Ecarts!B134=\"\",\"\",Ecarts!A134),\"\")","v":""},{"$f":"IF( Ecarts!$E134=$A$1,IF( Ecarts!C134=\"\",\"\",Ecarts!C134),\"\")","v":""},{"$f":"IF( Ecarts!$E134=$A$1, IF(Ecarts!F134=\"\",\"\",Ecarts!F134),\"\")","v":""},{"$f":"IF( Ecarts!$E134=$A$1, IF(Ecarts!I134=\"\",\"\",Ecarts!I134),\"\")","v":""},{"$f":"IF( Ecarts!$E134=$A$1, IF(Ecarts!J134=\"\",\"\",Ecarts!J134),\"\")","v":""},{"$f":"IF( Ecarts!$E134=$A$1, IF(Ecarts!K134=\"\",\"\",Ecarts!K134),\"\")","v":""},{"$f":"IF( Ecarts!$E134=$A$1, IF(Ecarts!L134=\"\",\"\",Ecarts!L134),\"\")","v":""},{"$f":"IF( Ecarts!$E134=$A$1, IF(Ecarts!M134=\"\",\"\",Ecarts!M134),\"\")","v":""},0,0]
[{"$f":"IF( Ecarts!$E135=$A$1,IF( Ecarts!B135=\"\",\"\",Ecarts!A135),\"\")","v":""},{"$f":"IF( Ecarts!$E135=$A$1,IF( Ecarts!C135=\"\",\"\",Ecarts!C135),\"\")","v":""},{"$f":"IF( Ecarts!$E135=$A$1, IF(Ecarts!F135=\"\",\"\",Ecarts!F135),\"\")","v":""},{"$f":"IF( Ecarts!$E135=$A$1, IF(Ecarts!I135=\"\",\"\",Ecarts!I135),\"\")","v":""},{"$f":"IF( Ecarts!$E135=$A$1, IF(Ecarts!J135=\"\",\"\",Ecarts!J135),\"\")","v":""},{"$f":"IF( Ecarts!$E135=$A$1, IF(Ecarts!K135=\"\",\"\",Ecarts!K135),\"\")","v":""},{"$f":"IF( Ecarts!$E135=$A$1, IF(Ecarts!L135=\"\",\"\",Ecarts!L135),\"\")","v":""},{"$f":"IF( Ecarts!$E135=$A$1, IF(Ecarts!M135=\"\",\"\",Ecarts!M135),\"\")","v":""},0,0]
[{"$f":"IF( Ecarts!$E136=$A$1,IF( Ecarts!B136=\"\",\"\",Ecarts!A136),\"\")","v":""},{"$f":"IF( Ecarts!$E136=$A$1,IF( Ecarts!C136=\"\",\"\",Ecarts!C136),\"\")","v":""},{"$f":"IF( Ecarts!$E136=$A$1, IF(Ecarts!F136=\"\",\"\",Ecarts!F136),\"\")","v":""},{"$f":"IF( Ecarts!$E136=$A$1, IF(Ecarts!I136=\"\",\"\",Ecarts!I136),\"\")","v":""},{"$f":"IF( Ecarts!$E136=$A$1, IF(Ecarts!J136=\"\",\"\",Ecarts!J136),\"\")","v":""},{"$f":"IF( Ecarts!$E136=$A$1, IF(Ecarts!K136=\"\",\"\",Ecarts!K136),\"\")","v":""},{"$f":"IF( Ecarts!$E136=$A$1, IF(Ecarts!L136=\"\",\"\",Ecarts!L136),\"\")","v":""},{"$f":"IF( Ecarts!$E136=$A$1, IF(Ecarts!M136=\"\",\"\",Ecarts!M136),\"\")","v":""},0,0]
[{"$f":"IF( Ecarts!$E137=$A$1,IF( Ecarts!B137=\"\",\"\",Ecarts!A137),\"\")","v":""},{"$f":"IF( Ecarts!$E137=$A$1,IF( Ecarts!C137=\"\",\"\",Ecarts!C137),\"\")","v":""},{"$f":"IF( Ecarts!$E137=$A$1, IF(Ecarts!F137=\"\",\"\",Ecarts!F137),\"\")","v":""},{"$f":"IF( Ecarts!$E137=$A$1, IF(Ecarts!I137=\"\",\"\",Ecarts!I137),\"\")","v":""},{"$f":"IF( Ecarts!$E137=$A$1, IF(Ecarts!J137=\"\",\"\",Ecarts!J137),\"\")","v":""},{"$f":"IF( Ecarts!$E137=$A$1, IF(Ecarts!K137=\"\",\"\",Ecarts!K137),\"\")","v":""},{"$f":"IF( Ecarts!$E137=$A$1, IF(Ecarts!L137=\"\",\"\",Ecarts!L137),\"\")","v":""},{"$f":"IF( Ecarts!$E137=$A$1, IF(Ecarts!M137=\"\",\"\",Ecarts!M137),\"\")","v":""},0,0]
[{"$f":"IF( Ecarts!$E138=$A$1,IF( Ecarts!B138=\"\",\"\",Ecarts!A138),\"\")","v":""},{"$f":"IF( Ecarts!$E138=$A$1,IF( Ecarts!C138=\"\",\"\",Ecarts!C138),\"\")","v":""},{"$f":"IF( Ecarts!$E138=$A$1, IF(Ecarts!F138=\"\",\"\",Ecarts!F138),\"\")","v":""},{"$f":"IF( Ecarts!$E138=$A$1, IF(Ecarts!I138=\"\",\"\",Ecarts!I138),\"\")","v":""},{"$f":"IF( Ecarts!$E138=$A$1, IF(Ecarts!J138=\"\",\"\",Ecarts!J138),\"\")","v":""},{"$f":"IF( Ecarts!$E138=$A$1, IF(Ecarts!K138=\"\",\"\",Ecarts!K138),\"\")","v":""},{"$f":"IF( Ecarts!$E138=$A$1, IF(Ecarts!L138=\"\",\"\",Ecarts!L138),\"\")","v":""},{"$f":"IF( Ecarts!$E138=$A$1, IF(Ecarts!M138=\"\",\"\",Ecarts!M138),\"\")","v":""},0,0]
[{"$f":"IF( Ecarts!$E139=$A$1,IF( Ecarts!B139=\"\",\"\",Ecarts!A139),\"\")","v":""},{"$f":"IF( Ecarts!$E139=$A$1,IF( Ecarts!C139=\"\",\"\",Ecarts!C139),\"\")","v":""},{"$f":"IF( Ecarts!$E139=$A$1, IF(Ecarts!F139=\"\",\"\",Ecarts!F139),\"\")","v":""},{"$f":"IF( Ecarts!$E139=$A$1, IF(Ecarts!I139=\"\",\"\",Ecarts!I139),\"\")","v":""},{"$f":"IF( Ecarts!$E139=$A$1, IF(Ecarts!J139=\"\",\"\",Ecarts!J139),\"\")","v":""},{"$f":"IF( Ecarts!$E139=$A$1, IF(Ecarts!K139=\"\",\"\",Ecarts!K139),\"\")","v":""},{"$f":"IF( Ecarts!$E139=$A$1, IF(Ecarts!L139=\"\",\"\",Ecarts!L139),\"\")","v":""},{"$f":"IF( Ecarts!$E139=$A$1, IF(Ecarts!M139=\"\",\"\",Ecarts!M139),\"\")","v":""},0,0]
[{"$f":"IF( Ecarts!$E140=$A$1,IF( Ecarts!B140=\"\",\"\",Ecarts!A140),\"\")","v":""},{"$f":"IF( Ecarts!$E140=$A$1,IF( Ecarts!C140=\"\",\"\",Ecarts!C140),\"\")","v":""},{"$f":"IF( Ecarts!$E140=$A$1, IF(Ecarts!F140=\"\",\"\",Ecarts!F140),\"\")","v":""},{"$f":"IF( Ecarts!$E140=$A$1, IF(Ecarts!I140=\"\",\"\",Ecarts!I140),\"\")","v":""},{"$f":"IF( Ecarts!$E140=$A$1, IF(Ecarts!J140=\"\",\"\",Ecarts!J140),\"\")","v":""},{"$f":"IF( Ecarts!$E140=$A$1, IF(Ecarts!K140=\"\",\"\",Ecarts!K140),\"\")","v":""},{"$f":"IF( Ecarts!$E140=$A$1, IF(Ecarts!L140=\"\",\"\",Ecarts!L140),\"\")","v":""},{"$f":"IF( Ecarts!$E140=$A$1, IF(Ecarts!M140=\"\",\"\",Ecarts!M140),\"\")","v":""},0,0]
[{"$f":"IF( Ecarts!$E141=$A$1,IF( Ecarts!B141=\"\",\"\",Ecarts!A141),\"\")","v":""},{"$f":"IF( Ecarts!$E141=$A$1,IF( Ecarts!C141=\"\",\"\",Ecarts!C141),\"\")","v":""},{"$f":"IF( Ecarts!$E141=$A$1, IF(Ecarts!F141=\"\",\"\",Ecarts!F141),\"\")","v":""},{"$f":"IF( Ecarts!$E141=$A$1, IF(Ecarts!I141=\"\",\"\",Ecarts!I141),\"\")","v":""},{"$f":"IF( Ecarts!$E141=$A$1, IF(Ecarts!J141=\"\",\"\",Ecarts!J141),\"\")","v":""},{"$f":"IF( Ecarts!$E141=$A$1, IF(Ecarts!K141=\"\",\"\",Ecarts!K141),\"\")","v":""},{"$f":"IF( Ecarts!$E141=$A$1, IF(Ecarts!L141=\"\",\"\",Ecarts!L141),\"\")","v":""},{"$f":"IF( Ecarts!$E141=$A$1, IF(Ecarts!M141=\"\",\"\",Ecarts!M141),\"\")","v":""},0,0]
[{"$f":"IF( Ecarts!$E142=$A$1,IF( Ecarts!B142=\"\",\"\",Ecarts!A142),\"\")","v":""},{"$f":"IF( Ecarts!$E142=$A$1,IF( Ecarts!C142=\"\",\"\",Ecarts!C142),\"\")","v":""},{"$f":"IF( Ecarts!$E142=$A$1, IF(Ecarts!F142=\"\",\"\",Ecarts!F142),\"\")","v":""},{"$f":"IF( Ecarts!$E142=$A$1, IF(Ecarts!I142=\"\",\"\",Ecarts!I142),\"\")","v":""},{"$f":"IF( Ecarts!$E142=$A$1, IF(Ecarts!J142=\"\",\"\",Ecarts!J142),\"\")","v":""},{"$f":"IF( Ecarts!$E142=$A$1, IF(Ecarts!K142=\"\",\"\",Ecarts!K142),\"\")","v":""},{"$f":"IF( Ecarts!$E142=$A$1, IF(Ecarts!L142=\"\",\"\",Ecarts!L142),\"\")","v":""},{"$f":"IF( Ecarts!$E142=$A$1, IF(Ecarts!M142=\"\",\"\",Ecarts!M142),\"\")","v":""},0,0]
[{"$f":"IF( Ecarts!$E143=$A$1,IF( Ecarts!B143=\"\",\"\",Ecarts!A143),\"\")","v":""},{"$f":"IF( Ecarts!$E143=$A$1,IF( Ecarts!C143=\"\",\"\",Ecarts!C143),\"\")","v":""},{"$f":"IF( Ecarts!$E143=$A$1, IF(Ecarts!F143=\"\",\"\",Ecarts!F143),\"\")","v":""},{"$f":"IF( Ecarts!$E143=$A$1, IF(Ecarts!I143=\"\",\"\",Ecarts!I143),\"\")","v":""},{"$f":"IF( Ecarts!$E143=$A$1, IF(Ecarts!J143=\"\",\"\",Ecarts!J143),\"\")","v":""},{"$f":"IF( Ecarts!$E143=$A$1, IF(Ecarts!K143=\"\",\"\",Ecarts!K143),\"\")","v":""},{"$f":"IF( Ecarts!$E143=$A$1, IF(Ecarts!L143=\"\",\"\",Ecarts!L143),\"\")","v":""},{"$f":"IF( Ecarts!$E143=$A$1, IF(Ecarts!M143=\"\",\"\",Ecarts!M143),\"\")","v":""},0,0]
[{"$f":"IF( Ecarts!$E144=$A$1,IF( Ecarts!B144=\"\",\"\",Ecarts!A144),\"\")","v":""},{"$f":"IF( Ecarts!$E144=$A$1,IF( Ecarts!C144=\"\",\"\",Ecarts!C144),\"\")","v":""},{"$f":"IF( Ecarts!$E144=$A$1, IF(Ecarts!F144=\"\",\"\",Ecarts!F144),\"\")","v":""},{"$f":"IF( Ecarts!$E144=$A$1, IF(Ecarts!I144=\"\",\"\",Ecarts!I144),\"\")","v":""},{"$f":"IF( Ecarts!$E144=$A$1, IF(Ecarts!J144=\"\",\"\",Ecarts!J144),\"\")","v":""},{"$f":"IF( Ecarts!$E144=$A$1, IF(Ecarts!K144=\"\",\"\",Ecarts!K144),\"\")","v":""},{"$f":"IF( Ecarts!$E144=$A$1, IF(Ecarts!L144=\"\",\"\",Ecarts!L144),\"\")","v":""},{"$f":"IF( Ecarts!$E144=$A$1, IF(Ecarts!M144=\"\",\"\",Ecarts!M144),\"\")","v":""},0,0]
[{"$f":"IF( Ecarts!$E145=$A$1,IF( Ecarts!B145=\"\",\"\",Ecarts!A145),\"\")","v":""},{"$f":"IF( Ecarts!$E145=$A$1,IF( Ecarts!C145=\"\",\"\",Ecarts!C145),\"\")","v":""},{"$f":"IF( Ecarts!$E145=$A$1, IF(Ecarts!F145=\"\",\"\",Ecarts!F145),\"\")","v":""},{"$f":"IF( Ecarts!$E145=$A$1, IF(Ecarts!I145=\"\",\"\",Ecarts!I145),\"\")","v":""},{"$f":"IF( Ecarts!$E145=$A$1, IF(Ecarts!J145=\"\",\"\",Ecarts!J145),\"\")","v":""},{"$f":"IF( Ecarts!$E145=$A$1, IF(Ecarts!K145=\"\",\"\",Ecarts!K145),\"\")","v":""},{"$f":"IF( Ecarts!$E145=$A$1, IF(Ecarts!L145=\"\",\"\",Ecarts!L145),\"\")","v":""},{"$f":"IF( Ecarts!$E145=$A$1, IF(Ecarts!M145=\"\",\"\",Ecarts!M145),\"\")","v":""},0,0]
[{"$f":"IF( Ecarts!$E146=$A$1,IF( Ecarts!B146=\"\",\"\",Ecarts!A146),\"\")","v":""},{"$f":"IF( Ecarts!$E146=$A$1,IF( Ecarts!C146=\"\",\"\",Ecarts!C146),\"\")","v":""},{"$f":"IF( Ecarts!$E146=$A$1, IF(Ecarts!F146=\"\",\"\",Ecarts!F146),\"\")","v":""},{"$f":"IF( Ecarts!$E146=$A$1, IF(Ecarts!I146=\"\",\"\",Ecarts!I146),\"\")","v":""},{"$f":"IF( Ecarts!$E146=$A$1, IF(Ecarts!J146=\"\",\"\",Ecarts!J146),\"\")","v":""},{"$f":"IF( Ecarts!$E146=$A$1, IF(Ecarts!K146=\"\",\"\",Ecarts!K146),\"\")","v":""},{"$f":"IF( Ecarts!$E146=$A$1, IF(Ecarts!L146=\"\",\"\",Ecarts!L146),\"\")","v":""},{"$f":"IF( Ecarts!$E146=$A$1, IF(Ecarts!M146=\"\",\"\",Ecarts!M146),\"\")","v":""},0,0]
[{"$f":"IF( Ecarts!$E147=$A$1,IF( Ecarts!B147=\"\",\"\",Ecarts!A147),\"\")","v":""},{"$f":"IF( Ecarts!$E147=$A$1,IF( Ecarts!C147=\"\",\"\",Ecarts!C147),\"\")","v":""},{"$f":"IF( Ecarts!$E147=$A$1, IF(Ecarts!F147=\"\",\"\",Ecarts!F147),\"\")","v":""},{"$f":"IF( Ecarts!$E147=$A$1, IF(Ecarts!I147=\"\",\"\",Ecarts!I147),\"\")","v":""},{"$f":"IF( Ecarts!$E147=$A$1, IF(Ecarts!J147=\"\",\"\",Ecarts!J147),\"\")","v":""},{"$f":"IF( Ecarts!$E147=$A$1, IF(Ecarts!K147=\"\",\"\",Ecarts!K147),\"\")","v":""},{"$f":"IF( Ecarts!$E147=$A$1, IF(Ecarts!L147=\"\",\"\",Ecarts!L147),\"\")","v":""},{"$f":"IF( Ecarts!$E147=$A$1, IF(Ecarts!M147=\"\",\"\",Ecarts!M147),\"\")","v":""},0,0]
[{"$f":"IF( Ecarts!$E148=$A$1,IF( Ecarts!B148=\"\",\"\",Ecarts!A148),\"\")","v":""},{"$f":"IF( Ecarts!$E148=$A$1,IF( Ecarts!C148=\"\",\"\",Ecarts!C148),\"\")","v":""},{"$f":"IF( Ecarts!$E148=$A$1, IF(Ecarts!F148=\"\",\"\",Ecarts!F148),\"\")","v":""},{"$f":"IF( Ecarts!$E148=$A$1, IF(Ecarts!I148=\"\",\"\",Ecarts!I148),\"\")","v":""},{"$f":"IF( Ecarts!$E148=$A$1, IF(Ecarts!J148=\"\",\"\",Ecarts!J148),\"\")","v":""},{"$f":"IF( Ecarts!$E148=$A$1, IF(Ecarts!K148=\"\",\"\",Ecarts!K148),\"\")","v":""},{"$f":"IF( Ecarts!$E148=$A$1, IF(Ecarts!L148=\"\",\"\",Ecarts!L148),\"\")","v":""},{"$f":"IF( Ecarts!$E148=$A$1, IF(Ecarts!M148=\"\",\"\",Ecarts!M148),\"\")","v":""},0,0]
[{"$f":"IF( Ecarts!$E149=$A$1,IF( Ecarts!B149=\"\",\"\",Ecarts!A149),\"\")","v":""},{"$f":"IF( Ecarts!$E149=$A$1,IF( Ecarts!C149=\"\",\"\",Ecarts!C149),\"\")","v":""},{"$f":"IF( Ecarts!$E149=$A$1, IF(Ecarts!F149=\"\",\"\",Ecarts!F149),\"\")","v":""},{"$f":"IF( Ecarts!$E149=$A$1, IF(Ecarts!I149=\"\",\"\",Ecarts!I149),\"\")","v":""},{"$f":"IF( Ecarts!$E149=$A$1, IF(Ecarts!J149=\"\",\"\",Ecarts!J149),\"\")","v":""},{"$f":"IF( Ecarts!$E149=$A$1, IF(Ecarts!K149=\"\",\"\",Ecarts!K149),\"\")","v":""},{"$f":"IF( Ecarts!$E149=$A$1, IF(Ecarts!L149=\"\",\"\",Ecarts!L149),\"\")","v":""},{"$f":"IF( Ecarts!$E149=$A$1, IF(Ecarts!M149=\"\",\"\",Ecarts!M149),\"\")","v":""},0,0]
[{"$f":"IF( Ecarts!$E150=$A$1,IF( Ecarts!B150=\"\",\"\",Ecarts!A150),\"\")","v":""},{"$f":"IF( Ecarts!$E150=$A$1,IF( Ecarts!C150=\"\",\"\",Ecarts!C150),\"\")","v":""},{"$f":"IF( Ecarts!$E150=$A$1, IF(Ecarts!F150=\"\",\"\",Ecarts!F150),\"\")","v":""},{"$f":"IF( Ecarts!$E150=$A$1, IF(Ecarts!I150=\"\",\"\",Ecarts!I150),\"\")","v":""},{"$f":"IF( Ecarts!$E150=$A$1, IF(Ecarts!J150=\"\",\"\",Ecarts!J150),\"\")","v":""},{"$f":"IF( Ecarts!$E150=$A$1, IF(Ecarts!K150=\"\",\"\",Ecarts!K150),\"\")","v":""},{"$f":"IF( Ecarts!$E150=$A$1, IF(Ecarts!L150=\"\",\"\",Ecarts!L150),\"\")","v":""},{"$f":"IF( Ecarts!$E150=$A$1, IF(Ecarts!M150=\"\",\"\",Ecarts!M150),\"\")","v":""},0,0]
[{"$f":"IF( Ecarts!$E151=$A$1,IF( Ecarts!B151=\"\",\"\",Ecarts!A151),\"\")","v":""},{"$f":"IF( Ecarts!$E151=$A$1,IF( Ecarts!C151=\"\",\"\",Ecarts!C151),\"\")","v":""},{"$f":"IF( Ecarts!$E151=$A$1, IF(Ecarts!F151=\"\",\"\",Ecarts!F151),\"\")","v":""},{"$f":"IF( Ecarts!$E151=$A$1, IF(Ecarts!I151=\"\",\"\",Ecarts!I151),\"\")","v":""},{"$f":"IF( Ecarts!$E151=$A$1, IF(Ecarts!J151=\"\",\"\",Ecarts!J151),\"\")","v":""},{"$f":"IF( Ecarts!$E151=$A$1, IF(Ecarts!K151=\"\",\"\",Ecarts!K151),\"\")","v":""},{"$f":"IF( Ecarts!$E151=$A$1, IF(Ecarts!L151=\"\",\"\",Ecarts!L151),\"\")","v":""},{"$f":"IF( Ecarts!$E151=$A$1, IF(Ecarts!M151=\"\",\"\",Ecarts!M151),\"\")","v":""},0,0]
[{"$f":"IF( Ecarts!$E152=$A$1,IF( Ecarts!B152=\"\",\"\",Ecarts!A152),\"\")","v":""},{"$f":"IF( Ecarts!$E152=$A$1,IF( Ecarts!C152=\"\",\"\",Ecarts!C152),\"\")","v":""},{"$f":"IF( Ecarts!$E152=$A$1, IF(Ecarts!F152=\"\",\"\",Ecarts!F152),\"\")","v":""},{"$f":"IF( Ecarts!$E152=$A$1, IF(Ecarts!I152=\"\",\"\",Ecarts!I152),\"\")","v":""},{"$f":"IF( Ecarts!$E152=$A$1, IF(Ecarts!J152=\"\",\"\",Ecarts!J152),\"\")","v":""},{"$f":"IF( Ecarts!$E152=$A$1, IF(Ecarts!K152=\"\",\"\",Ecarts!K152),\"\")","v":""},{"$f":"IF( Ecarts!$E152=$A$1, IF(Ecarts!L152=\"\",\"\",Ecarts!L152),\"\")","v":""},{"$f":"IF( Ecarts!$E152=$A$1, IF(Ecarts!M152=\"\",\"\",Ecarts!M152),\"\")","v":""},0,0]
[{"$f":"IF( Ecarts!$E153=$A$1,IF( Ecarts!B153=\"\",\"\",Ecarts!A153),\"\")","v":""},{"$f":"IF( Ecarts!$E153=$A$1,IF( Ecarts!C153=\"\",\"\",Ecarts!C153),\"\")","v":""},{"$f":"IF( Ecarts!$E153=$A$1, IF(Ecarts!F153=\"\",\"\",Ecarts!F153),\"\")","v":""},{"$f":"IF( Ecarts!$E153=$A$1, IF(Ecarts!I153=\"\",\"\",Ecarts!I153),\"\")","v":""},{"$f":"IF( Ecarts!$E153=$A$1, IF(Ecarts!J153=\"\",\"\",Ecarts!J153),\"\")","v":""},{"$f":"IF( Ecarts!$E153=$A$1, IF(Ecarts!K153=\"\",\"\",Ecarts!K153),\"\")","v":""},{"$f":"IF( Ecarts!$E153=$A$1, IF(Ecarts!L153=\"\",\"\",Ecarts!L153),\"\")","v":""},{"$f":"IF( Ecarts!$E153=$A$1, IF(Ecarts!M153=\"\",\"\",Ecarts!M153),\"\")","v":""},0,0]
[{"$f":"IF( Ecarts!$E154=$A$1,IF( Ecarts!B154=\"\",\"\",Ecarts!A154),\"\")","v":""},{"$f":"IF( Ecarts!$E154=$A$1,IF( Ecarts!C154=\"\",\"\",Ecarts!C154),\"\")","v":""},{"$f":"IF( Ecarts!$E154=$A$1, IF(Ecarts!F154=\"\",\"\",Ecarts!F154),\"\")","v":""},{"$f":"IF( Ecarts!$E154=$A$1, IF(Ecarts!I154=\"\",\"\",Ecarts!I154),\"\")","v":""},{"$f":"IF( Ecarts!$E154=$A$1, IF(Ecarts!J154=\"\",\"\",Ecarts!J154),\"\")","v":""},{"$f":"IF( Ecarts!$E154=$A$1, IF(Ecarts!K154=\"\",\"\",Ecarts!K154),\"\")","v":""},{"$f":"IF( Ecarts!$E154=$A$1, IF(Ecarts!L154=\"\",\"\",Ecarts!L154),\"\")","v":""},{"$f":"IF( Ecarts!$E154=$A$1, IF(Ecarts!M154=\"\",\"\",Ecarts!M154),\"\")","v":""},0,0]
[{"$f":"IF( Ecarts!$E155=$A$1,IF( Ecarts!B155=\"\",\"\",Ecarts!A155),\"\")","v":""},{"$f":"IF( Ecarts!$E155=$A$1,IF( Ecarts!C155=\"\",\"\",Ecarts!C155),\"\")","v":""},{"$f":"IF( Ecarts!$E155=$A$1, IF(Ecarts!F155=\"\",\"\",Ecarts!F155),\"\")","v":""},{"$f":"IF( Ecarts!$E155=$A$1, IF(Ecarts!I155=\"\",\"\",Ecarts!I155),\"\")","v":""},{"$f":"IF( Ecarts!$E155=$A$1, IF(Ecarts!J155=\"\",\"\",Ecarts!J155),\"\")","v":""},{"$f":"IF( Ecarts!$E155=$A$1, IF(Ecarts!K155=\"\",\"\",Ecarts!K155),\"\")","v":""},{"$f":"IF( Ecarts!$E155=$A$1, IF(Ecarts!L155=\"\",\"\",Ecarts!L155),\"\")","v":""},{"$f":"IF( Ecarts!$E155=$A$1, IF(Ecarts!M155=\"\",\"\",Ecarts!M155),\"\")","v":""},0,0]
[{"$f":"IF( Ecarts!$E156=$A$1,IF( Ecarts!B156=\"\",\"\",Ecarts!A156),\"\")","v":""},{"$f":"IF( Ecarts!$E156=$A$1,IF( Ecarts!C156=\"\",\"\",Ecarts!C156),\"\")","v":""},{"$f":"IF( Ecarts!$E156=$A$1, IF(Ecarts!F156=\"\",\"\",Ecarts!F156),\"\")","v":""},{"$f":"IF( Ecarts!$E156=$A$1, IF(Ecarts!I156=\"\",\"\",Ecarts!I156),\"\")","v":""},{"$f":"IF( Ecarts!$E156=$A$1, IF(Ecarts!J156=\"\",\"\",Ecarts!J156),\"\")","v":""},{"$f":"IF( Ecarts!$E156=$A$1, IF(Ecarts!K156=\"\",\"\",Ecarts!K156),\"\")","v":""},{"$f":"IF( Ecarts!$E156=$A$1, IF(Ecarts!L156=\"\",\"\",Ecarts!L156),\"\")","v":""},{"$f":"IF( Ecarts!$E156=$A$1, IF(Ecarts!M156=\"\",\"\",Ecarts!M156),\"\")","v":""},0,0]
[{"$f":"IF( Ecarts!$E157=$A$1,IF( Ecarts!B157=\"\",\"\",Ecarts!A157),\"\")","v":""},{"$f":"IF( Ecarts!$E157=$A$1,IF( Ecarts!C157=\"\",\"\",Ecarts!C157),\"\")","v":""},{"$f":"IF( Ecarts!$E157=$A$1, IF(Ecarts!F157=\"\",\"\",Ecarts!F157),\"\")","v":""},{"$f":"IF( Ecarts!$E157=$A$1, IF(Ecarts!I157=\"\",\"\",Ecarts!I157),\"\")","v":""},{"$f":"IF( Ecarts!$E157=$A$1, IF(Ecarts!J157=\"\",\"\",Ecarts!J157),\"\")","v":""},{"$f":"IF( Ecarts!$E157=$A$1, IF(Ecarts!K157=\"\",\"\",Ecarts!K157),\"\")","v":""},{"$f":"IF( Ecarts!$E157=$A$1, IF(Ecarts!L157=\"\",\"\",Ecarts!L157),\"\")","v":""},{"$f":"IF( Ecarts!$E157=$A$1, IF(Ecarts!M157=\"\",\"\",Ecarts!M157),\"\")","v":""},0,0]
[{"$f":"IF( Ecarts!$E158=$A$1,IF( Ecarts!B158=\"\",\"\",Ecarts!A158),\"\")","v":""},{"$f":"IF( Ecarts!$E158=$A$1,IF( Ecarts!C158=\"\",\"\",Ecarts!C158),\"\")","v":""},{"$f":"IF( Ecarts!$E158=$A$1, IF(Ecarts!F158=\"\",\"\",Ecarts!F158),\"\")","v":""},{"$f":"IF( Ecarts!$E158=$A$1, IF(Ecarts!I158=\"\",\"\",Ecarts!I158),\"\")","v":""},{"$f":"IF( Ecarts!$E158=$A$1, IF(Ecarts!J158=\"\",\"\",Ecarts!J158),\"\")","v":""},{"$f":"IF( Ecarts!$E158=$A$1, IF(Ecarts!K158=\"\",\"\",Ecarts!K158),\"\")","v":""},{"$f":"IF( Ecarts!$E158=$A$1, IF(Ecarts!L158=\"\",\"\",Ecarts!L158),\"\")","v":""},{"$f":"IF( Ecarts!$E158=$A$1, IF(Ecarts!M158=\"\",\"\",Ecarts!M158),\"\")","v":""},0,0]
[{"$f":"IF( Ecarts!$E159=$A$1,IF( Ecarts!B159=\"\",\"\",Ecarts!A159),\"\")","v":""},{"$f":"IF( Ecarts!$E159=$A$1,IF( Ecarts!C159=\"\",\"\",Ecarts!C159),\"\")","v":""},{"$f":"IF( Ecarts!$E159=$A$1, IF(Ecarts!F159=\"\",\"\",Ecarts!F159),\"\")","v":""},{"$f":"IF( Ecarts!$E159=$A$1, IF(Ecarts!I159=\"\",\"\",Ecarts!I159),\"\")","v":""},{"$f":"IF( Ecarts!$E159=$A$1, IF(Ecarts!J159=\"\",\"\",Ecarts!J159),\"\")","v":""},{"$f":"IF( Ecarts!$E159=$A$1, IF(Ecarts!K159=\"\",\"\",Ecarts!K159),\"\")","v":""},{"$f":"IF( Ecarts!$E159=$A$1, IF(Ecarts!L159=\"\",\"\",Ecarts!L159),\"\")","v":""},{"$f":"IF( Ecarts!$E159=$A$1, IF(Ecarts!M159=\"\",\"\",Ecarts!M159),\"\")","v":""},0,0]
[{"$f":"IF( Ecarts!$E160=$A$1,IF( Ecarts!B160=\"\",\"\",Ecarts!A160),\"\")","v":""},{"$f":"IF( Ecarts!$E160=$A$1,IF( Ecarts!C160=\"\",\"\",Ecarts!C160),\"\")","v":""},{"$f":"IF( Ecarts!$E160=$A$1, IF(Ecarts!F160=\"\",\"\",Ecarts!F160),\"\")","v":""},{"$f":"IF( Ecarts!$E160=$A$1, IF(Ecarts!I160=\"\",\"\",Ecarts!I160),\"\")","v":""},{"$f":"IF( Ecarts!$E160=$A$1, IF(Ecarts!J160=\"\",\"\",Ecarts!J160),\"\")","v":""},{"$f":"IF( Ecarts!$E160=$A$1, IF(Ecarts!K160=\"\",\"\",Ecarts!K160),\"\")","v":""},{"$f":"IF( Ecarts!$E160=$A$1, IF(Ecarts!L160=\"\",\"\",Ecarts!L160),\"\")","v":""},{"$f":"IF( Ecarts!$E160=$A$1, IF(Ecarts!M160=\"\",\"\",Ecarts!M160),\"\")","v":""},0,0]
[{"$f":"IF( Ecarts!$E161=$A$1,IF( Ecarts!B161=\"\",\"\",Ecarts!A161),\"\")","v":""},{"$f":"IF( Ecarts!$E161=$A$1,IF( Ecarts!C161=\"\",\"\",Ecarts!C161),\"\")","v":""},{"$f":"IF( Ecarts!$E161=$A$1, IF(Ecarts!F161=\"\",\"\",Ecarts!F161),\"\")","v":""},{"$f":"IF( Ecarts!$E161=$A$1, IF(Ecarts!I161=\"\",\"\",Ecarts!I161),\"\")","v":""},{"$f":"IF( Ecarts!$E161=$A$1, IF(Ecarts!J161=\"\",\"\",Ecarts!J161),\"\")","v":""},{"$f":"IF( Ecarts!$E161=$A$1, IF(Ecarts!K161=\"\",\"\",Ecarts!K161),\"\")","v":""},{"$f":"IF( Ecarts!$E161=$A$1, IF(Ecarts!L161=\"\",\"\",Ecarts!L161),\"\")","v":""},{"$f":"IF( Ecarts!$E161=$A$1, IF(Ecarts!M161=\"\",\"\",Ecarts!M161),\"\")","v":""},0,0]
[{"$f":"IF( Ecarts!$E162=$A$1,IF( Ecarts!B162=\"\",\"\",Ecarts!A162),\"\")","v":""},{"$f":"IF( Ecarts!$E162=$A$1,IF( Ecarts!C162=\"\",\"\",Ecarts!C162),\"\")","v":""},{"$f":"IF( Ecarts!$E162=$A$1, IF(Ecarts!F162=\"\",\"\",Ecarts!F162),\"\")","v":""},{"$f":"IF( Ecarts!$E162=$A$1, IF(Ecarts!I162=\"\",\"\",Ecarts!I162),\"\")","v":""},{"$f":"IF( Ecarts!$E162=$A$1, IF(Ecarts!J162=\"\",\"\",Ecarts!J162),\"\")","v":""},{"$f":"IF( Ecarts!$E162=$A$1, IF(Ecarts!K162=\"\",\"\",Ecarts!K162),\"\")","v":""},{"$f":"IF( Ecarts!$E162=$A$1, IF(Ecarts!L162=\"\",\"\",Ecarts!L162),\"\")","v":""},{"$f":"IF( Ecarts!$E162=$A$1, IF(Ecarts!M162=\"\",\"\",Ecarts!M162),\"\")","v":""},0,0]
[{"$f":"IF( Ecarts!$E163=$A$1,IF( Ecarts!B163=\"\",\"\",Ecarts!A163),\"\")","v":""},{"$f":"IF( Ecarts!$E163=$A$1,IF( Ecarts!C163=\"\",\"\",Ecarts!C163),\"\")","v":""},{"$f":"IF( Ecarts!$E163=$A$1, IF(Ecarts!F163=\"\",\"\",Ecarts!F163),\"\")","v":""},{"$f":"IF( Ecarts!$E163=$A$1, IF(Ecarts!I163=\"\",\"\",Ecarts!I163),\"\")","v":""},{"$f":"IF( Ecarts!$E163=$A$1, IF(Ecarts!J163=\"\",\"\",Ecarts!J163),\"\")","v":""},{"$f":"IF( Ecarts!$E163=$A$1, IF(Ecarts!K163=\"\",\"\",Ecarts!K163),\"\")","v":""},{"$f":"IF( Ecarts!$E163=$A$1, IF(Ecarts!L163=\"\",\"\",Ecarts!L163),\"\")","v":""},{"$f":"IF( Ecarts!$E163=$A$1, IF(Ecarts!M163=\"\",\"\",Ecarts!M163),\"\")","v":""},0,0]
[{"$f":"IF( Ecarts!$E164=$A$1,IF( Ecarts!B164=\"\",\"\",Ecarts!A164),\"\")","v":""},{"$f":"IF( Ecarts!$E164=$A$1,IF( Ecarts!C164=\"\",\"\",Ecarts!C164),\"\")","v":""},{"$f":"IF( Ecarts!$E164=$A$1, IF(Ecarts!F164=\"\",\"\",Ecarts!F164),\"\")","v":""},{"$f":"IF( Ecarts!$E164=$A$1, IF(Ecarts!I164=\"\",\"\",Ecarts!I164),\"\")","v":""},{"$f":"IF( Ecarts!$E164=$A$1, IF(Ecarts!J164=\"\",\"\",Ecarts!J164),\"\")","v":""},{"$f":"IF( Ecarts!$E164=$A$1, IF(Ecarts!K164=\"\",\"\",Ecarts!K164),\"\")","v":""},{"$f":"IF( Ecarts!$E164=$A$1, IF(Ecarts!L164=\"\",\"\",Ecarts!L164),\"\")","v":""},{"$f":"IF( Ecarts!$E164=$A$1, IF(Ecarts!M164=\"\",\"\",Ecarts!M164),\"\")","v":""},0,0]
[{"$f":"IF( Ecarts!$E165=$A$1,IF( Ecarts!B165=\"\",\"\",Ecarts!A165),\"\")","v":""},{"$f":"IF( Ecarts!$E165=$A$1,IF( Ecarts!C165=\"\",\"\",Ecarts!C165),\"\")","v":""},{"$f":"IF( Ecarts!$E165=$A$1, IF(Ecarts!F165=\"\",\"\",Ecarts!F165),\"\")","v":""},{"$f":"IF( Ecarts!$E165=$A$1, IF(Ecarts!I165=\"\",\"\",Ecarts!I165),\"\")","v":""},{"$f":"IF( Ecarts!$E165=$A$1, IF(Ecarts!J165=\"\",\"\",Ecarts!J165),\"\")","v":""},{"$f":"IF( Ecarts!$E165=$A$1, IF(Ecarts!K165=\"\",\"\",Ecarts!K165),\"\")","v":""},{"$f":"IF( Ecarts!$E165=$A$1, IF(Ecarts!L165=\"\",\"\",Ecarts!L165),\"\")","v":""},{"$f":"IF( Ecarts!$E165=$A$1, IF(Ecarts!M165=\"\",\"\",Ecarts!M165),\"\")","v":""},0,0]
[{"$f":"IF( Ecarts!$E166=$A$1,IF( Ecarts!B166=\"\",\"\",Ecarts!A166),\"\")","v":""},{"$f":"IF( Ecarts!$E166=$A$1,IF( Ecarts!C166=\"\",\"\",Ecarts!C166),\"\")","v":""},{"$f":"IF( Ecarts!$E166=$A$1, IF(Ecarts!F166=\"\",\"\",Ecarts!F166),\"\")","v":""},{"$f":"IF( Ecarts!$E166=$A$1, IF(Ecarts!I166=\"\",\"\",Ecarts!I166),\"\")","v":""},{"$f":"IF( Ecarts!$E166=$A$1, IF(Ecarts!J166=\"\",\"\",Ecarts!J166),\"\")","v":""},{"$f":"IF( Ecarts!$E166=$A$1, IF(Ecarts!K166=\"\",\"\",Ecarts!K166),\"\")","v":""},{"$f":"IF( Ecarts!$E166=$A$1, IF(Ecarts!L166=\"\",\"\",Ecarts!L166),\"\")","v":""},{"$f":"IF( Ecarts!$E166=$A$1, IF(Ecarts!M166=\"\",\"\",Ecarts!M166),\"\")","v":""},0,0]
[{"$f":"IF( Ecarts!$E167=$A$1,IF( Ecarts!B167=\"\",\"\",Ecarts!A167),\"\")","v":""},{"$f":"IF( Ecarts!$E167=$A$1,IF( Ecarts!C167=\"\",\"\",Ecarts!C167),\"\")","v":""},{"$f":"IF( Ecarts!$E167=$A$1, IF(Ecarts!F167=\"\",\"\",Ecarts!F167),\"\")","v":""},{"$f":"IF( Ecarts!$E167=$A$1, IF(Ecarts!I167=\"\",\"\",Ecarts!I167),\"\")","v":""},{"$f":"IF( Ecarts!$E167=$A$1, IF(Ecarts!J167=\"\",\"\",Ecarts!J167),\"\")","v":""},{"$f":"IF( Ecarts!$E167=$A$1, IF(Ecarts!K167=\"\",\"\",Ecarts!K167),\"\")","v":""},{"$f":"IF( Ecarts!$E167=$A$1, IF(Ecarts!L167=\"\",\"\",Ecarts!L167),\"\")","v":""},{"$f":"IF( Ecarts!$E167=$A$1, IF(Ecarts!M167=\"\",\"\",Ecarts!M167),\"\")","v":""},0,0]
[{"$f":"IF( Ecarts!$E168=$A$1,IF( Ecarts!B168=\"\",\"\",Ecarts!A168),\"\")","v":""},{"$f":"IF( Ecarts!$E168=$A$1,IF( Ecarts!C168=\"\",\"\",Ecarts!C168),\"\")","v":""},{"$f":"IF( Ecarts!$E168=$A$1, IF(Ecarts!F168=\"\",\"\",Ecarts!F168),\"\")","v":""},{"$f":"IF( Ecarts!$E168=$A$1, IF(Ecarts!I168=\"\",\"\",Ecarts!I168),\"\")","v":""},{"$f":"IF( Ecarts!$E168=$A$1, IF(Ecarts!J168=\"\",\"\",Ecarts!J168),\"\")","v":""},{"$f":"IF( Ecarts!$E168=$A$1, IF(Ecarts!K168=\"\",\"\",Ecarts!K168),\"\")","v":""},{"$f":"IF( Ecarts!$E168=$A$1, IF(Ecarts!L168=\"\",\"\",Ecarts!L168),\"\")","v":""},{"$f":"IF( Ecarts!$E168=$A$1, IF(Ecarts!M168=\"\",\"\",Ecarts!M168),\"\")","v":""},0,0]
[{"$f":"IF( Ecarts!$E169=$A$1,IF( Ecarts!B169=\"\",\"\",Ecarts!A169),\"\")","v":""},{"$f":"IF( Ecarts!$E169=$A$1,IF( Ecarts!C169=\"\",\"\",Ecarts!C169),\"\")","v":""},{"$f":"IF( Ecarts!$E169=$A$1, IF(Ecarts!F169=\"\",\"\",Ecarts!F169),\"\")","v":""},{"$f":"IF( Ecarts!$E169=$A$1, IF(Ecarts!I169=\"\",\"\",Ecarts!I169),\"\")","v":""},{"$f":"IF( Ecarts!$E169=$A$1, IF(Ecarts!J169=\"\",\"\",Ecarts!J169),\"\")","v":""},{"$f":"IF( Ecarts!$E169=$A$1, IF(Ecarts!K169=\"\",\"\",Ecarts!K169),\"\")","v":""},{"$f":"IF( Ecarts!$E169=$A$1, IF(Ecarts!L169=\"\",\"\",Ecarts!L169),\"\")","v":""},{"$f":"IF( Ecarts!$E169=$A$1, IF(Ecarts!M169=\"\",\"\",Ecarts!M169),\"\")","v":""},0,0]
[{"$f":"IF( Ecarts!$E170=$A$1,IF( Ecarts!B170=\"\",\"\",Ecarts!A170),\"\")","v":""},{"$f":"IF( Ecarts!$E170=$A$1,IF( Ecarts!C170=\"\",\"\",Ecarts!C170),\"\")","v":""},{"$f":"IF( Ecarts!$E170=$A$1, IF(Ecarts!F170=\"\",\"\",Ecarts!F170),\"\")","v":""},{"$f":"IF( Ecarts!$E170=$A$1, IF(Ecarts!I170=\"\",\"\",Ecarts!I170),\"\")","v":""},{"$f":"IF( Ecarts!$E170=$A$1, IF(Ecarts!J170=\"\",\"\",Ecarts!J170),\"\")","v":""},{"$f":"IF( Ecarts!$E170=$A$1, IF(Ecarts!K170=\"\",\"\",Ecarts!K170),\"\")","v":""},{"$f":"IF( Ecarts!$E170=$A$1, IF(Ecarts!L170=\"\",\"\",Ecarts!L170),\"\")","v":""},{"$f":"IF( Ecarts!$E170=$A$1, IF(Ecarts!M170=\"\",\"\",Ecarts!M170),\"\")","v":""},0,0]
[{"$f":"IF( Ecarts!$E171=$A$1,IF( Ecarts!B171=\"\",\"\",Ecarts!A171),\"\")","v":""},{"$f":"IF( Ecarts!$E171=$A$1,IF( Ecarts!C171=\"\",\"\",Ecarts!C171),\"\")","v":""},{"$f":"IF( Ecarts!$E171=$A$1, IF(Ecarts!F171=\"\",\"\",Ecarts!F171),\"\")","v":""},{"$f":"IF( Ecarts!$E171=$A$1, IF(Ecarts!I171=\"\",\"\",Ecarts!I171),\"\")","v":""},{"$f":"IF( Ecarts!$E171=$A$1, IF(Ecarts!J171=\"\",\"\",Ecarts!J171),\"\")","v":""},{"$f":"IF( Ecarts!$E171=$A$1, IF(Ecarts!K171=\"\",\"\",Ecarts!K171),\"\")","v":""},{"$f":"IF( Ecarts!$E171=$A$1, IF(Ecarts!L171=\"\",\"\",Ecarts!L171),\"\")","v":""},{"$f":"IF( Ecarts!$E171=$A$1, IF(Ecarts!M171=\"\",\"\",Ecarts!M171),\"\")","v":""},0,0]
[{"$f":"IF( Ecarts!$E172=$A$1,IF( Ecarts!B172=\"\",\"\",Ecarts!A172),\"\")","v":""},{"$f":"IF( Ecarts!$E172=$A$1,IF( Ecarts!C172=\"\",\"\",Ecarts!C172),\"\")","v":""},{"$f":"IF( Ecarts!$E172=$A$1, IF(Ecarts!F172=\"\",\"\",Ecarts!F172),\"\")","v":""},{"$f":"IF( Ecarts!$E172=$A$1, IF(Ecarts!I172=\"\",\"\",Ecarts!I172),\"\")","v":""},{"$f":"IF( Ecarts!$E172=$A$1, IF(Ecarts!J172=\"\",\"\",Ecarts!J172),\"\")","v":""},{"$f":"IF( Ecarts!$E172=$A$1, IF(Ecarts!K172=\"\",\"\",Ecarts!K172),\"\")","v":""},{"$f":"IF( Ecarts!$E172=$A$1, IF(Ecarts!L172=\"\",\"\",Ecarts!L172),\"\")","v":""},{"$f":"IF( Ecarts!$E172=$A$1, IF(Ecarts!M172=\"\",\"\",Ecarts!M172),\"\")","v":""},0,0]
[{"$f":"IF( Ecarts!$E173=$A$1,IF( Ecarts!B173=\"\",\"\",Ecarts!A173),\"\")","v":""},{"$f":"IF( Ecarts!$E173=$A$1,IF( Ecarts!C173=\"\",\"\",Ecarts!C173),\"\")","v":""},{"$f":"IF( Ecarts!$E173=$A$1, IF(Ecarts!F173=\"\",\"\",Ecarts!F173),\"\")","v":""},{"$f":"IF( Ecarts!$E173=$A$1, IF(Ecarts!I173=\"\",\"\",Ecarts!I173),\"\")","v":""},{"$f":"IF( Ecarts!$E173=$A$1, IF(Ecarts!J173=\"\",\"\",Ecarts!J173),\"\")","v":""},{"$f":"IF( Ecarts!$E173=$A$1, IF(Ecarts!K173=\"\",\"\",Ecarts!K173),\"\")","v":""},{"$f":"IF( Ecarts!$E173=$A$1, IF(Ecarts!L173=\"\",\"\",Ecarts!L173),\"\")","v":""},{"$f":"IF( Ecarts!$E173=$A$1, IF(Ecarts!M173=\"\",\"\",Ecarts!M173),\"\")","v":""},0,0]
[{"$f":"IF( Ecarts!$E174=$A$1,IF( Ecarts!B174=\"\",\"\",Ecarts!A174),\"\")","v":""},{"$f":"IF( Ecarts!$E174=$A$1,IF( Ecarts!C174=\"\",\"\",Ecarts!C174),\"\")","v":""},{"$f":"IF( Ecarts!$E174=$A$1, IF(Ecarts!F174=\"\",\"\",Ecarts!F174),\"\")","v":""},{"$f":"IF( Ecarts!$E174=$A$1, IF(Ecarts!I174=\"\",\"\",Ecarts!I174),\"\")","v":""},{"$f":"IF( Ecarts!$E174=$A$1, IF(Ecarts!J174=\"\",\"\",Ecarts!J174),\"\")","v":""},{"$f":"IF( Ecarts!$E174=$A$1, IF(Ecarts!K174=\"\",\"\",Ecarts!K174),\"\")","v":""},{"$f":"IF( Ecarts!$E174=$A$1, IF(Ecarts!L174=\"\",\"\",Ecarts!L174),\"\")","v":""},{"$f":"IF( Ecarts!$E174=$A$1, IF(Ecarts!M174=\"\",\"\",Ecarts!M174),\"\")","v":""},0,0]
[{"$f":"IF( Ecarts!$E175=$A$1,IF( Ecarts!B175=\"\",\"\",Ecarts!A175),\"\")","v":""},{"$f":"IF( Ecarts!$E175=$A$1,IF( Ecarts!C175=\"\",\"\",Ecarts!C175),\"\")","v":""},{"$f":"IF( Ecarts!$E175=$A$1, IF(Ecarts!F175=\"\",\"\",Ecarts!F175),\"\")","v":""},{"$f":"IF( Ecarts!$E175=$A$1, IF(Ecarts!I175=\"\",\"\",Ecarts!I175),\"\")","v":""},{"$f":"IF( Ecarts!$E175=$A$1, IF(Ecarts!J175=\"\",\"\",Ecarts!J175),\"\")","v":""},{"$f":"IF( Ecarts!$E175=$A$1, IF(Ecarts!K175=\"\",\"\",Ecarts!K175),\"\")","v":""},{"$f":"IF( Ecarts!$E175=$A$1, IF(Ecarts!L175=\"\",\"\",Ecarts!L175),\"\")","v":""},{"$f":"IF( Ecarts!$E175=$A$1, IF(Ecarts!M175=\"\",\"\",Ecarts!M175),\"\")","v":""},0,0]
[{"$f":"IF( Ecarts!$E176=$A$1,IF( Ecarts!B176=\"\",\"\",Ecarts!A176),\"\")","v":""},{"$f":"IF( Ecarts!$E176=$A$1,IF( Ecarts!C176=\"\",\"\",Ecarts!C176),\"\")","v":""},{"$f":"IF( Ecarts!$E176=$A$1, IF(Ecarts!F176=\"\",\"\",Ecarts!F176),\"\")","v":""},{"$f":"IF( Ecarts!$E176=$A$1, IF(Ecarts!I176=\"\",\"\",Ecarts!I176),\"\")","v":""},{"$f":"IF( Ecarts!$E176=$A$1, IF(Ecarts!J176=\"\",\"\",Ecarts!J176),\"\")","v":""},{"$f":"IF( Ecarts!$E176=$A$1, IF(Ecarts!K176=\"\",\"\",Ecarts!K176),\"\")","v":""},{"$f":"IF( Ecarts!$E176=$A$1, IF(Ecarts!L176=\"\",\"\",Ecarts!L176),\"\")","v":""},{"$f":"IF( Ecarts!$E176=$A$1, IF(Ecarts!M176=\"\",\"\",Ecarts!M176),\"\")","v":""},0,0]
[{"$f":"IF( Ecarts!$E177=$A$1,IF( Ecarts!B177=\"\",\"\",Ecarts!A177),\"\")","v":""},{"$f":"IF( Ecarts!$E177=$A$1,IF( Ecarts!C177=\"\",\"\",Ecarts!C177),\"\")","v":""},{"$f":"IF( Ecarts!$E177=$A$1, IF(Ecarts!F177=\"\",\"\",Ecarts!F177),\"\")","v":""},{"$f":"IF( Ecarts!$E177=$A$1, IF(Ecarts!I177=\"\",\"\",Ecarts!I177),\"\")","v":""},{"$f":"IF( Ecarts!$E177=$A$1, IF(Ecarts!J177=\"\",\"\",Ecarts!J177),\"\")","v":""},{"$f":"IF( Ecarts!$E177=$A$1, IF(Ecarts!K177=\"\",\"\",Ecarts!K177),\"\")","v":""},{"$f":"IF( Ecarts!$E177=$A$1, IF(Ecarts!L177=\"\",\"\",Ecarts!L177),\"\")","v":""},{"$f":"IF( Ecarts!$E177=$A$1, IF(Ecarts!M177=\"\",\"\",Ecarts!M177),\"\")","v":""},0,0]
[{"$f":"IF( Ecarts!$E178=$A$1,IF( Ecarts!B178=\"\",\"\",Ecarts!A178),\"\")","v":""},{"$f":"IF( Ecarts!$E178=$A$1,IF( Ecarts!C178=\"\",\"\",Ecarts!C178),\"\")","v":""},{"$f":"IF( Ecarts!$E178=$A$1, IF(Ecarts!F178=\"\",\"\",Ecarts!F178),\"\")","v":""},{"$f":"IF( Ecarts!$E178=$A$1, IF(Ecarts!I178=\"\",\"\",Ecarts!I178),\"\")","v":""},{"$f":"IF( Ecarts!$E178=$A$1, IF(Ecarts!J178=\"\",\"\",Ecarts!J178),\"\")","v":""},{"$f":"IF( Ecarts!$E178=$A$1, IF(Ecarts!K178=\"\",\"\",Ecarts!K178),\"\")","v":""},{"$f":"IF( Ecarts!$E178=$A$1, IF(Ecarts!L178=\"\",\"\",Ecarts!L178),\"\")","v":""},{"$f":"IF( Ecarts!$E178=$A$1, IF(Ecarts!M178=\"\",\"\",Ecarts!M178),\"\")","v":""},0,0]
[{"$f":"IF( Ecarts!$E179=$A$1,IF( Ecarts!B179=\"\",\"\",Ecarts!A179),\"\")","v":""},{"$f":"IF( Ecarts!$E179=$A$1,IF( Ecarts!C179=\"\",\"\",Ecarts!C179),\"\")","v":""},{"$f":"IF( Ecarts!$E179=$A$1, IF(Ecarts!F179=\"\",\"\",Ecarts!F179),\"\")","v":""},{"$f":"IF( Ecarts!$E179=$A$1, IF(Ecarts!I179=\"\",\"\",Ecarts!I179),\"\")","v":""},{"$f":"IF( Ecarts!$E179=$A$1, IF(Ecarts!J179=\"\",\"\",Ecarts!J179),\"\")","v":""},{"$f":"IF( Ecarts!$E179=$A$1, IF(Ecarts!K179=\"\",\"\",Ecarts!K179),\"\")","v":""},{"$f":"IF( Ecarts!$E179=$A$1, IF(Ecarts!L179=\"\",\"\",Ecarts!L179),\"\")","v":""},{"$f":"IF( Ecarts!$E179=$A$1, IF(Ecarts!M179=\"\",\"\",Ecarts!M179),\"\")","v":""},0,0]
[{"$f":"IF( Ecarts!$E180=$A$1,IF( Ecarts!B180=\"\",\"\",Ecarts!A180),\"\")","v":""},{"$f":"IF( Ecarts!$E180=$A$1,IF( Ecarts!C180=\"\",\"\",Ecarts!C180),\"\")","v":""},{"$f":"IF( Ecarts!$E180=$A$1, IF(Ecarts!F180=\"\",\"\",Ecarts!F180),\"\")","v":""},{"$f":"IF( Ecarts!$E180=$A$1, IF(Ecarts!I180=\"\",\"\",Ecarts!I180),\"\")","v":""},{"$f":"IF( Ecarts!$E180=$A$1, IF(Ecarts!J180=\"\",\"\",Ecarts!J180),\"\")","v":""},{"$f":"IF( Ecarts!$E180=$A$1, IF(Ecarts!K180=\"\",\"\",Ecarts!K180),\"\")","v":""},{"$f":"IF( Ecarts!$E180=$A$1, IF(Ecarts!L180=\"\",\"\",Ecarts!L180),\"\")","v":""},{"$f":"IF( Ecarts!$E180=$A$1, IF(Ecarts!M180=\"\",\"\",Ecarts!M180),\"\")","v":""},0,0]
[{"$f":"IF( Ecarts!$E181=$A$1,IF( Ecarts!B181=\"\",\"\",Ecarts!A181),\"\")","v":""},{"$f":"IF( Ecarts!$E181=$A$1,IF( Ecarts!C181=\"\",\"\",Ecarts!C181),\"\")","v":""},{"$f":"IF( Ecarts!$E181=$A$1, IF(Ecarts!F181=\"\",\"\",Ecarts!F181),\"\")","v":""},{"$f":"IF( Ecarts!$E181=$A$1, IF(Ecarts!I181=\"\",\"\",Ecarts!I181),\"\")","v":""},{"$f":"IF( Ecarts!$E181=$A$1, IF(Ecarts!J181=\"\",\"\",Ecarts!J181),\"\")","v":""},{"$f":"IF( Ecarts!$E181=$A$1, IF(Ecarts!K181=\"\",\"\",Ecarts!K181),\"\")","v":""},{"$f":"IF( Ecarts!$E181=$A$1, IF(Ecarts!L181=\"\",\"\",Ecarts!L181),\"\")","v":""},{"$f":"IF( Ecarts!$E181=$A$1, IF(Ecarts!M181=\"\",\"\",Ecarts!M181),\"\")","v":""},0,0]
[{"$f":"IF( Ecarts!$E182=$A$1,IF( Ecarts!B182=\"\",\"\",Ecarts!A182),\"\")","v":""},{"$f":"IF( Ecarts!$E182=$A$1,IF( Ecarts!C182=\"\",\"\",Ecarts!C182),\"\")","v":""},{"$f":"IF( Ecarts!$E182=$A$1, IF(Ecarts!F182=\"\",\"\",Ecarts!F182),\"\")","v":""},{"$f":"IF( Ecarts!$E182=$A$1, IF(Ecarts!I182=\"\",\"\",Ecarts!I182),\"\")","v":""},{"$f":"IF( Ecarts!$E182=$A$1, IF(Ecarts!J182=\"\",\"\",Ecarts!J182),\"\")","v":""},{"$f":"IF( Ecarts!$E182=$A$1, IF(Ecarts!K182=\"\",\"\",Ecarts!K182),\"\")","v":""},{"$f":"IF( Ecarts!$E182=$A$1, IF(Ecarts!L182=\"\",\"\",Ecarts!L182),\"\")","v":""},{"$f":"IF( Ecarts!$E182=$A$1, IF(Ecarts!M182=\"\",\"\",Ecarts!M182),\"\")","v":""},0,0]
[{"$f":"IF( Ecarts!$E183=$A$1,IF( Ecarts!B183=\"\",\"\",Ecarts!A183),\"\")","v":""},{"$f":"IF( Ecarts!$E183=$A$1,IF( Ecarts!C183=\"\",\"\",Ecarts!C183),\"\")","v":""},{"$f":"IF( Ecarts!$E183=$A$1, IF(Ecarts!F183=\"\",\"\",Ecarts!F183),\"\")","v":""},{"$f":"IF( Ecarts!$E183=$A$1, IF(Ecarts!I183=\"\",\"\",Ecarts!I183),\"\")","v":""},{"$f":"IF( Ecarts!$E183=$A$1, IF(Ecarts!J183=\"\",\"\",Ecarts!J183),\"\")","v":""},{"$f":"IF( Ecarts!$E183=$A$1, IF(Ecarts!K183=\"\",\"\",Ecarts!K183),\"\")","v":""},{"$f":"IF( Ecarts!$E183=$A$1, IF(Ecarts!L183=\"\",\"\",Ecarts!L183),\"\")","v":""},{"$f":"IF( Ecarts!$E183=$A$1, IF(Ecarts!M183=\"\",\"\",Ecarts!M183),\"\")","v":""},0,0]
[{"$f":"IF( Ecarts!$E184=$A$1,IF( Ecarts!B184=\"\",\"\",Ecarts!A184),\"\")","v":""},{"$f":"IF( Ecarts!$E184=$A$1,IF( Ecarts!C184=\"\",\"\",Ecarts!C184),\"\")","v":""},{"$f":"IF( Ecarts!$E184=$A$1, IF(Ecarts!F184=\"\",\"\",Ecarts!F184),\"\")","v":""},{"$f":"IF( Ecarts!$E184=$A$1, IF(Ecarts!I184=\"\",\"\",Ecarts!I184),\"\")","v":""},{"$f":"IF( Ecarts!$E184=$A$1, IF(Ecarts!J184=\"\",\"\",Ecarts!J184),\"\")","v":""},{"$f":"IF( Ecarts!$E184=$A$1, IF(Ecarts!K184=\"\",\"\",Ecarts!K184),\"\")","v":""},{"$f":"IF( Ecarts!$E184=$A$1, IF(Ecarts!L184=\"\",\"\",Ecarts!L184),\"\")","v":""},{"$f":"IF( Ecarts!$E184=$A$1, IF(Ecarts!M184=\"\",\"\",Ecarts!M184),\"\")","v":""},0,0]
[{"$f":"IF( Ecarts!$E185=$A$1,IF( Ecarts!B185=\"\",\"\",Ecarts!A185),\"\")","v":""},{"$f":"IF( Ecarts!$E185=$A$1,IF( Ecarts!C185=\"\",\"\",Ecarts!C185),\"\")","v":""},{"$f":"IF( Ecarts!$E185=$A$1, IF(Ecarts!F185=\"\",\"\",Ecarts!F185),\"\")","v":""},{"$f":"IF( Ecarts!$E185=$A$1, IF(Ecarts!I185=\"\",\"\",Ecarts!I185),\"\")","v":""},{"$f":"IF( Ecarts!$E185=$A$1, IF(Ecarts!J185=\"\",\"\",Ecarts!J185),\"\")","v":""},{"$f":"IF( Ecarts!$E185=$A$1, IF(Ecarts!K185=\"\",\"\",Ecarts!K185),\"\")","v":""},{"$f":"IF( Ecarts!$E185=$A$1, IF(Ecarts!L185=\"\",\"\",Ecarts!L185),\"\")","v":""},{"$f":"IF( Ecarts!$E185=$A$1, IF(Ecarts!M185=\"\",\"\",Ecarts!M185),\"\")","v":""},0,0]
[{"$f":"IF( Ecarts!$E186=$A$1,IF( Ecarts!B186=\"\",\"\",Ecarts!A186),\"\")","v":""},{"$f":"IF( Ecarts!$E186=$A$1,IF( Ecarts!C186=\"\",\"\",Ecarts!C186),\"\")","v":""},{"$f":"IF( Ecarts!$E186=$A$1, IF(Ecarts!F186=\"\",\"\",Ecarts!F186),\"\")","v":""},{"$f":"IF( Ecarts!$E186=$A$1, IF(Ecarts!I186=\"\",\"\",Ecarts!I186),\"\")","v":""},{"$f":"IF( Ecarts!$E186=$A$1, IF(Ecarts!J186=\"\",\"\",Ecarts!J186),\"\")","v":""},{"$f":"IF( Ecarts!$E186=$A$1, IF(Ecarts!K186=\"\",\"\",Ecarts!K186),\"\")","v":""},{"$f":"IF( Ecarts!$E186=$A$1, IF(Ecarts!L186=\"\",\"\",Ecarts!L186),\"\")","v":""},{"$f":"IF( Ecarts!$E186=$A$1, IF(Ecarts!M186=\"\",\"\",Ecarts!M186),\"\")","v":""},0,0]
[{"$f":"IF( Ecarts!$E187=$A$1,IF( Ecarts!B187=\"\",\"\",Ecarts!A187),\"\")","v":""},{"$f":"IF( Ecarts!$E187=$A$1,IF( Ecarts!C187=\"\",\"\",Ecarts!C187),\"\")","v":""},{"$f":"IF( Ecarts!$E187=$A$1, IF(Ecarts!F187=\"\",\"\",Ecarts!F187),\"\")","v":""},{"$f":"IF( Ecarts!$E187=$A$1, IF(Ecarts!I187=\"\",\"\",Ecarts!I187),\"\")","v":""},{"$f":"IF( Ecarts!$E187=$A$1, IF(Ecarts!J187=\"\",\"\",Ecarts!J187),\"\")","v":""},{"$f":"IF( Ecarts!$E187=$A$1, IF(Ecarts!K187=\"\",\"\",Ecarts!K187),\"\")","v":""},{"$f":"IF( Ecarts!$E187=$A$1, IF(Ecarts!L187=\"\",\"\",Ecarts!L187),\"\")","v":""},{"$f":"IF( Ecarts!$E187=$A$1, IF(Ecarts!M187=\"\",\"\",Ecarts!M187),\"\")","v":""},0,0]
[{"$f":"IF( Ecarts!$E188=$A$1,IF( Ecarts!B188=\"\",\"\",Ecarts!A188),\"\")","v":""},{"$f":"IF( Ecarts!$E188=$A$1,IF( Ecarts!C188=\"\",\"\",Ecarts!C188),\"\")","v":""},{"$f":"IF( Ecarts!$E188=$A$1, IF(Ecarts!F188=\"\",\"\",Ecarts!F188),\"\")","v":""},{"$f":"IF( Ecarts!$E188=$A$1, IF(Ecarts!I188=\"\",\"\",Ecarts!I188),\"\")","v":""},{"$f":"IF( Ecarts!$E188=$A$1, IF(Ecarts!J188=\"\",\"\",Ecarts!J188),\"\")","v":""},{"$f":"IF( Ecarts!$E188=$A$1, IF(Ecarts!K188=\"\",\"\",Ecarts!K188),\"\")","v":""},{"$f":"IF( Ecarts!$E188=$A$1, IF(Ecarts!L188=\"\",\"\",Ecarts!L188),\"\")","v":""},{"$f":"IF( Ecarts!$E188=$A$1, IF(Ecarts!M188=\"\",\"\",Ecarts!M188),\"\")","v":""},0,0]
[{"$f":"IF( Ecarts!$E189=$A$1,IF( Ecarts!B189=\"\",\"\",Ecarts!A189),\"\")","v":""},{"$f":"IF( Ecarts!$E189=$A$1,IF( Ecarts!C189=\"\",\"\",Ecarts!C189),\"\")","v":""},{"$f":"IF( Ecarts!$E189=$A$1, IF(Ecarts!F189=\"\",\"\",Ecarts!F189),\"\")","v":""},{"$f":"IF( Ecarts!$E189=$A$1, IF(Ecarts!I189=\"\",\"\",Ecarts!I189),\"\")","v":""},{"$f":"IF( Ecarts!$E189=$A$1, IF(Ecarts!J189=\"\",\"\",Ecarts!J189),\"\")","v":""},{"$f":"IF( Ecarts!$E189=$A$1, IF(Ecarts!K189=\"\",\"\",Ecarts!K189),\"\")","v":""},{"$f":"IF( Ecarts!$E189=$A$1, IF(Ecarts!L189=\"\",\"\",Ecarts!L189),\"\")","v":""},{"$f":"IF( Ecarts!$E189=$A$1, IF(Ecarts!M189=\"\",\"\",Ecarts!M189),\"\")","v":""},0,0]
[{"$f":"IF( Ecarts!$E190=$A$1,IF( Ecarts!B190=\"\",\"\",Ecarts!A190),\"\")","v":""},{"$f":"IF( Ecarts!$E190=$A$1,IF( Ecarts!C190=\"\",\"\",Ecarts!C190),\"\")","v":""},{"$f":"IF( Ecarts!$E190=$A$1, IF(Ecarts!F190=\"\",\"\",Ecarts!F190),\"\")","v":""},{"$f":"IF( Ecarts!$E190=$A$1, IF(Ecarts!I190=\"\",\"\",Ecarts!I190),\"\")","v":""},{"$f":"IF( Ecarts!$E190=$A$1, IF(Ecarts!J190=\"\",\"\",Ecarts!J190),\"\")","v":""},{"$f":"IF( Ecarts!$E190=$A$1, IF(Ecarts!K190=\"\",\"\",Ecarts!K190),\"\")","v":""},{"$f":"IF( Ecarts!$E190=$A$1, IF(Ecarts!L190=\"\",\"\",Ecarts!L190),\"\")","v":""},{"$f":"IF( Ecarts!$E190=$A$1, IF(Ecarts!M190=\"\",\"\",Ecarts!M190),\"\")","v":""},0,0]
[{"$f":"IF( Ecarts!$E191=$A$1,IF( Ecarts!B191=\"\",\"\",Ecarts!A191),\"\")","v":""},{"$f":"IF( Ecarts!$E191=$A$1,IF( Ecarts!C191=\"\",\"\",Ecarts!C191),\"\")","v":""},{"$f":"IF( Ecarts!$E191=$A$1, IF(Ecarts!F191=\"\",\"\",Ecarts!F191),\"\")","v":""},{"$f":"IF( Ecarts!$E191=$A$1, IF(Ecarts!I191=\"\",\"\",Ecarts!I191),\"\")","v":""},{"$f":"IF( Ecarts!$E191=$A$1, IF(Ecarts!J191=\"\",\"\",Ecarts!J191),\"\")","v":""},{"$f":"IF( Ecarts!$E191=$A$1, IF(Ecarts!K191=\"\",\"\",Ecarts!K191),\"\")","v":""},{"$f":"IF( Ecarts!$E191=$A$1, IF(Ecarts!L191=\"\",\"\",Ecarts!L191),\"\")","v":""},{"$f":"IF( Ecarts!$E191=$A$1, IF(Ecarts!M191=\"\",\"\",Ecarts!M191),\"\")","v":""},0,0]
[{"$f":"IF( Ecarts!$E192=$A$1,IF( Ecarts!B192=\"\",\"\",Ecarts!A192),\"\")","v":""},{"$f":"IF( Ecarts!$E192=$A$1,IF( Ecarts!C192=\"\",\"\",Ecarts!C192),\"\")","v":""},{"$f":"IF( Ecarts!$E192=$A$1, IF(Ecarts!F192=\"\",\"\",Ecarts!F192),\"\")","v":""},{"$f":"IF( Ecarts!$E192=$A$1, IF(Ecarts!I192=\"\",\"\",Ecarts!I192),\"\")","v":""},{"$f":"IF( Ecarts!$E192=$A$1, IF(Ecarts!J192=\"\",\"\",Ecarts!J192),\"\")","v":""},{"$f":"IF( Ecarts!$E192=$A$1, IF(Ecarts!K192=\"\",\"\",Ecarts!K192),\"\")","v":""},{"$f":"IF( Ecarts!$E192=$A$1, IF(Ecarts!L192=\"\",\"\",Ecarts!L192),\"\")","v":""},{"$f":"IF( Ecarts!$E192=$A$1, IF(Ecarts!M192=\"\",\"\",Ecarts!M192),\"\")","v":""},0,0]
[{"$f":"IF( Ecarts!$E193=$A$1,IF( Ecarts!B193=\"\",\"\",Ecarts!A193),\"\")","v":""},{"$f":"IF( Ecarts!$E193=$A$1,IF( Ecarts!C193=\"\",\"\",Ecarts!C193),\"\")","v":""},{"$f":"IF( Ecarts!$E193=$A$1, IF(Ecarts!F193=\"\",\"\",Ecarts!F193),\"\")","v":""},{"$f":"IF( Ecarts!$E193=$A$1, IF(Ecarts!I193=\"\",\"\",Ecarts!I193),\"\")","v":""},{"$f":"IF( Ecarts!$E193=$A$1, IF(Ecarts!J193=\"\",\"\",Ecarts!J193),\"\")","v":""},{"$f":"IF( Ecarts!$E193=$A$1, IF(Ecarts!K193=\"\",\"\",Ecarts!K193),\"\")","v":""},{"$f":"IF( Ecarts!$E193=$A$1, IF(Ecarts!L193=\"\",\"\",Ecarts!L193),\"\")","v":""},{"$f":"IF( Ecarts!$E193=$A$1, IF(Ecarts!M193=\"\",\"\",Ecarts!M193),\"\")","v":""},0,0]
[{"$f":"IF( Ecarts!$E194=$A$1,IF( Ecarts!B194=\"\",\"\",Ecarts!A194),\"\")","v":""},{"$f":"IF( Ecarts!$E194=$A$1,IF( Ecarts!C194=\"\",\"\",Ecarts!C194),\"\")","v":""},{"$f":"IF( Ecarts!$E194=$A$1, IF(Ecarts!F194=\"\",\"\",Ecarts!F194),\"\")","v":""},{"$f":"IF( Ecarts!$E194=$A$1, IF(Ecarts!I194=\"\",\"\",Ecarts!I194),\"\")","v":""},{"$f":"IF( Ecarts!$E194=$A$1, IF(Ecarts!J194=\"\",\"\",Ecarts!J194),\"\")","v":""},{"$f":"IF( Ecarts!$E194=$A$1, IF(Ecarts!K194=\"\",\"\",Ecarts!K194),\"\")","v":""},{"$f":"IF( Ecarts!$E194=$A$1, IF(Ecarts!L194=\"\",\"\",Ecarts!L194),\"\")","v":""},{"$f":"IF( Ecarts!$E194=$A$1, IF(Ecarts!M194=\"\",\"\",Ecarts!M194),\"\")","v":""},0,0]
[{"$f":"IF( Ecarts!$E195=$A$1,IF( Ecarts!B195=\"\",\"\",Ecarts!A195),\"\")","v":""},{"$f":"IF( Ecarts!$E195=$A$1,IF( Ecarts!C195=\"\",\"\",Ecarts!C195),\"\")","v":""},{"$f":"IF( Ecarts!$E195=$A$1, IF(Ecarts!F195=\"\",\"\",Ecarts!F195),\"\")","v":""},{"$f":"IF( Ecarts!$E195=$A$1, IF(Ecarts!I195=\"\",\"\",Ecarts!I195),\"\")","v":""},{"$f":"IF( Ecarts!$E195=$A$1, IF(Ecarts!J195=\"\",\"\",Ecarts!J195),\"\")","v":""},{"$f":"IF( Ecarts!$E195=$A$1, IF(Ecarts!K195=\"\",\"\",Ecarts!K195),\"\")","v":""},{"$f":"IF( Ecarts!$E195=$A$1, IF(Ecarts!L195=\"\",\"\",Ecarts!L195),\"\")","v":""},{"$f":"IF( Ecarts!$E195=$A$1, IF(Ecarts!M195=\"\",\"\",Ecarts!M195),\"\")","v":""},0,0]
[{"$f":"IF( Ecarts!$E196=$A$1,IF( Ecarts!B196=\"\",\"\",Ecarts!A196),\"\")","v":""},{"$f":"IF( Ecarts!$E196=$A$1,IF( Ecarts!C196=\"\",\"\",Ecarts!C196),\"\")","v":""},{"$f":"IF( Ecarts!$E196=$A$1, IF(Ecarts!F196=\"\",\"\",Ecarts!F196),\"\")","v":""},{"$f":"IF( Ecarts!$E196=$A$1, IF(Ecarts!I196=\"\",\"\",Ecarts!I196),\"\")","v":""},{"$f":"IF( Ecarts!$E196=$A$1, IF(Ecarts!J196=\"\",\"\",Ecarts!J196),\"\")","v":""},{"$f":"IF( Ecarts!$E196=$A$1, IF(Ecarts!K196=\"\",\"\",Ecarts!K196),\"\")","v":""},{"$f":"IF( Ecarts!$E196=$A$1, IF(Ecarts!L196=\"\",\"\",Ecarts!L196),\"\")","v":""},{"$f":"IF( Ecarts!$E196=$A$1, IF(Ecarts!M196=\"\",\"\",Ecarts!M196),\"\")","v":""},{"$f":"IF(B197=\"\",0,IF(G197=1,0,1))","v":0},{"$f":"IF(F197=\"\",0,IF(F197>(TODAY()-60),1,0))","v":0}]
[{"$f":"IF( Ecarts!$E197=$A$1,IF( Ecarts!B197=\"\",\"\",Ecarts!A197),\"\")","v":""},{"$f":"IF( Ecarts!$E197=$A$1,IF( Ecarts!C197=\"\",\"\",Ecarts!C197),\"\")","v":""},{"$f":"IF( Ecarts!$E197=$A$1, IF(Ecarts!F197=\"\",\"\",Ecarts!F197),\"\")","v":""},{"$f":"IF( Ecarts!$E197=$A$1, IF(Ecarts!I197=\"\",\"\",Ecarts!I197),\"\")","v":""},{"$f":"IF( Ecarts!$E197=$A$1, IF(Ecarts!J197=\"\",\"\",Ecarts!J197),\"\")","v":""},{"$f":"IF( Ecarts!$E197=$A$1, IF(Ecarts!K197=\"\",\"\",Ecarts!K197),\"\")","v":""},{"$f":"IF( Ecarts!$E197=$A$1, IF(Ecarts!L197=\"\",\"\",Ecarts!L197),\"\")","v":""},{"$f":"IF( Ecarts!$E197=$A$1, IF(Ecarts!M197=\"\",\"\",Ecarts!M197),\"\")","v":""},0,0]
[{"$f":"IF( Ecarts!$E198=$A$1,IF( Ecarts!B198=\"\",\"\",Ecarts!A198),\"\")","v":""},{"$f":"IF( Ecarts!$E198=$A$1,IF( Ecarts!C198=\"\",\"\",Ecarts!C198),\"\")","v":""},{"$f":"IF( Ecarts!$E198=$A$1, IF(Ecarts!F198=\"\",\"\",Ecarts!F198),\"\")","v":""},{"$f":"IF( Ecarts!$E198=$A$1, IF(Ecarts!I198=\"\",\"\",Ecarts!I198),\"\")","v":""},{"$f":"IF( Ecarts!$E198=$A$1, IF(Ecarts!J198=\"\",\"\",Ecarts!J198),\"\")","v":""},{"$f":"IF( Ecarts!$E198=$A$1, IF(Ecarts!K198=\"\",\"\",Ecarts!K198),\"\")","v":""},{"$f":"IF( Ecarts!$E198=$A$1, IF(Ecarts!L198=\"\",\"\",Ecarts!L198),\"\")","v":""},{"$f":"IF( Ecarts!$E198=$A$1, IF(Ecarts!M198=\"\",\"\",Ecarts!M198),\"\")","v":""},0,0]
[{"$f":"IF( Ecarts!$E199=$A$1,IF( Ecarts!B199=\"\",\"\",Ecarts!A199),\"\")","v":""},{"$f":"IF( Ecarts!$E199=$A$1,IF( Ecarts!C199=\"\",\"\",Ecarts!C199),\"\")","v":""},{"$f":"IF( Ecarts!$E199=$A$1, IF(Ecarts!F199=\"\",\"\",Ecarts!F199),\"\")","v":""},{"$f":"IF( Ecarts!$E199=$A$1, IF(Ecarts!I199=\"\",\"\",Ecarts!I199),\"\")","v":""},{"$f":"IF( Ecarts!$E199=$A$1, IF(Ecarts!J199=\"\",\"\",Ecarts!J199),\"\")","v":""},{"$f":"IF( Ecarts!$E199=$A$1, IF(Ecarts!K199=\"\",\"\",Ecarts!K199),\"\")","v":""},{"$f":"IF( Ecarts!$E199=$A$1, IF(Ecarts!L199=\"\",\"\",Ecarts!L199),\"\")","v":""},{"$f":"IF( Ecarts!$E199=$A$1, IF(Ecarts!M199=\"\",\"\",Ecarts!M199),\"\")","v":""},0,0]
[{"$f":"IF( Ecarts!$E200=$A$1,IF( Ecarts!B200=\"\",\"\",Ecarts!A200),\"\")","v":""},{"$f":"IF( Ecarts!$E200=$A$1,IF( Ecarts!C200=\"\",\"\",Ecarts!C200),\"\")","v":""},{"$f":"IF( Ecarts!$E200=$A$1, IF(Ecarts!F200=\"\",\"\",Ecarts!F200),\"\")","v":""},{"$f":"IF( Ecarts!$E200=$A$1, IF(Ecarts!I200=\"\",\"\",Ecarts!I200),\"\")","v":""},{"$f":"IF( Ecarts!$E200=$A$1, IF(Ecarts!J200=\"\",\"\",Ecarts!J200),\"\")","v":""},{"$f":"IF( Ecarts!$E200=$A$1, IF(Ecarts!K200=\"\",\"\",Ecarts!K200),\"\")","v":""},{"$f":"IF( Ecarts!$E200=$A$1, IF(Ecarts!L200=\"\",\"\",Ecarts!L200),\"\")","v":""},{"$f":"IF( Ecarts!$E200=$A$1, IF(Ecarts!M200=\"\",\"\",Ecarts!M200),\"\")","v":""},0,0]
[{"$f":"IF( Ecarts!$E201=$A$1,IF( Ecarts!B201=\"\",\"\",Ecarts!A201),\"\")","v":""},{"$f":"IF( Ecarts!$E201=$A$1,IF( Ecarts!C201=\"\",\"\",Ecarts!C201),\"\")","v":""},{"$f":"IF( Ecarts!$E201=$A$1, IF(Ecarts!F201=\"\",\"\",Ecarts!F201),\"\")","v":""},{"$f":"IF( Ecarts!$E201=$A$1, IF(Ecarts!I201=\"\",\"\",Ecarts!I201),\"\")","v":""},{"$f":"IF( Ecarts!$E201=$A$1, IF(Ecarts!J201=\"\",\"\",Ecarts!J201),\"\")","v":""},{"$f":"IF( Ecarts!$E201=$A$1, IF(Ecarts!K201=\"\",\"\",Ecarts!K201),\"\")","v":""},{"$f":"IF( Ecarts!$E201=$A$1, IF(Ecarts!L201=\"\",\"\",Ecarts!L201),\"\")","v":""},{"$f":"IF( Ecarts!$E201=$A$1, IF(Ecarts!M201=\"\",\"\",Ecarts!M201),\"\")","v":""},0,0]
[{"$f":"IF( Ecarts!$E202=$A$1,IF( Ecarts!B202=\"\",\"\",Ecarts!A202),\"\")","v":""},{"$f":"IF( Ecarts!$E202=$A$1,IF( Ecarts!C202=\"\",\"\",Ecarts!C202),\"\")","v":""},{"$f":"IF( Ecarts!$E202=$A$1, IF(Ecarts!F202=\"\",\"\",Ecarts!F202),\"\")","v":""},{"$f":"IF( Ecarts!$E202=$A$1, IF(Ecarts!I202=\"\",\"\",Ecarts!I202),\"\")","v":""},{"$f":"IF( Ecarts!$E202=$A$1, IF(Ecarts!J202=\"\",\"\",Ecarts!J202),\"\")","v":""},{"$f":"IF( Ecarts!$E202=$A$1, IF(Ecarts!K202=\"\",\"\",Ecarts!K202),\"\")","v":""},{"$f":"IF( Ecarts!$E202=$A$1, IF(Ecarts!L202=\"\",\"\",Ecarts!L202),\"\")","v":""},{"$f":"IF( Ecarts!$E202=$A$1, IF(Ecarts!M202=\"\",\"\",Ecarts!M202),\"\")","v":""},0,0]
[{"$f":"IF( Ecarts!$E203=$A$1,IF( Ecarts!B203=\"\",\"\",Ecarts!A203),\"\")","v":""},{"$f":"IF( Ecarts!$E203=$A$1,IF( Ecarts!C203=\"\",\"\",Ecarts!C203),\"\")","v":""},{"$f":"IF( Ecarts!$E203=$A$1, IF(Ecarts!F203=\"\",\"\",Ecarts!F203),\"\")","v":""},{"$f":"IF( Ecarts!$E203=$A$1, IF(Ecarts!I203=\"\",\"\",Ecarts!I203),\"\")","v":""},{"$f":"IF( Ecarts!$E203=$A$1, IF(Ecarts!J203=\"\",\"\",Ecarts!J203),\"\")","v":""},{"$f":"IF( Ecarts!$E203=$A$1, IF(Ecarts!K203=\"\",\"\",Ecarts!K203),\"\")","v":""},{"$f":"IF( Ecarts!$E203=$A$1, IF(Ecarts!L203=\"\",\"\",Ecarts!L203),\"\")","v":""},{"$f":"IF( Ecarts!$E203=$A$1, IF(Ecarts!M203=\"\",\"\",Ecarts!M203),\"\")","v":""},0,0]
[{"$f":"IF( Ecarts!$E204=$A$1,IF( Ecarts!B204=\"\",\"\",Ecarts!A204),\"\")","v":""},{"$f":"IF( Ecarts!$E204=$A$1,IF( Ecarts!C204=\"\",\"\",Ecarts!C204),\"\")","v":""},{"$f":"IF( Ecarts!$E204=$A$1, IF(Ecarts!F204=\"\",\"\",Ecarts!F204),\"\")","v":""},{"$f":"IF( Ecarts!$E204=$A$1, IF(Ecarts!I204=\"\",\"\",Ecarts!I204),\"\")","v":""},{"$f":"IF( Ecarts!$E204=$A$1, IF(Ecarts!J204=\"\",\"\",Ecarts!J204),\"\")","v":""},{"$f":"IF( Ecarts!$E204=$A$1, IF(Ecarts!K204=\"\",\"\",Ecarts!K204),\"\")","v":""},{"$f":"IF( Ecarts!$E204=$A$1, IF(Ecarts!L204=\"\",\"\",Ecarts!L204),\"\")","v":""},{"$f":"IF( Ecarts!$E204=$A$1, IF(Ecarts!M204=\"\",\"\",Ecarts!M204),\"\")","v":""},0,0]
[{"$f":"IF( Ecarts!$E205=$A$1,IF( Ecarts!B205=\"\",\"\",Ecarts!A205),\"\")","v":""},{"$f":"IF( Ecarts!$E205=$A$1,IF( Ecarts!C205=\"\",\"\",Ecarts!C205),\"\")","v":""},{"$f":"IF( Ecarts!$E205=$A$1, IF(Ecarts!F205=\"\",\"\",Ecarts!F205),\"\")","v":""},{"$f":"IF( Ecarts!$E205=$A$1, IF(Ecarts!I205=\"\",\"\",Ecarts!I205),\"\")","v":""},{"$f":"IF( Ecarts!$E205=$A$1, IF(Ecarts!J205=\"\",\"\",Ecarts!J205),\"\")","v":""},{"$f":"IF( Ecarts!$E205=$A$1, IF(Ecarts!K205=\"\",\"\",Ecarts!K205),\"\")","v":""},{"$f":"IF( Ecarts!$E205=$A$1, IF(Ecarts!L205=\"\",\"\",Ecarts!L205),\"\")","v":""},{"$f":"IF( Ecarts!$E205=$A$1, IF(Ecarts!M205=\"\",\"\",Ecarts!M205),\"\")","v":""},0,0]
[{"$f":"IF( Ecarts!$E206=$A$1,IF( Ecarts!B206=\"\",\"\",Ecarts!A206),\"\")","v":""},{"$f":"IF( Ecarts!$E206=$A$1,IF( Ecarts!C206=\"\",\"\",Ecarts!C206),\"\")","v":""},{"$f":"IF( Ecarts!$E206=$A$1, IF(Ecarts!F206=\"\",\"\",Ecarts!F206),\"\")","v":""},{"$f":"IF( Ecarts!$E206=$A$1, IF(Ecarts!I206=\"\",\"\",Ecarts!I206),\"\")","v":""},{"$f":"IF( Ecarts!$E206=$A$1, IF(Ecarts!J206=\"\",\"\",Ecarts!J206),\"\")","v":""},{"$f":"IF( Ecarts!$E206=$A$1, IF(Ecarts!K206=\"\",\"\",Ecarts!K206),\"\")","v":""},{"$f":"IF( Ecarts!$E206=$A$1, IF(Ecarts!L206=\"\",\"\",Ecarts!L206),\"\")","v":""},{"$f":"IF( Ecarts!$E206=$A$1, IF(Ecarts!M206=\"\",\"\",Ecarts!M206),\"\")","v":""},0,0]
[{"$f":"IF( Ecarts!$E207=$A$1,IF( Ecarts!B207=\"\",\"\",Ecarts!A207),\"\")","v":""},{"$f":"IF( Ecarts!$E207=$A$1,IF( Ecarts!C207=\"\",\"\",Ecarts!C207),\"\")","v":""},{"$f":"IF( Ecarts!$E207=$A$1, IF(Ecarts!F207=\"\",\"\",Ecarts!F207),\"\")","v":""},{"$f":"IF( Ecarts!$E207=$A$1, IF(Ecarts!I207=\"\",\"\",Ecarts!I207),\"\")","v":""},{"$f":"IF( Ecarts!$E207=$A$1, IF(Ecarts!J207=\"\",\"\",Ecarts!J207),\"\")","v":""},{"$f":"IF( Ecarts!$E207=$A$1, IF(Ecarts!K207=\"\",\"\",Ecarts!K207),\"\")","v":""},{"$f":"IF( Ecarts!$E207=$A$1, IF(Ecarts!L207=\"\",\"\",Ecarts!L207),\"\")","v":""},{"$f":"IF( Ecarts!$E207=$A$1, IF(Ecarts!M207=\"\",\"\",Ecarts!M207),\"\")","v":""},0,0]
[{"$f":"IF( Ecarts!$E208=$A$1,IF( Ecarts!B208=\"\",\"\",Ecarts!A208),\"\")","v":""},{"$f":"IF( Ecarts!$E208=$A$1,IF( Ecarts!C208=\"\",\"\",Ecarts!C208),\"\")","v":""},{"$f":"IF( Ecarts!$E208=$A$1, IF(Ecarts!F208=\"\",\"\",Ecarts!F208),\"\")","v":""},{"$f":"IF( Ecarts!$E208=$A$1, IF(Ecarts!I208=\"\",\"\",Ecarts!I208),\"\")","v":""},{"$f":"IF( Ecarts!$E208=$A$1, IF(Ecarts!J208=\"\",\"\",Ecarts!J208),\"\")","v":""},{"$f":"IF( Ecarts!$E208=$A$1, IF(Ecarts!K208=\"\",\"\",Ecarts!K208),\"\")","v":""},{"$f":"IF( Ecarts!$E208=$A$1, IF(Ecarts!L208=\"\",\"\",Ecarts!L208),\"\")","v":""},{"$f":"IF( Ecarts!$E208=$A$1, IF(Ecarts!M208=\"\",\"\",Ecarts!M208),\"\")","v":""},0,0]
[{"$f":"IF( Ecarts!$E209=$A$1,IF( Ecarts!B209=\"\",\"\",Ecarts!A209),\"\")","v":""},{"$f":"IF( Ecarts!$E209=$A$1,IF( Ecarts!C209=\"\",\"\",Ecarts!C209),\"\")","v":""},{"$f":"IF( Ecarts!$E209=$A$1, IF(Ecarts!F209=\"\",\"\",Ecarts!F209),\"\")","v":""},{"$f":"IF( Ecarts!$E209=$A$1, IF(Ecarts!I209=\"\",\"\",Ecarts!I209),\"\")","v":""},{"$f":"IF( Ecarts!$E209=$A$1, IF(Ecarts!J209=\"\",\"\",Ecarts!J209),\"\")","v":""},{"$f":"IF( Ecarts!$E209=$A$1, IF(Ecarts!K209=\"\",\"\",Ecarts!K209),\"\")","v":""},{"$f":"IF( Ecarts!$E209=$A$1, IF(Ecarts!L209=\"\",\"\",Ecarts!L209),\"\")","v":""},{"$f":"IF( Ecarts!$E209=$A$1, IF(Ecarts!M209=\"\",\"\",Ecarts!M209),\"\")","v":""},0,0]
[{"$f":"IF( Ecarts!$E210=$A$1,IF( Ecarts!B210=\"\",\"\",Ecarts!A210),\"\")","v":""},{"$f":"IF( Ecarts!$E210=$A$1,IF( Ecarts!C210=\"\",\"\",Ecarts!C210),\"\")","v":""},{"$f":"IF( Ecarts!$E210=$A$1, IF(Ecarts!F210=\"\",\"\",Ecarts!F210),\"\")","v":""},{"$f":"IF( Ecarts!$E210=$A$1, IF(Ecarts!I210=\"\",\"\",Ecarts!I210),\"\")","v":""},{"$f":"IF( Ecarts!$E210=$A$1, IF(Ecarts!J210=\"\",\"\",Ecarts!J210),\"\")","v":""},{"$f":"IF( Ecarts!$E210=$A$1, IF(Ecarts!K210=\"\",\"\",Ecarts!K210),\"\")","v":""},{"$f":"IF( Ecarts!$E210=$A$1, IF(Ecarts!L210=\"\",\"\",Ecarts!L210),\"\")","v":""},{"$f":"IF( Ecarts!$E210=$A$1, IF(Ecarts!M210=\"\",\"\",Ecarts!M210),\"\")","v":""},0,0]
[{"$f":"IF( Ecarts!$E211=$A$1,IF( Ecarts!B211=\"\",\"\",Ecarts!A211),\"\")","v":""},{"$f":"IF( Ecarts!$E211=$A$1,IF( Ecarts!C211=\"\",\"\",Ecarts!C211),\"\")","v":""},{"$f":"IF( Ecarts!$E211=$A$1, IF(Ecarts!F211=\"\",\"\",Ecarts!F211),\"\")","v":""},{"$f":"IF( Ecarts!$E211=$A$1, IF(Ecarts!I211=\"\",\"\",Ecarts!I211),\"\")","v":""},{"$f":"IF( Ecarts!$E211=$A$1, IF(Ecarts!J211=\"\",\"\",Ecarts!J211),\"\")","v":""},{"$f":"IF( Ecarts!$E211=$A$1, IF(Ecarts!K211=\"\",\"\",Ecarts!K211),\"\")","v":""},{"$f":"IF( Ecarts!$E211=$A$1, IF(Ecarts!L211=\"\",\"\",Ecarts!L211),\"\")","v":""},{"$f":"IF( Ecarts!$E211=$A$1, IF(Ecarts!M211=\"\",\"\",Ecarts!M211),\"\")","v":""},0,0]
[{"$f":"IF( Ecarts!$E212=$A$1,IF( Ecarts!B212=\"\",\"\",Ecarts!A212),\"\")","v":""},{"$f":"IF( Ecarts!$E212=$A$1,IF( Ecarts!C212=\"\",\"\",Ecarts!C212),\"\")","v":""},{"$f":"IF( Ecarts!$E212=$A$1, IF(Ecarts!F212=\"\",\"\",Ecarts!F212),\"\")","v":""},{"$f":"IF( Ecarts!$E212=$A$1, IF(Ecarts!I212=\"\",\"\",Ecarts!I212),\"\")","v":""},{"$f":"IF( Ecarts!$E212=$A$1, IF(Ecarts!J212=\"\",\"\",Ecarts!J212),\"\")","v":""},{"$f":"IF( Ecarts!$E212=$A$1, IF(Ecarts!K212=\"\",\"\",Ecarts!K212),\"\")","v":""},{"$f":"IF( Ecarts!$E212=$A$1, IF(Ecarts!L212=\"\",\"\",Ecarts!L212),\"\")","v":""},{"$f":"IF( Ecarts!$E212=$A$1, IF(Ecarts!M212=\"\",\"\",Ecarts!M212),\"\")","v":""},0,0]
[{"$f":"IF( Ecarts!$E213=$A$1,IF( Ecarts!B213=\"\",\"\",Ecarts!A213),\"\")","v":""},{"$f":"IF( Ecarts!$E213=$A$1,IF( Ecarts!C213=\"\",\"\",Ecarts!C213),\"\")","v":""},{"$f":"IF( Ecarts!$E213=$A$1, IF(Ecarts!F213=\"\",\"\",Ecarts!F213),\"\")","v":""},{"$f":"IF( Ecarts!$E213=$A$1, IF(Ecarts!I213=\"\",\"\",Ecarts!I213),\"\")","v":""},{"$f":"IF( Ecarts!$E213=$A$1, IF(Ecarts!J213=\"\",\"\",Ecarts!J213),\"\")","v":""},{"$f":"IF( Ecarts!$E213=$A$1, IF(Ecarts!K213=\"\",\"\",Ecarts!K213),\"\")","v":""},{"$f":"IF( Ecarts!$E213=$A$1, IF(Ecarts!L213=\"\",\"\",Ecarts!L213),\"\")","v":""},{"$f":"IF( Ecarts!$E213=$A$1, IF(Ecarts!M213=\"\",\"\",Ecarts!M213),\"\")","v":""},0,0]
[{"$f":"IF( Ecarts!$E214=$A$1,IF( Ecarts!B214=\"\",\"\",Ecarts!A214),\"\")","v":""},{"$f":"IF( Ecarts!$E214=$A$1,IF( Ecarts!C214=\"\",\"\",Ecarts!C214),\"\")","v":""},{"$f":"IF( Ecarts!$E214=$A$1, IF(Ecarts!F214=\"\",\"\",Ecarts!F214),\"\")","v":""},{"$f":"IF( Ecarts!$E214=$A$1, IF(Ecarts!I214=\"\",\"\",Ecarts!I214),\"\")","v":""},{"$f":"IF( Ecarts!$E214=$A$1, IF(Ecarts!J214=\"\",\"\",Ecarts!J214),\"\")","v":""},{"$f":"IF( Ecarts!$E214=$A$1, IF(Ecarts!K214=\"\",\"\",Ecarts!K214),\"\")","v":""},{"$f":"IF( Ecarts!$E214=$A$1, IF(Ecarts!L214=\"\",\"\",Ecarts!L214),\"\")","v":""},{"$f":"IF( Ecarts!$E214=$A$1, IF(Ecarts!M214=\"\",\"\",Ecarts!M214),\"\")","v":""},0,0]
[{"$f":"IF( Ecarts!$E215=$A$1,IF( Ecarts!B215=\"\",\"\",Ecarts!A215),\"\")","v":""},{"$f":"IF( Ecarts!$E215=$A$1,IF( Ecarts!C215=\"\",\"\",Ecarts!C215),\"\")","v":""},{"$f":"IF( Ecarts!$E215=$A$1, IF(Ecarts!F215=\"\",\"\",Ecarts!F215),\"\")","v":""},{"$f":"IF( Ecarts!$E215=$A$1, IF(Ecarts!I215=\"\",\"\",Ecarts!I215),\"\")","v":""},{"$f":"IF( Ecarts!$E215=$A$1, IF(Ecarts!J215=\"\",\"\",Ecarts!J215),\"\")","v":""},{"$f":"IF( Ecarts!$E215=$A$1, IF(Ecarts!K215=\"\",\"\",Ecarts!K215),\"\")","v":""},{"$f":"IF( Ecarts!$E215=$A$1, IF(Ecarts!L215=\"\",\"\",Ecarts!L215),\"\")","v":""},{"$f":"IF( Ecarts!$E215=$A$1, IF(Ecarts!M215=\"\",\"\",Ecarts!M215),\"\")","v":""},0,0]
[{"$f":"IF( Ecarts!$E216=$A$1,IF( Ecarts!B216=\"\",\"\",Ecarts!A216),\"\")","v":""},{"$f":"IF( Ecarts!$E216=$A$1,IF( Ecarts!C216=\"\",\"\",Ecarts!C216),\"\")","v":""},{"$f":"IF( Ecarts!$E216=$A$1, IF(Ecarts!F216=\"\",\"\",Ecarts!F216),\"\")","v":""},{"$f":"IF( Ecarts!$E216=$A$1, IF(Ecarts!I216=\"\",\"\",Ecarts!I216),\"\")","v":""},{"$f":"IF( Ecarts!$E216=$A$1, IF(Ecarts!J216=\"\",\"\",Ecarts!J216),\"\")","v":""},{"$f":"IF( Ecarts!$E216=$A$1, IF(Ecarts!K216=\"\",\"\",Ecarts!K216),\"\")","v":""},{"$f":"IF( Ecarts!$E216=$A$1, IF(Ecarts!L216=\"\",\"\",Ecarts!L216),\"\")","v":""},{"$f":"IF( Ecarts!$E216=$A$1, IF(Ecarts!M216=\"\",\"\",Ecarts!M216),\"\")","v":""},0,0]
[{"$f":"IF( Ecarts!$E217=$A$1,IF( Ecarts!B217=\"\",\"\",Ecarts!A217),\"\")","v":""},{"$f":"IF( Ecarts!$E217=$A$1,IF( Ecarts!C217=\"\",\"\",Ecarts!C217),\"\")","v":""},{"$f":"IF( Ecarts!$E217=$A$1, IF(Ecarts!F217=\"\",\"\",Ecarts!F217),\"\")","v":""},{"$f":"IF( Ecarts!$E217=$A$1, IF(Ecarts!I217=\"\",\"\",Ecarts!I217),\"\")","v":""},{"$f":"IF( Ecarts!$E217=$A$1, IF(Ecarts!J217=\"\",\"\",Ecarts!J217),\"\")","v":""},{"$f":"IF( Ecarts!$E217=$A$1, IF(Ecarts!K217=\"\",\"\",Ecarts!K217),\"\")","v":""},{"$f":"IF( Ecarts!$E217=$A$1, IF(Ecarts!L217=\"\",\"\",Ecarts!L217),\"\")","v":""},{"$f":"IF( Ecarts!$E217=$A$1, IF(Ecarts!M217=\"\",\"\",Ecarts!M217),\"\")","v":""},0,0]
[{"$f":"IF( Ecarts!$E218=$A$1,IF( Ecarts!B218=\"\",\"\",Ecarts!A218),\"\")","v":""},{"$f":"IF( Ecarts!$E218=$A$1,IF( Ecarts!C218=\"\",\"\",Ecarts!C218),\"\")","v":""},{"$f":"IF( Ecarts!$E218=$A$1, IF(Ecarts!F218=\"\",\"\",Ecarts!F218),\"\")","v":""},{"$f":"IF( Ecarts!$E218=$A$1, IF(Ecarts!I218=\"\",\"\",Ecarts!I218),\"\")","v":""},{"$f":"IF( Ecarts!$E218=$A$1, IF(Ecarts!J218=\"\",\"\",Ecarts!J218),\"\")","v":""},{"$f":"IF( Ecarts!$E218=$A$1, IF(Ecarts!K218=\"\",\"\",Ecarts!K218),\"\")","v":""},{"$f":"IF( Ecarts!$E218=$A$1, IF(Ecarts!L218=\"\",\"\",Ecarts!L218),\"\")","v":""},{"$f":"IF( Ecarts!$E218=$A$1, IF(Ecarts!M218=\"\",\"\",Ecarts!M218),\"\")","v":""},0,0]
[{"$f":"IF( Ecarts!$E219=$A$1,IF( Ecarts!B219=\"\",\"\",Ecarts!A219),\"\")","v":""},{"$f":"IF( Ecarts!$E219=$A$1,IF( Ecarts!C219=\"\",\"\",Ecarts!C219),\"\")","v":""},{"$f":"IF( Ecarts!$E219=$A$1, IF(Ecarts!F219=\"\",\"\",Ecarts!F219),\"\")","v":""},{"$f":"IF( Ecarts!$E219=$A$1, IF(Ecarts!I219=\"\",\"\",Ecarts!I219),\"\")","v":""},{"$f":"IF( Ecarts!$E219=$A$1, IF(Ecarts!J219=\"\",\"\",Ecarts!J219),\"\")","v":""},{"$f":"IF( Ecarts!$E219=$A$1, IF(Ecarts!K219=\"\",\"\",Ecarts!K219),\"\")","v":""},{"$f":"IF( Ecarts!$E219=$A$1, IF(Ecarts!L219=\"\",\"\",Ecarts!L219),\"\")","v":""},{"$f":"IF( Ecarts!$E219=$A$1, IF(Ecarts!M219=\"\",\"\",Ecarts!M219),\"\")","v":""},0,0]
[{"$f":"IF( Ecarts!$E220=$A$1,IF( Ecarts!B220=\"\",\"\",Ecarts!A220),\"\")","v":""},{"$f":"IF( Ecarts!$E220=$A$1,IF( Ecarts!C220=\"\",\"\",Ecarts!C220),\"\")","v":""},{"$f":"IF( Ecarts!$E220=$A$1, IF(Ecarts!F220=\"\",\"\",Ecarts!F220),\"\")","v":""},{"$f":"IF( Ecarts!$E220=$A$1, IF(Ecarts!I220=\"\",\"\",Ecarts!I220),\"\")","v":""},{"$f":"IF( Ecarts!$E220=$A$1, IF(Ecarts!J220=\"\",\"\",Ecarts!J220),\"\")","v":""},{"$f":"IF( Ecarts!$E220=$A$1, IF(Ecarts!K220=\"\",\"\",Ecarts!K220),\"\")","v":""},{"$f":"IF( Ecarts!$E220=$A$1, IF(Ecarts!L220=\"\",\"\",Ecarts!L220),\"\")","v":""},{"$f":"IF( Ecarts!$E220=$A$1, IF(Ecarts!M220=\"\",\"\",Ecarts!M220),\"\")","v":""},0,0]
[{"$f":"IF( Ecarts!$E221=$A$1,IF( Ecarts!B221=\"\",\"\",Ecarts!A221),\"\")","v":""},{"$f":"IF( Ecarts!$E221=$A$1,IF( Ecarts!C221=\"\",\"\",Ecarts!C221),\"\")","v":""},{"$f":"IF( Ecarts!$E221=$A$1, IF(Ecarts!F221=\"\",\"\",Ecarts!F221),\"\")","v":""},{"$f":"IF( Ecarts!$E221=$A$1, IF(Ecarts!I221=\"\",\"\",Ecarts!I221),\"\")","v":""},{"$f":"IF( Ecarts!$E221=$A$1, IF(Ecarts!J221=\"\",\"\",Ecarts!J221),\"\")","v":""},{"$f":"IF( Ecarts!$E221=$A$1, IF(Ecarts!K221=\"\",\"\",Ecarts!K221),\"\")","v":""},{"$f":"IF( Ecarts!$E221=$A$1, IF(Ecarts!L221=\"\",\"\",Ecarts!L221),\"\")","v":""},{"$f":"IF( Ecarts!$E221=$A$1, IF(Ecarts!M221=\"\",\"\",Ecarts!M221),\"\")","v":""},0,0]
[{"$f":"IF( Ecarts!$E222=$A$1,IF( Ecarts!B222=\"\",\"\",Ecarts!A222),\"\")","v":""},{"$f":"IF( Ecarts!$E222=$A$1,IF( Ecarts!C222=\"\",\"\",Ecarts!C222),\"\")","v":""},{"$f":"IF( Ecarts!$E222=$A$1, IF(Ecarts!F222=\"\",\"\",Ecarts!F222),\"\")","v":""},{"$f":"IF( Ecarts!$E222=$A$1, IF(Ecarts!I222=\"\",\"\",Ecarts!I222),\"\")","v":""},{"$f":"IF( Ecarts!$E222=$A$1, IF(Ecarts!J222=\"\",\"\",Ecarts!J222),\"\")","v":""},{"$f":"IF( Ecarts!$E222=$A$1, IF(Ecarts!K222=\"\",\"\",Ecarts!K222),\"\")","v":""},{"$f":"IF( Ecarts!$E222=$A$1, IF(Ecarts!L222=\"\",\"\",Ecarts!L222),\"\")","v":""},{"$f":"IF( Ecarts!$E222=$A$1, IF(Ecarts!M222=\"\",\"\",Ecarts!M222),\"\")","v":""},0,0]
[{"$f":"IF( Ecarts!$E223=$A$1,IF( Ecarts!B223=\"\",\"\",Ecarts!A223),\"\")","v":""},{"$f":"IF( Ecarts!$E223=$A$1,IF( Ecarts!C223=\"\",\"\",Ecarts!C223),\"\")","v":""},{"$f":"IF( Ecarts!$E223=$A$1, IF(Ecarts!F223=\"\",\"\",Ecarts!F223),\"\")","v":""},{"$f":"IF( Ecarts!$E223=$A$1, IF(Ecarts!I223=\"\",\"\",Ecarts!I223),\"\")","v":""},{"$f":"IF( Ecarts!$E223=$A$1, IF(Ecarts!J223=\"\",\"\",Ecarts!J223),\"\")","v":""},{"$f":"IF( Ecarts!$E223=$A$1, IF(Ecarts!K223=\"\",\"\",Ecarts!K223),\"\")","v":""},{"$f":"IF( Ecarts!$E223=$A$1, IF(Ecarts!L223=\"\",\"\",Ecarts!L223),\"\")","v":""},{"$f":"IF( Ecarts!$E223=$A$1, IF(Ecarts!M223=\"\",\"\",Ecarts!M223),\"\")","v":""},0,0]
[{"$f":"IF( Ecarts!$E224=$A$1,IF( Ecarts!B224=\"\",\"\",Ecarts!A224),\"\")","v":""},{"$f":"IF( Ecarts!$E224=$A$1,IF( Ecarts!C224=\"\",\"\",Ecarts!C224),\"\")","v":""},{"$f":"IF( Ecarts!$E224=$A$1, IF(Ecarts!F224=\"\",\"\",Ecarts!F224),\"\")","v":""},{"$f":"IF( Ecarts!$E224=$A$1, IF(Ecarts!I224=\"\",\"\",Ecarts!I224),\"\")","v":""},{"$f":"IF( Ecarts!$E224=$A$1, IF(Ecarts!J224=\"\",\"\",Ecarts!J224),\"\")","v":""},{"$f":"IF( Ecarts!$E224=$A$1, IF(Ecarts!K224=\"\",\"\",Ecarts!K224),\"\")","v":""},{"$f":"IF( Ecarts!$E224=$A$1, IF(Ecarts!L224=\"\",\"\",Ecarts!L224),\"\")","v":""},{"$f":"IF( Ecarts!$E224=$A$1, IF(Ecarts!M224=\"\",\"\",Ecarts!M224),\"\")","v":""},0,0]
[{"$f":"IF( Ecarts!$E225=$A$1,IF( Ecarts!B225=\"\",\"\",Ecarts!A225),\"\")","v":""},{"$f":"IF( Ecarts!$E225=$A$1,IF( Ecarts!C225=\"\",\"\",Ecarts!C225),\"\")","v":""},{"$f":"IF( Ecarts!$E225=$A$1, IF(Ecarts!F225=\"\",\"\",Ecarts!F225),\"\")","v":""},{"$f":"IF( Ecarts!$E225=$A$1, IF(Ecarts!I225=\"\",\"\",Ecarts!I225),\"\")","v":""},{"$f":"IF( Ecarts!$E225=$A$1, IF(Ecarts!J225=\"\",\"\",Ecarts!J225),\"\")","v":""},{"$f":"IF( Ecarts!$E225=$A$1, IF(Ecarts!K225=\"\",\"\",Ecarts!K225),\"\")","v":""},{"$f":"IF( Ecarts!$E225=$A$1, IF(Ecarts!L225=\"\",\"\",Ecarts!L225),\"\")","v":""},{"$f":"IF( Ecarts!$E225=$A$1, IF(Ecarts!M225=\"\",\"\",Ecarts!M225),\"\")","v":""},0,0]
[{"$f":"IF( Ecarts!$E226=$A$1,IF( Ecarts!B226=\"\",\"\",Ecarts!A226),\"\")","v":""},{"$f":"IF( Ecarts!$E226=$A$1,IF( Ecarts!C226=\"\",\"\",Ecarts!C226),\"\")","v":""},{"$f":"IF( Ecarts!$E226=$A$1, IF(Ecarts!F226=\"\",\"\",Ecarts!F226),\"\")","v":""},{"$f":"IF( Ecarts!$E226=$A$1, IF(Ecarts!I226=\"\",\"\",Ecarts!I226),\"\")","v":""},{"$f":"IF( Ecarts!$E226=$A$1, IF(Ecarts!J226=\"\",\"\",Ecarts!J226),\"\")","v":""},{"$f":"IF( Ecarts!$E226=$A$1, IF(Ecarts!K226=\"\",\"\",Ecarts!K226),\"\")","v":""},{"$f":"IF( Ecarts!$E226=$A$1, IF(Ecarts!L226=\"\",\"\",Ecarts!L226),\"\")","v":""},{"$f":"IF( Ecarts!$E226=$A$1, IF(Ecarts!M226=\"\",\"\",Ecarts!M226),\"\")","v":""},0,0]
[{"$f":"IF( Ecarts!$E227=$A$1,IF( Ecarts!B227=\"\",\"\",Ecarts!A227),\"\")","v":""},{"$f":"IF( Ecarts!$E227=$A$1,IF( Ecarts!C227=\"\",\"\",Ecarts!C227),\"\")","v":""},{"$f":"IF( Ecarts!$E227=$A$1, IF(Ecarts!F227=\"\",\"\",Ecarts!F227),\"\")","v":""},{"$f":"IF( Ecarts!$E227=$A$1, IF(Ecarts!I227=\"\",\"\",Ecarts!I227),\"\")","v":""},{"$f":"IF( Ecarts!$E227=$A$1, IF(Ecarts!J227=\"\",\"\",Ecarts!J227),\"\")","v":""},{"$f":"IF( Ecarts!$E227=$A$1, IF(Ecarts!K227=\"\",\"\",Ecarts!K227),\"\")","v":""},{"$f":"IF( Ecarts!$E227=$A$1, IF(Ecarts!L227=\"\",\"\",Ecarts!L227),\"\")","v":""},{"$f":"IF( Ecarts!$E227=$A$1, IF(Ecarts!M227=\"\",\"\",Ecarts!M227),\"\")","v":""},0,0]
[{"$f":"IF( Ecarts!$E228=$A$1,IF( Ecarts!B228=\"\",\"\",Ecarts!A228),\"\")","v":""},{"$f":"IF( Ecarts!$E228=$A$1,IF( Ecarts!C228=\"\",\"\",Ecarts!C228),\"\")","v":""},{"$f":"IF( Ecarts!$E228=$A$1, IF(Ecarts!F228=\"\",\"\",Ecarts!F228),\"\")","v":""},{"$f":"IF( Ecarts!$E228=$A$1, IF(Ecarts!I228=\"\",\"\",Ecarts!I228),\"\")","v":""},{"$f":"IF( Ecarts!$E228=$A$1, IF(Ecarts!J228=\"\",\"\",Ecarts!J228),\"\")","v":""},{"$f":"IF( Ecarts!$E228=$A$1, IF(Ecarts!K228=\"\",\"\",Ecarts!K228),\"\")","v":""},{"$f":"IF( Ecarts!$E228=$A$1, IF(Ecarts!L228=\"\",\"\",Ecarts!L228),\"\")","v":""},{"$f":"IF( Ecarts!$E228=$A$1, IF(Ecarts!M228=\"\",\"\",Ecarts!M228),\"\")","v":""},0,0]
[{"$f":"IF( Ecarts!$E229=$A$1,IF( Ecarts!B229=\"\",\"\",Ecarts!A229),\"\")","v":""},{"$f":"IF( Ecarts!$E229=$A$1,IF( Ecarts!C229=\"\",\"\",Ecarts!C229),\"\")","v":""},{"$f":"IF( Ecarts!$E229=$A$1, IF(Ecarts!F229=\"\",\"\",Ecarts!F229),\"\")","v":""},{"$f":"IF( Ecarts!$E229=$A$1, IF(Ecarts!I229=\"\",\"\",Ecarts!I229),\"\")","v":""},{"$f":"IF( Ecarts!$E229=$A$1, IF(Ecarts!J229=\"\",\"\",Ecarts!J229),\"\")","v":""},{"$f":"IF( Ecarts!$E229=$A$1, IF(Ecarts!K229=\"\",\"\",Ecarts!K229),\"\")","v":""},{"$f":"IF( Ecarts!$E229=$A$1, IF(Ecarts!L229=\"\",\"\",Ecarts!L229),\"\")","v":""},{"$f":"IF( Ecarts!$E229=$A$1, IF(Ecarts!M229=\"\",\"\",Ecarts!M229),\"\")","v":""},0,0]
[{"$f":"IF( Ecarts!$E230=$A$1,IF( Ecarts!B230=\"\",\"\",Ecarts!A230),\"\")","v":""},{"$f":"IF( Ecarts!$E230=$A$1,IF( Ecarts!C230=\"\",\"\",Ecarts!C230),\"\")","v":""},{"$f":"IF( Ecarts!$E230=$A$1, IF(Ecarts!F230=\"\",\"\",Ecarts!F230),\"\")","v":""},{"$f":"IF( Ecarts!$E230=$A$1, IF(Ecarts!I230=\"\",\"\",Ecarts!I230),\"\")","v":""},{"$f":"IF( Ecarts!$E230=$A$1, IF(Ecarts!J230=\"\",\"\",Ecarts!J230),\"\")","v":""},{"$f":"IF( Ecarts!$E230=$A$1, IF(Ecarts!K230=\"\",\"\",Ecarts!K230),\"\")","v":""},{"$f":"IF( Ecarts!$E230=$A$1, IF(Ecarts!L230=\"\",\"\",Ecarts!L230),\"\")","v":""},{"$f":"IF( Ecarts!$E230=$A$1, IF(Ecarts!M230=\"\",\"\",Ecarts!M230),\"\")","v":""},0,0]
[{"$f":"IF( Ecarts!$E231=$A$1,IF( Ecarts!B231=\"\",\"\",Ecarts!A231),\"\")","v":""},{"$f":"IF( Ecarts!$E231=$A$1,IF( Ecarts!C231=\"\",\"\",Ecarts!C231),\"\")","v":""},{"$f":"IF( Ecarts!$E231=$A$1, IF(Ecarts!F231=\"\",\"\",Ecarts!F231),\"\")","v":""},{"$f":"IF( Ecarts!$E231=$A$1, IF(Ecarts!I231=\"\",\"\",Ecarts!I231),\"\")","v":""},{"$f":"IF( Ecarts!$E231=$A$1, IF(Ecarts!J231=\"\",\"\",Ecarts!J231),\"\")","v":""},{"$f":"IF( Ecarts!$E231=$A$1, IF(Ecarts!K231=\"\",\"\",Ecarts!K231),\"\")","v":""},{"$f":"IF( Ecarts!$E231=$A$1, IF(Ecarts!L231=\"\",\"\",Ecarts!L231),\"\")","v":""},{"$f":"IF( Ecarts!$E231=$A$1, IF(Ecarts!M231=\"\",\"\",Ecarts!M231),\"\")","v":""},0,0]
[{"$f":"IF( Ecarts!$E232=$A$1,IF( Ecarts!B232=\"\",\"\",Ecarts!A232),\"\")","v":""},{"$f":"IF( Ecarts!$E232=$A$1,IF( Ecarts!C232=\"\",\"\",Ecarts!C232),\"\")","v":""},{"$f":"IF( Ecarts!$E232=$A$1, IF(Ecarts!F232=\"\",\"\",Ecarts!F232),\"\")","v":""},{"$f":"IF( Ecarts!$E232=$A$1, IF(Ecarts!I232=\"\",\"\",Ecarts!I232),\"\")","v":""},{"$f":"IF( Ecarts!$E232=$A$1, IF(Ecarts!J232=\"\",\"\",Ecarts!J232),\"\")","v":""},{"$f":"IF( Ecarts!$E232=$A$1, IF(Ecarts!K232=\"\",\"\",Ecarts!K232),\"\")","v":""},{"$f":"IF( Ecarts!$E232=$A$1, IF(Ecarts!L232=\"\",\"\",Ecarts!L232),\"\")","v":""},{"$f":"IF( Ecarts!$E232=$A$1, IF(Ecarts!M232=\"\",\"\",Ecarts!M232),\"\")","v":""},0,0]
[{"$f":"IF( Ecarts!$E233=$A$1,IF( Ecarts!B233=\"\",\"\",Ecarts!A233),\"\")","v":""},{"$f":"IF( Ecarts!$E233=$A$1,IF( Ecarts!C233=\"\",\"\",Ecarts!C233),\"\")","v":""},{"$f":"IF( Ecarts!$E233=$A$1, IF(Ecarts!F233=\"\",\"\",Ecarts!F233),\"\")","v":""},{"$f":"IF( Ecarts!$E233=$A$1, IF(Ecarts!I233=\"\",\"\",Ecarts!I233),\"\")","v":""},{"$f":"IF( Ecarts!$E233=$A$1, IF(Ecarts!J233=\"\",\"\",Ecarts!J233),\"\")","v":""},{"$f":"IF( Ecarts!$E233=$A$1, IF(Ecarts!K233=\"\",\"\",Ecarts!K233),\"\")","v":""},{"$f":"IF( Ecarts!$E233=$A$1, IF(Ecarts!L233=\"\",\"\",Ecarts!L233),\"\")","v":""},{"$f":"IF( Ecarts!$E233=$A$1, IF(Ecarts!M233=\"\",\"\",Ecarts!M233),\"\")","v":""},0,0]
[{"$f":"IF( Ecarts!$E234=$A$1,IF( Ecarts!B234=\"\",\"\",Ecarts!A234),\"\")","v":""},{"$f":"IF( Ecarts!$E234=$A$1,IF( Ecarts!C234=\"\",\"\",Ecarts!C234),\"\")","v":""},{"$f":"IF( Ecarts!$E234=$A$1, IF(Ecarts!F234=\"\",\"\",Ecarts!F234),\"\")","v":""},{"$f":"IF( Ecarts!$E234=$A$1, IF(Ecarts!I234=\"\",\"\",Ecarts!I234),\"\")","v":""},{"$f":"IF( Ecarts!$E234=$A$1, IF(Ecarts!J234=\"\",\"\",Ecarts!J234),\"\")","v":""},{"$f":"IF( Ecarts!$E234=$A$1, IF(Ecarts!K234=\"\",\"\",Ecarts!K234),\"\")","v":""},{"$f":"IF( Ecarts!$E234=$A$1, IF(Ecarts!L234=\"\",\"\",Ecarts!L234),\"\")","v":""},{"$f":"IF( Ecarts!$E234=$A$1, IF(Ecarts!M234=\"\",\"\",Ecarts!M234),\"\")","v":""},0,0]
[{"$f":"IF( Ecarts!$E235=$A$1,IF( Ecarts!B235=\"\",\"\",Ecarts!A235),\"\")","v":""},{"$f":"IF( Ecarts!$E235=$A$1,IF( Ecarts!C235=\"\",\"\",Ecarts!C235),\"\")","v":""},{"$f":"IF( Ecarts!$E235=$A$1, IF(Ecarts!F235=\"\",\"\",Ecarts!F235),\"\")","v":""},{"$f":"IF( Ecarts!$E235=$A$1, IF(Ecarts!I235=\"\",\"\",Ecarts!I235),\"\")","v":""},{"$f":"IF( Ecarts!$E235=$A$1, IF(Ecarts!J235=\"\",\"\",Ecarts!J235),\"\")","v":""},{"$f":"IF( Ecarts!$E235=$A$1, IF(Ecarts!K235=\"\",\"\",Ecarts!K235),\"\")","v":""},{"$f":"IF( Ecarts!$E235=$A$1, IF(Ecarts!L235=\"\",\"\",Ecarts!L235),\"\")","v":""},{"$f":"IF( Ecarts!$E235=$A$1, IF(Ecarts!M235=\"\",\"\",Ecarts!M235),\"\")","v":""},0,0]
[{"$f":"IF( Ecarts!$E236=$A$1,IF( Ecarts!B236=\"\",\"\",Ecarts!A236),\"\")","v":""},{"$f":"IF( Ecarts!$E236=$A$1,IF( Ecarts!C236=\"\",\"\",Ecarts!C236),\"\")","v":""},{"$f":"IF( Ecarts!$E236=$A$1, IF(Ecarts!F236=\"\",\"\",Ecarts!F236),\"\")","v":""},{"$f":"IF( Ecarts!$E236=$A$1, IF(Ecarts!I236=\"\",\"\",Ecarts!I236),\"\")","v":""},{"$f":"IF( Ecarts!$E236=$A$1, IF(Ecarts!J236=\"\",\"\",Ecarts!J236),\"\")","v":""},{"$f":"IF( Ecarts!$E236=$A$1, IF(Ecarts!K236=\"\",\"\",Ecarts!K236),\"\")","v":""},{"$f":"IF( Ecarts!$E236=$A$1, IF(Ecarts!L236=\"\",\"\",Ecarts!L236),\"\")","v":""},{"$f":"IF( Ecarts!$E236=$A$1, IF(Ecarts!M236=\"\",\"\",Ecarts!M236),\"\")","v":""},0,0]
[{"$f":"IF( Ecarts!$E237=$A$1,IF( Ecarts!B237=\"\",\"\",Ecarts!A237),\"\")","v":""},{"$f":"IF( Ecarts!$E237=$A$1,IF( Ecarts!C237=\"\",\"\",Ecarts!C237),\"\")","v":""},{"$f":"IF( Ecarts!$E237=$A$1, IF(Ecarts!F237=\"\",\"\",Ecarts!F237),\"\")","v":""},{"$f":"IF( Ecarts!$E237=$A$1, IF(Ecarts!I237=\"\",\"\",Ecarts!I237),\"\")","v":""},{"$f":"IF( Ecarts!$E237=$A$1, IF(Ecarts!J237=\"\",\"\",Ecarts!J237),\"\")","v":""},{"$f":"IF( Ecarts!$E237=$A$1, IF(Ecarts!K237=\"\",\"\",Ecarts!K237),\"\")","v":""},{"$f":"IF( Ecarts!$E237=$A$1, IF(Ecarts!L237=\"\",\"\",Ecarts!L237),\"\")","v":""},{"$f":"IF( Ecarts!$E237=$A$1, IF(Ecarts!M237=\"\",\"\",Ecarts!M237),\"\")","v":""},0,0]
[{"$f":"IF( Ecarts!$E238=$A$1,IF( Ecarts!B238=\"\",\"\",Ecarts!A238),\"\")","v":""},{"$f":"IF( Ecarts!$E238=$A$1,IF( Ecarts!C238=\"\",\"\",Ecarts!C238),\"\")","v":""},{"$f":"IF( Ecarts!$E238=$A$1, IF(Ecarts!F238=\"\",\"\",Ecarts!F238),\"\")","v":""},{"$f":"IF( Ecarts!$E238=$A$1, IF(Ecarts!I238=\"\",\"\",Ecarts!I238),\"\")","v":""},{"$f":"IF( Ecarts!$E238=$A$1, IF(Ecarts!J238=\"\",\"\",Ecarts!J238),\"\")","v":""},{"$f":"IF( Ecarts!$E238=$A$1, IF(Ecarts!K238=\"\",\"\",Ecarts!K238),\"\")","v":""},{"$f":"IF( Ecarts!$E238=$A$1, IF(Ecarts!L238=\"\",\"\",Ecarts!L238),\"\")","v":""},{"$f":"IF( Ecarts!$E238=$A$1, IF(Ecarts!M238=\"\",\"\",Ecarts!M238),\"\")","v":""},0,0]
[{"$f":"IF( Ecarts!$E239=$A$1,IF( Ecarts!B239=\"\",\"\",Ecarts!A239),\"\")","v":""},{"$f":"IF( Ecarts!$E239=$A$1,IF( Ecarts!C239=\"\",\"\",Ecarts!C239),\"\")","v":""},{"$f":"IF( Ecarts!$E239=$A$1, IF(Ecarts!F239=\"\",\"\",Ecarts!F239),\"\")","v":""},{"$f":"IF( Ecarts!$E239=$A$1, IF(Ecarts!I239=\"\",\"\",Ecarts!I239),\"\")","v":""},{"$f":"IF( Ecarts!$E239=$A$1, IF(Ecarts!J239=\"\",\"\",Ecarts!J239),\"\")","v":""},{"$f":"IF( Ecarts!$E239=$A$1, IF(Ecarts!K239=\"\",\"\",Ecarts!K239),\"\")","v":""},{"$f":"IF( Ecarts!$E239=$A$1, IF(Ecarts!L239=\"\",\"\",Ecarts!L239),\"\")","v":""},{"$f":"IF( Ecarts!$E239=$A$1, IF(Ecarts!M239=\"\",\"\",Ecarts!M239),\"\")","v":""},0,0]
[{"$f":"IF( Ecarts!$E240=$A$1,IF( Ecarts!B240=\"\",\"\",Ecarts!A240),\"\")","v":""},{"$f":"IF( Ecarts!$E240=$A$1,IF( Ecarts!C240=\"\",\"\",Ecarts!C240),\"\")","v":""},{"$f":"IF( Ecarts!$E240=$A$1, IF(Ecarts!F240=\"\",\"\",Ecarts!F240),\"\")","v":""},{"$f":"IF( Ecarts!$E240=$A$1, IF(Ecarts!I240=\"\",\"\",Ecarts!I240),\"\")","v":""},{"$f":"IF( Ecarts!$E240=$A$1, IF(Ecarts!J240=\"\",\"\",Ecarts!J240),\"\")","v":""},{"$f":"IF( Ecarts!$E240=$A$1, IF(Ecarts!K240=\"\",\"\",Ecarts!K240),\"\")","v":""},{"$f":"IF( Ecarts!$E240=$A$1, IF(Ecarts!L240=\"\",\"\",Ecarts!L240),\"\")","v":""},{"$f":"IF( Ecarts!$E240=$A$1, IF(Ecarts!M240=\"\",\"\",Ecarts!M240),\"\")","v":""},0,0]
[{"$f":"IF( Ecarts!$E241=$A$1,IF( Ecarts!B241=\"\",\"\",Ecarts!A241),\"\")","v":""},{"$f":"IF( Ecarts!$E241=$A$1,IF( Ecarts!C241=\"\",\"\",Ecarts!C241),\"\")","v":""},{"$f":"IF( Ecarts!$E241=$A$1, IF(Ecarts!F241=\"\",\"\",Ecarts!F241),\"\")","v":""},{"$f":"IF( Ecarts!$E241=$A$1, IF(Ecarts!I241=\"\",\"\",Ecarts!I241),\"\")","v":""},{"$f":"IF( Ecarts!$E241=$A$1, IF(Ecarts!J241=\"\",\"\",Ecarts!J241),\"\")","v":""},{"$f":"IF( Ecarts!$E241=$A$1, IF(Ecarts!K241=\"\",\"\",Ecarts!K241),\"\")","v":""},{"$f":"IF( Ecarts!$E241=$A$1, IF(Ecarts!L241=\"\",\"\",Ecarts!L241),\"\")","v":""},{"$f":"IF( Ecarts!$E241=$A$1, IF(Ecarts!M241=\"\",\"\",Ecarts!M241),\"\")","v":""},0,0]
[{"$f":"IF( Ecarts!$E242=$A$1,IF( Ecarts!B242=\"\",\"\",Ecarts!A242),\"\")","v":""},{"$f":"IF( Ecarts!$E242=$A$1,IF( Ecarts!C242=\"\",\"\",Ecarts!C242),\"\")","v":""},{"$f":"IF( Ecarts!$E242=$A$1, IF(Ecarts!F242=\"\",\"\",Ecarts!F242),\"\")","v":""},{"$f":"IF( Ecarts!$E242=$A$1, IF(Ecarts!I242=\"\",\"\",Ecarts!I242),\"\")","v":""},{"$f":"IF( Ecarts!$E242=$A$1, IF(Ecarts!J242=\"\",\"\",Ecarts!J242),\"\")","v":""},{"$f":"IF( Ecarts!$E242=$A$1, IF(Ecarts!K242=\"\",\"\",Ecarts!K242),\"\")","v":""},{"$f":"IF( Ecarts!$E242=$A$1, IF(Ecarts!L242=\"\",\"\",Ecarts!L242),\"\")","v":""},{"$f":"IF( Ecarts!$E242=$A$1, IF(Ecarts!M242=\"\",\"\",Ecarts!M242),\"\")","v":""},0,0]
[{"$f":"IF( Ecarts!$E243=$A$1,IF( Ecarts!B243=\"\",\"\",Ecarts!A243),\"\")","v":""},{"$f":"IF( Ecarts!$E243=$A$1,IF( Ecarts!C243=\"\",\"\",Ecarts!C243),\"\")","v":""},{"$f":"IF( Ecarts!$E243=$A$1, IF(Ecarts!F243=\"\",\"\",Ecarts!F243),\"\")","v":""},{"$f":"IF( Ecarts!$E243=$A$1, IF(Ecarts!I243=\"\",\"\",Ecarts!I243),\"\")","v":""},{"$f":"IF( Ecarts!$E243=$A$1, IF(Ecarts!J243=\"\",\"\",Ecarts!J243),\"\")","v":""},{"$f":"IF( Ecarts!$E243=$A$1, IF(Ecarts!K243=\"\",\"\",Ecarts!K243),\"\")","v":""},{"$f":"IF( Ecarts!$E243=$A$1, IF(Ecarts!L243=\"\",\"\",Ecarts!L243),\"\")","v":""},{"$f":"IF( Ecarts!$E243=$A$1, IF(Ecarts!M243=\"\",\"\",Ecarts!M243),\"\")","v":""},0,0]
[{"$f":"IF( Ecarts!$E244=$A$1,IF( Ecarts!B244=\"\",\"\",Ecarts!A244),\"\")","v":""},{"$f":"IF( Ecarts!$E244=$A$1,IF( Ecarts!C244=\"\",\"\",Ecarts!C244),\"\")","v":""},{"$f":"IF( Ecarts!$E244=$A$1, IF(Ecarts!F244=\"\",\"\",Ecarts!F244),\"\")","v":""},{"$f":"IF( Ecarts!$E244=$A$1, IF(Ecarts!I244=\"\",\"\",Ecarts!I244),\"\")","v":""},{"$f":"IF( Ecarts!$E244=$A$1, IF(Ecarts!J244=\"\",\"\",Ecarts!J244),\"\")","v":""},{"$f":"IF( Ecarts!$E244=$A$1, IF(Ecarts!K244=\"\",\"\",Ecarts!K244),\"\")","v":""},{"$f":"IF( Ecarts!$E244=$A$1, IF(Ecarts!L244=\"\",\"\",Ecarts!L244),\"\")","v":""},{"$f":"IF( Ecarts!$E244=$A$1, IF(Ecarts!M244=\"\",\"\",Ecarts!M244),\"\")","v":""},0,0]
[{"$f":"IF( Ecarts!$E245=$A$1,IF( Ecarts!B245=\"\",\"\",Ecarts!A245),\"\")","v":""},{"$f":"IF( Ecarts!$E245=$A$1,IF( Ecarts!C245=\"\",\"\",Ecarts!C245),\"\")","v":""},{"$f":"IF( Ecarts!$E245=$A$1, IF(Ecarts!F245=\"\",\"\",Ecarts!F245),\"\")","v":""},{"$f":"IF( Ecarts!$E245=$A$1, IF(Ecarts!I245=\"\",\"\",Ecarts!I245),\"\")","v":""},{"$f":"IF( Ecarts!$E245=$A$1, IF(Ecarts!J245=\"\",\"\",Ecarts!J245),\"\")","v":""},{"$f":"IF( Ecarts!$E245=$A$1, IF(Ecarts!K245=\"\",\"\",Ecarts!K245),\"\")","v":""},{"$f":"IF( Ecarts!$E245=$A$1, IF(Ecarts!L245=\"\",\"\",Ecarts!L245),\"\")","v":""},{"$f":"IF( Ecarts!$E245=$A$1, IF(Ecarts!M245=\"\",\"\",Ecarts!M245),\"\")","v":""},0,0]
[{"$f":"IF( Ecarts!$E246=$A$1,IF( Ecarts!B246=\"\",\"\",Ecarts!A246),\"\")","v":""},{"$f":"IF( Ecarts!$E246=$A$1,IF( Ecarts!C246=\"\",\"\",Ecarts!C246),\"\")","v":""},{"$f":"IF( Ecarts!$E246=$A$1, IF(Ecarts!F246=\"\",\"\",Ecarts!F246),\"\")","v":""},{"$f":"IF( Ecarts!$E246=$A$1, IF(Ecarts!I246=\"\",\"\",Ecarts!I246),\"\")","v":""},{"$f":"IF( Ecarts!$E246=$A$1, IF(Ecarts!J246=\"\",\"\",Ecarts!J246),\"\")","v":""},{"$f":"IF( Ecarts!$E246=$A$1, IF(Ecarts!K246=\"\",\"\",Ecarts!K246),\"\")","v":""},{"$f":"IF( Ecarts!$E246=$A$1, IF(Ecarts!L246=\"\",\"\",Ecarts!L246),\"\")","v":""},{"$f":"IF( Ecarts!$E246=$A$1, IF(Ecarts!M246=\"\",\"\",Ecarts!M246),\"\")","v":""},0,0]
[{"$f":"IF( Ecarts!$E247=$A$1,IF( Ecarts!B247=\"\",\"\",Ecarts!A247),\"\")","v":""},{"$f":"IF( Ecarts!$E247=$A$1,IF( Ecarts!C247=\"\",\"\",Ecarts!C247),\"\")","v":""},{"$f":"IF( Ecarts!$E247=$A$1, IF(Ecarts!F247=\"\",\"\",Ecarts!F247),\"\")","v":""},{"$f":"IF( Ecarts!$E247=$A$1, IF(Ecarts!I247=\"\",\"\",Ecarts!I247),\"\")","v":""},{"$f":"IF( Ecarts!$E247=$A$1, IF(Ecarts!J247=\"\",\"\",Ecarts!J247),\"\")","v":""},{"$f":"IF( Ecarts!$E247=$A$1, IF(Ecarts!K247=\"\",\"\",Ecarts!K247),\"\")","v":""},{"$f":"IF( Ecarts!$E247=$A$1, IF(Ecarts!L247=\"\",\"\",Ecarts!L247),\"\")","v":""},{"$f":"IF( Ecarts!$E247=$A$1, IF(Ecarts!M247=\"\",\"\",Ecarts!M247),\"\")","v":""},0,0]
[{"$f":"IF( Ecarts!$E248=$A$1,IF( Ecarts!B248=\"\",\"\",Ecarts!A248),\"\")","v":""},{"$f":"IF( Ecarts!$E248=$A$1,IF( Ecarts!C248=\"\",\"\",Ecarts!C248),\"\")","v":""},{"$f":"IF( Ecarts!$E248=$A$1, IF(Ecarts!F248=\"\",\"\",Ecarts!F248),\"\")","v":""},{"$f":"IF( Ecarts!$E248=$A$1, IF(Ecarts!I248=\"\",\"\",Ecarts!I248),\"\")","v":""},{"$f":"IF( Ecarts!$E248=$A$1, IF(Ecarts!J248=\"\",\"\",Ecarts!J248),\"\")","v":""},{"$f":"IF( Ecarts!$E248=$A$1, IF(Ecarts!K248=\"\",\"\",Ecarts!K248),\"\")","v":""},{"$f":"IF( Ecarts!$E248=$A$1, IF(Ecarts!L248=\"\",\"\",Ecarts!L248),\"\")","v":""},{"$f":"IF( Ecarts!$E248=$A$1, IF(Ecarts!M248=\"\",\"\",Ecarts!M248),\"\")","v":""},0,0]
[{"$f":"IF( Ecarts!$E249=$A$1,IF( Ecarts!B249=\"\",\"\",Ecarts!A249),\"\")","v":""},{"$f":"IF( Ecarts!$E249=$A$1,IF( Ecarts!C249=\"\",\"\",Ecarts!C249),\"\")","v":""},{"$f":"IF( Ecarts!$E249=$A$1, IF(Ecarts!F249=\"\",\"\",Ecarts!F249),\"\")","v":""},{"$f":"IF( Ecarts!$E249=$A$1, IF(Ecarts!I249=\"\",\"\",Ecarts!I249),\"\")","v":""},{"$f":"IF( Ecarts!$E249=$A$1, IF(Ecarts!J249=\"\",\"\",Ecarts!J249),\"\")","v":""},{"$f":"IF( Ecarts!$E249=$A$1, IF(Ecarts!K249=\"\",\"\",Ecarts!K249),\"\")","v":""},{"$f":"IF( Ecarts!$E249=$A$1, IF(Ecarts!L249=\"\",\"\",Ecarts!L249),\"\")","v":""},{"$f":"IF( Ecarts!$E249=$A$1, IF(Ecarts!M249=\"\",\"\",Ecarts!M249),\"\")","v":""},0,0]
[{"$f":"IF( Ecarts!$E250=$A$1,IF( Ecarts!B250=\"\",\"\",Ecarts!A250),\"\")","v":""},{"$f":"IF( Ecarts!$E250=$A$1,IF( Ecarts!C250=\"\",\"\",Ecarts!C250),\"\")","v":""},{"$f":"IF( Ecarts!$E250=$A$1, IF(Ecarts!F250=\"\",\"\",Ecarts!F250),\"\")","v":""},{"$f":"IF( Ecarts!$E250=$A$1, IF(Ecarts!I250=\"\",\"\",Ecarts!I250),\"\")","v":""},{"$f":"IF( Ecarts!$E250=$A$1, IF(Ecarts!J250=\"\",\"\",Ecarts!J250),\"\")","v":""},{"$f":"IF( Ecarts!$E250=$A$1, IF(Ecarts!K250=\"\",\"\",Ecarts!K250),\"\")","v":""},{"$f":"IF( Ecarts!$E250=$A$1, IF(Ecarts!L250=\"\",\"\",Ecarts!L250),\"\")","v":""},{"$f":"IF( Ecarts!$E250=$A$1, IF(Ecarts!M250=\"\",\"\",Ecarts!M250),\"\")","v":""},0,0]
[{"$f":"IF( Ecarts!$E251=$A$1,IF( Ecarts!B251=\"\",\"\",Ecarts!A251),\"\")","v":""},{"$f":"IF( Ecarts!$E251=$A$1,IF( Ecarts!C251=\"\",\"\",Ecarts!C251),\"\")","v":""},{"$f":"IF( Ecarts!$E251=$A$1, IF(Ecarts!F251=\"\",\"\",Ecarts!F251),\"\")","v":""},{"$f":"IF( Ecarts!$E251=$A$1, IF(Ecarts!I251=\"\",\"\",Ecarts!I251),\"\")","v":""},{"$f":"IF( Ecarts!$E251=$A$1, IF(Ecarts!J251=\"\",\"\",Ecarts!J251),\"\")","v":""},{"$f":"IF( Ecarts!$E251=$A$1, IF(Ecarts!K251=\"\",\"\",Ecarts!K251),\"\")","v":""},{"$f":"IF( Ecarts!$E251=$A$1, IF(Ecarts!L251=\"\",\"\",Ecarts!L251),\"\")","v":""},{"$f":"IF( Ecarts!$E251=$A$1, IF(Ecarts!M251=\"\",\"\",Ecarts!M251),\"\")","v":""},0,0]
[{"$f":"IF( Ecarts!$E252=$A$1,IF( Ecarts!B252=\"\",\"\",Ecarts!A252),\"\")","v":""},{"$f":"IF( Ecarts!$E252=$A$1,IF( Ecarts!C252=\"\",\"\",Ecarts!C252),\"\")","v":""},{"$f":"IF( Ecarts!$E252=$A$1, IF(Ecarts!F252=\"\",\"\",Ecarts!F252),\"\")","v":""},{"$f":"IF( Ecarts!$E252=$A$1, IF(Ecarts!I252=\"\",\"\",Ecarts!I252),\"\")","v":""},{"$f":"IF( Ecarts!$E252=$A$1, IF(Ecarts!J252=\"\",\"\",Ecarts!J252),\"\")","v":""},{"$f":"IF( Ecarts!$E252=$A$1, IF(Ecarts!K252=\"\",\"\",Ecarts!K252),\"\")","v":""},{"$f":"IF( Ecarts!$E252=$A$1, IF(Ecarts!L252=\"\",\"\",Ecarts!L252),\"\")","v":""},{"$f":"IF( Ecarts!$E252=$A$1, IF(Ecarts!M252=\"\",\"\",Ecarts!M252),\"\")","v":""},0,0]
[{"$f":"IF( Ecarts!$E253=$A$1,IF( Ecarts!B253=\"\",\"\",Ecarts!A253),\"\")","v":""},{"$f":"IF( Ecarts!$E253=$A$1,IF( Ecarts!C253=\"\",\"\",Ecarts!C253),\"\")","v":""},{"$f":"IF( Ecarts!$E253=$A$1, IF(Ecarts!F253=\"\",\"\",Ecarts!F253),\"\")","v":""},{"$f":"IF( Ecarts!$E253=$A$1, IF(Ecarts!I253=\"\",\"\",Ecarts!I253),\"\")","v":""},{"$f":"IF( Ecarts!$E253=$A$1, IF(Ecarts!J253=\"\",\"\",Ecarts!J253),\"\")","v":""},{"$f":"IF( Ecarts!$E253=$A$1, IF(Ecarts!K253=\"\",\"\",Ecarts!K253),\"\")","v":""},{"$f":"IF( Ecarts!$E253=$A$1, IF(Ecarts!L253=\"\",\"\",Ecarts!L253),\"\")","v":""},{"$f":"IF( Ecarts!$E253=$A$1, IF(Ecarts!M253=\"\",\"\",Ecarts!M253),\"\")","v":""},0,0]
[{"$f":"IF( Ecarts!$E254=$A$1,IF( Ecarts!B254=\"\",\"\",Ecarts!A254),\"\")","v":""},{"$f":"IF( Ecarts!$E254=$A$1,IF( Ecarts!C254=\"\",\"\",Ecarts!C254),\"\")","v":""},{"$f":"IF( Ecarts!$E254=$A$1, IF(Ecarts!F254=\"\",\"\",Ecarts!F254),\"\")","v":""},{"$f":"IF( Ecarts!$E254=$A$1, IF(Ecarts!I254=\"\",\"\",Ecarts!I254),\"\")","v":""},{"$f":"IF( Ecarts!$E254=$A$1, IF(Ecarts!J254=\"\",\"\",Ecarts!J254),\"\")","v":""},{"$f":"IF( Ecarts!$E254=$A$1, IF(Ecarts!K254=\"\",\"\",Ecarts!K254),\"\")","v":""},{"$f":"IF( Ecarts!$E254=$A$1, IF(Ecarts!L254=\"\",\"\",Ecarts!L254),\"\")","v":""},{"$f":"IF( Ecarts!$E254=$A$1, IF(Ecarts!M254=\"\",\"\",Ecarts!M254),\"\")","v":""},0,0]
[{"$f":"IF( Ecarts!$E255=$A$1,IF( Ecarts!B255=\"\",\"\",Ecarts!A255),\"\")","v":""},{"$f":"IF( Ecarts!$E255=$A$1,IF( Ecarts!C255=\"\",\"\",Ecarts!C255),\"\")","v":""},{"$f":"IF( Ecarts!$E255=$A$1, IF(Ecarts!F255=\"\",\"\",Ecarts!F255),\"\")","v":""},{"$f":"IF( Ecarts!$E255=$A$1, IF(Ecarts!I255=\"\",\"\",Ecarts!I255),\"\")","v":""},{"$f":"IF( Ecarts!$E255=$A$1, IF(Ecarts!J255=\"\",\"\",Ecarts!J255),\"\")","v":""},{"$f":"IF( Ecarts!$E255=$A$1, IF(Ecarts!K255=\"\",\"\",Ecarts!K255),\"\")","v":""},{"$f":"IF( Ecarts!$E255=$A$1, IF(Ecarts!L255=\"\",\"\",Ecarts!L255),\"\")","v":""},{"$f":"IF( Ecarts!$E255=$A$1, IF(Ecarts!M255=\"\",\"\",Ecarts!M255),\"\")","v":""},0,0]
[{"$f":"IF( Ecarts!$E256=$A$1,IF( Ecarts!B256=\"\",\"\",Ecarts!A256),\"\")","v":""},{"$f":"IF( Ecarts!$E256=$A$1,IF( Ecarts!C256=\"\",\"\",Ecarts!C256),\"\")","v":""},{"$f":"IF( Ecarts!$E256=$A$1, IF(Ecarts!F256=\"\",\"\",Ecarts!F256),\"\")","v":""},{"$f":"IF( Ecarts!$E256=$A$1, IF(Ecarts!I256=\"\",\"\",Ecarts!I256),\"\")","v":""},{"$f":"IF( Ecarts!$E256=$A$1, IF(Ecarts!J256=\"\",\"\",Ecarts!J256),\"\")","v":""},{"$f":"IF( Ecarts!$E256=$A$1, IF(Ecarts!K256=\"\",\"\",Ecarts!K256),\"\")","v":""},{"$f":"IF( Ecarts!$E256=$A$1, IF(Ecarts!L256=\"\",\"\",Ecarts!L256),\"\")","v":""},{"$f":"IF( Ecarts!$E256=$A$1, IF(Ecarts!M256=\"\",\"\",Ecarts!M256),\"\")","v":""},0,0]
[{"$f":"IF( Ecarts!$E257=$A$1,IF( Ecarts!B257=\"\",\"\",Ecarts!A257),\"\")","v":""},{"$f":"IF( Ecarts!$E257=$A$1,IF( Ecarts!C257=\"\",\"\",Ecarts!C257),\"\")","v":""},{"$f":"IF( Ecarts!$E257=$A$1, IF(Ecarts!F257=\"\",\"\",Ecarts!F257),\"\")","v":""},{"$f":"IF( Ecarts!$E257=$A$1, IF(Ecarts!I257=\"\",\"\",Ecarts!I257),\"\")","v":""},{"$f":"IF( Ecarts!$E257=$A$1, IF(Ecarts!J257=\"\",\"\",Ecarts!J257),\"\")","v":""},{"$f":"IF( Ecarts!$E257=$A$1, IF(Ecarts!K257=\"\",\"\",Ecarts!K257),\"\")","v":""},{"$f":"IF( Ecarts!$E257=$A$1, IF(Ecarts!L257=\"\",\"\",Ecarts!L257),\"\")","v":""},{"$f":"IF( Ecarts!$E257=$A$1, IF(Ecarts!M257=\"\",\"\",Ecarts!M257),\"\")","v":""},0,0]
[{"$f":"IF( Ecarts!$E258=$A$1,IF( Ecarts!B258=\"\",\"\",Ecarts!A258),\"\")","v":""},{"$f":"IF( Ecarts!$E258=$A$1,IF( Ecarts!C258=\"\",\"\",Ecarts!C258),\"\")","v":""},{"$f":"IF( Ecarts!$E258=$A$1, IF(Ecarts!F258=\"\",\"\",Ecarts!F258),\"\")","v":""},{"$f":"IF( Ecarts!$E258=$A$1, IF(Ecarts!I258=\"\",\"\",Ecarts!I258),\"\")","v":""},{"$f":"IF( Ecarts!$E258=$A$1, IF(Ecarts!J258=\"\",\"\",Ecarts!J258),\"\")","v":""},{"$f":"IF( Ecarts!$E258=$A$1, IF(Ecarts!K258=\"\",\"\",Ecarts!K258),\"\")","v":""},{"$f":"IF( Ecarts!$E258=$A$1, IF(Ecarts!L258=\"\",\"\",Ecarts!L258),\"\")","v":""},{"$f":"IF( Ecarts!$E258=$A$1, IF(Ecarts!M258=\"\",\"\",Ecarts!M258),\"\")","v":""},0,0]
[{"$f":"IF( Ecarts!$E259=$A$1,IF( Ecarts!B259=\"\",\"\",Ecarts!A259),\"\")","v":""},{"$f":"IF( Ecarts!$E259=$A$1,IF( Ecarts!C259=\"\",\"\",Ecarts!C259),\"\")","v":""},{"$f":"IF( Ecarts!$E259=$A$1, IF(Ecarts!F259=\"\",\"\",Ecarts!F259),\"\")","v":""},{"$f":"IF( Ecarts!$E259=$A$1, IF(Ecarts!I259=\"\",\"\",Ecarts!I259),\"\")","v":""},{"$f":"IF( Ecarts!$E259=$A$1, IF(Ecarts!J259=\"\",\"\",Ecarts!J259),\"\")","v":""},{"$f":"IF( Ecarts!$E259=$A$1, IF(Ecarts!K259=\"\",\"\",Ecarts!K259),\"\")","v":""},{"$f":"IF( Ecarts!$E259=$A$1, IF(Ecarts!L259=\"\",\"\",Ecarts!L259),\"\")","v":""},{"$f":"IF( Ecarts!$E259=$A$1, IF(Ecarts!M259=\"\",\"\",Ecarts!M259),\"\")","v":""},0,0]
[{"$f":"IF( Ecarts!$E260=$A$1,IF( Ecarts!B260=\"\",\"\",Ecarts!A260),\"\")","v":""},{"$f":"IF( Ecarts!$E260=$A$1,IF( Ecarts!C260=\"\",\"\",Ecarts!C260),\"\")","v":""},{"$f":"IF( Ecarts!$E260=$A$1, IF(Ecarts!F260=\"\",\"\",Ecarts!F260),\"\")","v":""},{"$f":"IF( Ecarts!$E260=$A$1, IF(Ecarts!I260=\"\",\"\",Ecarts!I260),\"\")","v":""},{"$f":"IF( Ecarts!$E260=$A$1, IF(Ecarts!J260=\"\",\"\",Ecarts!J260),\"\")","v":""},{"$f":"IF( Ecarts!$E260=$A$1, IF(Ecarts!K260=\"\",\"\",Ecarts!K260),\"\")","v":""},{"$f":"IF( Ecarts!$E260=$A$1, IF(Ecarts!L260=\"\",\"\",Ecarts!L260),\"\")","v":""},{"$f":"IF( Ecarts!$E260=$A$1, IF(Ecarts!M260=\"\",\"\",Ecarts!M260),\"\")","v":""},{"$f":"IF(B261=\"\",0,IF(G261=1,0,1))","v":0},{"$f":"IF(F261=\"\",0,IF(F261>(TODAY()-60),1,0))","v":0}]
[{"$f":"IF( Ecarts!$E261=$A$1,IF( Ecarts!B261=\"\",\"\",Ecarts!A261),\"\")","v":""},{"$f":"IF( Ecarts!$E261=$A$1,IF( Ecarts!C261=\"\",\"\",Ecarts!C261),\"\")","v":""},{"$f":"IF( Ecarts!$E261=$A$1, IF(Ecarts!F261=\"\",\"\",Ecarts!F261),\"\")","v":""},{"$f":"IF( Ecarts!$E261=$A$1, IF(Ecarts!I261=\"\",\"\",Ecarts!I261),\"\")","v":""},{"$f":"IF( Ecarts!$E261=$A$1, IF(Ecarts!J261=\"\",\"\",Ecarts!J261),\"\")","v":""},{"$f":"IF( Ecarts!$E261=$A$1, IF(Ecarts!K261=\"\",\"\",Ecarts!K261),\"\")","v":""},{"$f":"IF( Ecarts!$E261=$A$1, IF(Ecarts!L261=\"\",\"\",Ecarts!L261),\"\")","v":""},{"$f":"IF( Ecarts!$E261=$A$1, IF(Ecarts!M261=\"\",\"\",Ecarts!M261),\"\")","v":""},0,0]
[{"$f":"IF( Ecarts!$E262=$A$1,IF( Ecarts!B262=\"\",\"\",Ecarts!A262),\"\")","v":""},{"$f":"IF( Ecarts!$E262=$A$1,IF( Ecarts!C262=\"\",\"\",Ecarts!C262),\"\")","v":""},{"$f":"IF( Ecarts!$E262=$A$1, IF(Ecarts!F262=\"\",\"\",Ecarts!F262),\"\")","v":""},{"$f":"IF( Ecarts!$E262=$A$1, IF(Ecarts!I262=\"\",\"\",Ecarts!I262),\"\")","v":""},{"$f":"IF( Ecarts!$E262=$A$1, IF(Ecarts!J262=\"\",\"\",Ecarts!J262),\"\")","v":""},{"$f":"IF( Ecarts!$E262=$A$1, IF(Ecarts!K262=\"\",\"\",Ecarts!K262),\"\")","v":""},{"$f":"IF( Ecarts!$E262=$A$1, IF(Ecarts!L262=\"\",\"\",Ecarts!L262),\"\")","v":""},{"$f":"IF( Ecarts!$E262=$A$1, IF(Ecarts!M262=\"\",\"\",Ecarts!M262),\"\")","v":""},0,0]
[{"$f":"IF( Ecarts!$E263=$A$1,IF( Ecarts!B263=\"\",\"\",Ecarts!A263),\"\")","v":""},{"$f":"IF( Ecarts!$E263=$A$1,IF( Ecarts!C263=\"\",\"\",Ecarts!C263),\"\")","v":""},{"$f":"IF( Ecarts!$E263=$A$1, IF(Ecarts!F263=\"\",\"\",Ecarts!F263),\"\")","v":""},{"$f":"IF( Ecarts!$E263=$A$1, IF(Ecarts!I263=\"\",\"\",Ecarts!I263),\"\")","v":""},{"$f":"IF( Ecarts!$E263=$A$1, IF(Ecarts!J263=\"\",\"\",Ecarts!J263),\"\")","v":""},{"$f":"IF( Ecarts!$E263=$A$1, IF(Ecarts!K263=\"\",\"\",Ecarts!K263),\"\")","v":""},{"$f":"IF( Ecarts!$E263=$A$1, IF(Ecarts!L263=\"\",\"\",Ecarts!L263),\"\")","v":""},{"$f":"IF( Ecarts!$E263=$A$1, IF(Ecarts!M263=\"\",\"\",Ecarts!M263),\"\")","v":""},0,0]
[{"$f":"IF( Ecarts!$E264=$A$1,IF( Ecarts!B264=\"\",\"\",Ecarts!A264),\"\")","v":""},{"$f":"IF( Ecarts!$E264=$A$1,IF( Ecarts!C264=\"\",\"\",Ecarts!C264),\"\")","v":""},{"$f":"IF( Ecarts!$E264=$A$1, IF(Ecarts!F264=\"\",\"\",Ecarts!F264),\"\")","v":""},{"$f":"IF( Ecarts!$E264=$A$1, IF(Ecarts!I264=\"\",\"\",Ecarts!I264),\"\")","v":""},{"$f":"IF( Ecarts!$E264=$A$1, IF(Ecarts!J264=\"\",\"\",Ecarts!J264),\"\")","v":""},{"$f":"IF( Ecarts!$E264=$A$1, IF(Ecarts!K264=\"\",\"\",Ecarts!K264),\"\")","v":""},{"$f":"IF( Ecarts!$E264=$A$1, IF(Ecarts!L264=\"\",\"\",Ecarts!L264),\"\")","v":""},{"$f":"IF( Ecarts!$E264=$A$1, IF(Ecarts!M264=\"\",\"\",Ecarts!M264),\"\")","v":""},0,0]
[{"$f":"IF( Ecarts!$E265=$A$1,IF( Ecarts!B265=\"\",\"\",Ecarts!A265),\"\")","v":""},{"$f":"IF( Ecarts!$E265=$A$1,IF( Ecarts!C265=\"\",\"\",Ecarts!C265),\"\")","v":""},{"$f":"IF( Ecarts!$E265=$A$1, IF(Ecarts!F265=\"\",\"\",Ecarts!F265),\"\")","v":""},{"$f":"IF( Ecarts!$E265=$A$1, IF(Ecarts!I265=\"\",\"\",Ecarts!I265),\"\")","v":""},{"$f":"IF( Ecarts!$E265=$A$1, IF(Ecarts!J265=\"\",\"\",Ecarts!J265),\"\")","v":""},{"$f":"IF( Ecarts!$E265=$A$1, IF(Ecarts!K265=\"\",\"\",Ecarts!K265),\"\")","v":""},{"$f":"IF( Ecarts!$E265=$A$1, IF(Ecarts!L265=\"\",\"\",Ecarts!L265),\"\")","v":""},{"$f":"IF( Ecarts!$E265=$A$1, IF(Ecarts!M265=\"\",\"\",Ecarts!M265),\"\")","v":""},0,0]
[{"$f":"IF( Ecarts!$E266=$A$1,IF( Ecarts!B266=\"\",\"\",Ecarts!A266),\"\")","v":""},{"$f":"IF( Ecarts!$E266=$A$1,IF( Ecarts!C266=\"\",\"\",Ecarts!C266),\"\")","v":""},{"$f":"IF( Ecarts!$E266=$A$1, IF(Ecarts!F266=\"\",\"\",Ecarts!F266),\"\")","v":""},{"$f":"IF( Ecarts!$E266=$A$1, IF(Ecarts!I266=\"\",\"\",Ecarts!I266),\"\")","v":""},{"$f":"IF( Ecarts!$E266=$A$1, IF(Ecarts!J266=\"\",\"\",Ecarts!J266),\"\")","v":""},{"$f":"IF( Ecarts!$E266=$A$1, IF(Ecarts!K266=\"\",\"\",Ecarts!K266),\"\")","v":""},{"$f":"IF( Ecarts!$E266=$A$1, IF(Ecarts!L266=\"\",\"\",Ecarts!L266),\"\")","v":""},{"$f":"IF( Ecarts!$E266=$A$1, IF(Ecarts!M266=\"\",\"\",Ecarts!M266),\"\")","v":""},0,0]
[{"$f":"IF( Ecarts!$E267=$A$1,IF( Ecarts!B267=\"\",\"\",Ecarts!A267),\"\")","v":""},{"$f":"IF( Ecarts!$E267=$A$1,IF( Ecarts!C267=\"\",\"\",Ecarts!C267),\"\")","v":""},{"$f":"IF( Ecarts!$E267=$A$1, IF(Ecarts!F267=\"\",\"\",Ecarts!F267),\"\")","v":""},{"$f":"IF( Ecarts!$E267=$A$1, IF(Ecarts!I267=\"\",\"\",Ecarts!I267),\"\")","v":""},{"$f":"IF( Ecarts!$E267=$A$1, IF(Ecarts!J267=\"\",\"\",Ecarts!J267),\"\")","v":""},{"$f":"IF( Ecarts!$E267=$A$1, IF(Ecarts!K267=\"\",\"\",Ecarts!K267),\"\")","v":""},{"$f":"IF( Ecarts!$E267=$A$1, IF(Ecarts!L267=\"\",\"\",Ecarts!L267),\"\")","v":""},{"$f":"IF( Ecarts!$E267=$A$1, IF(Ecarts!M267=\"\",\"\",Ecarts!M267),\"\")","v":""},0,0]
[{"$f":"IF( Ecarts!$E268=$A$1,IF( Ecarts!B268=\"\",\"\",Ecarts!A268),\"\")","v":""},{"$f":"IF( Ecarts!$E268=$A$1,IF( Ecarts!C268=\"\",\"\",Ecarts!C268),\"\")","v":""},{"$f":"IF( Ecarts!$E268=$A$1, IF(Ecarts!F268=\"\",\"\",Ecarts!F268),\"\")","v":""},{"$f":"IF( Ecarts!$E268=$A$1, IF(Ecarts!I268=\"\",\"\",Ecarts!I268),\"\")","v":""},{"$f":"IF( Ecarts!$E268=$A$1, IF(Ecarts!J268=\"\",\"\",Ecarts!J268),\"\")","v":""},{"$f":"IF( Ecarts!$E268=$A$1, IF(Ecarts!K268=\"\",\"\",Ecarts!K268),\"\")","v":""},{"$f":"IF( Ecarts!$E268=$A$1, IF(Ecarts!L268=\"\",\"\",Ecarts!L268),\"\")","v":""},{"$f":"IF( Ecarts!$E268=$A$1, IF(Ecarts!M268=\"\",\"\",Ecarts!M268),\"\")","v":""},0,0]
[{"$f":"IF( Ecarts!$E269=$A$1,IF( Ecarts!B269=\"\",\"\",Ecarts!A269),\"\")","v":""},{"$f":"IF( Ecarts!$E269=$A$1,IF( Ecarts!C269=\"\",\"\",Ecarts!C269),\"\")","v":""},{"$f":"IF( Ecarts!$E269=$A$1, IF(Ecarts!F269=\"\",\"\",Ecarts!F269),\"\")","v":""},{"$f":"IF( Ecarts!$E269=$A$1, IF(Ecarts!I269=\"\",\"\",Ecarts!I269),\"\")","v":""},{"$f":"IF( Ecarts!$E269=$A$1, IF(Ecarts!J269=\"\",\"\",Ecarts!J269),\"\")","v":""},{"$f":"IF( Ecarts!$E269=$A$1, IF(Ecarts!K269=\"\",\"\",Ecarts!K269),\"\")","v":""},{"$f":"IF( Ecarts!$E269=$A$1, IF(Ecarts!L269=\"\",\"\",Ecarts!L269),\"\")","v":""},{"$f":"IF( Ecarts!$E269=$A$1, IF(Ecarts!M269=\"\",\"\",Ecarts!M269),\"\")","v":""},0,0]
[{"$f":"IF( Ecarts!$E270=$A$1,IF( Ecarts!B270=\"\",\"\",Ecarts!A270),\"\")","v":""},{"$f":"IF( Ecarts!$E270=$A$1,IF( Ecarts!C270=\"\",\"\",Ecarts!C270),\"\")","v":""},{"$f":"IF( Ecarts!$E270=$A$1, IF(Ecarts!F270=\"\",\"\",Ecarts!F270),\"\")","v":""},{"$f":"IF( Ecarts!$E270=$A$1, IF(Ecarts!I270=\"\",\"\",Ecarts!I270),\"\")","v":""},{"$f":"IF( Ecarts!$E270=$A$1, IF(Ecarts!J270=\"\",\"\",Ecarts!J270),\"\")","v":""},{"$f":"IF( Ecarts!$E270=$A$1, IF(Ecarts!K270=\"\",\"\",Ecarts!K270),\"\")","v":""},{"$f":"IF( Ecarts!$E270=$A$1, IF(Ecarts!L270=\"\",\"\",Ecarts!L270),\"\")","v":""},{"$f":"IF( Ecarts!$E270=$A$1, IF(Ecarts!M270=\"\",\"\",Ecarts!M270),\"\")","v":""},0,0]
[{"$f":"IF( Ecarts!$E271=$A$1,IF( Ecarts!B271=\"\",\"\",Ecarts!A271),\"\")","v":""},{"$f":"IF( Ecarts!$E271=$A$1,IF( Ecarts!C271=\"\",\"\",Ecarts!C271),\"\")","v":""},{"$f":"IF( Ecarts!$E271=$A$1, IF(Ecarts!F271=\"\",\"\",Ecarts!F271),\"\")","v":""},{"$f":"IF( Ecarts!$E271=$A$1, IF(Ecarts!I271=\"\",\"\",Ecarts!I271),\"\")","v":""},{"$f":"IF( Ecarts!$E271=$A$1, IF(Ecarts!J271=\"\",\"\",Ecarts!J271),\"\")","v":""},{"$f":"IF( Ecarts!$E271=$A$1, IF(Ecarts!K271=\"\",\"\",Ecarts!K271),\"\")","v":""},{"$f":"IF( Ecarts!$E271=$A$1, IF(Ecarts!L271=\"\",\"\",Ecarts!L271),\"\")","v":""},{"$f":"IF( Ecarts!$E271=$A$1, IF(Ecarts!M271=\"\",\"\",Ecarts!M271),\"\")","v":""},0,0]
[{"$f":"IF( Ecarts!$E272=$A$1,IF( Ecarts!B272=\"\",\"\",Ecarts!A272),\"\")","v":""},{"$f":"IF( Ecarts!$E272=$A$1,IF( Ecarts!C272=\"\",\"\",Ecarts!C272),\"\")","v":""},{"$f":"IF( Ecarts!$E272=$A$1, IF(Ecarts!F272=\"\",\"\",Ecarts!F272),\"\")","v":""},{"$f":"IF( Ecarts!$E272=$A$1, IF(Ecarts!I272=\"\",\"\",Ecarts!I272),\"\")","v":""},{"$f":"IF( Ecarts!$E272=$A$1, IF(Ecarts!J272=\"\",\"\",Ecarts!J272),\"\")","v":""},{"$f":"IF( Ecarts!$E272=$A$1, IF(Ecarts!K272=\"\",\"\",Ecarts!K272),\"\")","v":""},{"$f":"IF( Ecarts!$E272=$A$1, IF(Ecarts!L272=\"\",\"\",Ecarts!L272),\"\")","v":""},{"$f":"IF( Ecarts!$E272=$A$1, IF(Ecarts!M272=\"\",\"\",Ecarts!M272),\"\")","v":""},0,0]
[{"$f":"IF( Ecarts!$E273=$A$1,IF( Ecarts!B273=\"\",\"\",Ecarts!A273),\"\")","v":""},{"$f":"IF( Ecarts!$E273=$A$1,IF( Ecarts!C273=\"\",\"\",Ecarts!C273),\"\")","v":""},{"$f":"IF( Ecarts!$E273=$A$1, IF(Ecarts!F273=\"\",\"\",Ecarts!F273),\"\")","v":""},{"$f":"IF( Ecarts!$E273=$A$1, IF(Ecarts!I273=\"\",\"\",Ecarts!I273),\"\")","v":""},{"$f":"IF( Ecarts!$E273=$A$1, IF(Ecarts!J273=\"\",\"\",Ecarts!J273),\"\")","v":""},{"$f":"IF( Ecarts!$E273=$A$1, IF(Ecarts!K273=\"\",\"\",Ecarts!K273),\"\")","v":""},{"$f":"IF( Ecarts!$E273=$A$1, IF(Ecarts!L273=\"\",\"\",Ecarts!L273),\"\")","v":""},{"$f":"IF( Ecarts!$E273=$A$1, IF(Ecarts!M273=\"\",\"\",Ecarts!M273),\"\")","v":""},0,0]
[{"$f":"IF( Ecarts!$E274=$A$1,IF( Ecarts!B274=\"\",\"\",Ecarts!A274),\"\")","v":""},{"$f":"IF( Ecarts!$E274=$A$1,IF( Ecarts!C274=\"\",\"\",Ecarts!C274),\"\")","v":""},{"$f":"IF( Ecarts!$E274=$A$1, IF(Ecarts!F274=\"\",\"\",Ecarts!F274),\"\")","v":""},{"$f":"IF( Ecarts!$E274=$A$1, IF(Ecarts!I274=\"\",\"\",Ecarts!I274),\"\")","v":""},{"$f":"IF( Ecarts!$E274=$A$1, IF(Ecarts!J274=\"\",\"\",Ecarts!J274),\"\")","v":""},{"$f":"IF( Ecarts!$E274=$A$1, IF(Ecarts!K274=\"\",\"\",Ecarts!K274),\"\")","v":""},{"$f":"IF( Ecarts!$E274=$A$1, IF(Ecarts!L274=\"\",\"\",Ecarts!L274),\"\")","v":""},{"$f":"IF( Ecarts!$E274=$A$1, IF(Ecarts!M274=\"\",\"\",Ecarts!M274),\"\")","v":""},0,0]
[{"$f":"IF( Ecarts!$E275=$A$1,IF( Ecarts!B275=\"\",\"\",Ecarts!A275),\"\")","v":""},{"$f":"IF( Ecarts!$E275=$A$1,IF( Ecarts!C275=\"\",\"\",Ecarts!C275),\"\")","v":""},{"$f":"IF( Ecarts!$E275=$A$1, IF(Ecarts!F275=\"\",\"\",Ecarts!F275),\"\")","v":""},{"$f":"IF( Ecarts!$E275=$A$1, IF(Ecarts!I275=\"\",\"\",Ecarts!I275),\"\")","v":""},{"$f":"IF( Ecarts!$E275=$A$1, IF(Ecarts!J275=\"\",\"\",Ecarts!J275),\"\")","v":""},{"$f":"IF( Ecarts!$E275=$A$1, IF(Ecarts!K275=\"\",\"\",Ecarts!K275),\"\")","v":""},{"$f":"IF( Ecarts!$E275=$A$1, IF(Ecarts!L275=\"\",\"\",Ecarts!L275),\"\")","v":""},{"$f":"IF( Ecarts!$E275=$A$1, IF(Ecarts!M275=\"\",\"\",Ecarts!M275),\"\")","v":""},0,0]
[{"$f":"IF( Ecarts!$E276=$A$1,IF( Ecarts!B276=\"\",\"\",Ecarts!A276),\"\")","v":""},{"$f":"IF( Ecarts!$E276=$A$1,IF( Ecarts!C276=\"\",\"\",Ecarts!C276),\"\")","v":""},{"$f":"IF( Ecarts!$E276=$A$1, IF(Ecarts!F276=\"\",\"\",Ecarts!F276),\"\")","v":""},{"$f":"IF( Ecarts!$E276=$A$1, IF(Ecarts!I276=\"\",\"\",Ecarts!I276),\"\")","v":""},{"$f":"IF( Ecarts!$E276=$A$1, IF(Ecarts!J276=\"\",\"\",Ecarts!J276),\"\")","v":""},{"$f":"IF( Ecarts!$E276=$A$1, IF(Ecarts!K276=\"\",\"\",Ecarts!K276),\"\")","v":""},{"$f":"IF( Ecarts!$E276=$A$1, IF(Ecarts!L276=\"\",\"\",Ecarts!L276),\"\")","v":""},{"$f":"IF( Ecarts!$E276=$A$1, IF(Ecarts!M276=\"\",\"\",Ecarts!M276),\"\")","v":""},0,0]
[{"$f":"IF( Ecarts!$E277=$A$1,IF( Ecarts!B277=\"\",\"\",Ecarts!A277),\"\")","v":""},{"$f":"IF( Ecarts!$E277=$A$1,IF( Ecarts!C277=\"\",\"\",Ecarts!C277),\"\")","v":""},{"$f":"IF( Ecarts!$E277=$A$1, IF(Ecarts!F277=\"\",\"\",Ecarts!F277),\"\")","v":""},{"$f":"IF( Ecarts!$E277=$A$1, IF(Ecarts!I277=\"\",\"\",Ecarts!I277),\"\")","v":""},{"$f":"IF( Ecarts!$E277=$A$1, IF(Ecarts!J277=\"\",\"\",Ecarts!J277),\"\")","v":""},{"$f":"IF( Ecarts!$E277=$A$1, IF(Ecarts!K277=\"\",\"\",Ecarts!K277),\"\")","v":""},{"$f":"IF( Ecarts!$E277=$A$1, IF(Ecarts!L277=\"\",\"\",Ecarts!L277),\"\")","v":""},{"$f":"IF( Ecarts!$E277=$A$1, IF(Ecarts!M277=\"\",\"\",Ecarts!M277),\"\")","v":""},0,0]
[{"$f":"IF( Ecarts!$E278=$A$1,IF( Ecarts!B278=\"\",\"\",Ecarts!A278),\"\")","v":""},{"$f":"IF( Ecarts!$E278=$A$1,IF( Ecarts!C278=\"\",\"\",Ecarts!C278),\"\")","v":""},{"$f":"IF( Ecarts!$E278=$A$1, IF(Ecarts!F278=\"\",\"\",Ecarts!F278),\"\")","v":""},{"$f":"IF( Ecarts!$E278=$A$1, IF(Ecarts!I278=\"\",\"\",Ecarts!I278),\"\")","v":""},{"$f":"IF( Ecarts!$E278=$A$1, IF(Ecarts!J278=\"\",\"\",Ecarts!J278),\"\")","v":""},{"$f":"IF( Ecarts!$E278=$A$1, IF(Ecarts!K278=\"\",\"\",Ecarts!K278),\"\")","v":""},{"$f":"IF( Ecarts!$E278=$A$1, IF(Ecarts!L278=\"\",\"\",Ecarts!L278),\"\")","v":""},{"$f":"IF( Ecarts!$E278=$A$1, IF(Ecarts!M278=\"\",\"\",Ecarts!M278),\"\")","v":""},0,0]
[{"$f":"IF( Ecarts!$E279=$A$1,IF( Ecarts!B279=\"\",\"\",Ecarts!A279),\"\")","v":""},{"$f":"IF( Ecarts!$E279=$A$1,IF( Ecarts!C279=\"\",\"\",Ecarts!C279),\"\")","v":""},{"$f":"IF( Ecarts!$E279=$A$1, IF(Ecarts!F279=\"\",\"\",Ecarts!F279),\"\")","v":""},{"$f":"IF( Ecarts!$E279=$A$1, IF(Ecarts!I279=\"\",\"\",Ecarts!I279),\"\")","v":""},{"$f":"IF( Ecarts!$E279=$A$1, IF(Ecarts!J279=\"\",\"\",Ecarts!J279),\"\")","v":""},{"$f":"IF( Ecarts!$E279=$A$1, IF(Ecarts!K279=\"\",\"\",Ecarts!K279),\"\")","v":""},{"$f":"IF( Ecarts!$E279=$A$1, IF(Ecarts!L279=\"\",\"\",Ecarts!L279),\"\")","v":""},{"$f":"IF( Ecarts!$E279=$A$1, IF(Ecarts!M279=\"\",\"\",Ecarts!M279),\"\")","v":""},0,0]
[{"$f":"IF( Ecarts!$E280=$A$1,IF( Ecarts!B280=\"\",\"\",Ecarts!A280),\"\")","v":""},{"$f":"IF( Ecarts!$E280=$A$1,IF( Ecarts!C280=\"\",\"\",Ecarts!C280),\"\")","v":""},{"$f":"IF( Ecarts!$E280=$A$1, IF(Ecarts!F280=\"\",\"\",Ecarts!F280),\"\")","v":""},{"$f":"IF( Ecarts!$E280=$A$1, IF(Ecarts!I280=\"\",\"\",Ecarts!I280),\"\")","v":""},{"$f":"IF( Ecarts!$E280=$A$1, IF(Ecarts!J280=\"\",\"\",Ecarts!J280),\"\")","v":""},{"$f":"IF( Ecarts!$E280=$A$1, IF(Ecarts!K280=\"\",\"\",Ecarts!K280),\"\")","v":""},{"$f":"IF( Ecarts!$E280=$A$1, IF(Ecarts!L280=\"\",\"\",Ecarts!L280),\"\")","v":""},{"$f":"IF( Ecarts!$E280=$A$1, IF(Ecarts!M280=\"\",\"\",Ecarts!M280),\"\")","v":""},0,0]
[{"$f":"IF( Ecarts!$E281=$A$1,IF( Ecarts!B281=\"\",\"\",Ecarts!A281),\"\")","v":""},{"$f":"IF( Ecarts!$E281=$A$1,IF( Ecarts!C281=\"\",\"\",Ecarts!C281),\"\")","v":""},{"$f":"IF( Ecarts!$E281=$A$1, IF(Ecarts!F281=\"\",\"\",Ecarts!F281),\"\")","v":""},{"$f":"IF( Ecarts!$E281=$A$1, IF(Ecarts!I281=\"\",\"\",Ecarts!I281),\"\")","v":""},{"$f":"IF( Ecarts!$E281=$A$1, IF(Ecarts!J281=\"\",\"\",Ecarts!J281),\"\")","v":""},{"$f":"IF( Ecarts!$E281=$A$1, IF(Ecarts!K281=\"\",\"\",Ecarts!K281),\"\")","v":""},{"$f":"IF( Ecarts!$E281=$A$1, IF(Ecarts!L281=\"\",\"\",Ecarts!L281),\"\")","v":""},{"$f":"IF( Ecarts!$E281=$A$1, IF(Ecarts!M281=\"\",\"\",Ecarts!M281),\"\")","v":""},0,0]
[{"$f":"IF( Ecarts!$E282=$A$1,IF( Ecarts!B282=\"\",\"\",Ecarts!A282),\"\")","v":""},{"$f":"IF( Ecarts!$E282=$A$1,IF( Ecarts!C282=\"\",\"\",Ecarts!C282),\"\")","v":""},{"$f":"IF( Ecarts!$E282=$A$1, IF(Ecarts!F282=\"\",\"\",Ecarts!F282),\"\")","v":""},{"$f":"IF( Ecarts!$E282=$A$1, IF(Ecarts!I282=\"\",\"\",Ecarts!I282),\"\")","v":""},{"$f":"IF( Ecarts!$E282=$A$1, IF(Ecarts!J282=\"\",\"\",Ecarts!J282),\"\")","v":""},{"$f":"IF( Ecarts!$E282=$A$1, IF(Ecarts!K282=\"\",\"\",Ecarts!K282),\"\")","v":""},{"$f":"IF( Ecarts!$E282=$A$1, IF(Ecarts!L282=\"\",\"\",Ecarts!L282),\"\")","v":""},{"$f":"IF( Ecarts!$E282=$A$1, IF(Ecarts!M282=\"\",\"\",Ecarts!M282),\"\")","v":""},0,0]
[{"$f":"IF( Ecarts!$E283=$A$1,IF( Ecarts!B283=\"\",\"\",Ecarts!A283),\"\")","v":""},{"$f":"IF( Ecarts!$E283=$A$1,IF( Ecarts!C283=\"\",\"\",Ecarts!C283),\"\")","v":""},{"$f":"IF( Ecarts!$E283=$A$1, IF(Ecarts!F283=\"\",\"\",Ecarts!F283),\"\")","v":""},{"$f":"IF( Ecarts!$E283=$A$1, IF(Ecarts!I283=\"\",\"\",Ecarts!I283),\"\")","v":""},{"$f":"IF( Ecarts!$E283=$A$1, IF(Ecarts!J283=\"\",\"\",Ecarts!J283),\"\")","v":""},{"$f":"IF( Ecarts!$E283=$A$1, IF(Ecarts!K283=\"\",\"\",Ecarts!K283),\"\")","v":""},{"$f":"IF( Ecarts!$E283=$A$1, IF(Ecarts!L283=\"\",\"\",Ecarts!L283),\"\")","v":""},{"$f":"IF( Ecarts!$E283=$A$1, IF(Ecarts!M283=\"\",\"\",Ecarts!M283),\"\")","v":""},0,0]
[{"$f":"IF( Ecarts!$E284=$A$1,IF( Ecarts!B284=\"\",\"\",Ecarts!A284),\"\")","v":""},{"$f":"IF( Ecarts!$E284=$A$1,IF( Ecarts!C284=\"\",\"\",Ecarts!C284),\"\")","v":""},{"$f":"IF( Ecarts!$E284=$A$1, IF(Ecarts!F284=\"\",\"\",Ecarts!F284),\"\")","v":""},{"$f":"IF( Ecarts!$E284=$A$1, IF(Ecarts!I284=\"\",\"\",Ecarts!I284),\"\")","v":""},{"$f":"IF( Ecarts!$E284=$A$1, IF(Ecarts!J284=\"\",\"\",Ecarts!J284),\"\")","v":""},{"$f":"IF( Ecarts!$E284=$A$1, IF(Ecarts!K284=\"\",\"\",Ecarts!K284),\"\")","v":""},{"$f":"IF( Ecarts!$E284=$A$1, IF(Ecarts!L284=\"\",\"\",Ecarts!L284),\"\")","v":""},{"$f":"IF( Ecarts!$E284=$A$1, IF(Ecarts!M284=\"\",\"\",Ecarts!M284),\"\")","v":""},0,0]
[{"$f":"IF( Ecarts!$E285=$A$1,IF( Ecarts!B285=\"\",\"\",Ecarts!A285),\"\")","v":""},{"$f":"IF( Ecarts!$E285=$A$1,IF( Ecarts!C285=\"\",\"\",Ecarts!C285),\"\")","v":""},{"$f":"IF( Ecarts!$E285=$A$1, IF(Ecarts!F285=\"\",\"\",Ecarts!F285),\"\")","v":""},{"$f":"IF( Ecarts!$E285=$A$1, IF(Ecarts!I285=\"\",\"\",Ecarts!I285),\"\")","v":""},{"$f":"IF( Ecarts!$E285=$A$1, IF(Ecarts!J285=\"\",\"\",Ecarts!J285),\"\")","v":""},{"$f":"IF( Ecarts!$E285=$A$1, IF(Ecarts!K285=\"\",\"\",Ecarts!K285),\"\")","v":""},{"$f":"IF( Ecarts!$E285=$A$1, IF(Ecarts!L285=\"\",\"\",Ecarts!L285),\"\")","v":""},{"$f":"IF( Ecarts!$E285=$A$1, IF(Ecarts!M285=\"\",\"\",Ecarts!M285),\"\")","v":""},0,0]
[{"$f":"IF( Ecarts!$E286=$A$1,IF( Ecarts!B286=\"\",\"\",Ecarts!A286),\"\")","v":""},{"$f":"IF( Ecarts!$E286=$A$1,IF( Ecarts!C286=\"\",\"\",Ecarts!C286),\"\")","v":""},{"$f":"IF( Ecarts!$E286=$A$1, IF(Ecarts!F286=\"\",\"\",Ecarts!F286),\"\")","v":""},{"$f":"IF( Ecarts!$E286=$A$1, IF(Ecarts!I286=\"\",\"\",Ecarts!I286),\"\")","v":""},{"$f":"IF( Ecarts!$E286=$A$1, IF(Ecarts!J286=\"\",\"\",Ecarts!J286),\"\")","v":""},{"$f":"IF( Ecarts!$E286=$A$1, IF(Ecarts!K286=\"\",\"\",Ecarts!K286),\"\")","v":""},{"$f":"IF( Ecarts!$E286=$A$1, IF(Ecarts!L286=\"\",\"\",Ecarts!L286),\"\")","v":""},{"$f":"IF( Ecarts!$E286=$A$1, IF(Ecarts!M286=\"\",\"\",Ecarts!M286),\"\")","v":""},0,0]
[{"$f":"IF( Ecarts!$E287=$A$1,IF( Ecarts!B287=\"\",\"\",Ecarts!A287),\"\")","v":""},{"$f":"IF( Ecarts!$E287=$A$1,IF( Ecarts!C287=\"\",\"\",Ecarts!C287),\"\")","v":""},{"$f":"IF( Ecarts!$E287=$A$1, IF(Ecarts!F287=\"\",\"\",Ecarts!F287),\"\")","v":""},{"$f":"IF( Ecarts!$E287=$A$1, IF(Ecarts!I287=\"\",\"\",Ecarts!I287),\"\")","v":""},{"$f":"IF( Ecarts!$E287=$A$1, IF(Ecarts!J287=\"\",\"\",Ecarts!J287),\"\")","v":""},{"$f":"IF( Ecarts!$E287=$A$1, IF(Ecarts!K287=\"\",\"\",Ecarts!K287),\"\")","v":""},{"$f":"IF( Ecarts!$E287=$A$1, IF(Ecarts!L287=\"\",\"\",Ecarts!L287),\"\")","v":""},{"$f":"IF( Ecarts!$E287=$A$1, IF(Ecarts!M287=\"\",\"\",Ecarts!M287),\"\")","v":""},0,0]
[{"$f":"IF( Ecarts!$E288=$A$1,IF( Ecarts!B288=\"\",\"\",Ecarts!A288),\"\")","v":""},{"$f":"IF( Ecarts!$E288=$A$1,IF( Ecarts!C288=\"\",\"\",Ecarts!C288),\"\")","v":""},{"$f":"IF( Ecarts!$E288=$A$1, IF(Ecarts!F288=\"\",\"\",Ecarts!F288),\"\")","v":""},{"$f":"IF( Ecarts!$E288=$A$1, IF(Ecarts!I288=\"\",\"\",Ecarts!I288),\"\")","v":""},{"$f":"IF( Ecarts!$E288=$A$1, IF(Ecarts!J288=\"\",\"\",Ecarts!J288),\"\")","v":""},{"$f":"IF( Ecarts!$E288=$A$1, IF(Ecarts!K288=\"\",\"\",Ecarts!K288),\"\")","v":""},{"$f":"IF( Ecarts!$E288=$A$1, IF(Ecarts!L288=\"\",\"\",Ecarts!L288),\"\")","v":""},{"$f":"IF( Ecarts!$E288=$A$1, IF(Ecarts!M288=\"\",\"\",Ecarts!M288),\"\")","v":""},0,0]
[{"$f":"IF( Ecarts!$E289=$A$1,IF( Ecarts!B289=\"\",\"\",Ecarts!A289),\"\")","v":""},{"$f":"IF( Ecarts!$E289=$A$1,IF( Ecarts!C289=\"\",\"\",Ecarts!C289),\"\")","v":""},{"$f":"IF( Ecarts!$E289=$A$1, IF(Ecarts!F289=\"\",\"\",Ecarts!F289),\"\")","v":""},{"$f":"IF( Ecarts!$E289=$A$1, IF(Ecarts!I289=\"\",\"\",Ecarts!I289),\"\")","v":""},{"$f":"IF( Ecarts!$E289=$A$1, IF(Ecarts!J289=\"\",\"\",Ecarts!J289),\"\")","v":""},{"$f":"IF( Ecarts!$E289=$A$1, IF(Ecarts!K289=\"\",\"\",Ecarts!K289),\"\")","v":""},{"$f":"IF( Ecarts!$E289=$A$1, IF(Ecarts!L289=\"\",\"\",Ecarts!L289),\"\")","v":""},{"$f":"IF( Ecarts!$E289=$A$1, IF(Ecarts!M289=\"\",\"\",Ecarts!M289),\"\")","v":""},0,0]
[{"$f":"IF( Ecarts!$E290=$A$1,IF( Ecarts!B290=\"\",\"\",Ecarts!A290),\"\")","v":""},{"$f":"IF( Ecarts!$E290=$A$1,IF( Ecarts!C290=\"\",\"\",Ecarts!C290),\"\")","v":""},{"$f":"IF( Ecarts!$E290=$A$1, IF(Ecarts!F290=\"\",\"\",Ecarts!F290),\"\")","v":""},{"$f":"IF( Ecarts!$E290=$A$1, IF(Ecarts!I290=\"\",\"\",Ecarts!I290),\"\")","v":""},{"$f":"IF( Ecarts!$E290=$A$1, IF(Ecarts!J290=\"\",\"\",Ecarts!J290),\"\")","v":""},{"$f":"IF( Ecarts!$E290=$A$1, IF(Ecarts!K290=\"\",\"\",Ecarts!K290),\"\")","v":""},{"$f":"IF( Ecarts!$E290=$A$1, IF(Ecarts!L290=\"\",\"\",Ecarts!L290),\"\")","v":""},{"$f":"IF( Ecarts!$E290=$A$1, IF(Ecarts!M290=\"\",\"\",Ecarts!M290),\"\")","v":""},0,0]
[{"$f":"IF( Ecarts!$E291=$A$1,IF( Ecarts!B291=\"\",\"\",Ecarts!A291),\"\")","v":""},{"$f":"IF( Ecarts!$E291=$A$1,IF( Ecarts!C291=\"\",\"\",Ecarts!C291),\"\")","v":""},{"$f":"IF( Ecarts!$E291=$A$1, IF(Ecarts!F291=\"\",\"\",Ecarts!F291),\"\")","v":""},{"$f":"IF( Ecarts!$E291=$A$1, IF(Ecarts!I291=\"\",\"\",Ecarts!I291),\"\")","v":""},{"$f":"IF( Ecarts!$E291=$A$1, IF(Ecarts!J291=\"\",\"\",Ecarts!J291),\"\")","v":""},{"$f":"IF( Ecarts!$E291=$A$1, IF(Ecarts!K291=\"\",\"\",Ecarts!K291),\"\")","v":""},{"$f":"IF( Ecarts!$E291=$A$1, IF(Ecarts!L291=\"\",\"\",Ecarts!L291),\"\")","v":""},{"$f":"IF( Ecarts!$E291=$A$1, IF(Ecarts!M291=\"\",\"\",Ecarts!M291),\"\")","v":""},0,0]
[{"$f":"IF( Ecarts!$E292=$A$1,IF( Ecarts!B292=\"\",\"\",Ecarts!A292),\"\")","v":""},{"$f":"IF( Ecarts!$E292=$A$1,IF( Ecarts!C292=\"\",\"\",Ecarts!C292),\"\")","v":""},{"$f":"IF( Ecarts!$E292=$A$1, IF(Ecarts!F292=\"\",\"\",Ecarts!F292),\"\")","v":""},{"$f":"IF( Ecarts!$E292=$A$1, IF(Ecarts!I292=\"\",\"\",Ecarts!I292),\"\")","v":""},{"$f":"IF( Ecarts!$E292=$A$1, IF(Ecarts!J292=\"\",\"\",Ecarts!J292),\"\")","v":""},{"$f":"IF( Ecarts!$E292=$A$1, IF(Ecarts!K292=\"\",\"\",Ecarts!K292),\"\")","v":""},{"$f":"IF( Ecarts!$E292=$A$1, IF(Ecarts!L292=\"\",\"\",Ecarts!L292),\"\")","v":""},{"$f":"IF( Ecarts!$E292=$A$1, IF(Ecarts!M292=\"\",\"\",Ecarts!M292),\"\")","v":""},0,0]
[{"$f":"IF( Ecarts!$E293=$A$1,IF( Ecarts!B293=\"\",\"\",Ecarts!A293),\"\")","v":""},{"$f":"IF( Ecarts!$E293=$A$1,IF( Ecarts!C293=\"\",\"\",Ecarts!C293),\"\")","v":""},{"$f":"IF( Ecarts!$E293=$A$1, IF(Ecarts!F293=\"\",\"\",Ecarts!F293),\"\")","v":""},{"$f":"IF( Ecarts!$E293=$A$1, IF(Ecarts!I293=\"\",\"\",Ecarts!I293),\"\")","v":""},{"$f":"IF( Ecarts!$E293=$A$1, IF(Ecarts!J293=\"\",\"\",Ecarts!J293),\"\")","v":""},{"$f":"IF( Ecarts!$E293=$A$1, IF(Ecarts!K293=\"\",\"\",Ecarts!K293),\"\")","v":""},{"$f":"IF( Ecarts!$E293=$A$1, IF(Ecarts!L293=\"\",\"\",Ecarts!L293),\"\")","v":""},{"$f":"IF( Ecarts!$E293=$A$1, IF(Ecarts!M293=\"\",\"\",Ecarts!M293),\"\")","v":""},0,0]
[{"$f":"IF( Ecarts!$E294=$A$1,IF( Ecarts!B294=\"\",\"\",Ecarts!A294),\"\")","v":""},{"$f":"IF( Ecarts!$E294=$A$1,IF( Ecarts!C294=\"\",\"\",Ecarts!C294),\"\")","v":""},{"$f":"IF( Ecarts!$E294=$A$1, IF(Ecarts!F294=\"\",\"\",Ecarts!F294),\"\")","v":""},{"$f":"IF( Ecarts!$E294=$A$1, IF(Ecarts!I294=\"\",\"\",Ecarts!I294),\"\")","v":""},{"$f":"IF( Ecarts!$E294=$A$1, IF(Ecarts!J294=\"\",\"\",Ecarts!J294),\"\")","v":""},{"$f":"IF( Ecarts!$E294=$A$1, IF(Ecarts!K294=\"\",\"\",Ecarts!K294),\"\")","v":""},{"$f":"IF( Ecarts!$E294=$A$1, IF(Ecarts!L294=\"\",\"\",Ecarts!L294),\"\")","v":""},{"$f":"IF( Ecarts!$E294=$A$1, IF(Ecarts!M294=\"\",\"\",Ecarts!M294),\"\")","v":""},0,0]
[{"$f":"IF( Ecarts!$E295=$A$1,IF( Ecarts!B295=\"\",\"\",Ecarts!A295),\"\")","v":""},{"$f":"IF( Ecarts!$E295=$A$1,IF( Ecarts!C295=\"\",\"\",Ecarts!C295),\"\")","v":""},{"$f":"IF( Ecarts!$E295=$A$1, IF(Ecarts!F295=\"\",\"\",Ecarts!F295),\"\")","v":""},{"$f":"IF( Ecarts!$E295=$A$1, IF(Ecarts!I295=\"\",\"\",Ecarts!I295),\"\")","v":""},{"$f":"IF( Ecarts!$E295=$A$1, IF(Ecarts!J295=\"\",\"\",Ecarts!J295),\"\")","v":""},{"$f":"IF( Ecarts!$E295=$A$1, IF(Ecarts!K295=\"\",\"\",Ecarts!K295),\"\")","v":""},{"$f":"IF( Ecarts!$E295=$A$1, IF(Ecarts!L295=\"\",\"\",Ecarts!L295),\"\")","v":""},{"$f":"IF( Ecarts!$E295=$A$1, IF(Ecarts!M295=\"\",\"\",Ecarts!M295),\"\")","v":""},0,0]
[{"$f":"IF( Ecarts!$E296=$A$1,IF( Ecarts!B296=\"\",\"\",Ecarts!A296),\"\")","v":""},{"$f":"IF( Ecarts!$E296=$A$1,IF( Ecarts!C296=\"\",\"\",Ecarts!C296),\"\")","v":""},{"$f":"IF( Ecarts!$E296=$A$1, IF(Ecarts!F296=\"\",\"\",Ecarts!F296),\"\")","v":""},{"$f":"IF( Ecarts!$E296=$A$1, IF(Ecarts!I296=\"\",\"\",Ecarts!I296),\"\")","v":""},{"$f":"IF( Ecarts!$E296=$A$1, IF(Ecarts!J296=\"\",\"\",Ecarts!J296),\"\")","v":""},{"$f":"IF( Ecarts!$E296=$A$1, IF(Ecarts!K296=\"\",\"\",Ecarts!K296),\"\")","v":""},{"$f":"IF( Ecarts!$E296=$A$1, IF(Ecarts!L296=\"\",\"\",Ecarts!L296),\"\")","v":""},{"$f":"IF( Ecarts!$E296=$A$1, IF(Ecarts!M296=\"\",\"\",Ecarts!M296),\"\")","v":""},0,0]
[{"$f":"IF( Ecarts!$E297=$A$1,IF( Ecarts!B297=\"\",\"\",Ecarts!A297),\"\")","v":""},{"$f":"IF( Ecarts!$E297=$A$1,IF( Ecarts!C297=\"\",\"\",Ecarts!C297),\"\")","v":""},{"$f":"IF( Ecarts!$E297=$A$1, IF(Ecarts!F297=\"\",\"\",Ecarts!F297),\"\")","v":""},{"$f":"IF( Ecarts!$E297=$A$1, IF(Ecarts!I297=\"\",\"\",Ecarts!I297),\"\")","v":""},{"$f":"IF( Ecarts!$E297=$A$1, IF(Ecarts!J297=\"\",\"\",Ecarts!J297),\"\")","v":""},{"$f":"IF( Ecarts!$E297=$A$1, IF(Ecarts!K297=\"\",\"\",Ecarts!K297),\"\")","v":""},{"$f":"IF( Ecarts!$E297=$A$1, IF(Ecarts!L297=\"\",\"\",Ecarts!L297),\"\")","v":""},{"$f":"IF( Ecarts!$E297=$A$1, IF(Ecarts!M297=\"\",\"\",Ecarts!M297),\"\")","v":""},0,0]
[{"$f":"IF( Ecarts!$E298=$A$1,IF( Ecarts!B298=\"\",\"\",Ecarts!A298),\"\")","v":""},{"$f":"IF( Ecarts!$E298=$A$1,IF( Ecarts!C298=\"\",\"\",Ecarts!C298),\"\")","v":""},{"$f":"IF( Ecarts!$E298=$A$1, IF(Ecarts!F298=\"\",\"\",Ecarts!F298),\"\")","v":""},{"$f":"IF( Ecarts!$E298=$A$1, IF(Ecarts!I298=\"\",\"\",Ecarts!I298),\"\")","v":""},{"$f":"IF( Ecarts!$E298=$A$1, IF(Ecarts!J298=\"\",\"\",Ecarts!J298),\"\")","v":""},{"$f":"IF( Ecarts!$E298=$A$1, IF(Ecarts!K298=\"\",\"\",Ecarts!K298),\"\")","v":""},{"$f":"IF( Ecarts!$E298=$A$1, IF(Ecarts!L298=\"\",\"\",Ecarts!L298),\"\")","v":""},{"$f":"IF( Ecarts!$E298=$A$1, IF(Ecarts!M298=\"\",\"\",Ecarts!M298),\"\")","v":""},0,0]
[{"$f":"IF( Ecarts!$E299=$A$1,IF( Ecarts!B299=\"\",\"\",Ecarts!A299),\"\")","v":""},{"$f":"IF( Ecarts!$E299=$A$1,IF( Ecarts!C299=\"\",\"\",Ecarts!C299),\"\")","v":""},{"$f":"IF( Ecarts!$E299=$A$1, IF(Ecarts!F299=\"\",\"\",Ecarts!F299),\"\")","v":""},{"$f":"IF( Ecarts!$E299=$A$1, IF(Ecarts!I299=\"\",\"\",Ecarts!I299),\"\")","v":""},{"$f":"IF( Ecarts!$E299=$A$1, IF(Ecarts!J299=\"\",\"\",Ecarts!J299),\"\")","v":""},{"$f":"IF( Ecarts!$E299=$A$1, IF(Ecarts!K299=\"\",\"\",Ecarts!K299),\"\")","v":""},{"$f":"IF( Ecarts!$E299=$A$1, IF(Ecarts!L299=\"\",\"\",Ecarts!L299),\"\")","v":""},{"$f":"IF( Ecarts!$E299=$A$1, IF(Ecarts!M299=\"\",\"\",Ecarts!M299),\"\")","v":""},0,0]
[{"$f":"IF( Ecarts!$E300=$A$1,IF( Ecarts!B300=\"\",\"\",Ecarts!A300),\"\")","v":""},{"$f":"IF( Ecarts!$E300=$A$1,IF( Ecarts!C300=\"\",\"\",Ecarts!C300),\"\")","v":""},{"$f":"IF( Ecarts!$E300=$A$1, IF(Ecarts!F300=\"\",\"\",Ecarts!F300),\"\")","v":""},{"$f":"IF( Ecarts!$E300=$A$1, IF(Ecarts!I300=\"\",\"\",Ecarts!I300),\"\")","v":""},{"$f":"IF( Ecarts!$E300=$A$1, IF(Ecarts!J300=\"\",\"\",Ecarts!J300),\"\")","v":""},{"$f":"IF( Ecarts!$E300=$A$1, IF(Ecarts!K300=\"\",\"\",Ecarts!K300),\"\")","v":""},{"$f":"IF( Ecarts!$E300=$A$1, IF(Ecarts!L300=\"\",\"\",Ecarts!L300),\"\")","v":""},{"$f":"IF( Ecarts!$E300=$A$1, IF(Ecarts!M300=\"\",\"\",Ecarts!M300),\"\")","v":""},0,0]
[{"$f":"IF( Ecarts!$E301=$A$1,IF( Ecarts!B301=\"\",\"\",Ecarts!A301),\"\")","v":""},{"$f":"IF( Ecarts!$E301=$A$1,IF( Ecarts!C301=\"\",\"\",Ecarts!C301),\"\")","v":""},{"$f":"IF( Ecarts!$E301=$A$1, IF(Ecarts!F301=\"\",\"\",Ecarts!F301),\"\")","v":""},{"$f":"IF( Ecarts!$E301=$A$1, IF(Ecarts!I301=\"\",\"\",Ecarts!I301),\"\")","v":""},{"$f":"IF( Ecarts!$E301=$A$1, IF(Ecarts!J301=\"\",\"\",Ecarts!J301),\"\")","v":""},{"$f":"IF( Ecarts!$E301=$A$1, IF(Ecarts!K301=\"\",\"\",Ecarts!K301),\"\")","v":""},{"$f":"IF( Ecarts!$E301=$A$1, IF(Ecarts!L301=\"\",\"\",Ecarts!L301),\"\")","v":""},{"$f":"IF( Ecarts!$E301=$A$1, IF(Ecarts!M301=\"\",\"\",Ecarts!M301),\"\")","v":""},0,0]
[{"$f":"IF( Ecarts!$E360=$A$1,IF( Ecarts!B360=\"\",\"\",Ecarts!A360),\"\")","v":""},{"$f":"IF( Ecarts!$E360=$A$1,IF( Ecarts!C360=\"\",\"\",Ecarts!C360),\"\")","v":""},{"$f":"IF( Ecarts!$E360=$A$1, IF(Ecarts!F360=\"\",\"\",Ecarts!F360),\"\")","v":""},{"$f":"IF( Ecarts!$E360=$A$1, IF(Ecarts!I360=\"\",\"\",Ecarts!I360),\"\")","v":""},{"$f":"IF( Ecarts!$E360=$A$1, IF(Ecarts!J360=\"\",\"\",Ecarts!J360),\"\")","v":""},{"$f":"IF( Ecarts!$E302=$A$1, IF(Ecarts!K302=\"\",\"\",Ecarts!K302),\"\")","v":""},{"$f":"IF( Ecarts!$E302=$A$1, IF(Ecarts!L302=\"\",\"\",Ecarts!L302),\"\")","v":""},{"$f":"IF( Ecarts!$E302=$A$1, IF(Ecarts!M302=\"\",\"\",Ecarts!M302),\"\")","v":""},0,0]

{"sheet":"Yves","index":6,"n_rows":303,"n_cols":10,"rows_kept":303,"cut":false,"hidden":true,"merged":[[0,0,1,1]]}
[{"$f":"MID(CELL(\"nomfichier\",J1),FIND(\"]\",CELL(\"nomfichier\",J1),20)+1,32)","v":"Yves"},null,null,{"$f":"IF(SUM(I$1:I$64839)=0,\"Aucune action ouverte\",IF(SUM(I$1:I$64839)>1,CONCATENATE(SUM(I$1:I$64839),\" actions ouvertes\"),\"Une action ouverte\"))","v":"Aucune action ouverte"}]
[null,null,45,{"$f":"IF(SUM(J$1:J$64839)=0,\"Aucune action clôturée en 2 mois\",IF(SUM(J$1:J$64839)>1,CONCATENATE(SUM(J$1:J$64839),\" actions réglées en 2 mois\"),\"Une action réglée en 2 mois\"))","v":"Aucune action clôturée en 2 mois"}]
["N°","Libellé","Date enregistrement","Actions","Date objectif","Date clôture","Efficacité","Commentaires"]
[{"$f":"IF( Ecarts!$E3=$A$1,IF( Ecarts!B3=\"\",\"\",Ecarts!A3),\"\")","v":""},{"$f":"IF( Ecarts!$E3=$A$1,IF( Ecarts!C3=\"\",\"\",Ecarts!C3),\"\")","v":""},{"$f":"IF( Ecarts!$E3=$A$1, IF(Ecarts!F3=\"\",\"\",Ecarts!F3),\"\")","v":""},{"$f":"IF( Ecarts!$E3=$A$1, IF(Ecarts!I3=\"\",\"\",Ecarts!I3),\"\")","v":""},{"$f":"IF( Ecarts!$E3=$A$1, IF(Ecarts!J3=\"\",\"\",Ecarts!J3),\"\")","v":""},{"$f":"IF( Ecarts!$E3=$A$1, IF(Ecarts!K3=\"\",\"\",Ecarts!K3),\"\")","v":""},{"$f":"IF( Ecarts!$E3=$A$1, IF(Ecarts!L3=\"\",\"\",Ecarts!L3),\"\")","v":""},{"$f":"IF( Ecarts!$E3=$A$1, IF(Ecarts!M3=\"\",\"\",Ecarts!M3),\"\")","v":""},{"$f":"IF(B4=\"\",0,IF(G4=1,0,1))","v":0},{"$f":"IF(F4=\"\",0,IF(F4>(TODAY()-60),1,0))","v":0}]
[{"$f":"IF( Ecarts!$E4=$A$1,IF( Ecarts!B4=\"\",\"\",Ecarts!A4),\"\")","v":""},{"$f":"IF( Ecarts!$E4=$A$1,IF( Ecarts!C4=\"\",\"\",Ecarts!C4),\"\")","v":""},{"$f":"IF( Ecarts!$E4=$A$1, IF(Ecarts!F4=\"\",\"\",Ecarts!F4),\"\")","v":""},{"$f":"IF( Ecarts!$E4=$A$1, IF(Ecarts!I4=\"\",\"\",Ecarts!I4),\"\")","v":""},{"$f":"IF( Ecarts!$E4=$A$1, IF(Ecarts!J4=\"\",\"\",Ecarts!J4),\"\")","v":""},{"$f":"IF( Ecarts!$E4=$A$1, IF(Ecarts!K4=\"\",\"\",Ecarts!K4),\"\")","v":""},{"$f":"IF( Ecarts!$E4=$A$1, IF(Ecarts!L4=\"\",\"\",Ecarts!L4),\"\")","v":""},{"$f":"IF( Ecarts!$E4=$A$1, IF(Ecarts!M4=\"\",\"\",Ecarts!M4),\"\")","v":""},{"$f":"IF(B5=\"\",0,IF(G5=1,0,1))","v":0},{"$f":"IF(F5=\"\",0,IF(F5>(TODAY()-60),1,0))","v":0}]
[{"$f":"IF( Ecarts!$E5=$A$1,IF( Ecarts!B5=\"\",\"\",Ecarts!A5),\"\")","v":""},{"$f":"IF( Ecarts!$E5=$A$1,IF( Ecarts!C5=\"\",\"\",Ecarts!C5),\"\")","v":""},{"$f":"IF( Ecarts!$E5=$A$1, IF(Ecarts!F5=\"\",\"\",Ecarts!F5),\"\")","v":""},{"$f":"IF( Ecarts!$E5=$A$1, IF(Ecarts!I5=\"\",\"\",Ecarts!I5),\"\")","v":""},{"$f":"IF( Ecarts!$E5=$A$1, IF(Ecarts!J5=\"\",\"\",Ecarts!J5),\"\")","v":""},{"$f":"IF( Ecarts!$E5=$A$1, IF(Ecarts!K5=\"\",\"\",Ecarts!K5),\"\")","v":""},{"$f":"IF( Ecarts!$E5=$A$1, IF(Ecarts!L5=\"\",\"\",Ecarts!L5),\"\")","v":""},{"$f":"IF( Ecarts!$E5=$A$1, IF(Ecarts!M5=\"\",\"\",Ecarts!M5),\"\")","v":""},0,0]
[{"$f":"IF( Ecarts!$E6=$A$1,IF( Ecarts!B6=\"\",\"\",Ecarts!A6),\"\")","v":""},{"$f":"IF( Ecarts!$E6=$A$1,IF( Ecarts!C6=\"\",\"\",Ecarts!C6),\"\")","v":""},{"$f":"IF( Ecarts!$E6=$A$1, IF(Ecarts!F6=\"\",\"\",Ecarts!F6),\"\")","v":""},{"$f":"IF( Ecarts!$E6=$A$1, IF(Ecarts!I6=\"\",\"\",Ecarts!I6),\"\")","v":""},{"$f":"IF( Ecarts!$E6=$A$1, IF(Ecarts!J6=\"\",\"\",Ecarts!J6),\"\")","v":""},{"$f":"IF( Ecarts!$E6=$A$1, IF(Ecarts!K6=\"\",\"\",Ecarts!K6),\"\")","v":""},{"$f":"IF( Ecarts!$E6=$A$1, IF(Ecarts!L6=\"\",\"\",Ecarts!L6),\"\")","v":""},{"$f":"IF( Ecarts!$E6=$A$1, IF(Ecarts!M6=\"\",\"\",Ecarts!M6),\"\")","v":""},0,0]
[{"$f":"IF( Ecarts!$E7=$A$1,IF( Ecarts!B7=\"\",\"\",Ecarts!A7),\"\")","v":""},{"$f":"IF( Ecarts!$E7=$A$1,IF( Ecarts!C7=\"\",\"\",Ecarts!C7),\"\")","v":""},{"$f":"IF( Ecarts!$E7=$A$1, IF(Ecarts!F7=\"\",\"\",Ecarts!F7),\"\")","v":""},{"$f":"IF( Ecarts!$E7=$A$1, IF(Ecarts!I7=\"\",\"\",Ecarts!I7),\"\")","v":""},{"$f":"IF( Ecarts!$E7=$A$1, IF(Ecarts!J7=\"\",\"\",Ecarts!J7),\"\")","v":""},{"$f":"IF( Ecarts!$E7=$A$1, IF(Ecarts!K7=\"\",\"\",Ecarts!K7),\"\")","v":""},{"$f":"IF( Ecarts!$E7=$A$1, IF(Ecarts!L7=\"\",\"\",Ecarts!L7),\"\")","v":""},{"$f":"IF( Ecarts!$E7=$A$1, IF(Ecarts!M7=\"\",\"\",Ecarts!M7),\"\")","v":""},0,0]
[{"$f":"IF( Ecarts!$E8=$A$1,IF( Ecarts!B8=\"\",\"\",Ecarts!A8),\"\")","v":""},{"$f":"IF( Ecarts!$E8=$A$1,IF( Ecarts!C8=\"\",\"\",Ecarts!C8),\"\")","v":""},{"$f":"IF( Ecarts!$E8=$A$1, IF(Ecarts!F8=\"\",\"\",Ecarts!F8),\"\")","v":""},{"$f":"IF( Ecarts!$E8=$A$1, IF(Ecarts!I8=\"\",\"\",Ecarts!I8),\"\")","v":""},{"$f":"IF( Ecarts!$E8=$A$1, IF(Ecarts!J8=\"\",\"\",Ecarts!J8),\"\")","v":""},{"$f":"IF( Ecarts!$E8=$A$1, IF(Ecarts!K8=\"\",\"\",Ecarts!K8),\"\")","v":""},{"$f":"IF( Ecarts!$E8=$A$1, IF(Ecarts!L8=\"\",\"\",Ecarts!L8),\"\")","v":""},{"$f":"IF( Ecarts!$E8=$A$1, IF(Ecarts!M8=\"\",\"\",Ecarts!M8),\"\")","v":""},0,0]
[{"$f":"IF( Ecarts!$E9=$A$1,IF( Ecarts!B9=\"\",\"\",Ecarts!A9),\"\")","v":""},{"$f":"IF( Ecarts!$E9=$A$1,IF( Ecarts!C9=\"\",\"\",Ecarts!C9),\"\")","v":""},{"$f":"IF( Ecarts!$E9=$A$1, IF(Ecarts!F9=\"\",\"\",Ecarts!F9),\"\")","v":""},{"$f":"IF( Ecarts!$E9=$A$1, IF(Ecarts!I9=\"\",\"\",Ecarts!I9),\"\")","v":""},{"$f":"IF( Ecarts!$E9=$A$1, IF(Ecarts!J9=\"\",\"\",Ecarts!J9),\"\")","v":""},{"$f":"IF( Ecarts!$E9=$A$1, IF(Ecarts!K9=\"\",\"\",Ecarts!K9),\"\")","v":""},{"$f":"IF( Ecarts!$E9=$A$1, IF(Ecarts!L9=\"\",\"\",Ecarts!L9),\"\")","v":""},{"$f":"IF( Ecarts!$E9=$A$1, IF(Ecarts!M9=\"\",\"\",Ecarts!M9),\"\")","v":""},0,0]
[{"$f":"IF( Ecarts!$E10=$A$1,IF( Ecarts!B10=\"\",\"\",Ecarts!A10),\"\")","v":""},{"$f":"IF( Ecarts!$E10=$A$1,IF( Ecarts!C10=\"\",\"\",Ecarts!C10),\"\")","v":""},{"$f":"IF( Ecarts!$E10=$A$1, IF(Ecarts!F10=\"\",\"\",Ecarts!F10),\"\")","v":""},{"$f":"IF( Ecarts!$E10=$A$1, IF(Ecarts!I10=\"\",\"\",Ecarts!I10),\"\")","v":""},{"$f":"IF( Ecarts!$E10=$A$1, IF(Ecarts!J10=\"\",\"\",Ecarts!J10),\"\")","v":""},{"$f":"IF( Ecarts!$E10=$A$1, IF(Ecarts!K10=\"\",\"\",Ecarts!K10),\"\")","v":""},{"$f":"IF( Ecarts!$E10=$A$1, IF(Ecarts!L10=\"\",\"\",Ecarts!L10),\"\")","v":""},{"$f":"IF( Ecarts!$E10=$A$1, IF(Ecarts!M10=\"\",\"\",Ecarts!M10),\"\")","v":""},0,0]
[{"$f":"IF( Ecarts!$E11=$A$1,IF( Ecarts!B11=\"\",\"\",Ecarts!A11),\"\")","v":""},{"$f":"IF( Ecarts!$E11=$A$1,IF( Ecarts!C11=\"\",\"\",Ecarts!C11),\"\")","v":""},{"$f":"IF( Ecarts!$E11=$A$1, IF(Ecarts!F11=\"\",\"\",Ecarts!F11),\"\")","v":""},{"$f":"IF( Ecarts!$E11=$A$1, IF(Ecarts!I11=\"\",\"\",Ecarts!I11),\"\")","v":""},{"$f":"IF( Ecarts!$E11=$A$1, IF(Ecarts!J11=\"\",\"\",Ecarts!J11),\"\")","v":""},{"$f":"IF( Ecarts!$E11=$A$1, IF(Ecarts!K11=\"\",\"\",Ecarts!K11),\"\")","v":""},{"$f":"IF( Ecarts!$E11=$A$1, IF(Ecarts!L11=\"\",\"\",Ecarts!L11),\"\")","v":""},{"$f":"IF( Ecarts!$E11=$A$1, IF(Ecarts!M11=\"\",\"\",Ecarts!M11),\"\")","v":""},0,0]
[{"$f":"IF( Ecarts!$E12=$A$1,IF( Ecarts!B12=\"\",\"\",Ecarts!A12),\"\")","v":""},{"$f":"IF( Ecarts!$E12=$A$1,IF( Ecarts!C12=\"\",\"\",Ecarts!C12),\"\")","v":""},{"$f":"IF( Ecarts!$E12=$A$1, IF(Ecarts!F12=\"\",\"\",Ecarts!F12),\"\")","v":""},{"$f":"IF( Ecarts!$E12=$A$1, IF(Ecarts!I12=\"\",\"\",Ecarts!I12),\"\")","v":""},{"$f":"IF( Ecarts!$E12=$A$1, IF(Ecarts!J12=\"\",\"\",Ecarts!J12),\"\")","v":""},{"$f":"IF( Ecarts!$E12=$A$1, IF(Ecarts!K12=\"\",\"\",Ecarts!K12),\"\")","v":""},{"$f":"IF( Ecarts!$E12=$A$1, IF(Ecarts!L12=\"\",\"\",Ecarts!L12),\"\")","v":""},{"$f":"IF( Ecarts!$E12=$A$1, IF(Ecarts!M12=\"\",\"\",Ecarts!M12),\"\")","v":""},0,0]
[{"$f":"IF( Ecarts!$E13=$A$1,IF( Ecarts!B13=\"\",\"\",Ecarts!A13),\"\")","v":""},{"$f":"IF( Ecarts!$E13=$A$1,IF( Ecarts!C13=\"\",\"\",Ecarts!C13),\"\")","v":""},{"$f":"IF( Ecarts!$E13=$A$1, IF(Ecarts!F13=\"\",\"\",Ecarts!F13),\"\")","v":""},{"$f":"IF( Ecarts!$E13=$A$1, IF(Ecarts!I13=\"\",\"\",Ecarts!I13),\"\")","v":""},{"$f":"IF( Ecarts!$E13=$A$1, IF(Ecarts!J13=\"\",\"\",Ecarts!J13),\"\")","v":""},{"$f":"IF( Ecarts!$E13=$A$1, IF(Ecarts!K13=\"\",\"\",Ecarts!K13),\"\")","v":""},{"$f":"IF( Ecarts!$E13=$A$1, IF(Ecarts!L13=\"\",\"\",Ecarts!L13),\"\")","v":""},{"$f":"IF( Ecarts!$E13=$A$1, IF(Ecarts!M13=\"\",\"\",Ecarts!M13),\"\")","v":""},0,0]
[{"$f":"IF( Ecarts!$E14=$A$1,IF( Ecarts!B14=\"\",\"\",Ecarts!A14),\"\")","v":""},{"$f":"IF( Ecarts!$E14=$A$1,IF( Ecarts!C14=\"\",\"\",Ecarts!C14),\"\")","v":""},{"$f":"IF( Ecarts!$E14=$A$1, IF(Ecarts!F14=\"\",\"\",Ecarts!F14),\"\")","v":""},{"$f":"IF( Ecarts!$E14=$A$1, IF(Ecarts!I14=\"\",\"\",Ecarts!I14),\"\")","v":""},{"$f":"IF( Ecarts!$E14=$A$1, IF(Ecarts!J14=\"\",\"\",Ecarts!J14),\"\")","v":""},{"$f":"IF( Ecarts!$E14=$A$1, IF(Ecarts!K14=\"\",\"\",Ecarts!K14),\"\")","v":""},{"$f":"IF( Ecarts!$E14=$A$1, IF(Ecarts!L14=\"\",\"\",Ecarts!L14),\"\")","v":""},{"$f":"IF( Ecarts!$E14=$A$1, IF(Ecarts!M14=\"\",\"\",Ecarts!M14),\"\")","v":""},0,0]
[{"$f":"IF( Ecarts!$E15=$A$1,IF( Ecarts!B15=\"\",\"\",Ecarts!A15),\"\")","v":""},{"$f":"IF( Ecarts!$E15=$A$1,IF( Ecarts!C15=\"\",\"\",Ecarts!C15),\"\")","v":""},{"$f":"IF( Ecarts!$E15=$A$1, IF(Ecarts!F15=\"\",\"\",Ecarts!F15),\"\")","v":""},{"$f":"IF( Ecarts!$E15=$A$1, IF(Ecarts!I15=\"\",\"\",Ecarts!I15),\"\")","v":""},{"$f":"IF( Ecarts!$E15=$A$1, IF(Ecarts!J15=\"\",\"\",Ecarts!J15),\"\")","v":""},{"$f":"IF( Ecarts!$E15=$A$1, IF(Ecarts!K15=\"\",\"\",Ecarts!K15),\"\")","v":""},{"$f":"IF( Ecarts!$E15=$A$1, IF(Ecarts!L15=\"\",\"\",Ecarts!L15),\"\")","v":""},{"$f":"IF( Ecarts!$E15=$A$1, IF(Ecarts!M15=\"\",\"\",Ecarts!M15),\"\")","v":""},0,0]
[{"$f":"IF( Ecarts!$E16=$A$1,IF( Ecarts!B16=\"\",\"\",Ecarts!A16),\"\")","v":""},{"$f":"IF( Ecarts!$E16=$A$1,IF( Ecarts!C16=\"\",\"\",Ecarts!C16),\"\")","v":""},{"$f":"IF( Ecarts!$E16=$A$1, IF(Ecarts!F16=\"\",\"\",Ecarts!F16),\"\")","v":""},{"$f":"IF( Ecarts!$E16=$A$1, IF(Ecarts!I16=\"\",\"\",Ecarts!I16),\"\")","v":""},{"$f":"IF( Ecarts!$E16=$A$1, IF(Ecarts!J16=\"\",\"\",Ecarts!J16),\"\")","v":""},{"$f":"IF( Ecarts!$E16=$A$1, IF(Ecarts!K16=\"\",\"\",Ecarts!K16),\"\")","v":""},{"$f":"IF( Ecarts!$E16=$A$1, IF(Ecarts!L16=\"\",\"\",Ecarts!L16),\"\")","v":""},{"$f":"IF( Ecarts!$E16=$A$1, IF(Ecarts!M16=\"\",\"\",Ecarts!M16),\"\")","v":""},0,0]
[{"$f":"IF( Ecarts!$E17=$A$1,IF( Ecarts!B17=\"\",\"\",Ecarts!A17),\"\")","v":""},{"$f":"IF( Ecarts!$E17=$A$1,IF( Ecarts!C17=\"\",\"\",Ecarts!C17),\"\")","v":""},{"$f":"IF( Ecarts!$E17=$A$1, IF(Ecarts!F17=\"\",\"\",Ecarts!F17),\"\")","v":""},{"$f":"IF( Ecarts!$E17=$A$1, IF(Ecarts!I17=\"\",\"\",Ecarts!I17),\"\")","v":""},{"$f":"IF( Ecarts!$E17=$A$1, IF(Ecarts!J17=\"\",\"\",Ecarts!J17),\"\")","v":""},{"$f":"IF( Ecarts!$E17=$A$1, IF(Ecarts!K17=\"\",\"\",Ecarts!K17),\"\")","v":""},{"$f":"IF( Ecarts!$E17=$A$1, IF(Ecarts!L17=\"\",\"\",Ecarts!L17),\"\")","v":""},{"$f":"IF( Ecarts!$E17=$A$1, IF(Ecarts!M17=\"\",\"\",Ecarts!M17),\"\")","v":""},0,0]
[{"$f":"IF( Ecarts!$E18=$A$1,IF( Ecarts!B18=\"\",\"\",Ecarts!A18),\"\")","v":""},{"$f":"IF( Ecarts!$E18=$A$1,IF( Ecarts!C18=\"\",\"\",Ecarts!C18),\"\")","v":""},{"$f":"IF( Ecarts!$E18=$A$1, IF(Ecarts!F18=\"\",\"\",Ecarts!F18),\"\")","v":""},{"$f":"IF( Ecarts!$E18=$A$1, IF(Ecarts!I18=\"\",\"\",Ecarts!I18),\"\")","v":""},{"$f":"IF( Ecarts!$E18=$A$1, IF(Ecarts!J18=\"\",\"\",Ecarts!J18),\"\")","v":""},{"$f":"IF( Ecarts!$E18=$A$1, IF(Ecarts!K18=\"\",\"\",Ecarts!K18),\"\")","v":""},{"$f":"IF( Ecarts!$E18=$A$1, IF(Ecarts!L18=\"\",\"\",Ecarts!L18),\"\")","v":""},{"$f":"IF( Ecarts!$E18=$A$1, IF(Ecarts!M18=\"\",\"\",Ecarts!M18),\"\")","v":""},0,0]
[{"$f":"IF( Ecarts!$E19=$A$1,IF( Ecarts!B19=\"\",\"\",Ecarts!A19),\"\")","v":""},{"$f":"IF( Ecarts!$E19=$A$1,IF( Ecarts!C19=\"\",\"\",Ecarts!C19),\"\")","v":""},{"$f":"IF( Ecarts!$E19=$A$1, IF(Ecarts!F19=\"\",\"\",Ecarts!F19),\"\")","v":""},{"$f":"IF( Ecarts!$E19=$A$1, IF(Ecarts!I19=\"\",\"\",Ecarts!I19),\"\")","v":""},{"$f":"IF( Ecarts!$E19=$A$1, IF(Ecarts!J19=\"\",\"\",Ecarts!J19),\"\")","v":""},{"$f":"IF( Ecarts!$E19=$A$1, IF(Ecarts!K19=\"\",\"\",Ecarts!K19),\"\")","v":""},{"$f":"IF( Ecarts!$E19=$A$1, IF(Ecarts!L19=\"\",\"\",Ecarts!L19),\"\")","v":""},{"$f":"IF( Ecarts!$E19=$A$1, IF(Ecarts!M19=\"\",\"\",Ecarts!M19),\"\")","v":""},0,0]
[{"$f":"IF( Ecarts!$E20=$A$1,IF( Ecarts!B20=\"\",\"\",Ecarts!A20),\"\")","v":""},{"$f":"IF( Ecarts!$E20=$A$1,IF( Ecarts!C20=\"\",\"\",Ecarts!C20),\"\")","v":""},{"$f":"IF( Ecarts!$E20=$A$1, IF(Ecarts!F20=\"\",\"\",Ecarts!F20),\"\")","v":""},{"$f":"IF( Ecarts!$E20=$A$1, IF(Ecarts!I20=\"\",\"\",Ecarts!I20),\"\")","v":""},{"$f":"IF( Ecarts!$E20=$A$1, IF(Ecarts!J20=\"\",\"\",Ecarts!J20),\"\")","v":""},{"$f":"IF( Ecarts!$E20=$A$1, IF(Ecarts!K20=\"\",\"\",Ecarts!K20),\"\")","v":""},{"$f":"IF( Ecarts!$E20=$A$1, IF(Ecarts!L20=\"\",\"\",Ecarts!L20),\"\")","v":""},{"$f":"IF( Ecarts!$E20=$A$1, IF(Ecarts!M20=\"\",\"\",Ecarts!M20),\"\")","v":""},0,0]
[{"$f":"IF( Ecarts!$E21=$A$1,IF( Ecarts!B21=\"\",\"\",Ecarts!A21),\"\")","v":""},{"$f":"IF( Ecarts!$E21=$A$1,IF( Ecarts!C21=\"\",\"\",Ecarts!C21),\"\")","v":""},{"$f":"IF( Ecarts!$E21=$A$1, IF(Ecarts!F21=\"\",\"\",Ecarts!F21),\"\")","v":""},{"$f":"IF( Ecarts!$E21=$A$1, IF(Ecarts!I21=\"\",\"\",Ecarts!I21),\"\")","v":""},{"$f":"IF( Ecarts!$E21=$A$1, IF(Ecarts!J21=\"\",\"\",Ecarts!J21),\"\")","v":""},{"$f":"IF( Ecarts!$E21=$A$1, IF(Ecarts!K21=\"\",\"\",Ecarts!K21),\"\")","v":""},{"$f":"IF( Ecarts!$E21=$A$1, IF(Ecarts!L21=\"\",\"\",Ecarts!L21),\"\")","v":""},{"$f":"IF( Ecarts!$E21=$A$1, IF(Ecarts!M21=\"\",\"\",Ecarts!M21),\"\")","v":""},0,0]
[{"$f":"IF( Ecarts!$E22=$A$1,IF( Ecarts!B22=\"\",\"\",Ecarts!A22),\"\")","v":""},{"$f":"IF( Ecarts!$E22=$A$1,IF( Ecarts!C22=\"\",\"\",Ecarts!C22),\"\")","v":""},{"$f":"IF( Ecarts!$E22=$A$1, IF(Ecarts!F22=\"\",\"\",Ecarts!F22),\"\")","v":""},{"$f":"IF( Ecarts!$E22=$A$1, IF(Ecarts!I22=\"\",\"\",Ecarts!I22),\"\")","v":""},{"$f":"IF( Ecarts!$E22=$A$1, IF(Ecarts!J22=\"\",\"\",Ecarts!J22),\"\")","v":""},{"$f":"IF( Ecarts!$E22=$A$1, IF(Ecarts!K22=\"\",\"\",Ecarts!K22),\"\")","v":""},{"$f":"IF( Ecarts!$E22=$A$1, IF(Ecarts!L22=\"\",\"\",Ecarts!L22),\"\")","v":""},{"$f":"IF( Ecarts!$E22=$A$1, IF(Ecarts!M22=\"\",\"\",Ecarts!M22),\"\")","v":""},0,0]
[{"$f":"IF( Ecarts!$E23=$A$1,IF( Ecarts!B23=\"\",\"\",Ecarts!A23),\"\")","v":""},{"$f":"IF( Ecarts!$E23=$A$1,IF( Ecarts!C23=\"\",\"\",Ecarts!C23),\"\")","v":""},{"$f":"IF( Ecarts!$E23=$A$1, IF(Ecarts!F23=\"\",\"\",Ecarts!F23),\"\")","v":""},{"$f":"IF( Ecarts!$E23=$A$1, IF(Ecarts!I23=\"\",\"\",Ecarts!I23),\"\")","v":""},{"$f":"IF( Ecarts!$E23=$A$1, IF(Ecarts!J23=\"\",\"\",Ecarts!J23),\"\")","v":""},{"$f":"IF( Ecarts!$E23=$A$1, IF(Ecarts!K23=\"\",\"\",Ecarts!K23),\"\")","v":""},{"$f":"IF( Ecarts!$E23=$A$1, IF(Ecarts!L23=\"\",\"\",Ecarts!L23),\"\")","v":""},{"$f":"IF( Ecarts!$E23=$A$1, IF(Ecarts!M23=\"\",\"\",Ecarts!M23),\"\")","v":""},0,0]
[{"$f":"IF( Ecarts!$E24=$A$1,IF( Ecarts!B24=\"\",\"\",Ecarts!A24),\"\")","v":""},{"$f":"IF( Ecarts!$E24=$A$1,IF( Ecarts!C24=\"\",\"\",Ecarts!C24),\"\")","v":""},{"$f":"IF( Ecarts!$E24=$A$1, IF(Ecarts!F24=\"\",\"\",Ecarts!F24),\"\")","v":""},{"$f":"IF( Ecarts!$E24=$A$1, IF(Ecarts!I24=\"\",\"\",Ecarts!I24),\"\")","v":""},{"$f":"IF( Ecarts!$E24=$A$1, IF(Ecarts!J24=\"\",\"\",Ecarts!J24),\"\")","v":""},{"$f":"IF( Ecarts!$E24=$A$1, IF(Ecarts!K24=\"\",\"\",Ecarts!K24),\"\")","v":""},{"$f":"IF( Ecarts!$E24=$A$1, IF(Ecarts!L24=\"\",\"\",Ecarts!L24),\"\")","v":""},{"$f":"IF( Ecarts!$E24=$A$1, IF(Ecarts!M24=\"\",\"\",Ecarts!M24),\"\")","v":""},0,0]
[{"$f":"IF( Ecarts!$E25=$A$1,IF( Ecarts!B25=\"\",\"\",Ecarts!A25),\"\")","v":""},{"$f":"IF( Ecarts!$E25=$A$1,IF( Ecarts!C25=\"\",\"\",Ecarts!C25),\"\")","v":""},{"$f":"IF( Ecarts!$E25=$A$1, IF(Ecarts!F25=\"\",\"\",Ecarts!F25),\"\")","v":""},{"$f":"IF( Ecarts!$E25=$A$1, IF(Ecarts!I25=\"\",\"\",Ecarts!I25),\"\")","v":""},{"$f":"IF( Ecarts!$E25=$A$1, IF(Ecarts!J25=\"\",\"\",Ecarts!J25),\"\")","v":""},{"$f":"IF( Ecarts!$E25=$A$1, IF(Ecarts!K25=\"\",\"\",Ecarts!K25),\"\")","v":""},{"$f":"IF( Ecarts!$E25=$A$1, IF(Ecarts!L25=\"\",\"\",Ecarts!L25),\"\")","v":""},{"$f":"IF( Ecarts!$E25=$A$1, IF(Ecarts!M25=\"\",\"\",Ecarts!M25),\"\")","v":""},0,0]
[{"$f":"IF( Ecarts!$E26=$A$1,IF( Ecarts!B26=\"\",\"\",Ecarts!A26),\"\")","v":""},{"$f":"IF( Ecarts!$E26=$A$1,IF( Ecarts!C26=\"\",\"\",Ecarts!C26),\"\")","v":""},{"$f":"IF( Ecarts!$E26=$A$1, IF(Ecarts!F26=\"\",\"\",Ecarts!F26),\"\")","v":""},{"$f":"IF( Ecarts!$E26=$A$1, IF(Ecarts!I26=\"\",\"\",Ecarts!I26),\"\")","v":""},{"$f":"IF( Ecarts!$E26=$A$1, IF(Ecarts!J26=\"\",\"\",Ecarts!J26),\"\")","v":""},{"$f":"IF( Ecarts!$E26=$A$1, IF(Ecarts!K26=\"\",\"\",Ecarts!K26),\"\")","v":""},{"$f":"IF( Ecarts!$E26=$A$1, IF(Ecarts!L26=\"\",\"\",Ecarts!L26),\"\")","v":""},{"$f":"IF( Ecarts!$E26=$A$1, IF(Ecarts!M26=\"\",\"\",Ecarts!M26),\"\")","v":""},0,0]
[{"$f":"IF( Ecarts!$E27=$A$1,IF( Ecarts!B27=\"\",\"\",Ecarts!A27),\"\")","v":""},{"$f":"IF( Ecarts!$E27=$A$1,IF( Ecarts!C27=\"\",\"\",Ecarts!C27),\"\")","v":""},{"$f":"IF( Ecarts!$E27=$A$1, IF(Ecarts!F27=\"\",\"\",Ecarts!F27),\"\")","v":""},{"$f":"IF( Ecarts!$E27=$A$1, IF(Ecarts!I27=\"\",\"\",Ecarts!I27),\"\")","v":""},{"$f":"IF( Ecarts!$E27=$A$1, IF(Ecarts!J27=\"\",\"\",Ecarts!J27),\"\")","v":""},{"$f":"IF( Ecarts!$E27=$A$1, IF(Ecarts!K27=\"\",\"\",Ecarts!K27),\"\")","v":""},{"$f":"IF( Ecarts!$E27=$A$1, IF(Ecarts!L27=\"\",\"\",Ecarts!L27),\"\")","v":""},{"$f":"IF( Ecarts!$E27=$A$1, IF(Ecarts!M27=\"\",\"\",Ecarts!M27),\"\")","v":""},0,0]
[{"$f":"IF( Ecarts!$E28=$A$1,IF( Ecarts!B28=\"\",\"\",Ecarts!A28),\"\")","v":""},{"$f":"IF( Ecarts!$E28=$A$1,IF( Ecarts!C28=\"\",\"\",Ecarts!C28),\"\")","v":""},{"$f":"IF( Ecarts!$E28=$A$1, IF(Ecarts!F28=\"\",\"\",Ecarts!F28),\"\")","v":""},{"$f":"IF( Ecarts!$E28=$A$1, IF(Ecarts!I28=\"\",\"\",Ecarts!I28),\"\")","v":""},{"$f":"IF( Ecarts!$E28=$A$1, IF(Ecarts!J28=\"\",\"\",Ecarts!J28),\"\")","v":""},{"$f":"IF( Ecarts!$E28=$A$1, IF(Ecarts!K28=\"\",\"\",Ecarts!K28),\"\")","v":""},{"$f":"IF( Ecarts!$E28=$A$1, IF(Ecarts!L28=\"\",\"\",Ecarts!L28),\"\")","v":""},{"$f":"IF( Ecarts!$E28=$A$1, IF(Ecarts!M28=\"\",\"\",Ecarts!M28),\"\")","v":""},0,0]
[{"$f":"IF( Ecarts!$E29=$A$1,IF( Ecarts!B29=\"\",\"\",Ecarts!A29),\"\")","v":""},{"$f":"IF( Ecarts!$E29=$A$1,IF( Ecarts!C29=\"\",\"\",Ecarts!C29),\"\")","v":""},{"$f":"IF( Ecarts!$E29=$A$1, IF(Ecarts!F29=\"\",\"\",Ecarts!F29),\"\")","v":""},{"$f":"IF( Ecarts!$E29=$A$1, IF(Ecarts!I29=\"\",\"\",Ecarts!I29),\"\")","v":""},{"$f":"IF( Ecarts!$E29=$A$1, IF(Ecarts!J29=\"\",\"\",Ecarts!J29),\"\")","v":""},{"$f":"IF( Ecarts!$E29=$A$1, IF(Ecarts!K29=\"\",\"\",Ecarts!K29),\"\")","v":""},{"$f":"IF( Ecarts!$E29=$A$1, IF(Ecarts!L29=\"\",\"\",Ecarts!L29),\"\")","v":""},{"$f":"IF( Ecarts!$E29=$A$1, IF(Ecarts!M29=\"\",\"\",Ecarts!M29),\"\")","v":""},0,0]
[{"$f":"IF( Ecarts!$E30=$A$1,IF( Ecarts!B30=\"\",\"\",Ecarts!A30),\"\")","v":""},{"$f":"IF( Ecarts!$E30=$A$1,IF( Ecarts!C30=\"\",\"\",Ecarts!C30),\"\")","v":""},{"$f":"IF( Ecarts!$E30=$A$1, IF(Ecarts!F30=\"\",\"\",Ecarts!F30),\"\")","v":""},{"$f":"IF( Ecarts!$E30=$A$1, IF(Ecarts!I30=\"\",\"\",Ecarts!I30),\"\")","v":""},{"$f":"IF( Ecarts!$E30=$A$1, IF(Ecarts!J30=\"\",\"\",Ecarts!J30),\"\")","v":""},{"$f":"IF( Ecarts!$E30=$A$1, IF(Ecarts!K30=\"\",\"\",Ecarts!K30),\"\")","v":""},{"$f":"IF( Ecarts!$E30=$A$1, IF(Ecarts!L30=\"\",\"\",Ecarts!L30),\"\")","v":""},{"$f":"IF( Ecarts!$E30=$A$1, IF(Ecarts!M30=\"\",\"\",Ecarts!M30),\"\")","v":""},0,0]
[{"$f":"IF( Ecarts!$E31=$A$1,IF( Ecarts!B31=\"\",\"\",Ecarts!A31),\"\")","v":""},{"$f":"IF( Ecarts!$E31=$A$1,IF( Ecarts!C31=\"\",\"\",Ecarts!C31),\"\")","v":""},{"$f":"IF( Ecarts!$E31=$A$1, IF(Ecarts!F31=\"\",\"\",Ecarts!F31),\"\")","v":""},{"$f":"IF( Ecarts!$E31=$A$1, IF(Ecarts!I31=\"\",\"\",Ecarts!I31),\"\")","v":""},{"$f":"IF( Ecarts!$E31=$A$1, IF(Ecarts!J31=\"\",\"\",Ecarts!J31),\"\")","v":""},{"$f":"IF( Ecarts!$E31=$A$1, IF(Ecarts!K31=\"\",\"\",Ecarts!K31),\"\")","v":""},{"$f":"IF( Ecarts!$E31=$A$1, IF(Ecarts!L31=\"\",\"\",Ecarts!L31),\"\")","v":""},{"$f":"IF( Ecarts!$E31=$A$1, IF(Ecarts!M31=\"\",\"\",Ecarts!M31),\"\")","v":""},0,0]
[{"$f":"IF( Ecarts!$E32=$A$1,IF( Ecarts!B32=\"\",\"\",Ecarts!A32),\"\")","v":""},{"$f":"IF( Ecarts!$E32=$A$1,IF( Ecarts!C32=\"\",\"\",Ecarts!C32),\"\")","v":""},{"$f":"IF( Ecarts!$E32=$A$1, IF(Ecarts!F32=\"\",\"\",Ecarts!F32),\"\")","v":""},{"$f":"IF( Ecarts!$E32=$A$1, IF(Ecarts!I32=\"\",\"\",Ecarts!I32),\"\")","v":""},{"$f":"IF( Ecarts!$E32=$A$1, IF(Ecarts!J32=\"\",\"\",Ecarts!J32),\"\")","v":""},{"$f":"IF( Ecarts!$E32=$A$1, IF(Ecarts!K32=\"\",\"\",Ecarts!K32),\"\")","v":""},{"$f":"IF( Ecarts!$E32=$A$1, IF(Ecarts!L32=\"\",\"\",Ecarts!L32),\"\")","v":""},{"$f":"IF( Ecarts!$E32=$A$1, IF(Ecarts!M32=\"\",\"\",Ecarts!M32),\"\")","v":""},0,0]
[{"$f":"IF( Ecarts!$E33=$A$1,IF( Ecarts!B33=\"\",\"\",Ecarts!A33),\"\")","v":""},{"$f":"IF( Ecarts!$E33=$A$1,IF( Ecarts!C33=\"\",\"\",Ecarts!C33),\"\")","v":""},{"$f":"IF( Ecarts!$E33=$A$1, IF(Ecarts!F33=\"\",\"\",Ecarts!F33),\"\")","v":""},{"$f":"IF( Ecarts!$E33=$A$1, IF(Ecarts!I33=\"\",\"\",Ecarts!I33),\"\")","v":""},{"$f":"IF( Ecarts!$E33=$A$1, IF(Ecarts!J33=\"\",\"\",Ecarts!J33),\"\")","v":""},{"$f":"IF( Ecarts!$E33=$A$1, IF(Ecarts!K33=\"\",\"\",Ecarts!K33),\"\")","v":""},{"$f":"IF( Ecarts!$E33=$A$1, IF(Ecarts!L33=\"\",\"\",Ecarts!L33),\"\")","v":""},{"$f":"IF( Ecarts!$E33=$A$1, IF(Ecarts!M33=\"\",\"\",Ecarts!M33),\"\")","v":""},0,0]
[{"$f":"IF( Ecarts!$E34=$A$1,IF( Ecarts!B34=\"\",\"\",Ecarts!A34),\"\")","v":""},{"$f":"IF( Ecarts!$E34=$A$1,IF( Ecarts!C34=\"\",\"\",Ecarts!C34),\"\")","v":""},{"$f":"IF( Ecarts!$E34=$A$1, IF(Ecarts!F34=\"\",\"\",Ecarts!F34),\"\")","v":""},{"$f":"IF( Ecarts!$E34=$A$1, IF(Ecarts!I34=\"\",\"\",Ecarts!I34),\"\")","v":""},{"$f":"IF( Ecarts!$E34=$A$1, IF(Ecarts!J34=\"\",\"\",Ecarts!J34),\"\")","v":""},{"$f":"IF( Ecarts!$E34=$A$1, IF(Ecarts!K34=\"\",\"\",Ecarts!K34),\"\")","v":""},{"$f":"IF( Ecarts!$E34=$A$1, IF(Ecarts!L34=\"\",\"\",Ecarts!L34),\"\")","v":""},{"$f":"IF( Ecarts!$E34=$A$1, IF(Ecarts!M34=\"\",\"\",Ecarts!M34),\"\")","v":""},0,0]
[{"$f":"IF( Ecarts!$E35=$A$1,IF( Ecarts!B35=\"\",\"\",Ecarts!A35),\"\")","v":""},{"$f":"IF( Ecarts!$E35=$A$1,IF( Ecarts!C35=\"\",\"\",Ecarts!C35),\"\")","v":""},{"$f":"IF( Ecarts!$E35=$A$1, IF(Ecarts!F35=\"\",\"\",Ecarts!F35),\"\")","v":""},{"$f":"IF( Ecarts!$E35=$A$1, IF(Ecarts!I35=\"\",\"\",Ecarts!I35),\"\")","v":""},{"$f":"IF( Ecarts!$E35=$A$1, IF(Ecarts!J35=\"\",\"\",Ecarts!J35),\"\")","v":""},{"$f":"IF( Ecarts!$E35=$A$1, IF(Ecarts!K35=\"\",\"\",Ecarts!K35),\"\")","v":""},{"$f":"IF( Ecarts!$E35=$A$1, IF(Ecarts!L35=\"\",\"\",Ecarts!L35),\"\")","v":""},{"$f":"IF( Ecarts!$E35=$A$1, IF(Ecarts!M35=\"\",\"\",Ecarts!M35),\"\")","v":""},0,0]
[{"$f":"IF( Ecarts!$E36=$A$1,IF( Ecarts!B36=\"\",\"\",Ecarts!A36),\"\")","v":""},{"$f":"IF( Ecarts!$E36=$A$1,IF( Ecarts!C36=\"\",\"\",Ecarts!C36),\"\")","v":""},{"$f":"IF( Ecarts!$E36=$A$1, IF(Ecarts!F36=\"\",\"\",Ecarts!F36),\"\")","v":""},{"$f":"IF( Ecarts!$E36=$A$1, IF(Ecarts!I36=\"\",\"\",Ecarts!I36),\"\")","v":""},{"$f":"IF( Ecarts!$E36=$A$1, IF(Ecarts!J36=\"\",\"\",Ecarts!J36),\"\")","v":""},{"$f":"IF( Ecarts!$E36=$A$1, IF(Ecarts!K36=\"\",\"\",Ecarts!K36),\"\")","v":""},{"$f":"IF( Ecarts!$E36=$A$1, IF(Ecarts!L36=\"\",\"\",Ecarts!L36),\"\")","v":""},{"$f":"IF( Ecarts!$E36=$A$1, IF(Ecarts!M36=\"\",\"\",Ecarts!M36),\"\")","v":""},0,0]
[{"$f":"IF( Ecarts!$E37=$A$1,IF( Ecarts!B37=\"\",\"\",Ecarts!A37),\"\")","v":""},{"$f":"IF( Ecarts!$E37=$A$1,IF( Ecarts!C37=\"\",\"\",Ecarts!C37),\"\")","v":""},{"$f":"IF( Ecarts!$E37=$A$1, IF(Ecarts!F37=\"\",\"\",Ecarts!F37),\"\")","v":""},{"$f":"IF( Ecarts!$E37=$A$1, IF(Ecarts!I37=\"\",\"\",Ecarts!I37),\"\")","v":""},{"$f":"IF( Ecarts!$E37=$A$1, IF(Ecarts!J37=\"\",\"\",Ecarts!J37),\"\")","v":""},{"$f":"IF( Ecarts!$E37=$A$1, IF(Ecarts!K37=\"\",\"\",Ecarts!K37),\"\")","v":""},{"$f":"IF( Ecarts!$E37=$A$1, IF(Ecarts!L37=\"\",\"\",Ecarts!L37),\"\")","v":""},{"$f":"IF( Ecarts!$E37=$A$1, IF(Ecarts!M37=\"\",\"\",Ecarts!M37),\"\")","v":""},0,0]
[{"$f":"IF( Ecarts!$E38=$A$1,IF( Ecarts!B38=\"\",\"\",Ecarts!A38),\"\")","v":""},{"$f":"IF( Ecarts!$E38=$A$1,IF( Ecarts!C38=\"\",\"\",Ecarts!C38),\"\")","v":""},{"$f":"IF( Ecarts!$E38=$A$1, IF(Ecarts!F38=\"\",\"\",Ecarts!F38),\"\")","v":""},{"$f":"IF( Ecarts!$E38=$A$1, IF(Ecarts!I38=\"\",\"\",Ecarts!I38),\"\")","v":""},{"$f":"IF( Ecarts!$E38=$A$1, IF(Ecarts!J38=\"\",\"\",Ecarts!J38),\"\")","v":""},{"$f":"IF( Ecarts!$E38=$A$1, IF(Ecarts!K38=\"\",\"\",Ecarts!K38),\"\")","v":""},{"$f":"IF( Ecarts!$E38=$A$1, IF(Ecarts!L38=\"\",\"\",Ecarts!L38),\"\")","v":""},{"$f":"IF( Ecarts!$E38=$A$1, IF(Ecarts!M38=\"\",\"\",Ecarts!M38),\"\")","v":""},0,0]
[{"$f":"IF( Ecarts!$E39=$A$1,IF( Ecarts!B39=\"\",\"\",Ecarts!A39),\"\")","v":""},{"$f":"IF( Ecarts!$E39=$A$1,IF( Ecarts!C39=\"\",\"\",Ecarts!C39),\"\")","v":""},{"$f":"IF( Ecarts!$E39=$A$1, IF(Ecarts!F39=\"\",\"\",Ecarts!F39),\"\")","v":""},{"$f":"IF( Ecarts!$E39=$A$1, IF(Ecarts!I39=\"\",\"\",Ecarts!I39),\"\")","v":""},{"$f":"IF( Ecarts!$E39=$A$1, IF(Ecarts!J39=\"\",\"\",Ecarts!J39),\"\")","v":""},{"$f":"IF( Ecarts!$E39=$A$1, IF(Ecarts!K39=\"\",\"\",Ecarts!K39),\"\")","v":""},{"$f":"IF( Ecarts!$E39=$A$1, IF(Ecarts!L39=\"\",\"\",Ecarts!L39),\"\")","v":""},{"$f":"IF( Ecarts!$E39=$A$1, IF(Ecarts!M39=\"\",\"\",Ecarts!M39),\"\")","v":""},0,0]
[{"$f":"IF( Ecarts!$E40=$A$1,IF( Ecarts!B40=\"\",\"\",Ecarts!A40),\"\")","v":""},{"$f":"IF( Ecarts!$E40=$A$1,IF( Ecarts!C40=\"\",\"\",Ecarts!C40),\"\")","v":""},{"$f":"IF( Ecarts!$E40=$A$1, IF(Ecarts!F40=\"\",\"\",Ecarts!F40),\"\")","v":""},{"$f":"IF( Ecarts!$E40=$A$1, IF(Ecarts!I40=\"\",\"\",Ecarts!I40),\"\")","v":""},{"$f":"IF( Ecarts!$E40=$A$1, IF(Ecarts!J40=\"\",\"\",Ecarts!J40),\"\")","v":""},{"$f":"IF( Ecarts!$E40=$A$1, IF(Ecarts!K40=\"\",\"\",Ecarts!K40),\"\")","v":""},{"$f":"IF( Ecarts!$E40=$A$1, IF(Ecarts!L40=\"\",\"\",Ecarts!L40),\"\")","v":""},{"$f":"IF( Ecarts!$E40=$A$1, IF(Ecarts!M40=\"\",\"\",Ecarts!M40),\"\")","v":""},0,0]
[{"$f":"IF( Ecarts!$E41=$A$1,IF( Ecarts!B41=\"\",\"\",Ecarts!A41),\"\")","v":""},{"$f":"IF( Ecarts!$E41=$A$1,IF( Ecarts!C41=\"\",\"\",Ecarts!C41),\"\")","v":""},{"$f":"IF( Ecarts!$E41=$A$1, IF(Ecarts!F41=\"\",\"\",Ecarts!F41),\"\")","v":""},{"$f":"IF( Ecarts!$E41=$A$1, IF(Ecarts!I41=\"\",\"\",Ecarts!I41),\"\")","v":""},{"$f":"IF( Ecarts!$E41=$A$1, IF(Ecarts!J41=\"\",\"\",Ecarts!J41),\"\")","v":""},{"$f":"IF( Ecarts!$E41=$A$1, IF(Ecarts!K41=\"\",\"\",Ecarts!K41),\"\")","v":""},{"$f":"IF( Ecarts!$E41=$A$1, IF(Ecarts!L41=\"\",\"\",Ecarts!L41),\"\")","v":""},{"$f":"IF( Ecarts!$E41=$A$1, IF(Ecarts!M41=\"\",\"\",Ecarts!M41),\"\")","v":""},0,0]
[{"$f":"IF( Ecarts!$E42=$A$1,IF( Ecarts!B42=\"\",\"\",Ecarts!A42),\"\")","v":""},{"$f":"IF( Ecarts!$E42=$A$1,IF( Ecarts!C42=\"\",\"\",Ecarts!C42),\"\")","v":""},{"$f":"IF( Ecarts!$E42=$A$1, IF(Ecarts!F42=\"\",\"\",Ecarts!F42),\"\")","v":""},{"$f":"IF( Ecarts!$E42=$A$1, IF(Ecarts!I42=\"\",\"\",Ecarts!I42),\"\")","v":""},{"$f":"IF( Ecarts!$E42=$A$1, IF(Ecarts!J42=\"\",\"\",Ecarts!J42),\"\")","v":""},{"$f":"IF( Ecarts!$E42=$A$1, IF(Ecarts!K42=\"\",\"\",Ecarts!K42),\"\")","v":""},{"$f":"IF( Ecarts!$E42=$A$1, IF(Ecarts!L42=\"\",\"\",Ecarts!L42),\"\")","v":""},{"$f":"IF( Ecarts!$E42=$A$1, IF(Ecarts!M42=\"\",\"\",Ecarts!M42),\"\")","v":""},0,0]
[{"$f":"IF( Ecarts!$E43=$A$1,IF( Ecarts!B43=\"\",\"\",Ecarts!A43),\"\")","v":""},{"$f":"IF( Ecarts!$E43=$A$1,IF( Ecarts!C43=\"\",\"\",Ecarts!C43),\"\")","v":""},{"$f":"IF( Ecarts!$E43=$A$1, IF(Ecarts!F43=\"\",\"\",Ecarts!F43),\"\")","v":""},{"$f":"IF( Ecarts!$E43=$A$1, IF(Ecarts!I43=\"\",\"\",Ecarts!I43),\"\")","v":""},{"$f":"IF( Ecarts!$E43=$A$1, IF(Ecarts!J43=\"\",\"\",Ecarts!J43),\"\")","v":""},{"$f":"IF( Ecarts!$E43=$A$1, IF(Ecarts!K43=\"\",\"\",Ecarts!K43),\"\")","v":""},{"$f":"IF( Ecarts!$E43=$A$1, IF(Ecarts!L43=\"\",\"\",Ecarts!L43),\"\")","v":""},{"$f":"IF( Ecarts!$E43=$A$1, IF(Ecarts!M43=\"\",\"\",Ecarts!M43),\"\")","v":""},0,0]
[{"$f":"IF( Ecarts!$E44=$A$1,IF( Ecarts!B44=\"\",\"\",Ecarts!A44),\"\")","v":""},{"$f":"IF( Ecarts!$E44=$A$1,IF( Ecarts!C44=\"\",\"\",Ecarts!C44),\"\")","v":""},{"$f":"IF( Ecarts!$E44=$A$1, IF(Ecarts!F44=\"\",\"\",Ecarts!F44),\"\")","v":""},{"$f":"IF( Ecarts!$E44=$A$1, IF(Ecarts!I44=\"\",\"\",Ecarts!I44),\"\")","v":""},{"$f":"IF( Ecarts!$E44=$A$1, IF(Ecarts!J44=\"\",\"\",Ecarts!J44),\"\")","v":""},{"$f":"IF( Ecarts!$E44=$A$1, IF(Ecarts!K44=\"\",\"\",Ecarts!K44),\"\")","v":""},{"$f":"IF( Ecarts!$E44=$A$1, IF(Ecarts!L44=\"\",\"\",Ecarts!L44),\"\")","v":""},{"$f":"IF( Ecarts!$E44=$A$1, IF(Ecarts!M44=\"\",\"\",Ecarts!M44),\"\")","v":""},0,0]
[{"$f":"IF( Ecarts!$E45=$A$1,IF( Ecarts!B45=\"\",\"\",Ecarts!A45),\"\")","v":""},{"$f":"IF( Ecarts!$E45=$A$1,IF( Ecarts!C45=\"\",\"\",Ecarts!C45),\"\")","v":""},{"$f":"IF( Ecarts!$E45=$A$1, IF(Ecarts!F45=\"\",\"\",Ecarts!F45),\"\")","v":""},{"$f":"IF( Ecarts!$E45=$A$1, IF(Ecarts!I45=\"\",\"\",Ecarts!I45),\"\")","v":""},{"$f":"IF( Ecarts!$E45=$A$1, IF(Ecarts!J45=\"\",\"\",Ecarts!J45),\"\")","v":""},{"$f":"IF( Ecarts!$E45=$A$1, IF(Ecarts!K45=\"\",\"\",Ecarts!K45),\"\")","v":""},{"$f":"IF( Ecarts!$E45=$A$1, IF(Ecarts!L45=\"\",\"\",Ecarts!L45),\"\")","v":""},{"$f":"IF( Ecarts!$E45=$A$1, IF(Ecarts!M45=\"\",\"\",Ecarts!M45),\"\")","v":""},0,0]
[{"$f":"IF( Ecarts!$E46=$A$1,IF( Ecarts!B46=\"\",\"\",Ecarts!A46),\"\")","v":""},{"$f":"IF( Ecarts!$E46=$A$1,IF( Ecarts!C46=\"\",\"\",Ecarts!C46),\"\")","v":""},{"$f":"IF( Ecarts!$E46=$A$1, IF(Ecarts!F46=\"\",\"\",Ecarts!F46),\"\")","v":""},{"$f":"IF( Ecarts!$E46=$A$1, IF(Ecarts!I46=\"\",\"\",Ecarts!I46),\"\")","v":""},{"$f":"IF( Ecarts!$E46=$A$1, IF(Ecarts!J46=\"\",\"\",Ecarts!J46),\"\")","v":""},{"$f":"IF( Ecarts!$E46=$A$1, IF(Ecarts!K46=\"\",\"\",Ecarts!K46),\"\")","v":""},{"$f":"IF( Ecarts!$E46=$A$1, IF(Ecarts!L46=\"\",\"\",Ecarts!L46),\"\")","v":""},{"$f":"IF( Ecarts!$E46=$A$1, IF(Ecarts!M46=\"\",\"\",Ecarts!M46),\"\")","v":""},0,0]
[{"$f":"IF( Ecarts!$E47=$A$1,IF( Ecarts!B47=\"\",\"\",Ecarts!A47),\"\")","v":""},{"$f":"IF( Ecarts!$E47=$A$1,IF( Ecarts!C47=\"\",\"\",Ecarts!C47),\"\")","v":""},{"$f":"IF( Ecarts!$E47=$A$1, IF(Ecarts!F47=\"\",\"\",Ecarts!F47),\"\")","v":""},{"$f":"IF( Ecarts!$E47=$A$1, IF(Ecarts!I47=\"\",\"\",Ecarts!I47),\"\")","v":""},{"$f":"IF( Ecarts!$E47=$A$1, IF(Ecarts!J47=\"\",\"\",Ecarts!J47),\"\")","v":""},{"$f":"IF( Ecarts!$E47=$A$1, IF(Ecarts!K47=\"\",\"\",Ecarts!K47),\"\")","v":""},{"$f":"IF( Ecarts!$E47=$A$1, IF(Ecarts!L47=\"\",\"\",Ecarts!L47),\"\")","v":""},{"$f":"IF( Ecarts!$E47=$A$1, IF(Ecarts!M47=\"\",\"\",Ecarts!M47),\"\")","v":""},0,0]
[{"$f":"IF( Ecarts!$E48=$A$1,IF( Ecarts!B48=\"\",\"\",Ecarts!A48),\"\")","v":""},{"$f":"IF( Ecarts!$E48=$A$1,IF( Ecarts!C48=\"\",\"\",Ecarts!C48),\"\")","v":""},{"$f":"IF( Ecarts!$E48=$A$1, IF(Ecarts!F48=\"\",\"\",Ecarts!F48),\"\")","v":""},{"$f":"IF( Ecarts!$E48=$A$1, IF(Ecarts!I48=\"\",\"\",Ecarts!I48),\"\")","v":""},{"$f":"IF( Ecarts!$E48=$A$1, IF(Ecarts!J48=\"\",\"\",Ecarts!J48),\"\")","v":""},{"$f":"IF( Ecarts!$E48=$A$1, IF(Ecarts!K48=\"\",\"\",Ecarts!K48),\"\")","v":""},{"$f":"IF( Ecarts!$E48=$A$1, IF(Ecarts!L48=\"\",\"\",Ecarts!L48),\"\")","v":""},{"$f":"IF( Ecarts!$E48=$A$1, IF(Ecarts!M48=\"\",\"\",Ecarts!M48),\"\")","v":""},0,0]
[{"$f":"IF( Ecarts!$E49=$A$1,IF( Ecarts!B49=\"\",\"\",Ecarts!A49),\"\")","v":""},{"$f":"IF( Ecarts!$E49=$A$1,IF( Ecarts!C49=\"\",\"\",Ecarts!C49),\"\")","v":""},{"$f":"IF( Ecarts!$E49=$A$1, IF(Ecarts!F49=\"\",\"\",Ecarts!F49),\"\")","v":""},{"$f":"IF( Ecarts!$E49=$A$1, IF(Ecarts!I49=\"\",\"\",Ecarts!I49),\"\")","v":""},{"$f":"IF( Ecarts!$E49=$A$1, IF(Ecarts!J49=\"\",\"\",Ecarts!J49),\"\")","v":""},{"$f":"IF( Ecarts!$E49=$A$1, IF(Ecarts!K49=\"\",\"\",Ecarts!K49),\"\")","v":""},{"$f":"IF( Ecarts!$E49=$A$1, IF(Ecarts!L49=\"\",\"\",Ecarts!L49),\"\")","v":""},{"$f":"IF( Ecarts!$E49=$A$1, IF(Ecarts!M49=\"\",\"\",Ecarts!M49),\"\")","v":""},0,0]
[{"$f":"IF( Ecarts!$E50=$A$1,IF( Ecarts!B50=\"\",\"\",Ecarts!A50),\"\")","v":""},{"$f":"IF( Ecarts!$E50=$A$1,IF( Ecarts!C50=\"\",\"\",Ecarts!C50),\"\")","v":""},{"$f":"IF( Ecarts!$E50=$A$1, IF(Ecarts!F50=\"\",\"\",Ecarts!F50),\"\")","v":""},{"$f":"IF( Ecarts!$E50=$A$1, IF(Ecarts!I50=\"\",\"\",Ecarts!I50),\"\")","v":""},{"$f":"IF( Ecarts!$E50=$A$1, IF(Ecarts!J50=\"\",\"\",Ecarts!J50),\"\")","v":""},{"$f":"IF( Ecarts!$E50=$A$1, IF(Ecarts!K50=\"\",\"\",Ecarts!K50),\"\")","v":""},{"$f":"IF( Ecarts!$E50=$A$1, IF(Ecarts!L50=\"\",\"\",Ecarts!L50),\"\")","v":""},{"$f":"IF( Ecarts!$E50=$A$1, IF(Ecarts!M50=\"\",\"\",Ecarts!M50),\"\")","v":""},0,0]
[{"$f":"IF( Ecarts!$E51=$A$1,IF( Ecarts!B51=\"\",\"\",Ecarts!A51),\"\")","v":""},{"$f":"IF( Ecarts!$E51=$A$1,IF( Ecarts!C51=\"\",\"\",Ecarts!C51),\"\")","v":""},{"$f":"IF( Ecarts!$E51=$A$1, IF(Ecarts!F51=\"\",\"\",Ecarts!F51),\"\")","v":""},{"$f":"IF( Ecarts!$E51=$A$1, IF(Ecarts!I51=\"\",\"\",Ecarts!I51),\"\")","v":""},{"$f":"IF( Ecarts!$E51=$A$1, IF(Ecarts!J51=\"\",\"\",Ecarts!J51),\"\")","v":""},{"$f":"IF( Ecarts!$E51=$A$1, IF(Ecarts!K51=\"\",\"\",Ecarts!K51),\"\")","v":""},{"$f":"IF( Ecarts!$E51=$A$1, IF(Ecarts!L51=\"\",\"\",Ecarts!L51),\"\")","v":""},{"$f":"IF( Ecarts!$E51=$A$1, IF(Ecarts!M51=\"\",\"\",Ecarts!M51),\"\")","v":""},0,0]
[{"$f":"IF( Ecarts!$E52=$A$1,IF( Ecarts!B52=\"\",\"\",Ecarts!A52),\"\")","v":""},{"$f":"IF( Ecarts!$E52=$A$1,IF( Ecarts!C52=\"\",\"\",Ecarts!C52),\"\")","v":""},{"$f":"IF( Ecarts!$E52=$A$1, IF(Ecarts!F52=\"\",\"\",Ecarts!F52),\"\")","v":""},{"$f":"IF( Ecarts!$E52=$A$1, IF(Ecarts!I52=\"\",\"\",Ecarts!I52),\"\")","v":""},{"$f":"IF( Ecarts!$E52=$A$1, IF(Ecarts!J52=\"\",\"\",Ecarts!J52),\"\")","v":""},{"$f":"IF( Ecarts!$E52=$A$1, IF(Ecarts!K52=\"\",\"\",Ecarts!K52),\"\")","v":""},{"$f":"IF( Ecarts!$E52=$A$1, IF(Ecarts!L52=\"\",\"\",Ecarts!L52),\"\")","v":""},{"$f":"IF( Ecarts!$E52=$A$1, IF(Ecarts!M52=\"\",\"\",Ecarts!M52),\"\")","v":""},0,0]
[{"$f":"IF( Ecarts!$E53=$A$1,IF( Ecarts!B53=\"\",\"\",Ecarts!A53),\"\")","v":""},{"$f":"IF( Ecarts!$E53=$A$1,IF( Ecarts!C53=\"\",\"\",Ecarts!C53),\"\")","v":""},{"$f":"IF( Ecarts!$E53=$A$1, IF(Ecarts!F53=\"\",\"\",Ecarts!F53),\"\")","v":""},{"$f":"IF( Ecarts!$E53=$A$1, IF(Ecarts!I53=\"\",\"\",Ecarts!I53),\"\")","v":""},{"$f":"IF( Ecarts!$E53=$A$1, IF(Ecarts!J53=\"\",\"\",Ecarts!J53),\"\")","v":""},{"$f":"IF( Ecarts!$E53=$A$1, IF(Ecarts!K53=\"\",\"\",Ecarts!K53),\"\")","v":""},{"$f":"IF( Ecarts!$E53=$A$1, IF(Ecarts!L53=\"\",\"\",Ecarts!L53),\"\")","v":""},{"$f":"IF( Ecarts!$E53=$A$1, IF(Ecarts!M53=\"\",\"\",Ecarts!M53),\"\")","v":""},0,0]
[{"$f":"IF( Ecarts!$E54=$A$1,IF( Ecarts!B54=\"\",\"\",Ecarts!A54),\"\")","v":""},{"$f":"IF( Ecarts!$E54=$A$1,IF( Ecarts!C54=\"\",\"\",Ecarts!C54),\"\")","v":""},{"$f":"IF( Ecarts!$E54=$A$1, IF(Ecarts!F54=\"\",\"\",Ecarts!F54),\"\")","v":""},{"$f":"IF( Ecarts!$E54=$A$1, IF(Ecarts!I54=\"\",\"\",Ecarts!I54),\"\")","v":""},{"$f":"IF( Ecarts!$E54=$A$1, IF(Ecarts!J54=\"\",\"\",Ecarts!J54),\"\")","v":""},{"$f":"IF( Ecarts!$E54=$A$1, IF(Ecarts!K54=\"\",\"\",Ecarts!K54),\"\")","v":""},{"$f":"IF( Ecarts!$E54=$A$1, IF(Ecarts!L54=\"\",\"\",Ecarts!L54),\"\")","v":""},{"$f":"IF( Ecarts!$E54=$A$1, IF(Ecarts!M54=\"\",\"\",Ecarts!M54),\"\")","v":""},0,0]
[{"$f":"IF( Ecarts!$E55=$A$1,IF( Ecarts!B55=\"\",\"\",Ecarts!A55),\"\")","v":""},{"$f":"IF( Ecarts!$E55=$A$1,IF( Ecarts!C55=\"\",\"\",Ecarts!C55),\"\")","v":""},{"$f":"IF( Ecarts!$E55=$A$1, IF(Ecarts!F55=\"\",\"\",Ecarts!F55),\"\")","v":""},{"$f":"IF( Ecarts!$E55=$A$1, IF(Ecarts!I55=\"\",\"\",Ecarts!I55),\"\")","v":""},{"$f":"IF( Ecarts!$E55=$A$1, IF(Ecarts!J55=\"\",\"\",Ecarts!J55),\"\")","v":""},{"$f":"IF( Ecarts!$E55=$A$1, IF(Ecarts!K55=\"\",\"\",Ecarts!K55),\"\")","v":""},{"$f":"IF( Ecarts!$E55=$A$1, IF(Ecarts!L55=\"\",\"\",Ecarts!L55),\"\")","v":""},{"$f":"IF( Ecarts!$E55=$A$1, IF(Ecarts!M55=\"\",\"\",Ecarts!M55),\"\")","v":""},0,0]
[{"$f":"IF( Ecarts!$E56=$A$1,IF( Ecarts!B56=\"\",\"\",Ecarts!A56),\"\")","v":""},{"$f":"IF( Ecarts!$E56=$A$1,IF( Ecarts!C56=\"\",\"\",Ecarts!C56),\"\")","v":""},{"$f":"IF( Ecarts!$E56=$A$1, IF(Ecarts!F56=\"\",\"\",Ecarts!F56),\"\")","v":""},{"$f":"IF( Ecarts!$E56=$A$1, IF(Ecarts!I56=\"\",\"\",Ecarts!I56),\"\")","v":""},{"$f":"IF( Ecarts!$E56=$A$1, IF(Ecarts!J56=\"\",\"\",Ecarts!J56),\"\")","v":""},{"$f":"IF( Ecarts!$E56=$A$1, IF(Ecarts!K56=\"\",\"\",Ecarts!K56),\"\")","v":""},{"$f":"IF( Ecarts!$E56=$A$1, IF(Ecarts!L56=\"\",\"\",Ecarts!L56),\"\")","v":""},{"$f":"IF( Ecarts!$E56=$A$1, IF(Ecarts!M56=\"\",\"\",Ecarts!M56),\"\")","v":""},0,0]
[{"$f":"IF( Ecarts!$E57=$A$1,IF( Ecarts!B57=\"\",\"\",Ecarts!A57),\"\")","v":""},{"$f":"IF( Ecarts!$E57=$A$1,IF( Ecarts!C57=\"\",\"\",Ecarts!C57),\"\")","v":""},{"$f":"IF( Ecarts!$E57=$A$1, IF(Ecarts!F57=\"\",\"\",Ecarts!F57),\"\")","v":""},{"$f":"IF( Ecarts!$E57=$A$1, IF(Ecarts!I57=\"\",\"\",Ecarts!I57),\"\")","v":""},{"$f":"IF( Ecarts!$E57=$A$1, IF(Ecarts!J57=\"\",\"\",Ecarts!J57),\"\")","v":""},{"$f":"IF( Ecarts!$E57=$A$1, IF(Ecarts!K57=\"\",\"\",Ecarts!K57),\"\")","v":""},{"$f":"IF( Ecarts!$E57=$A$1, IF(Ecarts!L57=\"\",\"\",Ecarts!L57),\"\")","v":""},{"$f":"IF( Ecarts!$E57=$A$1, IF(Ecarts!M57=\"\",\"\",Ecarts!M57),\"\")","v":""},0,0]
[{"$f":"IF( Ecarts!$E58=$A$1,IF( Ecarts!B58=\"\",\"\",Ecarts!A58),\"\")","v":""},{"$f":"IF( Ecarts!$E58=$A$1,IF( Ecarts!C58=\"\",\"\",Ecarts!C58),\"\")","v":""},{"$f":"IF( Ecarts!$E58=$A$1, IF(Ecarts!F58=\"\",\"\",Ecarts!F58),\"\")","v":""},{"$f":"IF( Ecarts!$E58=$A$1, IF(Ecarts!I58=\"\",\"\",Ecarts!I58),\"\")","v":""},{"$f":"IF( Ecarts!$E58=$A$1, IF(Ecarts!J58=\"\",\"\",Ecarts!J58),\"\")","v":""},{"$f":"IF( Ecarts!$E58=$A$1, IF(Ecarts!K58=\"\",\"\",Ecarts!K58),\"\")","v":""},{"$f":"IF( Ecarts!$E58=$A$1, IF(Ecarts!L58=\"\",\"\",Ecarts!L58),\"\")","v":""},{"$f":"IF( Ecarts!$E58=$A$1, IF(Ecarts!M58=\"\",\"\",Ecarts!M58),\"\")","v":""},0,0]
[{"$f":"IF( Ecarts!$E59=$A$1,IF( Ecarts!B59=\"\",\"\",Ecarts!A59),\"\")","v":""},{"$f":"IF( Ecarts!$E59=$A$1,IF( Ecarts!C59=\"\",\"\",Ecarts!C59),\"\")","v":""},{"$f":"IF( Ecarts!$E59=$A$1, IF(Ecarts!F59=\"\",\"\",Ecarts!F59),\"\")","v":""},{"$f":"IF( Ecarts!$E59=$A$1, IF(Ecarts!I59=\"\",\"\",Ecarts!I59),\"\")","v":""},{"$f":"IF( Ecarts!$E59=$A$1, IF(Ecarts!J59=\"\",\"\",Ecarts!J59),\"\")","v":""},{"$f":"IF( Ecarts!$E59=$A$1, IF(Ecarts!K59=\"\",\"\",Ecarts!K59),\"\")","v":""},{"$f":"IF( Ecarts!$E59=$A$1, IF(Ecarts!L59=\"\",\"\",Ecarts!L59),\"\")","v":""},{"$f":"IF( Ecarts!$E59=$A$1, IF(Ecarts!M59=\"\",\"\",Ecarts!M59),\"\")","v":""},0,0]
[{"$f":"IF( Ecarts!$E60=$A$1,IF( Ecarts!B60=\"\",\"\",Ecarts!A60),\"\")","v":""},{"$f":"IF( Ecarts!$E60=$A$1,IF( Ecarts!C60=\"\",\"\",Ecarts!C60),\"\")","v":""},{"$f":"IF( Ecarts!$E60=$A$1, IF(Ecarts!F60=\"\",\"\",Ecarts!F60),\"\")","v":""},{"$f":"IF( Ecarts!$E60=$A$1, IF(Ecarts!I60=\"\",\"\",Ecarts!I60),\"\")","v":""},{"$f":"IF( Ecarts!$E60=$A$1, IF(Ecarts!J60=\"\",\"\",Ecarts!J60),\"\")","v":""},{"$f":"IF( Ecarts!$E60=$A$1, IF(Ecarts!K60=\"\",\"\",Ecarts!K60),\"\")","v":""},{"$f":"IF( Ecarts!$E60=$A$1, IF(Ecarts!L60=\"\",\"\",Ecarts!L60),\"\")","v":""},{"$f":"IF( Ecarts!$E60=$A$1, IF(Ecarts!M60=\"\",\"\",Ecarts!M60),\"\")","v":""},0,0]
[{"$f":"IF( Ecarts!$E61=$A$1,IF( Ecarts!B61=\"\",\"\",Ecarts!A61),\"\")","v":""},{"$f":"IF( Ecarts!$E61=$A$1,IF( Ecarts!C61=\"\",\"\",Ecarts!C61),\"\")","v":""},{"$f":"IF( Ecarts!$E61=$A$1, IF(Ecarts!F61=\"\",\"\",Ecarts!F61),\"\")","v":""},{"$f":"IF( Ecarts!$E61=$A$1, IF(Ecarts!I61=\"\",\"\",Ecarts!I61),\"\")","v":""},{"$f":"IF( Ecarts!$E61=$A$1, IF(Ecarts!J61=\"\",\"\",Ecarts!J61),\"\")","v":""},{"$f":"IF( Ecarts!$E61=$A$1, IF(Ecarts!K61=\"\",\"\",Ecarts!K61),\"\")","v":""},{"$f":"IF( Ecarts!$E61=$A$1, IF(Ecarts!L61=\"\",\"\",Ecarts!L61),\"\")","v":""},{"$f":"IF( Ecarts!$E61=$A$1, IF(Ecarts!M61=\"\",\"\",Ecarts!M61),\"\")","v":""},0,0]
[{"$f":"IF( Ecarts!$E62=$A$1,IF( Ecarts!B62=\"\",\"\",Ecarts!A62),\"\")","v":""},{"$f":"IF( Ecarts!$E62=$A$1,IF( Ecarts!C62=\"\",\"\",Ecarts!C62),\"\")","v":""},{"$f":"IF( Ecarts!$E62=$A$1, IF(Ecarts!F62=\"\",\"\",Ecarts!F62),\"\")","v":""},{"$f":"IF( Ecarts!$E62=$A$1, IF(Ecarts!I62=\"\",\"\",Ecarts!I62),\"\")","v":""},{"$f":"IF( Ecarts!$E62=$A$1, IF(Ecarts!J62=\"\",\"\",Ecarts!J62),\"\")","v":""},{"$f":"IF( Ecarts!$E62=$A$1, IF(Ecarts!K62=\"\",\"\",Ecarts!K62),\"\")","v":""},{"$f":"IF( Ecarts!$E62=$A$1, IF(Ecarts!L62=\"\",\"\",Ecarts!L62),\"\")","v":""},{"$f":"IF( Ecarts!$E62=$A$1, IF(Ecarts!M62=\"\",\"\",Ecarts!M62),\"\")","v":""},0,0]
[{"$f":"IF( Ecarts!$E63=$A$1,IF( Ecarts!B63=\"\",\"\",Ecarts!A63),\"\")","v":""},{"$f":"IF( Ecarts!$E63=$A$1,IF( Ecarts!C63=\"\",\"\",Ecarts!C63),\"\")","v":""},{"$f":"IF( Ecarts!$E63=$A$1, IF(Ecarts!F63=\"\",\"\",Ecarts!F63),\"\")","v":""},{"$f":"IF( Ecarts!$E63=$A$1, IF(Ecarts!I63=\"\",\"\",Ecarts!I63),\"\")","v":""},{"$f":"IF( Ecarts!$E63=$A$1, IF(Ecarts!J63=\"\",\"\",Ecarts!J63),\"\")","v":""},{"$f":"IF( Ecarts!$E63=$A$1, IF(Ecarts!K63=\"\",\"\",Ecarts!K63),\"\")","v":""},{"$f":"IF( Ecarts!$E63=$A$1, IF(Ecarts!L63=\"\",\"\",Ecarts!L63),\"\")","v":""},{"$f":"IF( Ecarts!$E63=$A$1, IF(Ecarts!M63=\"\",\"\",Ecarts!M63),\"\")","v":""},0,0]
[{"$f":"IF( Ecarts!$E64=$A$1,IF( Ecarts!B64=\"\",\"\",Ecarts!A64),\"\")","v":""},{"$f":"IF( Ecarts!$E64=$A$1,IF( Ecarts!C64=\"\",\"\",Ecarts!C64),\"\")","v":""},{"$f":"IF( Ecarts!$E64=$A$1, IF(Ecarts!F64=\"\",\"\",Ecarts!F64),\"\")","v":""},{"$f":"IF( Ecarts!$E64=$A$1, IF(Ecarts!I64=\"\",\"\",Ecarts!I64),\"\")","v":""},{"$f":"IF( Ecarts!$E64=$A$1, IF(Ecarts!J64=\"\",\"\",Ecarts!J64),\"\")","v":""},{"$f":"IF( Ecarts!$E64=$A$1, IF(Ecarts!K64=\"\",\"\",Ecarts!K64),\"\")","v":""},{"$f":"IF( Ecarts!$E64=$A$1, IF(Ecarts!L64=\"\",\"\",Ecarts!L64),\"\")","v":""},{"$f":"IF( Ecarts!$E64=$A$1, IF(Ecarts!M64=\"\",\"\",Ecarts!M64),\"\")","v":""},0,0]
[{"$f":"IF( Ecarts!$E65=$A$1,IF( Ecarts!B65=\"\",\"\",Ecarts!A65),\"\")","v":""},{"$f":"IF( Ecarts!$E65=$A$1,IF( Ecarts!C65=\"\",\"\",Ecarts!C65),\"\")","v":""},{"$f":"IF( Ecarts!$E65=$A$1, IF(Ecarts!F65=\"\",\"\",Ecarts!F65),\"\")","v":""},{"$f":"IF( Ecarts!$E65=$A$1, IF(Ecarts!I65=\"\",\"\",Ecarts!I65),\"\")","v":""},{"$f":"IF( Ecarts!$E65=$A$1, IF(Ecarts!J65=\"\",\"\",Ecarts!J65),\"\")","v":""},{"$f":"IF( Ecarts!$E65=$A$1, IF(Ecarts!K65=\"\",\"\",Ecarts!K65),\"\")","v":""},{"$f":"IF( Ecarts!$E65=$A$1, IF(Ecarts!L65=\"\",\"\",Ecarts!L65),\"\")","v":""},{"$f":"IF( Ecarts!$E65=$A$1, IF(Ecarts!M65=\"\",\"\",Ecarts!M65),\"\")","v":""},0,0]
[{"$f":"IF( Ecarts!$E66=$A$1,IF( Ecarts!B66=\"\",\"\",Ecarts!A66),\"\")","v":""},{"$f":"IF( Ecarts!$E66=$A$1,IF( Ecarts!C66=\"\",\"\",Ecarts!C66),\"\")","v":""},{"$f":"IF( Ecarts!$E66=$A$1, IF(Ecarts!F66=\"\",\"\",Ecarts!F66),\"\")","v":""},{"$f":"IF( Ecarts!$E66=$A$1, IF(Ecarts!I66=\"\",\"\",Ecarts!I66),\"\")","v":""},{"$f":"IF( Ecarts!$E66=$A$1, IF(Ecarts!J66=\"\",\"\",Ecarts!J66),\"\")","v":""},{"$f":"IF( Ecarts!$E66=$A$1, IF(Ecarts!K66=\"\",\"\",Ecarts!K66),\"\")","v":""},{"$f":"IF( Ecarts!$E66=$A$1, IF(Ecarts!L66=\"\",\"\",Ecarts!L66),\"\")","v":""},{"$f":"IF( Ecarts!$E66=$A$1, IF(Ecarts!M66=\"\",\"\",Ecarts!M66),\"\")","v":""},0,0]
[{"$f":"IF( Ecarts!$E67=$A$1,IF( Ecarts!B67=\"\",\"\",Ecarts!A67),\"\")","v":""},{"$f":"IF( Ecarts!$E67=$A$1,IF( Ecarts!C67=\"\",\"\",Ecarts!C67),\"\")","v":""},{"$f":"IF( Ecarts!$E67=$A$1, IF(Ecarts!F67=\"\",\"\",Ecarts!F67),\"\")","v":""},{"$f":"IF( Ecarts!$E67=$A$1, IF(Ecarts!I67=\"\",\"\",Ecarts!I67),\"\")","v":""},{"$f":"IF( Ecarts!$E67=$A$1, IF(Ecarts!J67=\"\",\"\",Ecarts!J67),\"\")","v":""},{"$f":"IF( Ecarts!$E67=$A$1, IF(Ecarts!K67=\"\",\"\",Ecarts!K67),\"\")","v":""},{"$f":"IF( Ecarts!$E67=$A$1, IF(Ecarts!L67=\"\",\"\",Ecarts!L67),\"\")","v":""},{"$f":"IF( Ecarts!$E67=$A$1, IF(Ecarts!M67=\"\",\"\",Ecarts!M67),\"\")","v":""},0,0]
[{"$f":"IF( Ecarts!$E68=$A$1,IF( Ecarts!B68=\"\",\"\",Ecarts!A68),\"\")","v":""},{"$f":"IF( Ecarts!$E68=$A$1,IF( Ecarts!C68=\"\",\"\",Ecarts!C68),\"\")","v":""},{"$f":"IF( Ecarts!$E68=$A$1, IF(Ecarts!F68=\"\",\"\",Ecarts!F68),\"\")","v":""},{"$f":"IF( Ecarts!$E68=$A$1, IF(Ecarts!I68=\"\",\"\",Ecarts!I68),\"\")","v":""},{"$f":"IF( Ecarts!$E68=$A$1, IF(Ecarts!J68=\"\",\"\",Ecarts!J68),\"\")","v":""},{"$f":"IF( Ecarts!$E68=$A$1, IF(Ecarts!K68=\"\",\"\",Ecarts!K68),\"\")","v":""},{"$f":"IF( Ecarts!$E68=$A$1, IF(Ecarts!L68=\"\",\"\",Ecarts!L68),\"\")","v":""},{"$f":"IF( Ecarts!$E68=$A$1, IF(Ecarts!M68=\"\",\"\",Ecarts!M68),\"\")","v":""},{"$f":"IF(B69=\"\",0,IF(G69=1,0,1))","v":0},{"$f":"IF(F69=\"\",0,IF(F69>(TODAY()-60),1,0))","v":0}]
[{"$f":"IF( Ecarts!$E69=$A$1,IF( Ecarts!B69=\"\",\"\",Ecarts!A69),\"\")","v":""},{"$f":"IF( Ecarts!$E69=$A$1,IF( Ecarts!C69=\"\",\"\",Ecarts!C69),\"\")","v":""},{"$f":"IF( Ecarts!$E69=$A$1, IF(Ecarts!F69=\"\",\"\",Ecarts!F69),\"\")","v":""},{"$f":"IF( Ecarts!$E69=$A$1, IF(Ecarts!I69=\"\",\"\",Ecarts!I69),\"\")","v":""},{"$f":"IF( Ecarts!$E69=$A$1, IF(Ecarts!J69=\"\",\"\",Ecarts!J69),\"\")","v":""},{"$f":"IF( Ecarts!$E69=$A$1, IF(Ecarts!K69=\"\",\"\",Ecarts!K69),\"\")","v":""},{"$f":"IF( Ecarts!$E69=$A$1, IF(Ecarts!L69=\"\",\"\",Ecarts!L69),\"\")","v":""},{"$f":"IF( Ecarts!$E69=$A$1, IF(Ecarts!M69=\"\",\"\",Ecarts!M69),\"\")","v":""},0,0]
[{"$f":"IF( Ecarts!$E70=$A$1,IF( Ecarts!B70=\"\",\"\",Ecarts!A70),\"\")","v":""},{"$f":"IF( Ecarts!$E70=$A$1,IF( Ecarts!C70=\"\",\"\",Ecarts!C70),\"\")","v":""},{"$f":"IF( Ecarts!$E70=$A$1, IF(Ecarts!F70=\"\",\"\",Ecarts!F70),\"\")","v":""},{"$f":"IF( Ecarts!$E70=$A$1, IF(Ecarts!I70=\"\",\"\",Ecarts!I70),\"\")","v":""},{"$f":"IF( Ecarts!$E70=$A$1, IF(Ecarts!J70=\"\",\"\",Ecarts!J70),\"\")","v":""},{"$f":"IF( Ecarts!$E70=$A$1, IF(Ecarts!K70=\"\",\"\",Ecarts!K70),\"\")","v":""},{"$f":"IF( Ecarts!$E70=$A$1, IF(Ecarts!L70=\"\",\"\",Ecarts!L70),\"\")","v":""},{"$f":"IF( Ecarts!$E70=$A$1, IF(Ecarts!M70=\"\",\"\",Ecarts!M70),\"\")","v":""},0,0]
[{"$f":"IF( Ecarts!$E71=$A$1,IF( Ecarts!B71=\"\",\"\",Ecarts!A71),\"\")","v":""},{"$f":"IF( Ecarts!$E71=$A$1,IF( Ecarts!C71=\"\",\"\",Ecarts!C71),\"\")","v":""},{"$f":"IF( Ecarts!$E71=$A$1, IF(Ecarts!F71=\"\",\"\",Ecarts!F71),\"\")","v":""},{"$f":"IF( Ecarts!$E71=$A$1, IF(Ecarts!I71=\"\",\"\",Ecarts!I71),\"\")","v":""},{"$f":"IF( Ecarts!$E71=$A$1, IF(Ecarts!J71=\"\",\"\",Ecarts!J71),\"\")","v":""},{"$f":"IF( Ecarts!$E71=$A$1, IF(Ecarts!K71=\"\",\"\",Ecarts!K71),\"\")","v":""},{"$f":"IF( Ecarts!$E71=$A$1, IF(Ecarts!L71=\"\",\"\",Ecarts!L71),\"\")","v":""},{"$f":"IF( Ecarts!$E71=$A$1, IF(Ecarts!M71=\"\",\"\",Ecarts!M71),\"\")","v":""},0,0]
[{"$f":"IF( Ecarts!$E72=$A$1,IF( Ecarts!B72=\"\",\"\",Ecarts!A72),\"\")","v":""},{"$f":"IF( Ecarts!$E72=$A$1,IF( Ecarts!C72=\"\",\"\",Ecarts!C72),\"\")","v":""},{"$f":"IF( Ecarts!$E72=$A$1, IF(Ecarts!F72=\"\",\"\",Ecarts!F72),\"\")","v":""},{"$f":"IF( Ecarts!$E72=$A$1, IF(Ecarts!I72=\"\",\"\",Ecarts!I72),\"\")","v":""},{"$f":"IF( Ecarts!$E72=$A$1, IF(Ecarts!J72=\"\",\"\",Ecarts!J72),\"\")","v":""},{"$f":"IF( Ecarts!$E72=$A$1, IF(Ecarts!K72=\"\",\"\",Ecarts!K72),\"\")","v":""},{"$f":"IF( Ecarts!$E72=$A$1, IF(Ecarts!L72=\"\",\"\",Ecarts!L72),\"\")","v":""},{"$f":"IF( Ecarts!$E72=$A$1, IF(Ecarts!M72=\"\",\"\",Ecarts!M72),\"\")","v":""},0,0]
[{"$f":"IF( Ecarts!$E73=$A$1,IF( Ecarts!B73=\"\",\"\",Ecarts!A73),\"\")","v":""},{"$f":"IF( Ecarts!$E73=$A$1,IF( Ecarts!C73=\"\",\"\",Ecarts!C73),\"\")","v":""},{"$f":"IF( Ecarts!$E73=$A$1, IF(Ecarts!F73=\"\",\"\",Ecarts!F73),\"\")","v":""},{"$f":"IF( Ecarts!$E73=$A$1, IF(Ecarts!I73=\"\",\"\",Ecarts!I73),\"\")","v":""},{"$f":"IF( Ecarts!$E73=$A$1, IF(Ecarts!J73=\"\",\"\",Ecarts!J73),\"\")","v":""},{"$f":"IF( Ecarts!$E73=$A$1, IF(Ecarts!K73=\"\",\"\",Ecarts!K73),\"\")","v":""},{"$f":"IF( Ecarts!$E73=$A$1, IF(Ecarts!L73=\"\",\"\",Ecarts!L73),\"\")","v":""},{"$f":"IF( Ecarts!$E73=$A$1, IF(Ecarts!M73=\"\",\"\",Ecarts!M73),\"\")","v":""},0,0]
[{"$f":"IF( Ecarts!$E74=$A$1,IF( Ecarts!B74=\"\",\"\",Ecarts!A74),\"\")","v":""},{"$f":"IF( Ecarts!$E74=$A$1,IF( Ecarts!C74=\"\",\"\",Ecarts!C74),\"\")","v":""},{"$f":"IF( Ecarts!$E74=$A$1, IF(Ecarts!F74=\"\",\"\",Ecarts!F74),\"\")","v":""},{"$f":"IF( Ecarts!$E74=$A$1, IF(Ecarts!I74=\"\",\"\",Ecarts!I74),\"\")","v":""},{"$f":"IF( Ecarts!$E74=$A$1, IF(Ecarts!J74=\"\",\"\",Ecarts!J74),\"\")","v":""},{"$f":"IF( Ecarts!$E74=$A$1, IF(Ecarts!K74=\"\",\"\",Ecarts!K74),\"\")","v":""},{"$f":"IF( Ecarts!$E74=$A$1, IF(Ecarts!L74=\"\",\"\",Ecarts!L74),\"\")","v":""},{"$f":"IF( Ecarts!$E74=$A$1, IF(Ecarts!M74=\"\",\"\",Ecarts!M74),\"\")","v":""},0,0]
[{"$f":"IF( Ecarts!$E75=$A$1,IF( Ecarts!B75=\"\",\"\",Ecarts!A75),\"\")","v":""},{"$f":"IF( Ecarts!$E75=$A$1,IF( Ecarts!C75=\"\",\"\",Ecarts!C75),\"\")","v":""},{"$f":"IF( Ecarts!$E75=$A$1, IF(Ecarts!F75=\"\",\"\",Ecarts!F75),\"\")","v":""},{"$f":"IF( Ecarts!$E75=$A$1, IF(Ecarts!I75=\"\",\"\",Ecarts!I75),\"\")","v":""},{"$f":"IF( Ecarts!$E75=$A$1, IF(Ecarts!J75=\"\",\"\",Ecarts!J75),\"\")","v":""},{"$f":"IF( Ecarts!$E75=$A$1, IF(Ecarts!K75=\"\",\"\",Ecarts!K75),\"\")","v":""},{"$f":"IF( Ecarts!$E75=$A$1, IF(Ecarts!L75=\"\",\"\",Ecarts!L75),\"\")","v":""},{"$f":"IF( Ecarts!$E75=$A$1, IF(Ecarts!M75=\"\",\"\",Ecarts!M75),\"\")","v":""},0,0]
[{"$f":"IF( Ecarts!$E76=$A$1,IF( Ecarts!B76=\"\",\"\",Ecarts!A76),\"\")","v":""},{"$f":"IF( Ecarts!$E76=$A$1,IF( Ecarts!C76=\"\",\"\",Ecarts!C76),\"\")","v":""},{"$f":"IF( Ecarts!$E76=$A$1, IF(Ecarts!F76=\"\",\"\",Ecarts!F76),\"\")","v":""},{"$f":"IF( Ecarts!$E76=$A$1, IF(Ecarts!I76=\"\",\"\",Ecarts!I76),\"\")","v":""},{"$f":"IF( Ecarts!$E76=$A$1, IF(Ecarts!J76=\"\",\"\",Ecarts!J76),\"\")","v":""},{"$f":"IF( Ecarts!$E76=$A$1, IF(Ecarts!K76=\"\",\"\",Ecarts!K76),\"\")","v":""},{"$f":"IF( Ecarts!$E76=$A$1, IF(Ecarts!L76=\"\",\"\",Ecarts!L76),\"\")","v":""},{"$f":"IF( Ecarts!$E76=$A$1, IF(Ecarts!M76=\"\",\"\",Ecarts!M76),\"\")","v":""},0,0]
[{"$f":"IF( Ecarts!$E77=$A$1,IF( Ecarts!B77=\"\",\"\",Ecarts!A77),\"\")","v":""},{"$f":"IF( Ecarts!$E77=$A$1,IF( Ecarts!C77=\"\",\"\",Ecarts!C77),\"\")","v":""},{"$f":"IF( Ecarts!$E77=$A$1, IF(Ecarts!F77=\"\",\"\",Ecarts!F77),\"\")","v":""},{"$f":"IF( Ecarts!$E77=$A$1, IF(Ecarts!I77=\"\",\"\",Ecarts!I77),\"\")","v":""},{"$f":"IF( Ecarts!$E77=$A$1, IF(Ecarts!J77=\"\",\"\",Ecarts!J77),\"\")","v":""},{"$f":"IF( Ecarts!$E77=$A$1, IF(Ecarts!K77=\"\",\"\",Ecarts!K77),\"\")","v":""},{"$f":"IF( Ecarts!$E77=$A$1, IF(Ecarts!L77=\"\",\"\",Ecarts!L77),\"\")","v":""},{"$f":"IF( Ecarts!$E77=$A$1, IF(Ecarts!M77=\"\",\"\",Ecarts!M77),\"\")","v":""},0,0]
[{"$f":"IF( Ecarts!$E78=$A$1,IF( Ecarts!B78=\"\",\"\",Ecarts!A78),\"\")","v":""},{"$f":"IF( Ecarts!$E78=$A$1,IF( Ecarts!C78=\"\",\"\",Ecarts!C78),\"\")","v":""},{"$f":"IF( Ecarts!$E78=$A$1, IF(Ecarts!F78=\"\",\"\",Ecarts!F78),\"\")","v":""},{"$f":"IF( Ecarts!$E78=$A$1, IF(Ecarts!I78=\"\",\"\",Ecarts!I78),\"\")","v":""},{"$f":"IF( Ecarts!$E78=$A$1, IF(Ecarts!J78=\"\",\"\",Ecarts!J78),\"\")","v":""},{"$f":"IF( Ecarts!$E78=$A$1, IF(Ecarts!K78=\"\",\"\",Ecarts!K78),\"\")","v":""},{"$f":"IF( Ecarts!$E78=$A$1, IF(Ecarts!L78=\"\",\"\",Ecarts!L78),\"\")","v":""},{"$f":"IF( Ecarts!$E78=$A$1, IF(Ecarts!M78=\"\",\"\",Ecarts!M78),\"\")","v":""},0,0]
[{"$f":"IF( Ecarts!$E79=$A$1,IF( Ecarts!B79=\"\",\"\",Ecarts!A79),\"\")","v":""},{"$f":"IF( Ecarts!$E79=$A$1,IF( Ecarts!C79=\"\",\"\",Ecarts!C79),\"\")","v":""},{"$f":"IF( Ecarts!$E79=$A$1, IF(Ecarts!F79=\"\",\"\",Ecarts!F79),\"\")","v":""},{"$f":"IF( Ecarts!$E79=$A$1, IF(Ecarts!I79=\"\",\"\",Ecarts!I79),\"\")","v":""},{"$f":"IF( Ecarts!$E79=$A$1, IF(Ecarts!J79=\"\",\"\",Ecarts!J79),\"\")","v":""},{"$f":"IF( Ecarts!$E79=$A$1, IF(Ecarts!K79=\"\",\"\",Ecarts!K79),\"\")","v":""},{"$f":"IF( Ecarts!$E79=$A$1, IF(Ecarts!L79=\"\",\"\",Ecarts!L79),\"\")","v":""},{"$f":"IF( Ecarts!$E79=$A$1, IF(Ecarts!M79=\"\",\"\",Ecarts!M79),\"\")","v":""},0,0]
[{"$f":"IF( Ecarts!$E80=$A$1,IF( Ecarts!B80=\"\",\"\",Ecarts!A80),\"\")","v":""},{"$f":"IF( Ecarts!$E80=$A$1,IF( Ecarts!C80=\"\",\"\",Ecarts!C80),\"\")","v":""},{"$f":"IF( Ecarts!$E80=$A$1, IF(Ecarts!F80=\"\",\"\",Ecarts!F80),\"\")","v":""},{"$f":"IF( Ecarts!$E80=$A$1, IF(Ecarts!I80=\"\",\"\",Ecarts!I80),\"\")","v":""},{"$f":"IF( Ecarts!$E80=$A$1, IF(Ecarts!J80=\"\",\"\",Ecarts!J80),\"\")","v":""},{"$f":"IF( Ecarts!$E80=$A$1, IF(Ecarts!K80=\"\",\"\",Ecarts!K80),\"\")","v":""},{"$f":"IF( Ecarts!$E80=$A$1, IF(Ecarts!L80=\"\",\"\",Ecarts!L80),\"\")","v":""},{"$f":"IF( Ecarts!$E80=$A$1, IF(Ecarts!M80=\"\",\"\",Ecarts!M80),\"\")","v":""},0,0]
[{"$f":"IF( Ecarts!$E81=$A$1,IF( Ecarts!B81=\"\",\"\",Ecarts!A81),\"\")","v":""},{"$f":"IF( Ecarts!$E81=$A$1,IF( Ecarts!C81=\"\",\"\",Ecarts!C81),\"\")","v":""},{"$f":"IF( Ecarts!$E81=$A$1, IF(Ecarts!F81=\"\",\"\",Ecarts!F81),\"\")","v":""},{"$f":"IF( Ecarts!$E81=$A$1, IF(Ecarts!I81=\"\",\"\",Ecarts!I81),\"\")","v":""},{"$f":"IF( Ecarts!$E81=$A$1, IF(Ecarts!J81=\"\",\"\",Ecarts!J81),\"\")","v":""},{"$f":"IF( Ecarts!$E81=$A$1, IF(Ecarts!K81=\"\",\"\",Ecarts!K81),\"\")","v":""},{"$f":"IF( Ecarts!$E81=$A$1, IF(Ecarts!L81=\"\",\"\",Ecarts!L81),\"\")","v":""},{"$f":"IF( Ecarts!$E81=$A$1, IF(Ecarts!M81=\"\",\"\",Ecarts!M81),\"\")","v":""},0,0]
[{"$f":"IF( Ecarts!$E82=$A$1,IF( Ecarts!B82=\"\",\"\",Ecarts!A82),\"\")","v":""},{"$f":"IF( Ecarts!$E82=$A$1,IF( Ecarts!C82=\"\",\"\",Ecarts!C82),\"\")","v":""},{"$f":"IF( Ecarts!$E82=$A$1, IF(Ecarts!F82=\"\",\"\",Ecarts!F82),\"\")","v":""},{"$f":"IF( Ecarts!$E82=$A$1, IF(Ecarts!I82=\"\",\"\",Ecarts!I82),\"\")","v":""},{"$f":"IF( Ecarts!$E82=$A$1, IF(Ecarts!J82=\"\",\"\",Ecarts!J82),\"\")","v":""},{"$f":"IF( Ecarts!$E82=$A$1, IF(Ecarts!K82=\"\",\"\",Ecarts!K82),\"\")","v":""},{"$f":"IF( Ecarts!$E82=$A$1, IF(Ecarts!L82=\"\",\"\",Ecarts!L82),\"\")","v":""},{"$f":"IF( Ecarts!$E82=$A$1, IF(Ecarts!M82=\"\",\"\",Ecarts!M82),\"\")","v":""},0,0]
[{"$f":"IF( Ecarts!$E83=$A$1,IF( Ecarts!B83=\"\",\"\",Ecarts!A83),\"\")","v":""},{"$f":"IF( Ecarts!$E83=$A$1,IF( Ecarts!C83=\"\",\"\",Ecarts!C83),\"\")","v":""},{"$f":"IF( Ecarts!$E83=$A$1, IF(Ecarts!F83=\"\",\"\",Ecarts!F83),\"\")","v":""},{"$f":"IF( Ecarts!$E83=$A$1, IF(Ecarts!I83=\"\",\"\",Ecarts!I83),\"\")","v":""},{"$f":"IF( Ecarts!$E83=$A$1, IF(Ecarts!J83=\"\",\"\",Ecarts!J83),\"\")","v":""},{"$f":"IF( Ecarts!$E83=$A$1, IF(Ecarts!K83=\"\",\"\",Ecarts!K83),\"\")","v":""},{"$f":"IF( Ecarts!$E83=$A$1, IF(Ecarts!L83=\"\",\"\",Ecarts!L83),\"\")","v":""},{"$f":"IF( Ecarts!$E83=$A$1, IF(Ecarts!M83=\"\",\"\",Ecarts!M83),\"\")","v":""},0,0]
[{"$f":"IF( Ecarts!$E84=$A$1,IF( Ecarts!B84=\"\",\"\",Ecarts!A84),\"\")","v":""},{"$f":"IF( Ecarts!$E84=$A$1,IF( Ecarts!C84=\"\",\"\",Ecarts!C84),\"\")","v":""},{"$f":"IF( Ecarts!$E84=$A$1, IF(Ecarts!F84=\"\",\"\",Ecarts!F84),\"\")","v":""},{"$f":"IF( Ecarts!$E84=$A$1, IF(Ecarts!I84=\"\",\"\",Ecarts!I84),\"\")","v":""},{"$f":"IF( Ecarts!$E84=$A$1, IF(Ecarts!J84=\"\",\"\",Ecarts!J84),\"\")","v":""},{"$f":"IF( Ecarts!$E84=$A$1, IF(Ecarts!K84=\"\",\"\",Ecarts!K84),\"\")","v":""},{"$f":"IF( Ecarts!$E84=$A$1, IF(Ecarts!L84=\"\",\"\",Ecarts!L84),\"\")","v":""},{"$f":"IF( Ecarts!$E84=$A$1, IF(Ecarts!M84=\"\",\"\",Ecarts!M84),\"\")","v":""},0,0]
[{"$f":"IF( Ecarts!$E85=$A$1,IF( Ecarts!B85=\"\",\"\",Ecarts!A85),\"\")","v":""},{"$f":"IF( Ecarts!$E85=$A$1,IF( Ecarts!C85=\"\",\"\",Ecarts!C85),\"\")","v":""},{"$f":"IF( Ecarts!$E85=$A$1, IF(Ecarts!F85=\"\",\"\",Ecarts!F85),\"\")","v":""},{"$f":"IF( Ecarts!$E85=$A$1, IF(Ecarts!I85=\"\",\"\",Ecarts!I85),\"\")","v":""},{"$f":"IF( Ecarts!$E85=$A$1, IF(Ecarts!J85=\"\",\"\",Ecarts!J85),\"\")","v":""},{"$f":"IF( Ecarts!$E85=$A$1, IF(Ecarts!K85=\"\",\"\",Ecarts!K85),\"\")","v":""},{"$f":"IF( Ecarts!$E85=$A$1, IF(Ecarts!L85=\"\",\"\",Ecarts!L85),\"\")","v":""},{"$f":"IF( Ecarts!$E85=$A$1, IF(Ecarts!M85=\"\",\"\",Ecarts!M85),\"\")","v":""},0,0]
[{"$f":"IF( Ecarts!$E86=$A$1,IF( Ecarts!B86=\"\",\"\",Ecarts!A86),\"\")","v":""},{"$f":"IF( Ecarts!$E86=$A$1,IF( Ecarts!C86=\"\",\"\",Ecarts!C86),\"\")","v":""},{"$f":"IF( Ecarts!$E86=$A$1, IF(Ecarts!F86=\"\",\"\",Ecarts!F86),\"\")","v":""},{"$f":"IF( Ecarts!$E86=$A$1, IF(Ecarts!I86=\"\",\"\",Ecarts!I86),\"\")","v":""},{"$f":"IF( Ecarts!$E86=$A$1, IF(Ecarts!J86=\"\",\"\",Ecarts!J86),\"\")","v":""},{"$f":"IF( Ecarts!$E86=$A$1, IF(Ecarts!K86=\"\",\"\",Ecarts!K86),\"\")","v":""},{"$f":"IF( Ecarts!$E86=$A$1, IF(Ecarts!L86=\"\",\"\",Ecarts!L86),\"\")","v":""},{"$f":"IF( Ecarts!$E86=$A$1, IF(Ecarts!M86=\"\",\"\",Ecarts!M86),\"\")","v":""},0,0]
[{"$f":"IF( Ecarts!$E87=$A$1,IF( Ecarts!B87=\"\",\"\",Ecarts!A87),\"\")","v":""},{"$f":"IF( Ecarts!$E87=$A$1,IF( Ecarts!C87=\"\",\"\",Ecarts!C87),\"\")","v":""},{"$f":"IF( Ecarts!$E87=$A$1, IF(Ecarts!F87=\"\",\"\",Ecarts!F87),\"\")","v":""},{"$f":"IF( Ecarts!$E87=$A$1, IF(Ecarts!I87=\"\",\"\",Ecarts!I87),\"\")","v":""},{"$f":"IF( Ecarts!$E87=$A$1, IF(Ecarts!J87=\"\",\"\",Ecarts!J87),\"\")","v":""},{"$f":"IF( Ecarts!$E87=$A$1, IF(Ecarts!K87=\"\",\"\",Ecarts!K87),\"\")","v":""},{"$f":"IF( Ecarts!$E87=$A$1, IF(Ecarts!L87=\"\",\"\",Ecarts!L87),\"\")","v":""},{"$f":"IF( Ecarts!$E87=$A$1, IF(Ecarts!M87=\"\",\"\",Ecarts!M87),\"\")","v":""},0,0]
[{"$f":"IF( Ecarts!$E88=$A$1,IF( Ecarts!B88=\"\",\"\",Ecarts!A88),\"\")","v":""},{"$f":"IF( Ecarts!$E88=$A$1,IF( Ecarts!C88=\"\",\"\",Ecarts!C88),\"\")","v":""},{"$f":"IF( Ecarts!$E88=$A$1, IF(Ecarts!F88=\"\",\"\",Ecarts!F88),\"\")","v":""},{"$f":"IF( Ecarts!$E88=$A$1, IF(Ecarts!I88=\"\",\"\",Ecarts!I88),\"\")","v":""},{"$f":"IF( Ecarts!$E88=$A$1, IF(Ecarts!J88=\"\",\"\",Ecarts!J88),\"\")","v":""},{"$f":"IF( Ecarts!$E88=$A$1, IF(Ecarts!K88=\"\",\"\",Ecarts!K88),\"\")","v":""},{"$f":"IF( Ecarts!$E88=$A$1, IF(Ecarts!L88=\"\",\"\",Ecarts!L88),\"\")","v":""},{"$f":"IF( Ecarts!$E88=$A$1, IF(Ecarts!M88=\"\",\"\",Ecarts!M88),\"\")","v":""},0,0]
[{"$f":"IF( Ecarts!$E89=$A$1,IF( Ecarts!B89=\"\",\"\",Ecarts!A89),\"\")","v":""},{"$f":"IF( Ecarts!$E89=$A$1,IF( Ecarts!C89=\"\",\"\",Ecarts!C89),\"\")","v":""},{"$f":"IF( Ecarts!$E89=$A$1, IF(Ecarts!F89=\"\",\"\",Ecarts!F89),\"\")","v":""},{"$f":"IF( Ecarts!$E89=$A$1, IF(Ecarts!I89=\"\",\"\",Ecarts!I89),\"\")","v":""},{"$f":"IF( Ecarts!$E89=$A$1, IF(Ecarts!J89=\"\",\"\",Ecarts!J89),\"\")","v":""},{"$f":"IF( Ecarts!$E89=$A$1, IF(Ecarts!K89=\"\",\"\",Ecarts!K89),\"\")","v":""},{"$f":"IF( Ecarts!$E89=$A$1, IF(Ecarts!L89=\"\",\"\",Ecarts!L89),\"\")","v":""},{"$f":"IF( Ecarts!$E89=$A$1, IF(Ecarts!M89=\"\",\"\",Ecarts!M89),\"\")","v":""},0,0]
[{"$f":"IF( Ecarts!$E90=$A$1,IF( Ecarts!B90=\"\",\"\",Ecarts!A90),\"\")","v":""},{"$f":"IF( Ecarts!$E90=$A$1,IF( Ecarts!C90=\"\",\"\",Ecarts!C90),\"\")","v":""},{"$f":"IF( Ecarts!$E90=$A$1, IF(Ecarts!F90=\"\",\"\",Ecarts!F90),\"\")","v":""},{"$f":"IF( Ecarts!$E90=$A$1, IF(Ecarts!I90=\"\",\"\",Ecarts!I90),\"\")","v":""},{"$f":"IF( Ecarts!$E90=$A$1, IF(Ecarts!J90=\"\",\"\",Ecarts!J90),\"\")","v":""},{"$f":"IF( Ecarts!$E90=$A$1, IF(Ecarts!K90=\"\",\"\",Ecarts!K90),\"\")","v":""},{"$f":"IF( Ecarts!$E90=$A$1, IF(Ecarts!L90=\"\",\"\",Ecarts!L90),\"\")","v":""},{"$f":"IF( Ecarts!$E90=$A$1, IF(Ecarts!M90=\"\",\"\",Ecarts!M90),\"\")","v":""},0,0]
[{"$f":"IF( Ecarts!$E91=$A$1,IF( Ecarts!B91=\"\",\"\",Ecarts!A91),\"\")","v":""},{"$f":"IF( Ecarts!$E91=$A$1,IF( Ecarts!C91=\"\",\"\",Ecarts!C91),\"\")","v":""},{"$f":"IF( Ecarts!$E91=$A$1, IF(Ecarts!F91=\"\",\"\",Ecarts!F91),\"\")","v":""},{"$f":"IF( Ecarts!$E91=$A$1, IF(Ecarts!I91=\"\",\"\",Ecarts!I91),\"\")","v":""},{"$f":"IF( Ecarts!$E91=$A$1, IF(Ecarts!J91=\"\",\"\",Ecarts!J91),\"\")","v":""},{"$f":"IF( Ecarts!$E91=$A$1, IF(Ecarts!K91=\"\",\"\",Ecarts!K91),\"\")","v":""},{"$f":"IF( Ecarts!$E91=$A$1, IF(Ecarts!L91=\"\",\"\",Ecarts!L91),\"\")","v":""},{"$f":"IF( Ecarts!$E91=$A$1, IF(Ecarts!M91=\"\",\"\",Ecarts!M91),\"\")","v":""},0,0]
[{"$f":"IF( Ecarts!$E92=$A$1,IF( Ecarts!B92=\"\",\"\",Ecarts!A92),\"\")","v":""},{"$f":"IF( Ecarts!$E92=$A$1,IF( Ecarts!C92=\"\",\"\",Ecarts!C92),\"\")","v":""},{"$f":"IF( Ecarts!$E92=$A$1, IF(Ecarts!F92=\"\",\"\",Ecarts!F92),\"\")","v":""},{"$f":"IF( Ecarts!$E92=$A$1, IF(Ecarts!I92=\"\",\"\",Ecarts!I92),\"\")","v":""},{"$f":"IF( Ecarts!$E92=$A$1, IF(Ecarts!J92=\"\",\"\",Ecarts!J92),\"\")","v":""},{"$f":"IF( Ecarts!$E92=$A$1, IF(Ecarts!K92=\"\",\"\",Ecarts!K92),\"\")","v":""},{"$f":"IF( Ecarts!$E92=$A$1, IF(Ecarts!L92=\"\",\"\",Ecarts!L92),\"\")","v":""},{"$f":"IF( Ecarts!$E92=$A$1, IF(Ecarts!M92=\"\",\"\",Ecarts!M92),\"\")","v":""},0,0]
[{"$f":"IF( Ecarts!$E93=$A$1,IF( Ecarts!B93=\"\",\"\",Ecarts!A93),\"\")","v":""},{"$f":"IF( Ecarts!$E93=$A$1,IF( Ecarts!C93=\"\",\"\",Ecarts!C93),\"\")","v":""},{"$f":"IF( Ecarts!$E93=$A$1, IF(Ecarts!F93=\"\",\"\",Ecarts!F93),\"\")","v":""},{"$f":"IF( Ecarts!$E93=$A$1, IF(Ecarts!I93=\"\",\"\",Ecarts!I93),\"\")","v":""},{"$f":"IF( Ecarts!$E93=$A$1, IF(Ecarts!J93=\"\",\"\",Ecarts!J93),\"\")","v":""},{"$f":"IF( Ecarts!$E93=$A$1, IF(Ecarts!K93=\"\",\"\",Ecarts!K93),\"\")","v":""},{"$f":"IF( Ecarts!$E93=$A$1, IF(Ecarts!L93=\"\",\"\",Ecarts!L93),\"\")","v":""},{"$f":"IF( Ecarts!$E93=$A$1, IF(Ecarts!M93=\"\",\"\",Ecarts!M93),\"\")","v":""},0,0]
[{"$f":"IF( Ecarts!$E94=$A$1,IF( Ecarts!B94=\"\",\"\",Ecarts!A94),\"\")","v":""},{"$f":"IF( Ecarts!$E94=$A$1,IF( Ecarts!C94=\"\",\"\",Ecarts!C94),\"\")","v":""},{"$f":"IF( Ecarts!$E94=$A$1, IF(Ecarts!F94=\"\",\"\",Ecarts!F94),\"\")","v":""},{"$f":"IF( Ecarts!$E94=$A$1, IF(Ecarts!I94=\"\",\"\",Ecarts!I94),\"\")","v":""},{"$f":"IF( Ecarts!$E94=$A$1, IF(Ecarts!J94=\"\",\"\",Ecarts!J94),\"\")","v":""},{"$f":"IF( Ecarts!$E94=$A$1, IF(Ecarts!K94=\"\",\"\",Ecarts!K94),\"\")","v":""},{"$f":"IF( Ecarts!$E94=$A$1, IF(Ecarts!L94=\"\",\"\",Ecarts!L94),\"\")","v":""},{"$f":"IF( Ecarts!$E94=$A$1, IF(Ecarts!M94=\"\",\"\",Ecarts!M94),\"\")","v":""},0,0]
[{"$f":"IF( Ecarts!$E95=$A$1,IF( Ecarts!B95=\"\",\"\",Ecarts!A95),\"\")","v":""},{"$f":"IF( Ecarts!$E95=$A$1,IF( Ecarts!C95=\"\",\"\",Ecarts!C95),\"\")","v":""},{"$f":"IF( Ecarts!$E95=$A$1, IF(Ecarts!F95=\"\",\"\",Ecarts!F95),\"\")","v":""},{"$f":"IF( Ecarts!$E95=$A$1, IF(Ecarts!I95=\"\",\"\",Ecarts!I95),\"\")","v":""},{"$f":"IF( Ecarts!$E95=$A$1, IF(Ecarts!J95=\"\",\"\",Ecarts!J95),\"\")","v":""},{"$f":"IF( Ecarts!$E95=$A$1, IF(Ecarts!K95=\"\",\"\",Ecarts!K95),\"\")","v":""},{"$f":"IF( Ecarts!$E95=$A$1, IF(Ecarts!L95=\"\",\"\",Ecarts!L95),\"\")","v":""},{"$f":"IF( Ecarts!$E95=$A$1, IF(Ecarts!M95=\"\",\"\",Ecarts!M95),\"\")","v":""},0,0]
[{"$f":"IF( Ecarts!$E96=$A$1,IF( Ecarts!B96=\"\",\"\",Ecarts!A96),\"\")","v":""},{"$f":"IF( Ecarts!$E96=$A$1,IF( Ecarts!C96=\"\",\"\",Ecarts!C96),\"\")","v":""},{"$f":"IF( Ecarts!$E96=$A$1, IF(Ecarts!F96=\"\",\"\",Ecarts!F96),\"\")","v":""},{"$f":"IF( Ecarts!$E96=$A$1, IF(Ecarts!I96=\"\",\"\",Ecarts!I96),\"\")","v":""},{"$f":"IF( Ecarts!$E96=$A$1, IF(Ecarts!J96=\"\",\"\",Ecarts!J96),\"\")","v":""},{"$f":"IF( Ecarts!$E96=$A$1, IF(Ecarts!K96=\"\",\"\",Ecarts!K96),\"\")","v":""},{"$f":"IF( Ecarts!$E96=$A$1, IF(Ecarts!L96=\"\",\"\",Ecarts!L96),\"\")","v":""},{"$f":"IF( Ecarts!$E96=$A$1, IF(Ecarts!M96=\"\",\"\",Ecarts!M96),\"\")","v":""},0,0]
[{"$f":"IF( Ecarts!$E97=$A$1,IF( Ecarts!B97=\"\",\"\",Ecarts!A97),\"\")","v":""},{"$f":"IF( Ecarts!$E97=$A$1,IF( Ecarts!C97=\"\",\"\",Ecarts!C97),\"\")","v":""},{"$f":"IF( Ecarts!$E97=$A$1, IF(Ecarts!F97=\"\",\"\",Ecarts!F97),\"\")","v":""},{"$f":"IF( Ecarts!$E97=$A$1, IF(Ecarts!I97=\"\",\"\",Ecarts!I97),\"\")","v":""},{"$f":"IF( Ecarts!$E97=$A$1, IF(Ecarts!J97=\"\",\"\",Ecarts!J97),\"\")","v":""},{"$f":"IF( Ecarts!$E97=$A$1, IF(Ecarts!K97=\"\",\"\",Ecarts!K97),\"\")","v":""},{"$f":"IF( Ecarts!$E97=$A$1, IF(Ecarts!L97=\"\",\"\",Ecarts!L97),\"\")","v":""},{"$f":"IF( Ecarts!$E97=$A$1, IF(Ecarts!M97=\"\",\"\",Ecarts!M97),\"\")","v":""},0,0]
[{"$f":"IF( Ecarts!$E98=$A$1,IF( Ecarts!B98=\"\",\"\",Ecarts!A98),\"\")","v":""},{"$f":"IF( Ecarts!$E98=$A$1,IF( Ecarts!C98=\"\",\"\",Ecarts!C98),\"\")","v":""},{"$f":"IF( Ecarts!$E98=$A$1, IF(Ecarts!F98=\"\",\"\",Ecarts!F98),\"\")","v":""},{"$f":"IF( Ecarts!$E98=$A$1, IF(Ecarts!I98=\"\",\"\",Ecarts!I98),\"\")","v":""},{"$f":"IF( Ecarts!$E98=$A$1, IF(Ecarts!J98=\"\",\"\",Ecarts!J98),\"\")","v":""},{"$f":"IF( Ecarts!$E98=$A$1, IF(Ecarts!K98=\"\",\"\",Ecarts!K98),\"\")","v":""},{"$f":"IF( Ecarts!$E98=$A$1, IF(Ecarts!L98=\"\",\"\",Ecarts!L98),\"\")","v":""},{"$f":"IF( Ecarts!$E98=$A$1, IF(Ecarts!M98=\"\",\"\",Ecarts!M98),\"\")","v":""},0,0]
[{"$f":"IF( Ecarts!$E99=$A$1,IF( Ecarts!B99=\"\",\"\",Ecarts!A99),\"\")","v":""},{"$f":"IF( Ecarts!$E99=$A$1,IF( Ecarts!C99=\"\",\"\",Ecarts!C99),\"\")","v":""},{"$f":"IF( Ecarts!$E99=$A$1, IF(Ecarts!F99=\"\",\"\",Ecarts!F99),\"\")","v":""},{"$f":"IF( Ecarts!$E99=$A$1, IF(Ecarts!I99=\"\",\"\",Ecarts!I99),\"\")","v":""},{"$f":"IF( Ecarts!$E99=$A$1, IF(Ecarts!J99=\"\",\"\",Ecarts!J99),\"\")","v":""},{"$f":"IF( Ecarts!$E99=$A$1, IF(Ecarts!K99=\"\",\"\",Ecarts!K99),\"\")","v":""},{"$f":"IF( Ecarts!$E99=$A$1, IF(Ecarts!L99=\"\",\"\",Ecarts!L99),\"\")","v":""},{"$f":"IF( Ecarts!$E99=$A$1, IF(Ecarts!M99=\"\",\"\",Ecarts!M99),\"\")","v":""},0,0]
[{"$f":"IF( Ecarts!$E100=$A$1,IF( Ecarts!B100=\"\",\"\",Ecarts!A100),\"\")","v":""},{"$f":"IF( Ecarts!$E100=$A$1,IF( Ecarts!C100=\"\",\"\",Ecarts!C100),\"\")","v":""},{"$f":"IF( Ecarts!$E100=$A$1, IF(Ecarts!F100=\"\",\"\",Ecarts!F100),\"\")","v":""},{"$f":"IF( Ecarts!$E100=$A$1, IF(Ecarts!I100=\"\",\"\",Ecarts!I100),\"\")","v":""},{"$f":"IF( Ecarts!$E100=$A$1, IF(Ecarts!J100=\"\",\"\",Ecarts!J100),\"\")","v":""},{"$f":"IF( Ecarts!$E100=$A$1, IF(Ecarts!K100=\"\",\"\",Ecarts!K100),\"\")","v":""},{"$f":"IF( Ecarts!$E100=$A$1, IF(Ecarts!L100=\"\",\"\",Ecarts!L100),\"\")","v":""},{"$f":"IF( Ecarts!$E100=$A$1, IF(Ecarts!M100=\"\",\"\",Ecarts!M100),\"\")","v":""},0,0]
[{"$f":"IF( Ecarts!$E101=$A$1,IF( Ecarts!B101=\"\",\"\",Ecarts!A101),\"\")","v":""},{"$f":"IF( Ecarts!$E101=$A$1,IF( Ecarts!C101=\"\",\"\",Ecarts!C101),\"\")","v":""},{"$f":"IF( Ecarts!$E101=$A$1, IF(Ecarts!F101=\"\",\"\",Ecarts!F101),\"\")","v":""},{"$f":"IF( Ecarts!$E101=$A$1, IF(Ecarts!I101=\"\",\"\",Ecarts!I101),\"\")","v":""},{"$f":"IF( Ecarts!$E101=$A$1, IF(Ecarts!J101=\"\",\"\",Ecarts!J101),\"\")","v":""},{"$f":"IF( Ecarts!$E101=$A$1, IF(Ecarts!K101=\"\",\"\",Ecarts!K101),\"\")","v":""},{"$f":"IF( Ecarts!$E101=$A$1, IF(Ecarts!L101=\"\",\"\",Ecarts!L101),\"\")","v":""},{"$f":"IF( Ecarts!$E101=$A$1, IF(Ecarts!M101=\"\",\"\",Ecarts!M101),\"\")","v":""},0,0]
[{"$f":"IF( Ecarts!$E102=$A$1,IF( Ecarts!B102=\"\",\"\",Ecarts!A102),\"\")","v":""},{"$f":"IF( Ecarts!$E102=$A$1,IF( Ecarts!C102=\"\",\"\",Ecarts!C102),\"\")","v":""},{"$f":"IF( Ecarts!$E102=$A$1, IF(Ecarts!F102=\"\",\"\",Ecarts!F102),\"\")","v":""},{"$f":"IF( Ecarts!$E102=$A$1, IF(Ecarts!I102=\"\",\"\",Ecarts!I102),\"\")","v":""},{"$f":"IF( Ecarts!$E102=$A$1, IF(Ecarts!J102=\"\",\"\",Ecarts!J102),\"\")","v":""},{"$f":"IF( Ecarts!$E102=$A$1, IF(Ecarts!K102=\"\",\"\",Ecarts!K102),\"\")","v":""},{"$f":"IF( Ecarts!$E102=$A$1, IF(Ecarts!L102=\"\",\"\",Ecarts!L102),\"\")","v":""},{"$f":"IF( Ecarts!$E102=$A$1, IF(Ecarts!M102=\"\",\"\",Ecarts!M102),\"\")","v":""},0,0]
[{"$f":"IF( Ecarts!$E103=$A$1,IF( Ecarts!B103=\"\",\"\",Ecarts!A103),\"\")","v":""},{"$f":"IF( Ecarts!$E103=$A$1,IF( Ecarts!C103=\"\",\"\",Ecarts!C103),\"\")","v":""},{"$f":"IF( Ecarts!$E103=$A$1, IF(Ecarts!F103=\"\",\"\",Ecarts!F103),\"\")","v":""},{"$f":"IF( Ecarts!$E103=$A$1, IF(Ecarts!I103=\"\",\"\",Ecarts!I103),\"\")","v":""},{"$f":"IF( Ecarts!$E103=$A$1, IF(Ecarts!J103=\"\",\"\",Ecarts!J103),\"\")","v":""},{"$f":"IF( Ecarts!$E103=$A$1, IF(Ecarts!K103=\"\",\"\",Ecarts!K103),\"\")","v":""},{"$f":"IF( Ecarts!$E103=$A$1, IF(Ecarts!L103=\"\",\"\",Ecarts!L103),\"\")","v":""},{"$f":"IF( Ecarts!$E103=$A$1, IF(Ecarts!M103=\"\",\"\",Ecarts!M103),\"\")","v":""},0,0]
[{"$f":"IF( Ecarts!$E104=$A$1,IF( Ecarts!B104=\"\",\"\",Ecarts!A104),\"\")","v":""},{"$f":"IF( Ecarts!$E104=$A$1,IF( Ecarts!C104=\"\",\"\",Ecarts!C104),\"\")","v":""},{"$f":"IF( Ecarts!$E104=$A$1, IF(Ecarts!F104=\"\",\"\",Ecarts!F104),\"\")","v":""},{"$f":"IF( Ecarts!$E104=$A$1, IF(Ecarts!I104=\"\",\"\",Ecarts!I104),\"\")","v":""},{"$f":"IF( Ecarts!$E104=$A$1, IF(Ecarts!J104=\"\",\"\",Ecarts!J104),\"\")","v":""},{"$f":"IF( Ecarts!$E104=$A$1, IF(Ecarts!K104=\"\",\"\",Ecarts!K104),\"\")","v":""},{"$f":"IF( Ecarts!$E104=$A$1, IF(Ecarts!L104=\"\",\"\",Ecarts!L104),\"\")","v":""},{"$f":"IF( Ecarts!$E104=$A$1, IF(Ecarts!M104=\"\",\"\",Ecarts!M104),\"\")","v":""},0,0]
[{"$f":"IF( Ecarts!$E105=$A$1,IF( Ecarts!B105=\"\",\"\",Ecarts!A105),\"\")","v":""},{"$f":"IF( Ecarts!$E105=$A$1,IF( Ecarts!C105=\"\",\"\",Ecarts!C105),\"\")","v":""},{"$f":"IF( Ecarts!$E105=$A$1, IF(Ecarts!F105=\"\",\"\",Ecarts!F105),\"\")","v":""},{"$f":"IF( Ecarts!$E105=$A$1, IF(Ecarts!I105=\"\",\"\",Ecarts!I105),\"\")","v":""},{"$f":"IF( Ecarts!$E105=$A$1, IF(Ecarts!J105=\"\",\"\",Ecarts!J105),\"\")","v":""},{"$f":"IF( Ecarts!$E105=$A$1, IF(Ecarts!K105=\"\",\"\",Ecarts!K105),\"\")","v":""},{"$f":"IF( Ecarts!$E105=$A$1, IF(Ecarts!L105=\"\",\"\",Ecarts!L105),\"\")","v":""},{"$f":"IF( Ecarts!$E105=$A$1, IF(Ecarts!M105=\"\",\"\",Ecarts!M105),\"\")","v":""},0,0]
[{"$f":"IF( Ecarts!$E106=$A$1,IF( Ecarts!B106=\"\",\"\",Ecarts!A106),\"\")","v":""},{"$f":"IF( Ecarts!$E106=$A$1,IF( Ecarts!C106=\"\",\"\",Ecarts!C106),\"\")","v":""},{"$f":"IF( Ecarts!$E106=$A$1, IF(Ecarts!F106=\"\",\"\",Ecarts!F106),\"\")","v":""},{"$f":"IF( Ecarts!$E106=$A$1, IF(Ecarts!I106=\"\",\"\",Ecarts!I106),\"\")","v":""},{"$f":"IF( Ecarts!$E106=$A$1, IF(Ecarts!J106=\"\",\"\",Ecarts!J106),\"\")","v":""},{"$f":"IF( Ecarts!$E106=$A$1, IF(Ecarts!K106=\"\",\"\",Ecarts!K106),\"\")","v":""},{"$f":"IF( Ecarts!$E106=$A$1, IF(Ecarts!L106=\"\",\"\",Ecarts!L106),\"\")","v":""},{"$f":"IF( Ecarts!$E106=$A$1, IF(Ecarts!M106=\"\",\"\",Ecarts!M106),\"\")","v":""},0,0]
[{"$f":"IF( Ecarts!$E107=$A$1,IF( Ecarts!B107=\"\",\"\",Ecarts!A107),\"\")","v":""},{"$f":"IF( Ecarts!$E107=$A$1,IF( Ecarts!C107=\"\",\"\",Ecarts!C107),\"\")","v":""},{"$f":"IF( Ecarts!$E107=$A$1, IF(Ecarts!F107=\"\",\"\",Ecarts!F107),\"\")","v":""},{"$f":"IF( Ecarts!$E107=$A$1, IF(Ecarts!I107=\"\",\"\",Ecarts!I107),\"\")","v":""},{"$f":"IF( Ecarts!$E107=$A$1, IF(Ecarts!J107=\"\",\"\",Ecarts!J107),\"\")","v":""},{"$f":"IF( Ecarts!$E107=$A$1, IF(Ecarts!K107=\"\",\"\",Ecarts!K107),\"\")","v":""},{"$f":"IF( Ecarts!$E107=$A$1, IF(Ecarts!L107=\"\",\"\",Ecarts!L107),\"\")","v":""},{"$f":"IF( Ecarts!$E107=$A$1, IF(Ecarts!M107=\"\",\"\",Ecarts!M107),\"\")","v":""},0,0]
[{"$f":"IF( Ecarts!$E108=$A$1,IF( Ecarts!B108=\"\",\"\",Ecarts!A108),\"\")","v":""},{"$f":"IF( Ecarts!$E108=$A$1,IF( Ecarts!C108=\"\",\"\",Ecarts!C108),\"\")","v":""},{"$f":"IF( Ecarts!$E108=$A$1, IF(Ecarts!F108=\"\",\"\",Ecarts!F108),\"\")","v":""},{"$f":"IF( Ecarts!$E108=$A$1, IF(Ecarts!I108=\"\",\"\",Ecarts!I108),\"\")","v":""},{"$f":"IF( Ecarts!$E108=$A$1, IF(Ecarts!J108=\"\",\"\",Ecarts!J108),\"\")","v":""},{"$f":"IF( Ecarts!$E108=$A$1, IF(Ecarts!K108=\"\",\"\",Ecarts!K108),\"\")","v":""},{"$f":"IF( Ecarts!$E108=$A$1, IF(Ecarts!L108=\"\",\"\",Ecarts!L108),\"\")","v":""},{"$f":"IF( Ecarts!$E108=$A$1, IF(Ecarts!M108=\"\",\"\",Ecarts!M108),\"\")","v":""},0,0]
[{"$f":"IF( Ecarts!$E109=$A$1,IF( Ecarts!B109=\"\",\"\",Ecarts!A109),\"\")","v":""},{"$f":"IF( Ecarts!$E109=$A$1,IF( Ecarts!C109=\"\",\"\",Ecarts!C109),\"\")","v":""},{"$f":"IF( Ecarts!$E109=$A$1, IF(Ecarts!F109=\"\",\"\",Ecarts!F109),\"\")","v":""},{"$f":"IF( Ecarts!$E109=$A$1, IF(Ecarts!I109=\"\",\"\",Ecarts!I109),\"\")","v":""},{"$f":"IF( Ecarts!$E109=$A$1, IF(Ecarts!J109=\"\",\"\",Ecarts!J109),\"\")","v":""},{"$f":"IF( Ecarts!$E109=$A$1, IF(Ecarts!K109=\"\",\"\",Ecarts!K109),\"\")","v":""},{"$f":"IF( Ecarts!$E109=$A$1, IF(Ecarts!L109=\"\",\"\",Ecarts!L109),\"\")","v":""},{"$f":"IF( Ecarts!$E109=$A$1, IF(Ecarts!M109=\"\",\"\",Ecarts!M109),\"\")","v":""},0,0]
[{"$f":"IF( Ecarts!$E110=$A$1,IF( Ecarts!B110=\"\",\"\",Ecarts!A110),\"\")","v":""},{"$f":"IF( Ecarts!$E110=$A$1,IF( Ecarts!C110=\"\",\"\",Ecarts!C110),\"\")","v":""},{"$f":"IF( Ecarts!$E110=$A$1, IF(Ecarts!F110=\"\",\"\",Ecarts!F110),\"\")","v":""},{"$f":"IF( Ecarts!$E110=$A$1, IF(Ecarts!I110=\"\",\"\",Ecarts!I110),\"\")","v":""},{"$f":"IF( Ecarts!$E110=$A$1, IF(Ecarts!J110=\"\",\"\",Ecarts!J110),\"\")","v":""},{"$f":"IF( Ecarts!$E110=$A$1, IF(Ecarts!K110=\"\",\"\",Ecarts!K110),\"\")","v":""},{"$f":"IF( Ecarts!$E110=$A$1, IF(Ecarts!L110=\"\",\"\",Ecarts!L110),\"\")","v":""},{"$f":"IF( Ecarts!$E110=$A$1, IF(Ecarts!M110=\"\",\"\",Ecarts!M110),\"\")","v":""},0,0]
[{"$f":"IF( Ecarts!$E111=$A$1,IF( Ecarts!B111=\"\",\"\",Ecarts!A111),\"\")","v":""},{"$f":"IF( Ecarts!$E111=$A$1,IF( Ecarts!C111=\"\",\"\",Ecarts!C111),\"\")","v":""},{"$f":"IF( Ecarts!$E111=$A$1, IF(Ecarts!F111=\"\",\"\",Ecarts!F111),\"\")","v":""},{"$f":"IF( Ecarts!$E111=$A$1, IF(Ecarts!I111=\"\",\"\",Ecarts!I111),\"\")","v":""},{"$f":"IF( Ecarts!$E111=$A$1, IF(Ecarts!J111=\"\",\"\",Ecarts!J111),\"\")","v":""},{"$f":"IF( Ecarts!$E111=$A$1, IF(Ecarts!K111=\"\",\"\",Ecarts!K111),\"\")","v":""},{"$f":"IF( Ecarts!$E111=$A$1, IF(Ecarts!L111=\"\",\"\",Ecarts!L111),\"\")","v":""},{"$f":"IF( Ecarts!$E111=$A$1, IF(Ecarts!M111=\"\",\"\",Ecarts!M111),\"\")","v":""},0,0]
[{"$f":"IF( Ecarts!$E112=$A$1,IF( Ecarts!B112=\"\",\"\",Ecarts!A112),\"\")","v":""},{"$f":"IF( Ecarts!$E112=$A$1,IF( Ecarts!C112=\"\",\"\",Ecarts!C112),\"\")","v":""},{"$f":"IF( Ecarts!$E112=$A$1, IF(Ecarts!F112=\"\",\"\",Ecarts!F112),\"\")","v":""},{"$f":"IF( Ecarts!$E112=$A$1, IF(Ecarts!I112=\"\",\"\",Ecarts!I112),\"\")","v":""},{"$f":"IF( Ecarts!$E112=$A$1, IF(Ecarts!J112=\"\",\"\",Ecarts!J112),\"\")","v":""},{"$f":"IF( Ecarts!$E112=$A$1, IF(Ecarts!K112=\"\",\"\",Ecarts!K112),\"\")","v":""},{"$f":"IF( Ecarts!$E112=$A$1, IF(Ecarts!L112=\"\",\"\",Ecarts!L112),\"\")","v":""},{"$f":"IF( Ecarts!$E112=$A$1, IF(Ecarts!M112=\"\",\"\",Ecarts!M112),\"\")","v":""},0,0]
[{"$f":"IF( Ecarts!$E113=$A$1,IF( Ecarts!B113=\"\",\"\",Ecarts!A113),\"\")","v":""},{"$f":"IF( Ecarts!$E113=$A$1,IF( Ecarts!C113=\"\",\"\",Ecarts!C113),\"\")","v":""},{"$f":"IF( Ecarts!$E113=$A$1, IF(Ecarts!F113=\"\",\"\",Ecarts!F113),\"\")","v":""},{"$f":"IF( Ecarts!$E113=$A$1, IF(Ecarts!I113=\"\",\"\",Ecarts!I113),\"\")","v":""},{"$f":"IF( Ecarts!$E113=$A$1, IF(Ecarts!J113=\"\",\"\",Ecarts!J113),\"\")","v":""},{"$f":"IF( Ecarts!$E113=$A$1, IF(Ecarts!K113=\"\",\"\",Ecarts!K113),\"\")","v":""},{"$f":"IF( Ecarts!$E113=$A$1, IF(Ecarts!L113=\"\",\"\",Ecarts!L113),\"\")","v":""},{"$f":"IF( Ecarts!$E113=$A$1, IF(Ecarts!M113=\"\",\"\",Ecarts!M113),\"\")","v":""},0,0]
[{"$f":"IF( Ecarts!$E114=$A$1,IF( Ecarts!B114=\"\",\"\",Ecarts!A114),\"\")","v":""},{"$f":"IF( Ecarts!$E114=$A$1,IF( Ecarts!C114=\"\",\"\",Ecarts!C114),\"\")","v":""},{"$f":"IF( Ecarts!$E114=$A$1, IF(Ecarts!F114=\"\",\"\",Ecarts!F114),\"\")","v":""},{"$f":"IF( Ecarts!$E114=$A$1, IF(Ecarts!I114=\"\",\"\",Ecarts!I114),\"\")","v":""},{"$f":"IF( Ecarts!$E114=$A$1, IF(Ecarts!J114=\"\",\"\",Ecarts!J114),\"\")","v":""},{"$f":"IF( Ecarts!$E114=$A$1, IF(Ecarts!K114=\"\",\"\",Ecarts!K114),\"\")","v":""},{"$f":"IF( Ecarts!$E114=$A$1, IF(Ecarts!L114=\"\",\"\",Ecarts!L114),\"\")","v":""},{"$f":"IF( Ecarts!$E114=$A$1, IF(Ecarts!M114=\"\",\"\",Ecarts!M114),\"\")","v":""},0,0]
[{"$f":"IF( Ecarts!$E115=$A$1,IF( Ecarts!B115=\"\",\"\",Ecarts!A115),\"\")","v":""},{"$f":"IF( Ecarts!$E115=$A$1,IF( Ecarts!C115=\"\",\"\",Ecarts!C115),\"\")","v":""},{"$f":"IF( Ecarts!$E115=$A$1, IF(Ecarts!F115=\"\",\"\",Ecarts!F115),\"\")","v":""},{"$f":"IF( Ecarts!$E115=$A$1, IF(Ecarts!I115=\"\",\"\",Ecarts!I115),\"\")","v":""},{"$f":"IF( Ecarts!$E115=$A$1, IF(Ecarts!J115=\"\",\"\",Ecarts!J115),\"\")","v":""},{"$f":"IF( Ecarts!$E115=$A$1, IF(Ecarts!K115=\"\",\"\",Ecarts!K115),\"\")","v":""},{"$f":"IF( Ecarts!$E115=$A$1, IF(Ecarts!L115=\"\",\"\",Ecarts!L115),\"\")","v":""},{"$f":"IF( Ecarts!$E115=$A$1, IF(Ecarts!M115=\"\",\"\",Ecarts!M115),\"\")","v":""},0,0]
[{"$f":"IF( Ecarts!$E116=$A$1,IF( Ecarts!B116=\"\",\"\",Ecarts!A116),\"\")","v":""},{"$f":"IF( Ecarts!$E116=$A$1,IF( Ecarts!C116=\"\",\"\",Ecarts!C116),\"\")","v":""},{"$f":"IF( Ecarts!$E116=$A$1, IF(Ecarts!F116=\"\",\"\",Ecarts!F116),\"\")","v":""},{"$f":"IF( Ecarts!$E116=$A$1, IF(Ecarts!I116=\"\",\"\",Ecarts!I116),\"\")","v":""},{"$f":"IF( Ecarts!$E116=$A$1, IF(Ecarts!J116=\"\",\"\",Ecarts!J116),\"\")","v":""},{"$f":"IF( Ecarts!$E116=$A$1, IF(Ecarts!K116=\"\",\"\",Ecarts!K116),\"\")","v":""},{"$f":"IF( Ecarts!$E116=$A$1, IF(Ecarts!L116=\"\",\"\",Ecarts!L116),\"\")","v":""},{"$f":"IF( Ecarts!$E116=$A$1, IF(Ecarts!M116=\"\",\"\",Ecarts!M116),\"\")","v":""},0,0]
[{"$f":"IF( Ecarts!$E117=$A$1,IF( Ecarts!B117=\"\",\"\",Ecarts!A117),\"\")","v":""},{"$f":"IF( Ecarts!$E117=$A$1,IF( Ecarts!C117=\"\",\"\",Ecarts!C117),\"\")","v":""},{"$f":"IF( Ecarts!$E117=$A$1, IF(Ecarts!F117=\"\",\"\",Ecarts!F117),\"\")","v":""},{"$f":"IF( Ecarts!$E117=$A$1, IF(Ecarts!I117=\"\",\"\",Ecarts!I117),\"\")","v":""},{"$f":"IF( Ecarts!$E117=$A$1, IF(Ecarts!J117=\"\",\"\",Ecarts!J117),\"\")","v":""},{"$f":"IF( Ecarts!$E117=$A$1, IF(Ecarts!K117=\"\",\"\",Ecarts!K117),\"\")","v":""},{"$f":"IF( Ecarts!$E117=$A$1, IF(Ecarts!L117=\"\",\"\",Ecarts!L117),\"\")","v":""},{"$f":"IF( Ecarts!$E117=$A$1, IF(Ecarts!M117=\"\",\"\",Ecarts!M117),\"\")","v":""},0,0]
[{"$f":"IF( Ecarts!$E118=$A$1,IF( Ecarts!B118=\"\",\"\",Ecarts!A118),\"\")","v":""},{"$f":"IF( Ecarts!$E118=$A$1,IF( Ecarts!C118=\"\",\"\",Ecarts!C118),\"\")","v":""},{"$f":"IF( Ecarts!$E118=$A$1, IF(Ecarts!F118=\"\",\"\",Ecarts!F118),\"\")","v":""},{"$f":"IF( Ecarts!$E118=$A$1, IF(Ecarts!I118=\"\",\"\",Ecarts!I118),\"\")","v":""},{"$f":"IF( Ecarts!$E118=$A$1, IF(Ecarts!J118=\"\",\"\",Ecarts!J118),\"\")","v":""},{"$f":"IF( Ecarts!$E118=$A$1, IF(Ecarts!K118=\"\",\"\",Ecarts!K118),\"\")","v":""},{"$f":"IF( Ecarts!$E118=$A$1, IF(Ecarts!L118=\"\",\"\",Ecarts!L118),\"\")","v":""},{"$f":"IF( Ecarts!$E118=$A$1, IF(Ecarts!M118=\"\",\"\",Ecarts!M118),\"\")","v":""},0,0]
[{"$f":"IF( Ecarts!$E119=$A$1,IF( Ecarts!B119=\"\",\"\",Ecarts!A119),\"\")","v":""},{"$f":"IF( Ecarts!$E119=$A$1,IF( Ecarts!C119=\"\",\"\",Ecarts!C119),\"\")","v":""},{"$f":"IF( Ecarts!$E119=$A$1, IF(Ecarts!F119=\"\",\"\",Ecarts!F119),\"\")","v":""},{"$f":"IF( Ecarts!$E119=$A$1, IF(Ecarts!I119=\"\",\"\",Ecarts!I119),\"\")","v":""},{"$f":"IF( Ecarts!$E119=$A$1, IF(Ecarts!J119=\"\",\"\",Ecarts!J119),\"\")","v":""},{"$f":"IF( Ecarts!$E119=$A$1, IF(Ecarts!K119=\"\",\"\",Ecarts!K119),\"\")","v":""},{"$f":"IF( Ecarts!$E119=$A$1, IF(Ecarts!L119=\"\",\"\",Ecarts!L119),\"\")","v":""},{"$f":"IF( Ecarts!$E119=$A$1, IF(Ecarts!M119=\"\",\"\",Ecarts!M119),\"\")","v":""},0,0]
[{"$f":"IF( Ecarts!$E120=$A$1,IF( Ecarts!B120=\"\",\"\",Ecarts!A120),\"\")","v":""},{"$f":"IF( Ecarts!$E120=$A$1,IF( Ecarts!C120=\"\",\"\",Ecarts!C120),\"\")","v":""},{"$f":"IF( Ecarts!$E120=$A$1, IF(Ecarts!F120=\"\",\"\",Ecarts!F120),\"\")","v":""},{"$f":"IF( Ecarts!$E120=$A$1, IF(Ecarts!I120=\"\",\"\",Ecarts!I120),\"\")","v":""},{"$f":"IF( Ecarts!$E120=$A$1, IF(Ecarts!J120=\"\",\"\",Ecarts!J120),\"\")","v":""},{"$f":"IF( Ecarts!$E120=$A$1, IF(Ecarts!K120=\"\",\"\",Ecarts!K120),\"\")","v":""},{"$f":"IF( Ecarts!$E120=$A$1, IF(Ecarts!L120=\"\",\"\",Ecarts!L120),\"\")","v":""},{"$f":"IF( Ecarts!$E120=$A$1, IF(Ecarts!M120=\"\",\"\",Ecarts!M120),\"\")","v":""},0,0]
[{"$f":"IF( Ecarts!$E121=$A$1,IF( Ecarts!B121=\"\",\"\",Ecarts!A121),\"\")","v":""},{"$f":"IF( Ecarts!$E121=$A$1,IF( Ecarts!C121=\"\",\"\",Ecarts!C121),\"\")","v":""},{"$f":"IF( Ecarts!$E121=$A$1, IF(Ecarts!F121=\"\",\"\",Ecarts!F121),\"\")","v":""},{"$f":"IF( Ecarts!$E121=$A$1, IF(Ecarts!I121=\"\",\"\",Ecarts!I121),\"\")","v":""},{"$f":"IF( Ecarts!$E121=$A$1, IF(Ecarts!J121=\"\",\"\",Ecarts!J121),\"\")","v":""},{"$f":"IF( Ecarts!$E121=$A$1, IF(Ecarts!K121=\"\",\"\",Ecarts!K121),\"\")","v":""},{"$f":"IF( Ecarts!$E121=$A$1, IF(Ecarts!L121=\"\",\"\",Ecarts!L121),\"\")","v":""},{"$f":"IF( Ecarts!$E121=$A$1, IF(Ecarts!M121=\"\",\"\",Ecarts!M121),\"\")","v":""},0,0]
[{"$f":"IF( Ecarts!$E122=$A$1,IF( Ecarts!B122=\"\",\"\",Ecarts!A122),\"\")","v":""},{"$f":"IF( Ecarts!$E122=$A$1,IF( Ecarts!C122=\"\",\"\",Ecarts!C122),\"\")","v":""},{"$f":"IF( Ecarts!$E122=$A$1, IF(Ecarts!F122=\"\",\"\",Ecarts!F122),\"\")","v":""},{"$f":"IF( Ecarts!$E122=$A$1, IF(Ecarts!I122=\"\",\"\",Ecarts!I122),\"\")","v":""},{"$f":"IF( Ecarts!$E122=$A$1, IF(Ecarts!J122=\"\",\"\",Ecarts!J122),\"\")","v":""},{"$f":"IF( Ecarts!$E122=$A$1, IF(Ecarts!K122=\"\",\"\",Ecarts!K122),\"\")","v":""},{"$f":"IF( Ecarts!$E122=$A$1, IF(Ecarts!L122=\"\",\"\",Ecarts!L122),\"\")","v":""},{"$f":"IF( Ecarts!$E122=$A$1, IF(Ecarts!M122=\"\",\"\",Ecarts!M122),\"\")","v":""},0,0]
[{"$f":"IF( Ecarts!$E123=$A$1,IF( Ecarts!B123=\"\",\"\",Ecarts!A123),\"\")","v":""},{"$f":"IF( Ecarts!$E123=$A$1,IF( Ecarts!C123=\"\",\"\",Ecarts!C123),\"\")","v":""},{"$f":"IF( Ecarts!$E123=$A$1, IF(Ecarts!F123=\"\",\"\",Ecarts!F123),\"\")","v":""},{"$f":"IF( Ecarts!$E123=$A$1, IF(Ecarts!I123=\"\",\"\",Ecarts!I123),\"\")","v":""},{"$f":"IF( Ecarts!$E123=$A$1, IF(Ecarts!J123=\"\",\"\",Ecarts!J123),\"\")","v":""},{"$f":"IF( Ecarts!$E123=$A$1, IF(Ecarts!K123=\"\",\"\",Ecarts!K123),\"\")","v":""},{"$f":"IF( Ecarts!$E123=$A$1, IF(Ecarts!L123=\"\",\"\",Ecarts!L123),\"\")","v":""},{"$f":"IF( Ecarts!$E123=$A$1, IF(Ecarts!M123=\"\",\"\",Ecarts!M123),\"\")","v":""},0,0]
[{"$f":"IF( Ecarts!$E124=$A$1,IF( Ecarts!B124=\"\",\"\",Ecarts!A124),\"\")","v":""},{"$f":"IF( Ecarts!$E124=$A$1,IF( Ecarts!C124=\"\",\"\",Ecarts!C124),\"\")","v":""},{"$f":"IF( Ecarts!$E124=$A$1, IF(Ecarts!F124=\"\",\"\",Ecarts!F124),\"\")","v":""},{"$f":"IF( Ecarts!$E124=$A$1, IF(Ecarts!I124=\"\",\"\",Ecarts!I124),\"\")","v":""},{"$f":"IF( Ecarts!$E124=$A$1, IF(Ecarts!J124=\"\",\"\",Ecarts!J124),\"\")","v":""},{"$f":"IF( Ecarts!$E124=$A$1, IF(Ecarts!K124=\"\",\"\",Ecarts!K124),\"\")","v":""},{"$f":"IF( Ecarts!$E124=$A$1, IF(Ecarts!L124=\"\",\"\",Ecarts!L124),\"\")","v":""},{"$f":"IF( Ecarts!$E124=$A$1, IF(Ecarts!M124=\"\",\"\",Ecarts!M124),\"\")","v":""},0,0]
[{"$f":"IF( Ecarts!$E125=$A$1,IF( Ecarts!B125=\"\",\"\",Ecarts!A125),\"\")","v":""},{"$f":"IF( Ecarts!$E125=$A$1,IF( Ecarts!C125=\"\",\"\",Ecarts!C125),\"\")","v":""},{"$f":"IF( Ecarts!$E125=$A$1, IF(Ecarts!F125=\"\",\"\",Ecarts!F125),\"\")","v":""},{"$f":"IF( Ecarts!$E125=$A$1, IF(Ecarts!I125=\"\",\"\",Ecarts!I125),\"\")","v":""},{"$f":"IF( Ecarts!$E125=$A$1, IF(Ecarts!J125=\"\",\"\",Ecarts!J125),\"\")","v":""},{"$f":"IF( Ecarts!$E125=$A$1, IF(Ecarts!K125=\"\",\"\",Ecarts!K125),\"\")","v":""},{"$f":"IF( Ecarts!$E125=$A$1, IF(Ecarts!L125=\"\",\"\",Ecarts!L125),\"\")","v":""},{"$f":"IF( Ecarts!$E125=$A$1, IF(Ecarts!M125=\"\",\"\",Ecarts!M125),\"\")","v":""},0,0]
[{"$f":"IF( Ecarts!$E126=$A$1,IF( Ecarts!B126=\"\",\"\",Ecarts!A126),\"\")","v":""},{"$f":"IF( Ecarts!$E126=$A$1,IF( Ecarts!C126=\"\",\"\",Ecarts!C126),\"\")","v":""},{"$f":"IF( Ecarts!$E126=$A$1, IF(Ecarts!F126=\"\",\"\",Ecarts!F126),\"\")","v":""},{"$f":"IF( Ecarts!$E126=$A$1, IF(Ecarts!I126=\"\",\"\",Ecarts!I126),\"\")","v":""},{"$f":"IF( Ecarts!$E126=$A$1, IF(Ecarts!J126=\"\",\"\",Ecarts!J126),\"\")","v":""},{"$f":"IF( Ecarts!$E126=$A$1, IF(Ecarts!K126=\"\",\"\",Ecarts!K126),\"\")","v":""},{"$f":"IF( Ecarts!$E126=$A$1, IF(Ecarts!L126=\"\",\"\",Ecarts!L126),\"\")","v":""},{"$f":"IF( Ecarts!$E126=$A$1, IF(Ecarts!M126=\"\",\"\",Ecarts!M126),\"\")","v":""},0,0]
[{"$f":"IF( Ecarts!$E127=$A$1,IF( Ecarts!B127=\"\",\"\",Ecarts!A127),\"\")","v":""},{"$f":"IF( Ecarts!$E127=$A$1,IF( Ecarts!C127=\"\",\"\",Ecarts!C127),\"\")","v":""},{"$f":"IF( Ecarts!$E127=$A$1, IF(Ecarts!F127=\"\",\"\",Ecarts!F127),\"\")","v":""},{"$f":"IF( Ecarts!$E127=$A$1, IF(Ecarts!I127=\"\",\"\",Ecarts!I127),\"\")","v":""},{"$f":"IF( Ecarts!$E127=$A$1, IF(Ecarts!J127=\"\",\"\",Ecarts!J127),\"\")","v":""},{"$f":"IF( Ecarts!$E127=$A$1, IF(Ecarts!K127=\"\",\"\",Ecarts!K127),\"\")","v":""},{"$f":"IF( Ecarts!$E127=$A$1, IF(Ecarts!L127=\"\",\"\",Ecarts!L127),\"\")","v":""},{"$f":"IF( Ecarts!$E127=$A$1, IF(Ecarts!M127=\"\",\"\",Ecarts!M127),\"\")","v":""},0,0]
[{"$f":"IF( Ecarts!$E128=$A$1,IF( Ecarts!B128=\"\",\"\",Ecarts!A128),\"\")","v":""},{"$f":"IF( Ecarts!$E128=$A$1,IF( Ecarts!C128=\"\",\"\",Ecarts!C128),\"\")","v":""},{"$f":"IF( Ecarts!$E128=$A$1, IF(Ecarts!F128=\"\",\"\",Ecarts!F128),\"\")","v":""},{"$f":"IF( Ecarts!$E128=$A$1, IF(Ecarts!I128=\"\",\"\",Ecarts!I128),\"\")","v":""},{"$f":"IF( Ecarts!$E128=$A$1, IF(Ecarts!J128=\"\",\"\",Ecarts!J128),\"\")","v":""},{"$f":"IF( Ecarts!$E128=$A$1, IF(Ecarts!K128=\"\",\"\",Ecarts!K128),\"\")","v":""},{"$f":"IF( Ecarts!$E128=$A$1, IF(Ecarts!L128=\"\",\"\",Ecarts!L128),\"\")","v":""},{"$f":"IF( Ecarts!$E128=$A$1, IF(Ecarts!M128=\"\",\"\",Ecarts!M128),\"\")","v":""},0,0]
[{"$f":"IF( Ecarts!$E129=$A$1,IF( Ecarts!B129=\"\",\"\",Ecarts!A129),\"\")","v":""},{"$f":"IF( Ecarts!$E129=$A$1,IF( Ecarts!C129=\"\",\"\",Ecarts!C129),\"\")","v":""},{"$f":"IF( Ecarts!$E129=$A$1, IF(Ecarts!F129=\"\",\"\",Ecarts!F129),\"\")","v":""},{"$f":"IF( Ecarts!$E129=$A$1, IF(Ecarts!I129=\"\",\"\",Ecarts!I129),\"\")","v":""},{"$f":"IF( Ecarts!$E129=$A$1, IF(Ecarts!J129=\"\",\"\",Ecarts!J129),\"\")","v":""},{"$f":"IF( Ecarts!$E129=$A$1, IF(Ecarts!K129=\"\",\"\",Ecarts!K129),\"\")","v":""},{"$f":"IF( Ecarts!$E129=$A$1, IF(Ecarts!L129=\"\",\"\",Ecarts!L129),\"\")","v":""},{"$f":"IF( Ecarts!$E129=$A$1, IF(Ecarts!M129=\"\",\"\",Ecarts!M129),\"\")","v":""},0,0]
[{"$f":"IF( Ecarts!$E130=$A$1,IF( Ecarts!B130=\"\",\"\",Ecarts!A130),\"\")","v":""},{"$f":"IF( Ecarts!$E130=$A$1,IF( Ecarts!C130=\"\",\"\",Ecarts!C130),\"\")","v":""},{"$f":"IF( Ecarts!$E130=$A$1, IF(Ecarts!F130=\"\",\"\",Ecarts!F130),\"\")","v":""},{"$f":"IF( Ecarts!$E130=$A$1, IF(Ecarts!I130=\"\",\"\",Ecarts!I130),\"\")","v":""},{"$f":"IF( Ecarts!$E130=$A$1, IF(Ecarts!J130=\"\",\"\",Ecarts!J130),\"\")","v":""},{"$f":"IF( Ecarts!$E130=$A$1, IF(Ecarts!K130=\"\",\"\",Ecarts!K130),\"\")","v":""},{"$f":"IF( Ecarts!$E130=$A$1, IF(Ecarts!L130=\"\",\"\",Ecarts!L130),\"\")","v":""},{"$f":"IF( Ecarts!$E130=$A$1, IF(Ecarts!M130=\"\",\"\",Ecarts!M130),\"\")","v":""},0,0]
[{"$f":"IF( Ecarts!$E131=$A$1,IF( Ecarts!B131=\"\",\"\",Ecarts!A131),\"\")","v":""},{"$f":"IF( Ecarts!$E131=$A$1,IF( Ecarts!C131=\"\",\"\",Ecarts!C131),\"\")","v":""},{"$f":"IF( Ecarts!$E131=$A$1, IF(Ecarts!F131=\"\",\"\",Ecarts!F131),\"\")","v":""},{"$f":"IF( Ecarts!$E131=$A$1, IF(Ecarts!I131=\"\",\"\",Ecarts!I131),\"\")","v":""},{"$f":"IF( Ecarts!$E131=$A$1, IF(Ecarts!J131=\"\",\"\",Ecarts!J131),\"\")","v":""},{"$f":"IF( Ecarts!$E131=$A$1, IF(Ecarts!K131=\"\",\"\",Ecarts!K131),\"\")","v":""},{"$f":"IF( Ecarts!$E131=$A$1, IF(Ecarts!L131=\"\",\"\",Ecarts!L131),\"\")","v":""},{"$f":"IF( Ecarts!$E131=$A$1, IF(Ecarts!M131=\"\",\"\",Ecarts!M131),\"\")","v":""},0,0]
[{"$f":"IF( Ecarts!$E132=$A$1,IF( Ecarts!B132=\"\",\"\",Ecarts!A132),\"\")","v":""},{"$f":"IF( Ecarts!$E132=$A$1,IF( Ecarts!C132=\"\",\"\",Ecarts!C132),\"\")","v":""},{"$f":"IF( Ecarts!$E132=$A$1, IF(Ecarts!F132=\"\",\"\",Ecarts!F132),\"\")","v":""},{"$f":"IF( Ecarts!$E132=$A$1, IF(Ecarts!I132=\"\",\"\",Ecarts!I132),\"\")","v":""},{"$f":"IF( Ecarts!$E132=$A$1, IF(Ecarts!J132=\"\",\"\",Ecarts!J132),\"\")","v":""},{"$f":"IF( Ecarts!$E132=$A$1, IF(Ecarts!K132=\"\",\"\",Ecarts!K132),\"\")","v":""},{"$f":"IF( Ecarts!$E132=$A$1, IF(Ecarts!L132=\"\",\"\",Ecarts!L132),\"\")","v":""},{"$f":"IF( Ecarts!$E132=$A$1, IF(Ecarts!M132=\"\",\"\",Ecarts!M132),\"\")","v":""},{"$f":"IF(B133=\"\",0,IF(G133=1,0,1))","v":0},{"$f":"IF(F133=\"\",0,IF(F133>(TODAY()-60),1,0))","v":0}]
[{"$f":"IF( Ecarts!$E133=$A$1,IF( Ecarts!B133=\"\",\"\",Ecarts!A133),\"\")","v":""},{"$f":"IF( Ecarts!$E133=$A$1,IF( Ecarts!C133=\"\",\"\",Ecarts!C133),\"\")","v":""},{"$f":"IF( Ecarts!$E133=$A$1, IF(Ecarts!F133=\"\",\"\",Ecarts!F133),\"\")","v":""},{"$f":"IF( Ecarts!$E133=$A$1, IF(Ecarts!I133=\"\",\"\",Ecarts!I133),\"\")","v":""},{"$f":"IF( Ecarts!$E133=$A$1, IF(Ecarts!J133=\"\",\"\",Ecarts!J133),\"\")","v":""},{"$f":"IF( Ecarts!$E133=$A$1, IF(Ecarts!K133=\"\",\"\",Ecarts!K133),\"\")","v":""},{"$f":"IF( Ecarts!$E133=$A$1, IF(Ecarts!L133=\"\",\"\",Ecarts!L133),\"\")","v":""},{"$f":"IF( Ecarts!$E133=$A$1, IF(Ecarts!M133=\"\",\"\",Ecarts!M133),\"\")","v":""},0,0]
[{"$f":"IF( Ecarts!$E134=$A$1,IF( Ecarts!B134=\"\",\"\",Ecarts!A134),\"\")","v":""},{"$f":"IF( Ecarts!$E134=$A$1,IF( Ecarts!C134=\"\",\"\",Ecarts!C134),\"\")","v":""},{"$f":"IF( Ecarts!$E134=$A$1, IF(Ecarts!F134=\"\",\"\",Ecarts!F134),\"\")","v":""},{"$f":"IF( Ecarts!$E134=$A$1, IF(Ecarts!I134=\"\",\"\",Ecarts!I134),\"\")","v":""},{"$f":"IF( Ecarts!$E134=$A$1, IF(Ecarts!J134=\"\",\"\",Ecarts!J134),\"\")","v":""},{"$f":"IF( Ecarts!$E134=$A$1, IF(Ecarts!K134=\"\",\"\",Ecarts!K134),\"\")","v":""},{"$f":"IF( Ecarts!$E134=$A$1, IF(Ecarts!L134=\"\",\"\",Ecarts!L134),\"\")","v":""},{"$f":"IF( Ecarts!$E134=$A$1, IF(Ecarts!M134=\"\",\"\",Ecarts!M134),\"\")","v":""},0,0]
[{"$f":"IF( Ecarts!$E135=$A$1,IF( Ecarts!B135=\"\",\"\",Ecarts!A135),\"\")","v":""},{"$f":"IF( Ecarts!$E135=$A$1,IF( Ecarts!C135=\"\",\"\",Ecarts!C135),\"\")","v":""},{"$f":"IF( Ecarts!$E135=$A$1, IF(Ecarts!F135=\"\",\"\",Ecarts!F135),\"\")","v":""},{"$f":"IF( Ecarts!$E135=$A$1, IF(Ecarts!I135=\"\",\"\",Ecarts!I135),\"\")","v":""},{"$f":"IF( Ecarts!$E135=$A$1, IF(Ecarts!J135=\"\",\"\",Ecarts!J135),\"\")","v":""},{"$f":"IF( Ecarts!$E135=$A$1, IF(Ecarts!K135=\"\",\"\",Ecarts!K135),\"\")","v":""},{"$f":"IF( Ecarts!$E135=$A$1, IF(Ecarts!L135=\"\",\"\",Ecarts!L135),\"\")","v":""},{"$f":"IF( Ecarts!$E135=$A$1, IF(Ecarts!M135=\"\",\"\",Ecarts!M135),\"\")","v":""},0,0]
[{"$f":"IF( Ecarts!$E136=$A$1,IF( Ecarts!B136=\"\",\"\",Ecarts!A136),\"\")","v":""},{"$f":"IF( Ecarts!$E136=$A$1,IF( Ecarts!C136=\"\",\"\",Ecarts!C136),\"\")","v":""},{"$f":"IF( Ecarts!$E136=$A$1, IF(Ecarts!F136=\"\",\"\",Ecarts!F136),\"\")","v":""},{"$f":"IF( Ecarts!$E136=$A$1, IF(Ecarts!I136=\"\",\"\",Ecarts!I136),\"\")","v":""},{"$f":"IF( Ecarts!$E136=$A$1, IF(Ecarts!J136=\"\",\"\",Ecarts!J136),\"\")","v":""},{"$f":"IF( Ecarts!$E136=$A$1, IF(Ecarts!K136=\"\",\"\",Ecarts!K136),\"\")","v":""},{"$f":"IF( Ecarts!$E136=$A$1, IF(Ecarts!L136=\"\",\"\",Ecarts!L136),\"\")","v":""},{"$f":"IF( Ecarts!$E136=$A$1, IF(Ecarts!M136=\"\",\"\",Ecarts!M136),\"\")","v":""},0,0]
[{"$f":"IF( Ecarts!$E137=$A$1,IF( Ecarts!B137=\"\",\"\",Ecarts!A137),\"\")","v":""},{"$f":"IF( Ecarts!$E137=$A$1,IF( Ecarts!C137=\"\",\"\",Ecarts!C137),\"\")","v":""},{"$f":"IF( Ecarts!$E137=$A$1, IF(Ecarts!F137=\"\",\"\",Ecarts!F137),\"\")","v":""},{"$f":"IF( Ecarts!$E137=$A$1, IF(Ecarts!I137=\"\",\"\",Ecarts!I137),\"\")","v":""},{"$f":"IF( Ecarts!$E137=$A$1, IF(Ecarts!J137=\"\",\"\",Ecarts!J137),\"\")","v":""},{"$f":"IF( Ecarts!$E137=$A$1, IF(Ecarts!K137=\"\",\"\",Ecarts!K137),\"\")","v":""},{"$f":"IF( Ecarts!$E137=$A$1, IF(Ecarts!L137=\"\",\"\",Ecarts!L137),\"\")","v":""},{"$f":"IF( Ecarts!$E137=$A$1, IF(Ecarts!M137=\"\",\"\",Ecarts!M137),\"\")","v":""},0,0]
[{"$f":"IF( Ecarts!$E138=$A$1,IF( Ecarts!B138=\"\",\"\",Ecarts!A138),\"\")","v":""},{"$f":"IF( Ecarts!$E138=$A$1,IF( Ecarts!C138=\"\",\"\",Ecarts!C138),\"\")","v":""},{"$f":"IF( Ecarts!$E138=$A$1, IF(Ecarts!F138=\"\",\"\",Ecarts!F138),\"\")","v":""},{"$f":"IF( Ecarts!$E138=$A$1, IF(Ecarts!I138=\"\",\"\",Ecarts!I138),\"\")","v":""},{"$f":"IF( Ecarts!$E138=$A$1, IF(Ecarts!J138=\"\",\"\",Ecarts!J138),\"\")","v":""},{"$f":"IF( Ecarts!$E138=$A$1, IF(Ecarts!K138=\"\",\"\",Ecarts!K138),\"\")","v":""},{"$f":"IF( Ecarts!$E138=$A$1, IF(Ecarts!L138=\"\",\"\",Ecarts!L138),\"\")","v":""},{"$f":"IF( Ecarts!$E138=$A$1, IF(Ecarts!M138=\"\",\"\",Ecarts!M138),\"\")","v":""},0,0]
[{"$f":"IF( Ecarts!$E139=$A$1,IF( Ecarts!B139=\"\",\"\",Ecarts!A139),\"\")","v":""},{"$f":"IF( Ecarts!$E139=$A$1,IF( Ecarts!C139=\"\",\"\",Ecarts!C139),\"\")","v":""},{"$f":"IF( Ecarts!$E139=$A$1, IF(Ecarts!F139=\"\",\"\",Ecarts!F139),\"\")","v":""},{"$f":"IF( Ecarts!$E139=$A$1, IF(Ecarts!I139=\"\",\"\",Ecarts!I139),\"\")","v":""},{"$f":"IF( Ecarts!$E139=$A$1, IF(Ecarts!J139=\"\",\"\",Ecarts!J139),\"\")","v":""},{"$f":"IF( Ecarts!$E139=$A$1, IF(Ecarts!K139=\"\",\"\",Ecarts!K139),\"\")","v":""},{"$f":"IF( Ecarts!$E139=$A$1, IF(Ecarts!L139=\"\",\"\",Ecarts!L139),\"\")","v":""},{"$f":"IF( Ecarts!$E139=$A$1, IF(Ecarts!M139=\"\",\"\",Ecarts!M139),\"\")","v":""},0,0]
[{"$f":"IF( Ecarts!$E140=$A$1,IF( Ecarts!B140=\"\",\"\",Ecarts!A140),\"\")","v":""},{"$f":"IF( Ecarts!$E140=$A$1,IF( Ecarts!C140=\"\",\"\",Ecarts!C140),\"\")","v":""},{"$f":"IF( Ecarts!$E140=$A$1, IF(Ecarts!F140=\"\",\"\",Ecarts!F140),\"\")","v":""},{"$f":"IF( Ecarts!$E140=$A$1, IF(Ecarts!I140=\"\",\"\",Ecarts!I140),\"\")","v":""},{"$f":"IF( Ecarts!$E140=$A$1, IF(Ecarts!J140=\"\",\"\",Ecarts!J140),\"\")","v":""},{"$f":"IF( Ecarts!$E140=$A$1, IF(Ecarts!K140=\"\",\"\",Ecarts!K140),\"\")","v":""},{"$f":"IF( Ecarts!$E140=$A$1, IF(Ecarts!L140=\"\",\"\",Ecarts!L140),\"\")","v":""},{"$f":"IF( Ecarts!$E140=$A$1, IF(Ecarts!M140=\"\",\"\",Ecarts!M140),\"\")","v":""},0,0]
[{"$f":"IF( Ecarts!$E141=$A$1,IF( Ecarts!B141=\"\",\"\",Ecarts!A141),\"\")","v":""},{"$f":"IF( Ecarts!$E141=$A$1,IF( Ecarts!C141=\"\",\"\",Ecarts!C141),\"\")","v":""},{"$f":"IF( Ecarts!$E141=$A$1, IF(Ecarts!F141=\"\",\"\",Ecarts!F141),\"\")","v":""},{"$f":"IF( Ecarts!$E141=$A$1, IF(Ecarts!I141=\"\",\"\",Ecarts!I141),\"\")","v":""},{"$f":"IF( Ecarts!$E141=$A$1, IF(Ecarts!J141=\"\",\"\",Ecarts!J141),\"\")","v":""},{"$f":"IF( Ecarts!$E141=$A$1, IF(Ecarts!K141=\"\",\"\",Ecarts!K141),\"\")","v":""},{"$f":"IF( Ecarts!$E141=$A$1, IF(Ecarts!L141=\"\",\"\",Ecarts!L141),\"\")","v":""},{"$f":"IF( Ecarts!$E141=$A$1, IF(Ecarts!M141=\"\",\"\",Ecarts!M141),\"\")","v":""},0,0]
[{"$f":"IF( Ecarts!$E142=$A$1,IF( Ecarts!B142=\"\",\"\",Ecarts!A142),\"\")","v":""},{"$f":"IF( Ecarts!$E142=$A$1,IF( Ecarts!C142=\"\",\"\",Ecarts!C142),\"\")","v":""},{"$f":"IF( Ecarts!$E142=$A$1, IF(Ecarts!F142=\"\",\"\",Ecarts!F142),\"\")","v":""},{"$f":"IF( Ecarts!$E142=$A$1, IF(Ecarts!I142=\"\",\"\",Ecarts!I142),\"\")","v":""},{"$f":"IF( Ecarts!$E142=$A$1, IF(Ecarts!J142=\"\",\"\",Ecarts!J142),\"\")","v":""},{"$f":"IF( Ecarts!$E142=$A$1, IF(Ecarts!K142=\"\",\"\",Ecarts!K142),\"\")","v":""},{"$f":"IF( Ecarts!$E142=$A$1, IF(Ecarts!L142=\"\",\"\",Ecarts!L142),\"\")","v":""},{"$f":"IF( Ecarts!$E142=$A$1, IF(Ecarts!M142=\"\",\"\",Ecarts!M142),\"\")","v":""},0,0]
[{"$f":"IF( Ecarts!$E143=$A$1,IF( Ecarts!B143=\"\",\"\",Ecarts!A143),\"\")","v":""},{"$f":"IF( Ecarts!$E143=$A$1,IF( Ecarts!C143=\"\",\"\",Ecarts!C143),\"\")","v":""},{"$f":"IF( Ecarts!$E143=$A$1, IF(Ecarts!F143=\"\",\"\",Ecarts!F143),\"\")","v":""},{"$f":"IF( Ecarts!$E143=$A$1, IF(Ecarts!I143=\"\",\"\",Ecarts!I143),\"\")","v":""},{"$f":"IF( Ecarts!$E143=$A$1, IF(Ecarts!J143=\"\",\"\",Ecarts!J143),\"\")","v":""},{"$f":"IF( Ecarts!$E143=$A$1, IF(Ecarts!K143=\"\",\"\",Ecarts!K143),\"\")","v":""},{"$f":"IF( Ecarts!$E143=$A$1, IF(Ecarts!L143=\"\",\"\",Ecarts!L143),\"\")","v":""},{"$f":"IF( Ecarts!$E143=$A$1, IF(Ecarts!M143=\"\",\"\",Ecarts!M143),\"\")","v":""},0,0]
[{"$f":"IF( Ecarts!$E144=$A$1,IF( Ecarts!B144=\"\",\"\",Ecarts!A144),\"\")","v":""},{"$f":"IF( Ecarts!$E144=$A$1,IF( Ecarts!C144=\"\",\"\",Ecarts!C144),\"\")","v":""},{"$f":"IF( Ecarts!$E144=$A$1, IF(Ecarts!F144=\"\",\"\",Ecarts!F144),\"\")","v":""},{"$f":"IF( Ecarts!$E144=$A$1, IF(Ecarts!I144=\"\",\"\",Ecarts!I144),\"\")","v":""},{"$f":"IF( Ecarts!$E144=$A$1, IF(Ecarts!J144=\"\",\"\",Ecarts!J144),\"\")","v":""},{"$f":"IF( Ecarts!$E144=$A$1, IF(Ecarts!K144=\"\",\"\",Ecarts!K144),\"\")","v":""},{"$f":"IF( Ecarts!$E144=$A$1, IF(Ecarts!L144=\"\",\"\",Ecarts!L144),\"\")","v":""},{"$f":"IF( Ecarts!$E144=$A$1, IF(Ecarts!M144=\"\",\"\",Ecarts!M144),\"\")","v":""},0,0]
[{"$f":"IF( Ecarts!$E145=$A$1,IF( Ecarts!B145=\"\",\"\",Ecarts!A145),\"\")","v":""},{"$f":"IF( Ecarts!$E145=$A$1,IF( Ecarts!C145=\"\",\"\",Ecarts!C145),\"\")","v":""},{"$f":"IF( Ecarts!$E145=$A$1, IF(Ecarts!F145=\"\",\"\",Ecarts!F145),\"\")","v":""},{"$f":"IF( Ecarts!$E145=$A$1, IF(Ecarts!I145=\"\",\"\",Ecarts!I145),\"\")","v":""},{"$f":"IF( Ecarts!$E145=$A$1, IF(Ecarts!J145=\"\",\"\",Ecarts!J145),\"\")","v":""},{"$f":"IF( Ecarts!$E145=$A$1, IF(Ecarts!K145=\"\",\"\",Ecarts!K145),\"\")","v":""},{"$f":"IF( Ecarts!$E145=$A$1, IF(Ecarts!L145=\"\",\"\",Ecarts!L145),\"\")","v":""},{"$f":"IF( Ecarts!$E145=$A$1, IF(Ecarts!M145=\"\",\"\",Ecarts!M145),\"\")","v":""},0,0]
[{"$f":"IF( Ecarts!$E146=$A$1,IF( Ecarts!B146=\"\",\"\",Ecarts!A146),\"\")","v":""},{"$f":"IF( Ecarts!$E146=$A$1,IF( Ecarts!C146=\"\",\"\",Ecarts!C146),\"\")","v":""},{"$f":"IF( Ecarts!$E146=$A$1, IF(Ecarts!F146=\"\",\"\",Ecarts!F146),\"\")","v":""},{"$f":"IF( Ecarts!$E146=$A$1, IF(Ecarts!I146=\"\",\"\",Ecarts!I146),\"\")","v":""},{"$f":"IF( Ecarts!$E146=$A$1, IF(Ecarts!J146=\"\",\"\",Ecarts!J146),\"\")","v":""},{"$f":"IF( Ecarts!$E146=$A$1, IF(Ecarts!K146=\"\",\"\",Ecarts!K146),\"\")","v":""},{"$f":"IF( Ecarts!$E146=$A$1, IF(Ecarts!L146=\"\",\"\",Ecarts!L146),\"\")","v":""},{"$f":"IF( Ecarts!$E146=$A$1, IF(Ecarts!M146=\"\",\"\",Ecarts!M146),\"\")","v":""},0,0]
[{"$f":"IF( Ecarts!$E147=$A$1,IF( Ecarts!B147=\"\",\"\",Ecarts!A147),\"\")","v":""},{"$f":"IF( Ecarts!$E147=$A$1,IF( Ecarts!C147=\"\",\"\",Ecarts!C147),\"\")","v":""},{"$f":"IF( Ecarts!$E147=$A$1, IF(Ecarts!F147=\"\",\"\",Ecarts!F147),\"\")","v":""},{"$f":"IF( Ecarts!$E147=$A$1, IF(Ecarts!I147=\"\",\"\",Ecarts!I147),\"\")","v":""},{"$f":"IF( Ecarts!$E147=$A$1, IF(Ecarts!J147=\"\",\"\",Ecarts!J147),\"\")","v":""},{"$f":"IF( Ecarts!$E147=$A$1, IF(Ecarts!K147=\"\",\"\",Ecarts!K147),\"\")","v":""},{"$f":"IF( Ecarts!$E147=$A$1, IF(Ecarts!L147=\"\",\"\",Ecarts!L147),\"\")","v":""},{"$f":"IF( Ecarts!$E147=$A$1, IF(Ecarts!M147=\"\",\"\",Ecarts!M147),\"\")","v":""},0,0]
[{"$f":"IF( Ecarts!$E148=$A$1,IF( Ecarts!B148=\"\",\"\",Ecarts!A148),\"\")","v":""},{"$f":"IF( Ecarts!$E148=$A$1,IF( Ecarts!C148=\"\",\"\",Ecarts!C148),\"\")","v":""},{"$f":"IF( Ecarts!$E148=$A$1, IF(Ecarts!F148=\"\",\"\",Ecarts!F148),\"\")","v":""},{"$f":"IF( Ecarts!$E148=$A$1, IF(Ecarts!I148=\"\",\"\",Ecarts!I148),\"\")","v":""},{"$f":"IF( Ecarts!$E148=$A$1, IF(Ecarts!J148=\"\",\"\",Ecarts!J148),\"\")","v":""},{"$f":"IF( Ecarts!$E148=$A$1, IF(Ecarts!K148=\"\",\"\",Ecarts!K148),\"\")","v":""},{"$f":"IF( Ecarts!$E148=$A$1, IF(Ecarts!L148=\"\",\"\",Ecarts!L148),\"\")","v":""},{"$f":"IF( Ecarts!$E148=$A$1, IF(Ecarts!M148=\"\",\"\",Ecarts!M148),\"\")","v":""},0,0]
[{"$f":"IF( Ecarts!$E149=$A$1,IF( Ecarts!B149=\"\",\"\",Ecarts!A149),\"\")","v":""},{"$f":"IF( Ecarts!$E149=$A$1,IF( Ecarts!C149=\"\",\"\",Ecarts!C149),\"\")","v":""},{"$f":"IF( Ecarts!$E149=$A$1, IF(Ecarts!F149=\"\",\"\",Ecarts!F149),\"\")","v":""},{"$f":"IF( Ecarts!$E149=$A$1, IF(Ecarts!I149=\"\",\"\",Ecarts!I149),\"\")","v":""},{"$f":"IF( Ecarts!$E149=$A$1, IF(Ecarts!J149=\"\",\"\",Ecarts!J149),\"\")","v":""},{"$f":"IF( Ecarts!$E149=$A$1, IF(Ecarts!K149=\"\",\"\",Ecarts!K149),\"\")","v":""},{"$f":"IF( Ecarts!$E149=$A$1, IF(Ecarts!L149=\"\",\"\",Ecarts!L149),\"\")","v":""},{"$f":"IF( Ecarts!$E149=$A$1, IF(Ecarts!M149=\"\",\"\",Ecarts!M149),\"\")","v":""},0,0]
[{"$f":"IF( Ecarts!$E150=$A$1,IF( Ecarts!B150=\"\",\"\",Ecarts!A150),\"\")","v":""},{"$f":"IF( Ecarts!$E150=$A$1,IF( Ecarts!C150=\"\",\"\",Ecarts!C150),\"\")","v":""},{"$f":"IF( Ecarts!$E150=$A$1, IF(Ecarts!F150=\"\",\"\",Ecarts!F150),\"\")","v":""},{"$f":"IF( Ecarts!$E150=$A$1, IF(Ecarts!I150=\"\",\"\",Ecarts!I150),\"\")","v":""},{"$f":"IF( Ecarts!$E150=$A$1, IF(Ecarts!J150=\"\",\"\",Ecarts!J150),\"\")","v":""},{"$f":"IF( Ecarts!$E150=$A$1, IF(Ecarts!K150=\"\",\"\",Ecarts!K150),\"\")","v":""},{"$f":"IF( Ecarts!$E150=$A$1, IF(Ecarts!L150=\"\",\"\",Ecarts!L150),\"\")","v":""},{"$f":"IF( Ecarts!$E150=$A$1, IF(Ecarts!M150=\"\",\"\",Ecarts!M150),\"\")","v":""},0,0]
[{"$f":"IF( Ecarts!$E151=$A$1,IF( Ecarts!B151=\"\",\"\",Ecarts!A151),\"\")","v":""},{"$f":"IF( Ecarts!$E151=$A$1,IF( Ecarts!C151=\"\",\"\",Ecarts!C151),\"\")","v":""},{"$f":"IF( Ecarts!$E151=$A$1, IF(Ecarts!F151=\"\",\"\",Ecarts!F151),\"\")","v":""},{"$f":"IF( Ecarts!$E151=$A$1, IF(Ecarts!I151=\"\",\"\",Ecarts!I151),\"\")","v":""},{"$f":"IF( Ecarts!$E151=$A$1, IF(Ecarts!J151=\"\",\"\",Ecarts!J151),\"\")","v":""},{"$f":"IF( Ecarts!$E151=$A$1, IF(Ecarts!K151=\"\",\"\",Ecarts!K151),\"\")","v":""},{"$f":"IF( Ecarts!$E151=$A$1, IF(Ecarts!L151=\"\",\"\",Ecarts!L151),\"\")","v":""},{"$f":"IF( Ecarts!$E151=$A$1, IF(Ecarts!M151=\"\",\"\",Ecarts!M151),\"\")","v":""},0,0]
[{"$f":"IF( Ecarts!$E152=$A$1,IF( Ecarts!B152=\"\",\"\",Ecarts!A152),\"\")","v":""},{"$f":"IF( Ecarts!$E152=$A$1,IF( Ecarts!C152=\"\",\"\",Ecarts!C152),\"\")","v":""},{"$f":"IF( Ecarts!$E152=$A$1, IF(Ecarts!F152=\"\",\"\",Ecarts!F152),\"\")","v":""},{"$f":"IF( Ecarts!$E152=$A$1, IF(Ecarts!I152=\"\",\"\",Ecarts!I152),\"\")","v":""},{"$f":"IF( Ecarts!$E152=$A$1, IF(Ecarts!J152=\"\",\"\",Ecarts!J152),\"\")","v":""},{"$f":"IF( Ecarts!$E152=$A$1, IF(Ecarts!K152=\"\",\"\",Ecarts!K152),\"\")","v":""},{"$f":"IF( Ecarts!$E152=$A$1, IF(Ecarts!L152=\"\",\"\",Ecarts!L152),\"\")","v":""},{"$f":"IF( Ecarts!$E152=$A$1, IF(Ecarts!M152=\"\",\"\",Ecarts!M152),\"\")","v":""},0,0]
[{"$f":"IF( Ecarts!$E153=$A$1,IF( Ecarts!B153=\"\",\"\",Ecarts!A153),\"\")","v":""},{"$f":"IF( Ecarts!$E153=$A$1,IF( Ecarts!C153=\"\",\"\",Ecarts!C153),\"\")","v":""},{"$f":"IF( Ecarts!$E153=$A$1, IF(Ecarts!F153=\"\",\"\",Ecarts!F153),\"\")","v":""},{"$f":"IF( Ecarts!$E153=$A$1, IF(Ecarts!I153=\"\",\"\",Ecarts!I153),\"\")","v":""},{"$f":"IF( Ecarts!$E153=$A$1, IF(Ecarts!J153=\"\",\"\",Ecarts!J153),\"\")","v":""},{"$f":"IF( Ecarts!$E153=$A$1, IF(Ecarts!K153=\"\",\"\",Ecarts!K153),\"\")","v":""},{"$f":"IF( Ecarts!$E153=$A$1, IF(Ecarts!L153=\"\",\"\",Ecarts!L153),\"\")","v":""},{"$f":"IF( Ecarts!$E153=$A$1, IF(Ecarts!M153=\"\",\"\",Ecarts!M153),\"\")","v":""},0,0]
[{"$f":"IF( Ecarts!$E154=$A$1,IF( Ecarts!B154=\"\",\"\",Ecarts!A154),\"\")","v":""},{"$f":"IF( Ecarts!$E154=$A$1,IF( Ecarts!C154=\"\",\"\",Ecarts!C154),\"\")","v":""},{"$f":"IF( Ecarts!$E154=$A$1, IF(Ecarts!F154=\"\",\"\",Ecarts!F154),\"\")","v":""},{"$f":"IF( Ecarts!$E154=$A$1, IF(Ecarts!I154=\"\",\"\",Ecarts!I154),\"\")","v":""},{"$f":"IF( Ecarts!$E154=$A$1, IF(Ecarts!J154=\"\",\"\",Ecarts!J154),\"\")","v":""},{"$f":"IF( Ecarts!$E154=$A$1, IF(Ecarts!K154=\"\",\"\",Ecarts!K154),\"\")","v":""},{"$f":"IF( Ecarts!$E154=$A$1, IF(Ecarts!L154=\"\",\"\",Ecarts!L154),\"\")","v":""},{"$f":"IF( Ecarts!$E154=$A$1, IF(Ecarts!M154=\"\",\"\",Ecarts!M154),\"\")","v":""},0,0]
[{"$f":"IF( Ecarts!$E155=$A$1,IF( Ecarts!B155=\"\",\"\",Ecarts!A155),\"\")","v":""},{"$f":"IF( Ecarts!$E155=$A$1,IF( Ecarts!C155=\"\",\"\",Ecarts!C155),\"\")","v":""},{"$f":"IF( Ecarts!$E155=$A$1, IF(Ecarts!F155=\"\",\"\",Ecarts!F155),\"\")","v":""},{"$f":"IF( Ecarts!$E155=$A$1, IF(Ecarts!I155=\"\",\"\",Ecarts!I155),\"\")","v":""},{"$f":"IF( Ecarts!$E155=$A$1, IF(Ecarts!J155=\"\",\"\",Ecarts!J155),\"\")","v":""},{"$f":"IF( Ecarts!$E155=$A$1, IF(Ecarts!K155=\"\",\"\",Ecarts!K155),\"\")","v":""},{"$f":"IF( Ecarts!$E155=$A$1, IF(Ecarts!L155=\"\",\"\",Ecarts!L155),\"\")","v":""},{"$f":"IF( Ecarts!$E155=$A$1, IF(Ecarts!M155=\"\",\"\",Ecarts!M155),\"\")","v":""},0,0]
[{"$f":"IF( Ecarts!$E156=$A$1,IF( Ecarts!B156=\"\",\"\",Ecarts!A156),\"\")","v":""},{"$f":"IF( Ecarts!$E156=$A$1,IF( Ecarts!C156=\"\",\"\",Ecarts!C156),\"\")","v":""},{"$f":"IF( Ecarts!$E156=$A$1, IF(Ecarts!F156=\"\",\"\",Ecarts!F156),\"\")","v":""},{"$f":"IF( Ecarts!$E156=$A$1, IF(Ecarts!I156=\"\",\"\",Ecarts!I156),\"\")","v":""},{"$f":"IF( Ecarts!$E156=$A$1, IF(Ecarts!J156=\"\",\"\",Ecarts!J156),\"\")","v":""},{"$f":"IF( Ecarts!$E156=$A$1, IF(Ecarts!K156=\"\",\"\",Ecarts!K156),\"\")","v":""},{"$f":"IF( Ecarts!$E156=$A$1, IF(Ecarts!L156=\"\",\"\",Ecarts!L156),\"\")","v":""},{"$f":"IF( Ecarts!$E156=$A$1, IF(Ecarts!M156=\"\",\"\",Ecarts!M156),\"\")","v":""},0,0]
[{"$f":"IF( Ecarts!$E157=$A$1,IF( Ecarts!B157=\"\",\"\",Ecarts!A157),\"\")","v":""},{"$f":"IF( Ecarts!$E157=$A$1,IF( Ecarts!C157=\"\",\"\",Ecarts!C157),\"\")","v":""},{"$f":"IF( Ecarts!$E157=$A$1, IF(Ecarts!F157=\"\",\"\",Ecarts!F157),\"\")","v":""},{"$f":"IF( Ecarts!$E157=$A$1, IF(Ecarts!I157=\"\",\"\",Ecarts!I157),\"\")","v":""},{"$f":"IF( Ecarts!$E157=$A$1, IF(Ecarts!J157=\"\",\"\",Ecarts!J157),\"\")","v":""},{"$f":"IF( Ecarts!$E157=$A$1, IF(Ecarts!K157=\"\",\"\",Ecarts!K157),\"\")","v":""},{"$f":"IF( Ecarts!$E157=$A$1, IF(Ecarts!L157=\"\",\"\",Ecarts!L157),\"\")","v":""},{"$f":"IF( Ecarts!$E157=$A$1, IF(Ecarts!M157=\"\",\"\",Ecarts!M157),\"\")","v":""},0,0]
[{"$f":"IF( Ecarts!$E158=$A$1,IF( Ecarts!B158=\"\",\"\",Ecarts!A158),\"\")","v":""},{"$f":"IF( Ecarts!$E158=$A$1,IF( Ecarts!C158=\"\",\"\",Ecarts!C158),\"\")","v":""},{"$f":"IF( Ecarts!$E158=$A$1, IF(Ecarts!F158=\"\",\"\",Ecarts!F158),\"\")","v":""},{"$f":"IF( Ecarts!$E158=$A$1, IF(Ecarts!I158=\"\",\"\",Ecarts!I158),\"\")","v":""},{"$f":"IF( Ecarts!$E158=$A$1, IF(Ecarts!J158=\"\",\"\",Ecarts!J158),\"\")","v":""},{"$f":"IF( Ecarts!$E158=$A$1, IF(Ecarts!K158=\"\",\"\",Ecarts!K158),\"\")","v":""},{"$f":"IF( Ecarts!$E158=$A$1, IF(Ecarts!L158=\"\",\"\",Ecarts!L158),\"\")","v":""},{"$f":"IF( Ecarts!$E158=$A$1, IF(Ecarts!M158=\"\",\"\",Ecarts!M158),\"\")","v":""},0,0]
[{"$f":"IF( Ecarts!$E159=$A$1,IF( Ecarts!B159=\"\",\"\",Ecarts!A159),\"\")","v":""},{"$f":"IF( Ecarts!$E159=$A$1,IF( Ecarts!C159=\"\",\"\",Ecarts!C159),\"\")","v":""},{"$f":"IF( Ecarts!$E159=$A$1, IF(Ecarts!F159=\"\",\"\",Ecarts!F159),\"\")","v":""},{"$f":"IF( Ecarts!$E159=$A$1, IF(Ecarts!I159=\"\",\"\",Ecarts!I159),\"\")","v":""},{"$f":"IF( Ecarts!$E159=$A$1, IF(Ecarts!J159=\"\",\"\",Ecarts!J159),\"\")","v":""},{"$f":"IF( Ecarts!$E159=$A$1, IF(Ecarts!K159=\"\",\"\",Ecarts!K159),\"\")","v":""},{"$f":"IF( Ecarts!$E159=$A$1, IF(Ecarts!L159=\"\",\"\",Ecarts!L159),\"\")","v":""},{"$f":"IF( Ecarts!$E159=$A$1, IF(Ecarts!M159=\"\",\"\",Ecarts!M159),\"\")","v":""},0,0]
[{"$f":"IF( Ecarts!$E160=$A$1,IF( Ecarts!B160=\"\",\"\",Ecarts!A160),\"\")","v":""},{"$f":"IF( Ecarts!$E160=$A$1,IF( Ecarts!C160=\"\",\"\",Ecarts!C160),\"\")","v":""},{"$f":"IF( Ecarts!$E160=$A$1, IF(Ecarts!F160=\"\",\"\",Ecarts!F160),\"\")","v":""},{"$f":"IF( Ecarts!$E160=$A$1, IF(Ecarts!I160=\"\",\"\",Ecarts!I160),\"\")","v":""},{"$f":"IF( Ecarts!$E160=$A$1, IF(Ecarts!J160=\"\",\"\",Ecarts!J160),\"\")","v":""},{"$f":"IF( Ecarts!$E160=$A$1, IF(Ecarts!K160=\"\",\"\",Ecarts!K160),\"\")","v":""},{"$f":"IF( Ecarts!$E160=$A$1, IF(Ecarts!L160=\"\",\"\",Ecarts!L160),\"\")","v":""},{"$f":"IF( Ecarts!$E160=$A$1, IF(Ecarts!M160=\"\",\"\",Ecarts!M160),\"\")","v":""},0,0]
[{"$f":"IF( Ecarts!$E161=$A$1,IF( Ecarts!B161=\"\",\"\",Ecarts!A161),\"\")","v":""},{"$f":"IF( Ecarts!$E161=$A$1,IF( Ecarts!C161=\"\",\"\",Ecarts!C161),\"\")","v":""},{"$f":"IF( Ecarts!$E161=$A$1, IF(Ecarts!F161=\"\",\"\",Ecarts!F161),\"\")","v":""},{"$f":"IF( Ecarts!$E161=$A$1, IF(Ecarts!I161=\"\",\"\",Ecarts!I161),\"\")","v":""},{"$f":"IF( Ecarts!$E161=$A$1, IF(Ecarts!J161=\"\",\"\",Ecarts!J161),\"\")","v":""},{"$f":"IF( Ecarts!$E161=$A$1, IF(Ecarts!K161=\"\",\"\",Ecarts!K161),\"\")","v":""},{"$f":"IF( Ecarts!$E161=$A$1, IF(Ecarts!L161=\"\",\"\",Ecarts!L161),\"\")","v":""},{"$f":"IF( Ecarts!$E161=$A$1, IF(Ecarts!M161=\"\",\"\",Ecarts!M161),\"\")","v":""},0,0]
[{"$f":"IF( Ecarts!$E162=$A$1,IF( Ecarts!B162=\"\",\"\",Ecarts!A162),\"\")","v":""},{"$f":"IF( Ecarts!$E162=$A$1,IF( Ecarts!C162=\"\",\"\",Ecarts!C162),\"\")","v":""},{"$f":"IF( Ecarts!$E162=$A$1, IF(Ecarts!F162=\"\",\"\",Ecarts!F162),\"\")","v":""},{"$f":"IF( Ecarts!$E162=$A$1, IF(Ecarts!I162=\"\",\"\",Ecarts!I162),\"\")","v":""},{"$f":"IF( Ecarts!$E162=$A$1, IF(Ecarts!J162=\"\",\"\",Ecarts!J162),\"\")","v":""},{"$f":"IF( Ecarts!$E162=$A$1, IF(Ecarts!K162=\"\",\"\",Ecarts!K162),\"\")","v":""},{"$f":"IF( Ecarts!$E162=$A$1, IF(Ecarts!L162=\"\",\"\",Ecarts!L162),\"\")","v":""},{"$f":"IF( Ecarts!$E162=$A$1, IF(Ecarts!M162=\"\",\"\",Ecarts!M162),\"\")","v":""},0,0]
[{"$f":"IF( Ecarts!$E163=$A$1,IF( Ecarts!B163=\"\",\"\",Ecarts!A163),\"\")","v":""},{"$f":"IF( Ecarts!$E163=$A$1,IF( Ecarts!C163=\"\",\"\",Ecarts!C163),\"\")","v":""},{"$f":"IF( Ecarts!$E163=$A$1, IF(Ecarts!F163=\"\",\"\",Ecarts!F163),\"\")","v":""},{"$f":"IF( Ecarts!$E163=$A$1, IF(Ecarts!I163=\"\",\"\",Ecarts!I163),\"\")","v":""},{"$f":"IF( Ecarts!$E163=$A$1, IF(Ecarts!J163=\"\",\"\",Ecarts!J163),\"\")","v":""},{"$f":"IF( Ecarts!$E163=$A$1, IF(Ecarts!K163=\"\",\"\",Ecarts!K163),\"\")","v":""},{"$f":"IF( Ecarts!$E163=$A$1, IF(Ecarts!L163=\"\",\"\",Ecarts!L163),\"\")","v":""},{"$f":"IF( Ecarts!$E163=$A$1, IF(Ecarts!M163=\"\",\"\",Ecarts!M163),\"\")","v":""},0,0]
[{"$f":"IF( Ecarts!$E164=$A$1,IF( Ecarts!B164=\"\",\"\",Ecarts!A164),\"\")","v":""},{"$f":"IF( Ecarts!$E164=$A$1,IF( Ecarts!C164=\"\",\"\",Ecarts!C164),\"\")","v":""},{"$f":"IF( Ecarts!$E164=$A$1, IF(Ecarts!F164=\"\",\"\",Ecarts!F164),\"\")","v":""},{"$f":"IF( Ecarts!$E164=$A$1, IF(Ecarts!I164=\"\",\"\",Ecarts!I164),\"\")","v":""},{"$f":"IF( Ecarts!$E164=$A$1, IF(Ecarts!J164=\"\",\"\",Ecarts!J164),\"\")","v":""},{"$f":"IF( Ecarts!$E164=$A$1, IF(Ecarts!K164=\"\",\"\",Ecarts!K164),\"\")","v":""},{"$f":"IF( Ecarts!$E164=$A$1, IF(Ecarts!L164=\"\",\"\",Ecarts!L164),\"\")","v":""},{"$f":"IF( Ecarts!$E164=$A$1, IF(Ecarts!M164=\"\",\"\",Ecarts!M164),\"\")","v":""},0,0]
[{"$f":"IF( Ecarts!$E165=$A$1,IF( Ecarts!B165=\"\",\"\",Ecarts!A165),\"\")","v":""},{"$f":"IF( Ecarts!$E165=$A$1,IF( Ecarts!C165=\"\",\"\",Ecarts!C165),\"\")","v":""},{"$f":"IF( Ecarts!$E165=$A$1, IF(Ecarts!F165=\"\",\"\",Ecarts!F165),\"\")","v":""},{"$f":"IF( Ecarts!$E165=$A$1, IF(Ecarts!I165=\"\",\"\",Ecarts!I165),\"\")","v":""},{"$f":"IF( Ecarts!$E165=$A$1, IF(Ecarts!J165=\"\",\"\",Ecarts!J165),\"\")","v":""},{"$f":"IF( Ecarts!$E165=$A$1, IF(Ecarts!K165=\"\",\"\",Ecarts!K165),\"\")","v":""},{"$f":"IF( Ecarts!$E165=$A$1, IF(Ecarts!L165=\"\",\"\",Ecarts!L165),\"\")","v":""},{"$f":"IF( Ecarts!$E165=$A$1, IF(Ecarts!M165=\"\",\"\",Ecarts!M165),\"\")","v":""},0,0]
[{"$f":"IF( Ecarts!$E166=$A$1,IF( Ecarts!B166=\"\",\"\",Ecarts!A166),\"\")","v":""},{"$f":"IF( Ecarts!$E166=$A$1,IF( Ecarts!C166=\"\",\"\",Ecarts!C166),\"\")","v":""},{"$f":"IF( Ecarts!$E166=$A$1, IF(Ecarts!F166=\"\",\"\",Ecarts!F166),\"\")","v":""},{"$f":"IF( Ecarts!$E166=$A$1, IF(Ecarts!I166=\"\",\"\",Ecarts!I166),\"\")","v":""},{"$f":"IF( Ecarts!$E166=$A$1, IF(Ecarts!J166=\"\",\"\",Ecarts!J166),\"\")","v":""},{"$f":"IF( Ecarts!$E166=$A$1, IF(Ecarts!K166=\"\",\"\",Ecarts!K166),\"\")","v":""},{"$f":"IF( Ecarts!$E166=$A$1, IF(Ecarts!L166=\"\",\"\",Ecarts!L166),\"\")","v":""},{"$f":"IF( Ecarts!$E166=$A$1, IF(Ecarts!M166=\"\",\"\",Ecarts!M166),\"\")","v":""},0,0]
[{"$f":"IF( Ecarts!$E167=$A$1,IF( Ecarts!B167=\"\",\"\",Ecarts!A167),\"\")","v":""},{"$f":"IF( Ecarts!$E167=$A$1,IF( Ecarts!C167=\"\",\"\",Ecarts!C167),\"\")","v":""},{"$f":"IF( Ecarts!$E167=$A$1, IF(Ecarts!F167=\"\",\"\",Ecarts!F167),\"\")","v":""},{"$f":"IF( Ecarts!$E167=$A$1, IF(Ecarts!I167=\"\",\"\",Ecarts!I167),\"\")","v":""},{"$f":"IF( Ecarts!$E167=$A$1, IF(Ecarts!J167=\"\",\"\",Ecarts!J167),\"\")","v":""},{"$f":"IF( Ecarts!$E167=$A$1, IF(Ecarts!K167=\"\",\"\",Ecarts!K167),\"\")","v":""},{"$f":"IF( Ecarts!$E167=$A$1, IF(Ecarts!L167=\"\",\"\",Ecarts!L167),\"\")","v":""},{"$f":"IF( Ecarts!$E167=$A$1, IF(Ecarts!M167=\"\",\"\",Ecarts!M167),\"\")","v":""},0,0]
[{"$f":"IF( Ecarts!$E168=$A$1,IF( Ecarts!B168=\"\",\"\",Ecarts!A168),\"\")","v":""},{"$f":"IF( Ecarts!$E168=$A$1,IF( Ecarts!C168=\"\",\"\",Ecarts!C168),\"\")","v":""},{"$f":"IF( Ecarts!$E168=$A$1, IF(Ecarts!F168=\"\",\"\",Ecarts!F168),\"\")","v":""},{"$f":"IF( Ecarts!$E168=$A$1, IF(Ecarts!I168=\"\",\"\",Ecarts!I168),\"\")","v":""},{"$f":"IF( Ecarts!$E168=$A$1, IF(Ecarts!J168=\"\",\"\",Ecarts!J168),\"\")","v":""},{"$f":"IF( Ecarts!$E168=$A$1, IF(Ecarts!K168=\"\",\"\",Ecarts!K168),\"\")","v":""},{"$f":"IF( Ecarts!$E168=$A$1, IF(Ecarts!L168=\"\",\"\",Ecarts!L168),\"\")","v":""},{"$f":"IF( Ecarts!$E168=$A$1, IF(Ecarts!M168=\"\",\"\",Ecarts!M168),\"\")","v":""},0,0]
[{"$f":"IF( Ecarts!$E169=$A$1,IF( Ecarts!B169=\"\",\"\",Ecarts!A169),\"\")","v":""},{"$f":"IF( Ecarts!$E169=$A$1,IF( Ecarts!C169=\"\",\"\",Ecarts!C169),\"\")","v":""},{"$f":"IF( Ecarts!$E169=$A$1, IF(Ecarts!F169=\"\",\"\",Ecarts!F169),\"\")","v":""},{"$f":"IF( Ecarts!$E169=$A$1, IF(Ecarts!I169=\"\",\"\",Ecarts!I169),\"\")","v":""},{"$f":"IF( Ecarts!$E169=$A$1, IF(Ecarts!J169=\"\",\"\",Ecarts!J169),\"\")","v":""},{"$f":"IF( Ecarts!$E169=$A$1, IF(Ecarts!K169=\"\",\"\",Ecarts!K169),\"\")","v":""},{"$f":"IF( Ecarts!$E169=$A$1, IF(Ecarts!L169=\"\",\"\",Ecarts!L169),\"\")","v":""},{"$f":"IF( Ecarts!$E169=$A$1, IF(Ecarts!M169=\"\",\"\",Ecarts!M169),\"\")","v":""},0,0]
[{"$f":"IF( Ecarts!$E170=$A$1,IF( Ecarts!B170=\"\",\"\",Ecarts!A170),\"\")","v":""},{"$f":"IF( Ecarts!$E170=$A$1,IF( Ecarts!C170=\"\",\"\",Ecarts!C170),\"\")","v":""},{"$f":"IF( Ecarts!$E170=$A$1, IF(Ecarts!F170=\"\",\"\",Ecarts!F170),\"\")","v":""},{"$f":"IF( Ecarts!$E170=$A$1, IF(Ecarts!I170=\"\",\"\",Ecarts!I170),\"\")","v":""},{"$f":"IF( Ecarts!$E170=$A$1, IF(Ecarts!J170=\"\",\"\",Ecarts!J170),\"\")","v":""},{"$f":"IF( Ecarts!$E170=$A$1, IF(Ecarts!K170=\"\",\"\",Ecarts!K170),\"\")","v":""},{"$f":"IF( Ecarts!$E170=$A$1, IF(Ecarts!L170=\"\",\"\",Ecarts!L170),\"\")","v":""},{"$f":"IF( Ecarts!$E170=$A$1, IF(Ecarts!M170=\"\",\"\",Ecarts!M170),\"\")","v":""},0,0]
[{"$f":"IF( Ecarts!$E171=$A$1,IF( Ecarts!B171=\"\",\"\",Ecarts!A171),\"\")","v":""},{"$f":"IF( Ecarts!$E171=$A$1,IF( Ecarts!C171=\"\",\"\",Ecarts!C171),\"\")","v":""},{"$f":"IF( Ecarts!$E171=$A$1, IF(Ecarts!F171=\"\",\"\",Ecarts!F171),\"\")","v":""},{"$f":"IF( Ecarts!$E171=$A$1, IF(Ecarts!I171=\"\",\"\",Ecarts!I171),\"\")","v":""},{"$f":"IF( Ecarts!$E171=$A$1, IF(Ecarts!J171=\"\",\"\",Ecarts!J171),\"\")","v":""},{"$f":"IF( Ecarts!$E171=$A$1, IF(Ecarts!K171=\"\",\"\",Ecarts!K171),\"\")","v":""},{"$f":"IF( Ecarts!$E171=$A$1, IF(Ecarts!L171=\"\",\"\",Ecarts!L171),\"\")","v":""},{"$f":"IF( Ecarts!$E171=$A$1, IF(Ecarts!M171=\"\",\"\",Ecarts!M171),\"\")","v":""},0,0]
[{"$f":"IF( Ecarts!$E172=$A$1,IF( Ecarts!B172=\"\",\"\",Ecarts!A172),\"\")","v":""},{"$f":"IF( Ecarts!$E172=$A$1,IF( Ecarts!C172=\"\",\"\",Ecarts!C172),\"\")","v":""},{"$f":"IF( Ecarts!$E172=$A$1, IF(Ecarts!F172=\"\",\"\",Ecarts!F172),\"\")","v":""},{"$f":"IF( Ecarts!$E172=$A$1, IF(Ecarts!I172=\"\",\"\",Ecarts!I172),\"\")","v":""},{"$f":"IF( Ecarts!$E172=$A$1, IF(Ecarts!J172=\"\",\"\",Ecarts!J172),\"\")","v":""},{"$f":"IF( Ecarts!$E172=$A$1, IF(Ecarts!K172=\"\",\"\",Ecarts!K172),\"\")","v":""},{"$f":"IF( Ecarts!$E172=$A$1, IF(Ecarts!L172=\"\",\"\",Ecarts!L172),\"\")","v":""},{"$f":"IF( Ecarts!$E172=$A$1, IF(Ecarts!M172=\"\",\"\",Ecarts!M172),\"\")","v":""},0,0]
[{"$f":"IF( Ecarts!$E173=$A$1,IF( Ecarts!B173=\"\",\"\",Ecarts!A173),\"\")","v":""},{"$f":"IF( Ecarts!$E173=$A$1,IF( Ecarts!C173=\"\",\"\",Ecarts!C173),\"\")","v":""},{"$f":"IF( Ecarts!$E173=$A$1, IF(Ecarts!F173=\"\",\"\",Ecarts!F173),\"\")","v":""},{"$f":"IF( Ecarts!$E173=$A$1, IF(Ecarts!I173=\"\",\"\",Ecarts!I173),\"\")","v":""},{"$f":"IF( Ecarts!$E173=$A$1, IF(Ecarts!J173=\"\",\"\",Ecarts!J173),\"\")","v":""},{"$f":"IF( Ecarts!$E173=$A$1, IF(Ecarts!K173=\"\",\"\",Ecarts!K173),\"\")","v":""},{"$f":"IF( Ecarts!$E173=$A$1, IF(Ecarts!L173=\"\",\"\",Ecarts!L173),\"\")","v":""},{"$f":"IF( Ecarts!$E173=$A$1, IF(Ecarts!M173=\"\",\"\",Ecarts!M173),\"\")","v":""},0,0]
[{"$f":"IF( Ecarts!$E174=$A$1,IF( Ecarts!B174=\"\",\"\",Ecarts!A174),\"\")","v":""},{"$f":"IF( Ecarts!$E174=$A$1,IF( Ecarts!C174=\"\",\"\",Ecarts!C174),\"\")","v":""},{"$f":"IF( Ecarts!$E174=$A$1, IF(Ecarts!F174=\"\",\"\",Ecarts!F174),\"\")","v":""},{"$f":"IF( Ecarts!$E174=$A$1, IF(Ecarts!I174=\"\",\"\",Ecarts!I174),\"\")","v":""},{"$f":"IF( Ecarts!$E174=$A$1, IF(Ecarts!J174=\"\",\"\",Ecarts!J174),\"\")","v":""},{"$f":"IF( Ecarts!$E174=$A$1, IF(Ecarts!K174=\"\",\"\",Ecarts!K174),\"\")","v":""},{"$f":"IF( Ecarts!$E174=$A$1, IF(Ecarts!L174=\"\",\"\",Ecarts!L174),\"\")","v":""},{"$f":"IF( Ecarts!$E174=$A$1, IF(Ecarts!M174=\"\",\"\",Ecarts!M174),\"\")","v":""},0,0]
[{"$f":"IF( Ecarts!$E175=$A$1,IF( Ecarts!B175=\"\",\"\",Ecarts!A175),\"\")","v":""},{"$f":"IF( Ecarts!$E175=$A$1,IF( Ecarts!C175=\"\",\"\",Ecarts!C175),\"\")","v":""},{"$f":"IF( Ecarts!$E175=$A$1, IF(Ecarts!F175=\"\",\"\",Ecarts!F175),\"\")","v":""},{"$f":"IF( Ecarts!$E175=$A$1, IF(Ecarts!I175=\"\",\"\",Ecarts!I175),\"\")","v":""},{"$f":"IF( Ecarts!$E175=$A$1, IF(Ecarts!J175=\"\",\"\",Ecarts!J175),\"\")","v":""},{"$f":"IF( Ecarts!$E175=$A$1, IF(Ecarts!K175=\"\",\"\",Ecarts!K175),\"\")","v":""},{"$f":"IF( Ecarts!$E175=$A$1, IF(Ecarts!L175=\"\",\"\",Ecarts!L175),\"\")","v":""},{"$f":"IF( Ecarts!$E175=$A$1, IF(Ecarts!M175=\"\",\"\",Ecarts!M175),\"\")","v":""},0,0]
[{"$f":"IF( Ecarts!$E176=$A$1,IF( Ecarts!B176=\"\",\"\",Ecarts!A176),\"\")","v":""},{"$f":"IF( Ecarts!$E176=$A$1,IF( Ecarts!C176=\"\",\"\",Ecarts!C176),\"\")","v":""},{"$f":"IF( Ecarts!$E176=$A$1, IF(Ecarts!F176=\"\",\"\",Ecarts!F176),\"\")","v":""},{"$f":"IF( Ecarts!$E176=$A$1, IF(Ecarts!I176=\"\",\"\",Ecarts!I176),\"\")","v":""},{"$f":"IF( Ecarts!$E176=$A$1, IF(Ecarts!J176=\"\",\"\",Ecarts!J176),\"\")","v":""},{"$f":"IF( Ecarts!$E176=$A$1, IF(Ecarts!K176=\"\",\"\",Ecarts!K176),\"\")","v":""},{"$f":"IF( Ecarts!$E176=$A$1, IF(Ecarts!L176=\"\",\"\",Ecarts!L176),\"\")","v":""},{"$f":"IF( Ecarts!$E176=$A$1, IF(Ecarts!M176=\"\",\"\",Ecarts!M176),\"\")","v":""},0,0]
[{"$f":"IF( Ecarts!$E177=$A$1,IF( Ecarts!B177=\"\",\"\",Ecarts!A177),\"\")","v":""},{"$f":"IF( Ecarts!$E177=$A$1,IF( Ecarts!C177=\"\",\"\",Ecarts!C177),\"\")","v":""},{"$f":"IF( Ecarts!$E177=$A$1, IF(Ecarts!F177=\"\",\"\",Ecarts!F177),\"\")","v":""},{"$f":"IF( Ecarts!$E177=$A$1, IF(Ecarts!I177=\"\",\"\",Ecarts!I177),\"\")","v":""},{"$f":"IF( Ecarts!$E177=$A$1, IF(Ecarts!J177=\"\",\"\",Ecarts!J177),\"\")","v":""},{"$f":"IF( Ecarts!$E177=$A$1, IF(Ecarts!K177=\"\",\"\",Ecarts!K177),\"\")","v":""},{"$f":"IF( Ecarts!$E177=$A$1, IF(Ecarts!L177=\"\",\"\",Ecarts!L177),\"\")","v":""},{"$f":"IF( Ecarts!$E177=$A$1, IF(Ecarts!M177=\"\",\"\",Ecarts!M177),\"\")","v":""},0,0]
[{"$f":"IF( Ecarts!$E178=$A$1,IF( Ecarts!B178=\"\",\"\",Ecarts!A178),\"\")","v":""},{"$f":"IF( Ecarts!$E178=$A$1,IF( Ecarts!C178=\"\",\"\",Ecarts!C178),\"\")","v":""},{"$f":"IF( Ecarts!$E178=$A$1, IF(Ecarts!F178=\"\",\"\",Ecarts!F178),\"\")","v":""},{"$f":"IF( Ecarts!$E178=$A$1, IF(Ecarts!I178=\"\",\"\",Ecarts!I178),\"\")","v":""},{"$f":"IF( Ecarts!$E178=$A$1, IF(Ecarts!J178=\"\",\"\",Ecarts!J178),\"\")","v":""},{"$f":"IF( Ecarts!$E178=$A$1, IF(Ecarts!K178=\"\",\"\",Ecarts!K178),\"\")","v":""},{"$f":"IF( Ecarts!$E178=$A$1, IF(Ecarts!L178=\"\",\"\",Ecarts!L178),\"\")","v":""},{"$f":"IF( Ecarts!$E178=$A$1, IF(Ecarts!M178=\"\",\"\",Ecarts!M178),\"\")","v":""},0,0]
[{"$f":"IF( Ecarts!$E179=$A$1,IF( Ecarts!B179=\"\",\"\",Ecarts!A179),\"\")","v":""},{"$f":"IF( Ecarts!$E179=$A$1,IF( Ecarts!C179=\"\",\"\",Ecarts!C179),\"\")","v":""},{"$f":"IF( Ecarts!$E179=$A$1, IF(Ecarts!F179=\"\",\"\",Ecarts!F179),\"\")","v":""},{"$f":"IF( Ecarts!$E179=$A$1, IF(Ecarts!I179=\"\",\"\",Ecarts!I179),\"\")","v":""},{"$f":"IF( Ecarts!$E179=$A$1, IF(Ecarts!J179=\"\",\"\",Ecarts!J179),\"\")","v":""},{"$f":"IF( Ecarts!$E179=$A$1, IF(Ecarts!K179=\"\",\"\",Ecarts!K179),\"\")","v":""},{"$f":"IF( Ecarts!$E179=$A$1, IF(Ecarts!L179=\"\",\"\",Ecarts!L179),\"\")","v":""},{"$f":"IF( Ecarts!$E179=$A$1, IF(Ecarts!M179=\"\",\"\",Ecarts!M179),\"\")","v":""},0,0]
[{"$f":"IF( Ecarts!$E180=$A$1,IF( Ecarts!B180=\"\",\"\",Ecarts!A180),\"\")","v":""},{"$f":"IF( Ecarts!$E180=$A$1,IF( Ecarts!C180=\"\",\"\",Ecarts!C180),\"\")","v":""},{"$f":"IF( Ecarts!$E180=$A$1, IF(Ecarts!F180=\"\",\"\",Ecarts!F180),\"\")","v":""},{"$f":"IF( Ecarts!$E180=$A$1, IF(Ecarts!I180=\"\",\"\",Ecarts!I180),\"\")","v":""},{"$f":"IF( Ecarts!$E180=$A$1, IF(Ecarts!J180=\"\",\"\",Ecarts!J180),\"\")","v":""},{"$f":"IF( Ecarts!$E180=$A$1, IF(Ecarts!K180=\"\",\"\",Ecarts!K180),\"\")","v":""},{"$f":"IF( Ecarts!$E180=$A$1, IF(Ecarts!L180=\"\",\"\",Ecarts!L180),\"\")","v":""},{"$f":"IF( Ecarts!$E180=$A$1, IF(Ecarts!M180=\"\",\"\",Ecarts!M180),\"\")","v":""},0,0]
[{"$f":"IF( Ecarts!$E181=$A$1,IF( Ecarts!B181=\"\",\"\",Ecarts!A181),\"\")","v":""},{"$f":"IF( Ecarts!$E181=$A$1,IF( Ecarts!C181=\"\",\"\",Ecarts!C181),\"\")","v":""},{"$f":"IF( Ecarts!$E181=$A$1, IF(Ecarts!F181=\"\",\"\",Ecarts!F181),\"\")","v":""},{"$f":"IF( Ecarts!$E181=$A$1, IF(Ecarts!I181=\"\",\"\",Ecarts!I181),\"\")","v":""},{"$f":"IF( Ecarts!$E181=$A$1, IF(Ecarts!J181=\"\",\"\",Ecarts!J181),\"\")","v":""},{"$f":"IF( Ecarts!$E181=$A$1, IF(Ecarts!K181=\"\",\"\",Ecarts!K181),\"\")","v":""},{"$f":"IF( Ecarts!$E181=$A$1, IF(Ecarts!L181=\"\",\"\",Ecarts!L181),\"\")","v":""},{"$f":"IF( Ecarts!$E181=$A$1, IF(Ecarts!M181=\"\",\"\",Ecarts!M181),\"\")","v":""},0,0]
[{"$f":"IF( Ecarts!$E182=$A$1,IF( Ecarts!B182=\"\",\"\",Ecarts!A182),\"\")","v":""},{"$f":"IF( Ecarts!$E182=$A$1,IF( Ecarts!C182=\"\",\"\",Ecarts!C182),\"\")","v":""},{"$f":"IF( Ecarts!$E182=$A$1, IF(Ecarts!F182=\"\",\"\",Ecarts!F182),\"\")","v":""},{"$f":"IF( Ecarts!$E182=$A$1, IF(Ecarts!I182=\"\",\"\",Ecarts!I182),\"\")","v":""},{"$f":"IF( Ecarts!$E182=$A$1, IF(Ecarts!J182=\"\",\"\",Ecarts!J182),\"\")","v":""},{"$f":"IF( Ecarts!$E182=$A$1, IF(Ecarts!K182=\"\",\"\",Ecarts!K182),\"\")","v":""},{"$f":"IF( Ecarts!$E182=$A$1, IF(Ecarts!L182=\"\",\"\",Ecarts!L182),\"\")","v":""},{"$f":"IF( Ecarts!$E182=$A$1, IF(Ecarts!M182=\"\",\"\",Ecarts!M182),\"\")","v":""},0,0]
[{"$f":"IF( Ecarts!$E183=$A$1,IF( Ecarts!B183=\"\",\"\",Ecarts!A183),\"\")","v":""},{"$f":"IF( Ecarts!$E183=$A$1,IF( Ecarts!C183=\"\",\"\",Ecarts!C183),\"\")","v":""},{"$f":"IF( Ecarts!$E183=$A$1, IF(Ecarts!F183=\"\",\"\",Ecarts!F183),\"\")","v":""},{"$f":"IF( Ecarts!$E183=$A$1, IF(Ecarts!I183=\"\",\"\",Ecarts!I183),\"\")","v":""},{"$f":"IF( Ecarts!$E183=$A$1, IF(Ecarts!J183=\"\",\"\",Ecarts!J183),\"\")","v":""},{"$f":"IF( Ecarts!$E183=$A$1, IF(Ecarts!K183=\"\",\"\",Ecarts!K183),\"\")","v":""},{"$f":"IF( Ecarts!$E183=$A$1, IF(Ecarts!L183=\"\",\"\",Ecarts!L183),\"\")","v":""},{"$f":"IF( Ecarts!$E183=$A$1, IF(Ecarts!M183=\"\",\"\",Ecarts!M183),\"\")","v":""},0,0]
[{"$f":"IF( Ecarts!$E184=$A$1,IF( Ecarts!B184=\"\",\"\",Ecarts!A184),\"\")","v":""},{"$f":"IF( Ecarts!$E184=$A$1,IF( Ecarts!C184=\"\",\"\",Ecarts!C184),\"\")","v":""},{"$f":"IF( Ecarts!$E184=$A$1, IF(Ecarts!F184=\"\",\"\",Ecarts!F184),\"\")","v":""},{"$f":"IF( Ecarts!$E184=$A$1, IF(Ecarts!I184=\"\",\"\",Ecarts!I184),\"\")","v":""},{"$f":"IF( Ecarts!$E184=$A$1, IF(Ecarts!J184=\"\",\"\",Ecarts!J184),\"\")","v":""},{"$f":"IF( Ecarts!$E184=$A$1, IF(Ecarts!K184=\"\",\"\",Ecarts!K184),\"\")","v":""},{"$f":"IF( Ecarts!$E184=$A$1, IF(Ecarts!L184=\"\",\"\",Ecarts!L184),\"\")","v":""},{"$f":"IF( Ecarts!$E184=$A$1, IF(Ecarts!M184=\"\",\"\",Ecarts!M184),\"\")","v":""},0,0]
[{"$f":"IF( Ecarts!$E185=$A$1,IF( Ecarts!B185=\"\",\"\",Ecarts!A185),\"\")","v":""},{"$f":"IF( Ecarts!$E185=$A$1,IF( Ecarts!C185=\"\",\"\",Ecarts!C185),\"\")","v":""},{"$f":"IF( Ecarts!$E185=$A$1, IF(Ecarts!F185=\"\",\"\",Ecarts!F185),\"\")","v":""},{"$f":"IF( Ecarts!$E185=$A$1, IF(Ecarts!I185=\"\",\"\",Ecarts!I185),\"\")","v":""},{"$f":"IF( Ecarts!$E185=$A$1, IF(Ecarts!J185=\"\",\"\",Ecarts!J185),\"\")","v":""},{"$f":"IF( Ecarts!$E185=$A$1, IF(Ecarts!K185=\"\",\"\",Ecarts!K185),\"\")","v":""},{"$f":"IF( Ecarts!$E185=$A$1, IF(Ecarts!L185=\"\",\"\",Ecarts!L185),\"\")","v":""},{"$f":"IF( Ecarts!$E185=$A$1, IF(Ecarts!M185=\"\",\"\",Ecarts!M185),\"\")","v":""},0,0]
[{"$f":"IF( Ecarts!$E186=$A$1,IF( Ecarts!B186=\"\",\"\",Ecarts!A186),\"\")","v":""},{"$f":"IF( Ecarts!$E186=$A$1,IF( Ecarts!C186=\"\",\"\",Ecarts!C186),\"\")","v":""},{"$f":"IF( Ecarts!$E186=$A$1, IF(Ecarts!F186=\"\",\"\",Ecarts!F186),\"\")","v":""},{"$f":"IF( Ecarts!$E186=$A$1, IF(Ecarts!I186=\"\",\"\",Ecarts!I186),\"\")","v":""},{"$f":"IF( Ecarts!$E186=$A$1, IF(Ecarts!J186=\"\",\"\",Ecarts!J186),\"\")","v":""},{"$f":"IF( Ecarts!$E186=$A$1, IF(Ecarts!K186=\"\",\"\",Ecarts!K186),\"\")","v":""},{"$f":"IF( Ecarts!$E186=$A$1, IF(Ecarts!L186=\"\",\"\",Ecarts!L186),\"\")","v":""},{"$f":"IF( Ecarts!$E186=$A$1, IF(Ecarts!M186=\"\",\"\",Ecarts!M186),\"\")","v":""},0,0]
[{"$f":"IF( Ecarts!$E187=$A$1,IF( Ecarts!B187=\"\",\"\",Ecarts!A187),\"\")","v":""},{"$f":"IF( Ecarts!$E187=$A$1,IF( Ecarts!C187=\"\",\"\",Ecarts!C187),\"\")","v":""},{"$f":"IF( Ecarts!$E187=$A$1, IF(Ecarts!F187=\"\",\"\",Ecarts!F187),\"\")","v":""},{"$f":"IF( Ecarts!$E187=$A$1, IF(Ecarts!I187=\"\",\"\",Ecarts!I187),\"\")","v":""},{"$f":"IF( Ecarts!$E187=$A$1, IF(Ecarts!J187=\"\",\"\",Ecarts!J187),\"\")","v":""},{"$f":"IF( Ecarts!$E187=$A$1, IF(Ecarts!K187=\"\",\"\",Ecarts!K187),\"\")","v":""},{"$f":"IF( Ecarts!$E187=$A$1, IF(Ecarts!L187=\"\",\"\",Ecarts!L187),\"\")","v":""},{"$f":"IF( Ecarts!$E187=$A$1, IF(Ecarts!M187=\"\",\"\",Ecarts!M187),\"\")","v":""},0,0]
[{"$f":"IF( Ecarts!$E188=$A$1,IF( Ecarts!B188=\"\",\"\",Ecarts!A188),\"\")","v":""},{"$f":"IF( Ecarts!$E188=$A$1,IF( Ecarts!C188=\"\",\"\",Ecarts!C188),\"\")","v":""},{"$f":"IF( Ecarts!$E188=$A$1, IF(Ecarts!F188=\"\",\"\",Ecarts!F188),\"\")","v":""},{"$f":"IF( Ecarts!$E188=$A$1, IF(Ecarts!I188=\"\",\"\",Ecarts!I188),\"\")","v":""},{"$f":"IF( Ecarts!$E188=$A$1, IF(Ecarts!J188=\"\",\"\",Ecarts!J188),\"\")","v":""},{"$f":"IF( Ecarts!$E188=$A$1, IF(Ecarts!K188=\"\",\"\",Ecarts!K188),\"\")","v":""},{"$f":"IF( Ecarts!$E188=$A$1, IF(Ecarts!L188=\"\",\"\",Ecarts!L188),\"\")","v":""},{"$f":"IF( Ecarts!$E188=$A$1, IF(Ecarts!M188=\"\",\"\",Ecarts!M188),\"\")","v":""},0,0]
[{"$f":"IF( Ecarts!$E189=$A$1,IF( Ecarts!B189=\"\",\"\",Ecarts!A189),\"\")","v":""},{"$f":"IF( Ecarts!$E189=$A$1,IF( Ecarts!C189=\"\",\"\",Ecarts!C189),\"\")","v":""},{"$f":"IF( Ecarts!$E189=$A$1, IF(Ecarts!F189=\"\",\"\",Ecarts!F189),\"\")","v":""},{"$f":"IF( Ecarts!$E189=$A$1, IF(Ecarts!I189=\"\",\"\",Ecarts!I189),\"\")","v":""},{"$f":"IF( Ecarts!$E189=$A$1, IF(Ecarts!J189=\"\",\"\",Ecarts!J189),\"\")","v":""},{"$f":"IF( Ecarts!$E189=$A$1, IF(Ecarts!K189=\"\",\"\",Ecarts!K189),\"\")","v":""},{"$f":"IF( Ecarts!$E189=$A$1, IF(Ecarts!L189=\"\",\"\",Ecarts!L189),\"\")","v":""},{"$f":"IF( Ecarts!$E189=$A$1, IF(Ecarts!M189=\"\",\"\",Ecarts!M189),\"\")","v":""},0,0]
[{"$f":"IF( Ecarts!$E190=$A$1,IF( Ecarts!B190=\"\",\"\",Ecarts!A190),\"\")","v":""},{"$f":"IF( Ecarts!$E190=$A$1,IF( Ecarts!C190=\"\",\"\",Ecarts!C190),\"\")","v":""},{"$f":"IF( Ecarts!$E190=$A$1, IF(Ecarts!F190=\"\",\"\",Ecarts!F190),\"\")","v":""},{"$f":"IF( Ecarts!$E190=$A$1, IF(Ecarts!I190=\"\",\"\",Ecarts!I190),\"\")","v":""},{"$f":"IF( Ecarts!$E190=$A$1, IF(Ecarts!J190=\"\",\"\",Ecarts!J190),\"\")","v":""},{"$f":"IF( Ecarts!$E190=$A$1, IF(Ecarts!K190=\"\",\"\",Ecarts!K190),\"\")","v":""},{"$f":"IF( Ecarts!$E190=$A$1, IF(Ecarts!L190=\"\",\"\",Ecarts!L190),\"\")","v":""},{"$f":"IF( Ecarts!$E190=$A$1, IF(Ecarts!M190=\"\",\"\",Ecarts!M190),\"\")","v":""},0,0]
[{"$f":"IF( Ecarts!$E191=$A$1,IF( Ecarts!B191=\"\",\"\",Ecarts!A191),\"\")","v":""},{"$f":"IF( Ecarts!$E191=$A$1,IF( Ecarts!C191=\"\",\"\",Ecarts!C191),\"\")","v":""},{"$f":"IF( Ecarts!$E191=$A$1, IF(Ecarts!F191=\"\",\"\",Ecarts!F191),\"\")","v":""},{"$f":"IF( Ecarts!$E191=$A$1, IF(Ecarts!I191=\"\",\"\",Ecarts!I191),\"\")","v":""},{"$f":"IF( Ecarts!$E191=$A$1, IF(Ecarts!J191=\"\",\"\",Ecarts!J191),\"\")","v":""},{"$f":"IF( Ecarts!$E191=$A$1, IF(Ecarts!K191=\"\",\"\",Ecarts!K191),\"\")","v":""},{"$f":"IF( Ecarts!$E191=$A$1, IF(Ecarts!L191=\"\",\"\",Ecarts!L191),\"\")","v":""},{"$f":"IF( Ecarts!$E191=$A$1, IF(Ecarts!M191=\"\",\"\",Ecarts!M191),\"\")","v":""},0,0]
[{"$f":"IF( Ecarts!$E192=$A$1,IF( Ecarts!B192=\"\",\"\",Ecarts!A192),\"\")","v":""},{"$f":"IF( Ecarts!$E192=$A$1,IF( Ecarts!C192=\"\",\"\",Ecarts!C192),\"\")","v":""},{"$f":"IF( Ecarts!$E192=$A$1, IF(Ecarts!F192=\"\",\"\",Ecarts!F192),\"\")","v":""},{"$f":"IF( Ecarts!$E192=$A$1, IF(Ecarts!I192=\"\",\"\",Ecarts!I192),\"\")","v":""},{"$f":"IF( Ecarts!$E192=$A$1, IF(Ecarts!J192=\"\",\"\",Ecarts!J192),\"\")","v":""},{"$f":"IF( Ecarts!$E192=$A$1, IF(Ecarts!K192=\"\",\"\",Ecarts!K192),\"\")","v":""},{"$f":"IF( Ecarts!$E192=$A$1, IF(Ecarts!L192=\"\",\"\",Ecarts!L192),\"\")","v":""},{"$f":"IF( Ecarts!$E192=$A$1, IF(Ecarts!M192=\"\",\"\",Ecarts!M192),\"\")","v":""},0,0]
[{"$f":"IF( Ecarts!$E193=$A$1,IF( Ecarts!B193=\"\",\"\",Ecarts!A193),\"\")","v":""},{"$f":"IF( Ecarts!$E193=$A$1,IF( Ecarts!C193=\"\",\"\",Ecarts!C193),\"\")","v":""},{"$f":"IF( Ecarts!$E193=$A$1, IF(Ecarts!F193=\"\",\"\",Ecarts!F193),\"\")","v":""},{"$f":"IF( Ecarts!$E193=$A$1, IF(Ecarts!I193=\"\",\"\",Ecarts!I193),\"\")","v":""},{"$f":"IF( Ecarts!$E193=$A$1, IF(Ecarts!J193=\"\",\"\",Ecarts!J193),\"\")","v":""},{"$f":"IF( Ecarts!$E193=$A$1, IF(Ecarts!K193=\"\",\"\",Ecarts!K193),\"\")","v":""},{"$f":"IF( Ecarts!$E193=$A$1, IF(Ecarts!L193=\"\",\"\",Ecarts!L193),\"\")","v":""},{"$f":"IF( Ecarts!$E193=$A$1, IF(Ecarts!M193=\"\",\"\",Ecarts!M193),\"\")","v":""},0,0]
[{"$f":"IF( Ecarts!$E194=$A$1,IF( Ecarts!B194=\"\",\"\",Ecarts!A194),\"\")","v":""},{"$f":"IF( Ecarts!$E194=$A$1,IF( Ecarts!C194=\"\",\"\",Ecarts!C194),\"\")","v":""},{"$f":"IF( Ecarts!$E194=$A$1, IF(Ecarts!F194=\"\",\"\",Ecarts!F194),\"\")","v":""},{"$f":"IF( Ecarts!$E194=$A$1, IF(Ecarts!I194=\"\",\"\",Ecarts!I194),\"\")","v":""},{"$f":"IF( Ecarts!$E194=$A$1, IF(Ecarts!J194=\"\",\"\",Ecarts!J194),\"\")","v":""},{"$f":"IF( Ecarts!$E194=$A$1, IF(Ecarts!K194=\"\",\"\",Ecarts!K194),\"\")","v":""},{"$f":"IF( Ecarts!$E194=$A$1, IF(Ecarts!L194=\"\",\"\",Ecarts!L194),\"\")","v":""},{"$f":"IF( Ecarts!$E194=$A$1, IF(Ecarts!M194=\"\",\"\",Ecarts!M194),\"\")","v":""},0,0]
[{"$f":"IF( Ecarts!$E195=$A$1,IF( Ecarts!B195=\"\",\"\",Ecarts!A195),\"\")","v":""},{"$f":"IF( Ecarts!$E195=$A$1,IF( Ecarts!C195=\"\",\"\",Ecarts!C195),\"\")","v":""},{"$f":"IF( Ecarts!$E195=$A$1, IF(Ecarts!F195=\"\",\"\",Ecarts!F195),\"\")","v":""},{"$f":"IF( Ecarts!$E195=$A$1, IF(Ecarts!I195=\"\",\"\",Ecarts!I195),\"\")","v":""},{"$f":"IF( Ecarts!$E195=$A$1, IF(Ecarts!J195=\"\",\"\",Ecarts!J195),\"\")","v":""},{"$f":"IF( Ecarts!$E195=$A$1, IF(Ecarts!K195=\"\",\"\",Ecarts!K195),\"\")","v":""},{"$f":"IF( Ecarts!$E195=$A$1, IF(Ecarts!L195=\"\",\"\",Ecarts!L195),\"\")","v":""},{"$f":"IF( Ecarts!$E195=$A$1, IF(Ecarts!M195=\"\",\"\",Ecarts!M195),\"\")","v":""},0,0]
[{"$f":"IF( Ecarts!$E196=$A$1,IF( Ecarts!B196=\"\",\"\",Ecarts!A196),\"\")","v":""},{"$f":"IF( Ecarts!$E196=$A$1,IF( Ecarts!C196=\"\",\"\",Ecarts!C196),\"\")","v":""},{"$f":"IF( Ecarts!$E196=$A$1, IF(Ecarts!F196=\"\",\"\",Ecarts!F196),\"\")","v":""},{"$f":"IF( Ecarts!$E196=$A$1, IF(Ecarts!I196=\"\",\"\",Ecarts!I196),\"\")","v":""},{"$f":"IF( Ecarts!$E196=$A$1, IF(Ecarts!J196=\"\",\"\",Ecarts!J196),\"\")","v":""},{"$f":"IF( Ecarts!$E196=$A$1, IF(Ecarts!K196=\"\",\"\",Ecarts!K196),\"\")","v":""},{"$f":"IF( Ecarts!$E196=$A$1, IF(Ecarts!L196=\"\",\"\",Ecarts!L196),\"\")","v":""},{"$f":"IF( Ecarts!$E196=$A$1, IF(Ecarts!M196=\"\",\"\",Ecarts!M196),\"\")","v":""},{"$f":"IF(B197=\"\",0,IF(G197=1,0,1))","v":0},{"$f":"IF(F197=\"\",0,IF(F197>(TODAY()-60),1,0))","v":0}]
[{"$f":"IF( Ecarts!$E197=$A$1,IF( Ecarts!B197=\"\",\"\",Ecarts!A197),\"\")","v":""},{"$f":"IF( Ecarts!$E197=$A$1,IF( Ecarts!C197=\"\",\"\",Ecarts!C197),\"\")","v":""},{"$f":"IF( Ecarts!$E197=$A$1, IF(Ecarts!F197=\"\",\"\",Ecarts!F197),\"\")","v":""},{"$f":"IF( Ecarts!$E197=$A$1, IF(Ecarts!I197=\"\",\"\",Ecarts!I197),\"\")","v":""},{"$f":"IF( Ecarts!$E197=$A$1, IF(Ecarts!J197=\"\",\"\",Ecarts!J197),\"\")","v":""},{"$f":"IF( Ecarts!$E197=$A$1, IF(Ecarts!K197=\"\",\"\",Ecarts!K197),\"\")","v":""},{"$f":"IF( Ecarts!$E197=$A$1, IF(Ecarts!L197=\"\",\"\",Ecarts!L197),\"\")","v":""},{"$f":"IF( Ecarts!$E197=$A$1, IF(Ecarts!M197=\"\",\"\",Ecarts!M197),\"\")","v":""},0,0]
[{"$f":"IF( Ecarts!$E198=$A$1,IF( Ecarts!B198=\"\",\"\",Ecarts!A198),\"\")","v":""},{"$f":"IF( Ecarts!$E198=$A$1,IF( Ecarts!C198=\"\",\"\",Ecarts!C198),\"\")","v":""},{"$f":"IF( Ecarts!$E198=$A$1, IF(Ecarts!F198=\"\",\"\",Ecarts!F198),\"\")","v":""},{"$f":"IF( Ecarts!$E198=$A$1, IF(Ecarts!I198=\"\",\"\",Ecarts!I198),\"\")","v":""},{"$f":"IF( Ecarts!$E198=$A$1, IF(Ecarts!J198=\"\",\"\",Ecarts!J198),\"\")","v":""},{"$f":"IF( Ecarts!$E198=$A$1, IF(Ecarts!K198=\"\",\"\",Ecarts!K198),\"\")","v":""},{"$f":"IF( Ecarts!$E198=$A$1, IF(Ecarts!L198=\"\",\"\",Ecarts!L198),\"\")","v":""},{"$f":"IF( Ecarts!$E198=$A$1, IF(Ecarts!M198=\"\",\"\",Ecarts!M198),\"\")","v":""},0,0]
[{"$f":"IF( Ecarts!$E199=$A$1,IF( Ecarts!B199=\"\",\"\",Ecarts!A199),\"\")","v":""},{"$f":"IF( Ecarts!$E199=$A$1,IF( Ecarts!C199=\"\",\"\",Ecarts!C199),\"\")","v":""},{"$f":"IF( Ecarts!$E199=$A$1, IF(Ecarts!F199=\"\",\"\",Ecarts!F199),\"\")","v":""},{"$f":"IF( Ecarts!$E199=$A$1, IF(Ecarts!I199=\"\",\"\",Ecarts!I199),\"\")","v":""},{"$f":"IF( Ecarts!$E199=$A$1, IF(Ecarts!J199=\"\",\"\",Ecarts!J199),\"\")","v":""},{"$f":"IF( Ecarts!$E199=$A$1, IF(Ecarts!K199=\"\",\"\",Ecarts!K199),\"\")","v":""},{"$f":"IF( Ecarts!$E199=$A$1, IF(Ecarts!L199=\"\",\"\",Ecarts!L199),\"\")","v":""},{"$f":"IF( Ecarts!$E199=$A$1, IF(Ecarts!M199=\"\",\"\",Ecarts!M199),\"\")","v":""},0,0]
[{"$f":"IF( Ecarts!$E200=$A$1,IF( Ecarts!B200=\"\",\"\",Ecarts!A200),\"\")","v":""},{"$f":"IF( Ecarts!$E200=$A$1,IF( Ecarts!C200=\"\",\"\",Ecarts!C200),\"\")","v":""},{"$f":"IF( Ecarts!$E200=$A$1, IF(Ecarts!F200=\"\",\"\",Ecarts!F200),\"\")","v":""},{"$f":"IF( Ecarts!$E200=$A$1, IF(Ecarts!I200=\"\",\"\",Ecarts!I200),\"\")","v":""},{"$f":"IF( Ecarts!$E200=$A$1, IF(Ecarts!J200=\"\",\"\",Ecarts!J200),\"\")","v":""},{"$f":"IF( Ecarts!$E200=$A$1, IF(Ecarts!K200=\"\",\"\",Ecarts!K200),\"\")","v":""},{"$f":"IF( Ecarts!$E200=$A$1, IF(Ecarts!L200=\"\",\"\",Ecarts!L200),\"\")","v":""},{"$f":"IF( Ecarts!$E200=$A$1, IF(Ecarts!M200=\"\",\"\",Ecarts!M200),\"\")","v":""},0,0]
[{"$f":"IF( Ecarts!$E201=$A$1,IF( Ecarts!B201=\"\",\"\",Ecarts!A201),\"\")","v":""},{"$f":"IF( Ecarts!$E201=$A$1,IF( Ecarts!C201=\"\",\"\",Ecarts!C201),\"\")","v":""},{"$f":"IF( Ecarts!$E201=$A$1, IF(Ecarts!F201=\"\",\"\",Ecarts!F201),\"\")","v":""},{"$f":"IF( Ecarts!$E201=$A$1, IF(Ecarts!I201=\"\",\"\",Ecarts!I201),\"\")","v":""},{"$f":"IF( Ecarts!$E201=$A$1, IF(Ecarts!J201=\"\",\"\",Ecarts!J201),\"\")","v":""},{"$f":"IF( Ecarts!$E201=$A$1, IF(Ecarts!K201=\"\",\"\",Ecarts!K201),\"\")","v":""},{"$f":"IF( Ecarts!$E201=$A$1, IF(Ecarts!L201=\"\",\"\",Ecarts!L201),\"\")","v":""},{"$f":"IF( Ecarts!$E201=$A$1, IF(Ecarts!M201=\"\",\"\",Ecarts!M201),\"\")","v":""},0,0]
[{"$f":"IF( Ecarts!$E202=$A$1,IF( Ecarts!B202=\"\",\"\",Ecarts!A202),\"\")","v":""},{"$f":"IF( Ecarts!$E202=$A$1,IF( Ecarts!C202=\"\",\"\",Ecarts!C202),\"\")","v":""},{"$f":"IF( Ecarts!$E202=$A$1, IF(Ecarts!F202=\"\",\"\",Ecarts!F202),\"\")","v":""},{"$f":"IF( Ecarts!$E202=$A$1, IF(Ecarts!I202=\"\",\"\",Ecarts!I202),\"\")","v":""},{"$f":"IF( Ecarts!$E202=$A$1, IF(Ecarts!J202=\"\",\"\",Ecarts!J202),\"\")","v":""},{"$f":"IF( Ecarts!$E202=$A$1, IF(Ecarts!K202=\"\",\"\",Ecarts!K202),\"\")","v":""},{"$f":"IF( Ecarts!$E202=$A$1, IF(Ecarts!L202=\"\",\"\",Ecarts!L202),\"\")","v":""},{"$f":"IF( Ecarts!$E202=$A$1, IF(Ecarts!M202=\"\",\"\",Ecarts!M202),\"\")","v":""},0,0]
[{"$f":"IF( Ecarts!$E203=$A$1,IF( Ecarts!B203=\"\",\"\",Ecarts!A203),\"\")","v":""},{"$f":"IF( Ecarts!$E203=$A$1,IF( Ecarts!C203=\"\",\"\",Ecarts!C203),\"\")","v":""},{"$f":"IF( Ecarts!$E203=$A$1, IF(Ecarts!F203=\"\",\"\",Ecarts!F203),\"\")","v":""},{"$f":"IF( Ecarts!$E203=$A$1, IF(Ecarts!I203=\"\",\"\",Ecarts!I203),\"\")","v":""},{"$f":"IF( Ecarts!$E203=$A$1, IF(Ecarts!J203=\"\",\"\",Ecarts!J203),\"\")","v":""},{"$f":"IF( Ecarts!$E203=$A$1, IF(Ecarts!K203=\"\",\"\",Ecarts!K203),\"\")","v":""},{"$f":"IF( Ecarts!$E203=$A$1, IF(Ecarts!L203=\"\",\"\",Ecarts!L203),\"\")","v":""},{"$f":"IF( Ecarts!$E203=$A$1, IF(Ecarts!M203=\"\",\"\",Ecarts!M203),\"\")","v":""},0,0]
[{"$f":"IF( Ecarts!$E204=$A$1,IF( Ecarts!B204=\"\",\"\",Ecarts!A204),\"\")","v":""},{"$f":"IF( Ecarts!$E204=$A$1,IF( Ecarts!C204=\"\",\"\",Ecarts!C204),\"\")","v":""},{"$f":"IF( Ecarts!$E204=$A$1, IF(Ecarts!F204=\"\",\"\",Ecarts!F204),\"\")","v":""},{"$f":"IF( Ecarts!$E204=$A$1, IF(Ecarts!I204=\"\",\"\",Ecarts!I204),\"\")","v":""},{"$f":"IF( Ecarts!$E204=$A$1, IF(Ecarts!J204=\"\",\"\",Ecarts!J204),\"\")","v":""},{"$f":"IF( Ecarts!$E204=$A$1, IF(Ecarts!K204=\"\",\"\",Ecarts!K204),\"\")","v":""},{"$f":"IF( Ecarts!$E204=$A$1, IF(Ecarts!L204=\"\",\"\",Ecarts!L204),\"\")","v":""},{"$f":"IF( Ecarts!$E204=$A$1, IF(Ecarts!M204=\"\",\"\",Ecarts!M204),\"\")","v":""},0,0]
[{"$f":"IF( Ecarts!$E205=$A$1,IF( Ecarts!B205=\"\",\"\",Ecarts!A205),\"\")","v":""},{"$f":"IF( Ecarts!$E205=$A$1,IF( Ecarts!C205=\"\",\"\",Ecarts!C205),\"\")","v":""},{"$f":"IF( Ecarts!$E205=$A$1, IF(Ecarts!F205=\"\",\"\",Ecarts!F205),\"\")","v":""},{"$f":"IF( Ecarts!$E205=$A$1, IF(Ecarts!I205=\"\",\"\",Ecarts!I205),\"\")","v":""},{"$f":"IF( Ecarts!$E205=$A$1, IF(Ecarts!J205=\"\",\"\",Ecarts!J205),\"\")","v":""},{"$f":"IF( Ecarts!$E205=$A$1, IF(Ecarts!K205=\"\",\"\",Ecarts!K205),\"\")","v":""},{"$f":"IF( Ecarts!$E205=$A$1, IF(Ecarts!L205=\"\",\"\",Ecarts!L205),\"\")","v":""},{"$f":"IF( Ecarts!$E205=$A$1, IF(Ecarts!M205=\"\",\"\",Ecarts!M205),\"\")","v":""},0,0]
[{"$f":"IF( Ecarts!$E206=$A$1,IF( Ecarts!B206=\"\",\"\",Ecarts!A206),\"\")","v":""},{"$f":"IF( Ecarts!$E206=$A$1,IF( Ecarts!C206=\"\",\"\",Ecarts!C206),\"\")","v":""},{"$f":"IF( Ecarts!$E206=$A$1, IF(Ecarts!F206=\"\",\"\",Ecarts!F206),\"\")","v":""},{"$f":"IF( Ecarts!$E206=$A$1, IF(Ecarts!I206=\"\",\"\",Ecarts!I206),\"\")","v":""},{"$f":"IF( Ecarts!$E206=$A$1, IF(Ecarts!J206=\"\",\"\",Ecarts!J206),\"\")","v":""},{"$f":"IF( Ecarts!$E206=$A$1, IF(Ecarts!K206=\"\",\"\",Ecarts!K206),\"\")","v":""},{"$f":"IF( Ecarts!$E206=$A$1, IF(Ecarts!L206=\"\",\"\",Ecarts!L206),\"\")","v":""},{"$f":"IF( Ecarts!$E206=$A$1, IF(Ecarts!M206=\"\",\"\",Ecarts!M206),\"\")","v":""},0,0]
[{"$f":"IF( Ecarts!$E207=$A$1,IF( Ecarts!B207=\"\",\"\",Ecarts!A207),\"\")","v":""},{"$f":"IF( Ecarts!$E207=$A$1,IF( Ecarts!C207=\"\",\"\",Ecarts!C207),\"\")","v":""},{"$f":"IF( Ecarts!$E207=$A$1, IF(Ecarts!F207=\"\",\"\",Ecarts!F207),\"\")","v":""},{"$f":"IF( Ecarts!$E207=$A$1, IF(Ecarts!I207=\"\",\"\",Ecarts!I207),\"\")","v":""},{"$f":"IF( Ecarts!$E207=$A$1, IF(Ecarts!J207=\"\",\"\",Ecarts!J207),\"\")","v":""},{"$f":"IF( Ecarts!$E207=$A$1, IF(Ecarts!K207=\"\",\"\",Ecarts!K207),\"\")","v":""},{"$f":"IF( Ecarts!$E207=$A$1, IF(Ecarts!L207=\"\",\"\",Ecarts!L207),\"\")","v":""},{"$f":"IF( Ecarts!$E207=$A$1, IF(Ecarts!M207=\"\",\"\",Ecarts!M207),\"\")","v":""},0,0]
[{"$f":"IF( Ecarts!$E208=$A$1,IF( Ecarts!B208=\"\",\"\",Ecarts!A208),\"\")","v":""},{"$f":"IF( Ecarts!$E208=$A$1,IF( Ecarts!C208=\"\",\"\",Ecarts!C208),\"\")","v":""},{"$f":"IF( Ecarts!$E208=$A$1, IF(Ecarts!F208=\"\",\"\",Ecarts!F208),\"\")","v":""},{"$f":"IF( Ecarts!$E208=$A$1, IF(Ecarts!I208=\"\",\"\",Ecarts!I208),\"\")","v":""},{"$f":"IF( Ecarts!$E208=$A$1, IF(Ecarts!J208=\"\",\"\",Ecarts!J208),\"\")","v":""},{"$f":"IF( Ecarts!$E208=$A$1, IF(Ecarts!K208=\"\",\"\",Ecarts!K208),\"\")","v":""},{"$f":"IF( Ecarts!$E208=$A$1, IF(Ecarts!L208=\"\",\"\",Ecarts!L208),\"\")","v":""},{"$f":"IF( Ecarts!$E208=$A$1, IF(Ecarts!M208=\"\",\"\",Ecarts!M208),\"\")","v":""},0,0]
[{"$f":"IF( Ecarts!$E209=$A$1,IF( Ecarts!B209=\"\",\"\",Ecarts!A209),\"\")","v":""},{"$f":"IF( Ecarts!$E209=$A$1,IF( Ecarts!C209=\"\",\"\",Ecarts!C209),\"\")","v":""},{"$f":"IF( Ecarts!$E209=$A$1, IF(Ecarts!F209=\"\",\"\",Ecarts!F209),\"\")","v":""},{"$f":"IF( Ecarts!$E209=$A$1, IF(Ecarts!I209=\"\",\"\",Ecarts!I209),\"\")","v":""},{"$f":"IF( Ecarts!$E209=$A$1, IF(Ecarts!J209=\"\",\"\",Ecarts!J209),\"\")","v":""},{"$f":"IF( Ecarts!$E209=$A$1, IF(Ecarts!K209=\"\",\"\",Ecarts!K209),\"\")","v":""},{"$f":"IF( Ecarts!$E209=$A$1, IF(Ecarts!L209=\"\",\"\",Ecarts!L209),\"\")","v":""},{"$f":"IF( Ecarts!$E209=$A$1, IF(Ecarts!M209=\"\",\"\",Ecarts!M209),\"\")","v":""},0,0]
[{"$f":"IF( Ecarts!$E210=$A$1,IF( Ecarts!B210=\"\",\"\",Ecarts!A210),\"\")","v":""},{"$f":"IF( Ecarts!$E210=$A$1,IF( Ecarts!C210=\"\",\"\",Ecarts!C210),\"\")","v":""},{"$f":"IF( Ecarts!$E210=$A$1, IF(Ecarts!F210=\"\",\"\",Ecarts!F210),\"\")","v":""},{"$f":"IF( Ecarts!$E210=$A$1, IF(Ecarts!I210=\"\",\"\",Ecarts!I210),\"\")","v":""},{"$f":"IF( Ecarts!$E210=$A$1, IF(Ecarts!J210=\"\",\"\",Ecarts!J210),\"\")","v":""},{"$f":"IF( Ecarts!$E210=$A$1, IF(Ecarts!K210=\"\",\"\",Ecarts!K210),\"\")","v":""},{"$f":"IF( Ecarts!$E210=$A$1, IF(Ecarts!L210=\"\",\"\",Ecarts!L210),\"\")","v":""},{"$f":"IF( Ecarts!$E210=$A$1, IF(Ecarts!M210=\"\",\"\",Ecarts!M210),\"\")","v":""},0,0]
[{"$f":"IF( Ecarts!$E211=$A$1,IF( Ecarts!B211=\"\",\"\",Ecarts!A211),\"\")","v":""},{"$f":"IF( Ecarts!$E211=$A$1,IF( Ecarts!C211=\"\",\"\",Ecarts!C211),\"\")","v":""},{"$f":"IF( Ecarts!$E211=$A$1, IF(Ecarts!F211=\"\",\"\",Ecarts!F211),\"\")","v":""},{"$f":"IF( Ecarts!$E211=$A$1, IF(Ecarts!I211=\"\",\"\",Ecarts!I211),\"\")","v":""},{"$f":"IF( Ecarts!$E211=$A$1, IF(Ecarts!J211=\"\",\"\",Ecarts!J211),\"\")","v":""},{"$f":"IF( Ecarts!$E211=$A$1, IF(Ecarts!K211=\"\",\"\",Ecarts!K211),\"\")","v":""},{"$f":"IF( Ecarts!$E211=$A$1, IF(Ecarts!L211=\"\",\"\",Ecarts!L211),\"\")","v":""},{"$f":"IF( Ecarts!$E211=$A$1, IF(Ecarts!M211=\"\",\"\",Ecarts!M211),\"\")","v":""},0,0]
[{"$f":"IF( Ecarts!$E212=$A$1,IF( Ecarts!B212=\"\",\"\",Ecarts!A212),\"\")","v":""},{"$f":"IF( Ecarts!$E212=$A$1,IF( Ecarts!C212=\"\",\"\",Ecarts!C212),\"\")","v":""},{"$f":"IF( Ecarts!$E212=$A$1, IF(Ecarts!F212=\"\",\"\",Ecarts!F212),\"\")","v":""},{"$f":"IF( Ecarts!$E212=$A$1, IF(Ecarts!I212=\"\",\"\",Ecarts!I212),\"\")","v":""},{"$f":"IF( Ecarts!$E212=$A$1, IF(Ecarts!J212=\"\",\"\",Ecarts!J212),\"\")","v":""},{"$f":"IF( Ecarts!$E212=$A$1, IF(Ecarts!K212=\"\",\"\",Ecarts!K212),\"\")","v":""},{"$f":"IF( Ecarts!$E212=$A$1, IF(Ecarts!L212=\"\",\"\",Ecarts!L212),\"\")","v":""},{"$f":"IF( Ecarts!$E212=$A$1, IF(Ecarts!M212=\"\",\"\",Ecarts!M212),\"\")","v":""},0,0]
[{"$f":"IF( Ecarts!$E213=$A$1,IF( Ecarts!B213=\"\",\"\",Ecarts!A213),\"\")","v":""},{"$f":"IF( Ecarts!$E213=$A$1,IF( Ecarts!C213=\"\",\"\",Ecarts!C213),\"\")","v":""},{"$f":"IF( Ecarts!$E213=$A$1, IF(Ecarts!F213=\"\",\"\",Ecarts!F213),\"\")","v":""},{"$f":"IF( Ecarts!$E213=$A$1, IF(Ecarts!I213=\"\",\"\",Ecarts!I213),\"\")","v":""},{"$f":"IF( Ecarts!$E213=$A$1, IF(Ecarts!J213=\"\",\"\",Ecarts!J213),\"\")","v":""},{"$f":"IF( Ecarts!$E213=$A$1, IF(Ecarts!K213=\"\",\"\",Ecarts!K213),\"\")","v":""},{"$f":"IF( Ecarts!$E213=$A$1, IF(Ecarts!L213=\"\",\"\",Ecarts!L213),\"\")","v":""},{"$f":"IF( Ecarts!$E213=$A$1, IF(Ecarts!M213=\"\",\"\",Ecarts!M213),\"\")","v":""},0,0]
[{"$f":"IF( Ecarts!$E214=$A$1,IF( Ecarts!B214=\"\",\"\",Ecarts!A214),\"\")","v":""},{"$f":"IF( Ecarts!$E214=$A$1,IF( Ecarts!C214=\"\",\"\",Ecarts!C214),\"\")","v":""},{"$f":"IF( Ecarts!$E214=$A$1, IF(Ecarts!F214=\"\",\"\",Ecarts!F214),\"\")","v":""},{"$f":"IF( Ecarts!$E214=$A$1, IF(Ecarts!I214=\"\",\"\",Ecarts!I214),\"\")","v":""},{"$f":"IF( Ecarts!$E214=$A$1, IF(Ecarts!J214=\"\",\"\",Ecarts!J214),\"\")","v":""},{"$f":"IF( Ecarts!$E214=$A$1, IF(Ecarts!K214=\"\",\"\",Ecarts!K214),\"\")","v":""},{"$f":"IF( Ecarts!$E214=$A$1, IF(Ecarts!L214=\"\",\"\",Ecarts!L214),\"\")","v":""},{"$f":"IF( Ecarts!$E214=$A$1, IF(Ecarts!M214=\"\",\"\",Ecarts!M214),\"\")","v":""},0,0]
[{"$f":"IF( Ecarts!$E215=$A$1,IF( Ecarts!B215=\"\",\"\",Ecarts!A215),\"\")","v":""},{"$f":"IF( Ecarts!$E215=$A$1,IF( Ecarts!C215=\"\",\"\",Ecarts!C215),\"\")","v":""},{"$f":"IF( Ecarts!$E215=$A$1, IF(Ecarts!F215=\"\",\"\",Ecarts!F215),\"\")","v":""},{"$f":"IF( Ecarts!$E215=$A$1, IF(Ecarts!I215=\"\",\"\",Ecarts!I215),\"\")","v":""},{"$f":"IF( Ecarts!$E215=$A$1, IF(Ecarts!J215=\"\",\"\",Ecarts!J215),\"\")","v":""},{"$f":"IF( Ecarts!$E215=$A$1, IF(Ecarts!K215=\"\",\"\",Ecarts!K215),\"\")","v":""},{"$f":"IF( Ecarts!$E215=$A$1, IF(Ecarts!L215=\"\",\"\",Ecarts!L215),\"\")","v":""},{"$f":"IF( Ecarts!$E215=$A$1, IF(Ecarts!M215=\"\",\"\",Ecarts!M215),\"\")","v":""},0,0]
[{"$f":"IF( Ecarts!$E216=$A$1,IF( Ecarts!B216=\"\",\"\",Ecarts!A216),\"\")","v":""},{"$f":"IF( Ecarts!$E216=$A$1,IF( Ecarts!C216=\"\",\"\",Ecarts!C216),\"\")","v":""},{"$f":"IF( Ecarts!$E216=$A$1, IF(Ecarts!F216=\"\",\"\",Ecarts!F216),\"\")","v":""},{"$f":"IF( Ecarts!$E216=$A$1, IF(Ecarts!I216=\"\",\"\",Ecarts!I216),\"\")","v":""},{"$f":"IF( Ecarts!$E216=$A$1, IF(Ecarts!J216=\"\",\"\",Ecarts!J216),\"\")","v":""},{"$f":"IF( Ecarts!$E216=$A$1, IF(Ecarts!K216=\"\",\"\",Ecarts!K216),\"\")","v":""},{"$f":"IF( Ecarts!$E216=$A$1, IF(Ecarts!L216=\"\",\"\",Ecarts!L216),\"\")","v":""},{"$f":"IF( Ecarts!$E216=$A$1, IF(Ecarts!M216=\"\",\"\",Ecarts!M216),\"\")","v":""},0,0]
[{"$f":"IF( Ecarts!$E217=$A$1,IF( Ecarts!B217=\"\",\"\",Ecarts!A217),\"\")","v":""},{"$f":"IF( Ecarts!$E217=$A$1,IF( Ecarts!C217=\"\",\"\",Ecarts!C217),\"\")","v":""},{"$f":"IF( Ecarts!$E217=$A$1, IF(Ecarts!F217=\"\",\"\",Ecarts!F217),\"\")","v":""},{"$f":"IF( Ecarts!$E217=$A$1, IF(Ecarts!I217=\"\",\"\",Ecarts!I217),\"\")","v":""},{"$f":"IF( Ecarts!$E217=$A$1, IF(Ecarts!J217=\"\",\"\",Ecarts!J217),\"\")","v":""},{"$f":"IF( Ecarts!$E217=$A$1, IF(Ecarts!K217=\"\",\"\",Ecarts!K217),\"\")","v":""},{"$f":"IF( Ecarts!$E217=$A$1, IF(Ecarts!L217=\"\",\"\",Ecarts!L217),\"\")","v":""},{"$f":"IF( Ecarts!$E217=$A$1, IF(Ecarts!M217=\"\",\"\",Ecarts!M217),\"\")","v":""},0,0]
[{"$f":"IF( Ecarts!$E218=$A$1,IF( Ecarts!B218=\"\",\"\",Ecarts!A218),\"\")","v":""},{"$f":"IF( Ecarts!$E218=$A$1,IF( Ecarts!C218=\"\",\"\",Ecarts!C218),\"\")","v":""},{"$f":"IF( Ecarts!$E218=$A$1, IF(Ecarts!F218=\"\",\"\",Ecarts!F218),\"\")","v":""},{"$f":"IF( Ecarts!$E218=$A$1, IF(Ecarts!I218=\"\",\"\",Ecarts!I218),\"\")","v":""},{"$f":"IF( Ecarts!$E218=$A$1, IF(Ecarts!J218=\"\",\"\",Ecarts!J218),\"\")","v":""},{"$f":"IF( Ecarts!$E218=$A$1, IF(Ecarts!K218=\"\",\"\",Ecarts!K218),\"\")","v":""},{"$f":"IF( Ecarts!$E218=$A$1, IF(Ecarts!L218=\"\",\"\",Ecarts!L218),\"\")","v":""},{"$f":"IF( Ecarts!$E218=$A$1, IF(Ecarts!M218=\"\",\"\",Ecarts!M218),\"\")","v":""},0,0]
[{"$f":"IF( Ecarts!$E219=$A$1,IF( Ecarts!B219=\"\",\"\",Ecarts!A219),\"\")","v":""},{"$f":"IF( Ecarts!$E219=$A$1,IF( Ecarts!C219=\"\",\"\",Ecarts!C219),\"\")","v":""},{"$f":"IF( Ecarts!$E219=$A$1, IF(Ecarts!F219=\"\",\"\",Ecarts!F219),\"\")","v":""},{"$f":"IF( Ecarts!$E219=$A$1, IF(Ecarts!I219=\"\",\"\",Ecarts!I219),\"\")","v":""},{"$f":"IF( Ecarts!$E219=$A$1, IF(Ecarts!J219=\"\",\"\",Ecarts!J219),\"\")","v":""},{"$f":"IF( Ecarts!$E219=$A$1, IF(Ecarts!K219=\"\",\"\",Ecarts!K219),\"\")","v":""},{"$f":"IF( Ecarts!$E219=$A$1, IF(Ecarts!L219=\"\",\"\",Ecarts!L219),\"\")","v":""},{"$f":"IF( Ecarts!$E219=$A$1, IF(Ecarts!M219=\"\",\"\",Ecarts!M219),\"\")","v":""},0,0]
[{"$f":"IF( Ecarts!$E220=$A$1,IF( Ecarts!B220=\"\",\"\",Ecarts!A220),\"\")","v":""},{"$f":"IF( Ecarts!$E220=$A$1,IF( Ecarts!C220=\"\",\"\",Ecarts!C220),\"\")","v":""},{"$f":"IF( Ecarts!$E220=$A$1, IF(Ecarts!F220=\"\",\"\",Ecarts!F220),\"\")","v":""},{"$f":"IF( Ecarts!$E220=$A$1, IF(Ecarts!I220=\"\",\"\",Ecarts!I220),\"\")","v":""},{"$f":"IF( Ecarts!$E220=$A$1, IF(Ecarts!J220=\"\",\"\",Ecarts!J220),\"\")","v":""},{"$f":"IF( Ecarts!$E220=$A$1, IF(Ecarts!K220=\"\",\"\",Ecarts!K220),\"\")","v":""},{"$f":"IF( Ecarts!$E220=$A$1, IF(Ecarts!L220=\"\",\"\",Ecarts!L220),\"\")","v":""},{"$f":"IF( Ecarts!$E220=$A$1, IF(Ecarts!M220=\"\",\"\",Ecarts!M220),\"\")","v":""},0,0]
[{"$f":"IF( Ecarts!$E221=$A$1,IF( Ecarts!B221=\"\",\"\",Ecarts!A221),\"\")","v":""},{"$f":"IF( Ecarts!$E221=$A$1,IF( Ecarts!C221=\"\",\"\",Ecarts!C221),\"\")","v":""},{"$f":"IF( Ecarts!$E221=$A$1, IF(Ecarts!F221=\"\",\"\",Ecarts!F221),\"\")","v":""},{"$f":"IF( Ecarts!$E221=$A$1, IF(Ecarts!I221=\"\",\"\",Ecarts!I221),\"\")","v":""},{"$f":"IF( Ecarts!$E221=$A$1, IF(Ecarts!J221=\"\",\"\",Ecarts!J221),\"\")","v":""},{"$f":"IF( Ecarts!$E221=$A$1, IF(Ecarts!K221=\"\",\"\",Ecarts!K221),\"\")","v":""},{"$f":"IF( Ecarts!$E221=$A$1, IF(Ecarts!L221=\"\",\"\",Ecarts!L221),\"\")","v":""},{"$f":"IF( Ecarts!$E221=$A$1, IF(Ecarts!M221=\"\",\"\",Ecarts!M221),\"\")","v":""},0,0]
[{"$f":"IF( Ecarts!$E222=$A$1,IF( Ecarts!B222=\"\",\"\",Ecarts!A222),\"\")","v":""},{"$f":"IF( Ecarts!$E222=$A$1,IF( Ecarts!C222=\"\",\"\",Ecarts!C222),\"\")","v":""},{"$f":"IF( Ecarts!$E222=$A$1, IF(Ecarts!F222=\"\",\"\",Ecarts!F222),\"\")","v":""},{"$f":"IF( Ecarts!$E222=$A$1, IF(Ecarts!I222=\"\",\"\",Ecarts!I222),\"\")","v":""},{"$f":"IF( Ecarts!$E222=$A$1, IF(Ecarts!J222=\"\",\"\",Ecarts!J222),\"\")","v":""},{"$f":"IF( Ecarts!$E222=$A$1, IF(Ecarts!K222=\"\",\"\",Ecarts!K222),\"\")","v":""},{"$f":"IF( Ecarts!$E222=$A$1, IF(Ecarts!L222=\"\",\"\",Ecarts!L222),\"\")","v":""},{"$f":"IF( Ecarts!$E222=$A$1, IF(Ecarts!M222=\"\",\"\",Ecarts!M222),\"\")","v":""},0,0]
[{"$f":"IF( Ecarts!$E223=$A$1,IF( Ecarts!B223=\"\",\"\",Ecarts!A223),\"\")","v":""},{"$f":"IF( Ecarts!$E223=$A$1,IF( Ecarts!C223=\"\",\"\",Ecarts!C223),\"\")","v":""},{"$f":"IF( Ecarts!$E223=$A$1, IF(Ecarts!F223=\"\",\"\",Ecarts!F223),\"\")","v":""},{"$f":"IF( Ecarts!$E223=$A$1, IF(Ecarts!I223=\"\",\"\",Ecarts!I223),\"\")","v":""},{"$f":"IF( Ecarts!$E223=$A$1, IF(Ecarts!J223=\"\",\"\",Ecarts!J223),\"\")","v":""},{"$f":"IF( Ecarts!$E223=$A$1, IF(Ecarts!K223=\"\",\"\",Ecarts!K223),\"\")","v":""},{"$f":"IF( Ecarts!$E223=$A$1, IF(Ecarts!L223=\"\",\"\",Ecarts!L223),\"\")","v":""},{"$f":"IF( Ecarts!$E223=$A$1, IF(Ecarts!M223=\"\",\"\",Ecarts!M223),\"\")","v":""},0,0]
[{"$f":"IF( Ecarts!$E224=$A$1,IF( Ecarts!B224=\"\",\"\",Ecarts!A224),\"\")","v":""},{"$f":"IF( Ecarts!$E224=$A$1,IF( Ecarts!C224=\"\",\"\",Ecarts!C224),\"\")","v":""},{"$f":"IF( Ecarts!$E224=$A$1, IF(Ecarts!F224=\"\",\"\",Ecarts!F224),\"\")","v":""},{"$f":"IF( Ecarts!$E224=$A$1, IF(Ecarts!I224=\"\",\"\",Ecarts!I224),\"\")","v":""},{"$f":"IF( Ecarts!$E224=$A$1, IF(Ecarts!J224=\"\",\"\",Ecarts!J224),\"\")","v":""},{"$f":"IF( Ecarts!$E224=$A$1, IF(Ecarts!K224=\"\",\"\",Ecarts!K224),\"\")","v":""},{"$f":"IF( Ecarts!$E224=$A$1, IF(Ecarts!L224=\"\",\"\",Ecarts!L224),\"\")","v":""},{"$f":"IF( Ecarts!$E224=$A$1, IF(Ecarts!M224=\"\",\"\",Ecarts!M224),\"\")","v":""},0,0]
[{"$f":"IF( Ecarts!$E225=$A$1,IF( Ecarts!B225=\"\",\"\",Ecarts!A225),\"\")","v":""},{"$f":"IF( Ecarts!$E225=$A$1,IF( Ecarts!C225=\"\",\"\",Ecarts!C225),\"\")","v":""},{"$f":"IF( Ecarts!$E225=$A$1, IF(Ecarts!F225=\"\",\"\",Ecarts!F225),\"\")","v":""},{"$f":"IF( Ecarts!$E225=$A$1, IF(Ecarts!I225=\"\",\"\",Ecarts!I225),\"\")","v":""},{"$f":"IF( Ecarts!$E225=$A$1, IF(Ecarts!J225=\"\",\"\",Ecarts!J225),\"\")","v":""},{"$f":"IF( Ecarts!$E225=$A$1, IF(Ecarts!K225=\"\",\"\",Ecarts!K225),\"\")","v":""},{"$f":"IF( Ecarts!$E225=$A$1, IF(Ecarts!L225=\"\",\"\",Ecarts!L225),\"\")","v":""},{"$f":"IF( Ecarts!$E225=$A$1, IF(Ecarts!M225=\"\",\"\",Ecarts!M225),\"\")","v":""},0,0]
[{"$f":"IF( Ecarts!$E226=$A$1,IF( Ecarts!B226=\"\",\"\",Ecarts!A226),\"\")","v":""},{"$f":"IF( Ecarts!$E226=$A$1,IF( Ecarts!C226=\"\",\"\",Ecarts!C226),\"\")","v":""},{"$f":"IF( Ecarts!$E226=$A$1, IF(Ecarts!F226=\"\",\"\",Ecarts!F226),\"\")","v":""},{"$f":"IF( Ecarts!$E226=$A$1, IF(Ecarts!I226=\"\",\"\",Ecarts!I226),\"\")","v":""},{"$f":"IF( Ecarts!$E226=$A$1, IF(Ecarts!J226=\"\",\"\",Ecarts!J226),\"\")","v":""},{"$f":"IF( Ecarts!$E226=$A$1, IF(Ecarts!K226=\"\",\"\",Ecarts!K226),\"\")","v":""},{"$f":"IF( Ecarts!$E226=$A$1, IF(Ecarts!L226=\"\",\"\",Ecarts!L226),\"\")","v":""},{"$f":"IF( Ecarts!$E226=$A$1, IF(Ecarts!M226=\"\",\"\",Ecarts!M226),\"\")","v":""},0,0]
[{"$f":"IF( Ecarts!$E227=$A$1,IF( Ecarts!B227=\"\",\"\",Ecarts!A227),\"\")","v":""},{"$f":"IF( Ecarts!$E227=$A$1,IF( Ecarts!C227=\"\",\"\",Ecarts!C227),\"\")","v":""},{"$f":"IF( Ecarts!$E227=$A$1, IF(Ecarts!F227=\"\",\"\",Ecarts!F227),\"\")","v":""},{"$f":"IF( Ecarts!$E227=$A$1, IF(Ecarts!I227=\"\",\"\",Ecarts!I227),\"\")","v":""},{"$f":"IF( Ecarts!$E227=$A$1, IF(Ecarts!J227=\"\",\"\",Ecarts!J227),\"\")","v":""},{"$f":"IF( Ecarts!$E227=$A$1, IF(Ecarts!K227=\"\",\"\",Ecarts!K227),\"\")","v":""},{"$f":"IF( Ecarts!$E227=$A$1, IF(Ecarts!L227=\"\",\"\",Ecarts!L227),\"\")","v":""},{"$f":"IF( Ecarts!$E227=$A$1, IF(Ecarts!M227=\"\",\"\",Ecarts!M227),\"\")","v":""},0,0]
[{"$f":"IF( Ecarts!$E228=$A$1,IF( Ecarts!B228=\"\",\"\",Ecarts!A228),\"\")","v":""},{"$f":"IF( Ecarts!$E228=$A$1,IF( Ecarts!C228=\"\",\"\",Ecarts!C228),\"\")","v":""},{"$f":"IF( Ecarts!$E228=$A$1, IF(Ecarts!F228=\"\",\"\",Ecarts!F228),\"\")","v":""},{"$f":"IF( Ecarts!$E228=$A$1, IF(Ecarts!I228=\"\",\"\",Ecarts!I228),\"\")","v":""},{"$f":"IF( Ecarts!$E228=$A$1, IF(Ecarts!J228=\"\",\"\",Ecarts!J228),\"\")","v":""},{"$f":"IF( Ecarts!$E228=$A$1, IF(Ecarts!K228=\"\",\"\",Ecarts!K228),\"\")","v":""},{"$f":"IF( Ecarts!$E228=$A$1, IF(Ecarts!L228=\"\",\"\",Ecarts!L228),\"\")","v":""},{"$f":"IF( Ecarts!$E228=$A$1, IF(Ecarts!M228=\"\",\"\",Ecarts!M228),\"\")","v":""},0,0]
[{"$f":"IF( Ecarts!$E229=$A$1,IF( Ecarts!B229=\"\",\"\",Ecarts!A229),\"\")","v":""},{"$f":"IF( Ecarts!$E229=$A$1,IF( Ecarts!C229=\"\",\"\",Ecarts!C229),\"\")","v":""},{"$f":"IF( Ecarts!$E229=$A$1, IF(Ecarts!F229=\"\",\"\",Ecarts!F229),\"\")","v":""},{"$f":"IF( Ecarts!$E229=$A$1, IF(Ecarts!I229=\"\",\"\",Ecarts!I229),\"\")","v":""},{"$f":"IF( Ecarts!$E229=$A$1, IF(Ecarts!J229=\"\",\"\",Ecarts!J229),\"\")","v":""},{"$f":"IF( Ecarts!$E229=$A$1, IF(Ecarts!K229=\"\",\"\",Ecarts!K229),\"\")","v":""},{"$f":"IF( Ecarts!$E229=$A$1, IF(Ecarts!L229=\"\",\"\",Ecarts!L229),\"\")","v":""},{"$f":"IF( Ecarts!$E229=$A$1, IF(Ecarts!M229=\"\",\"\",Ecarts!M229),\"\")","v":""},0,0]
[{"$f":"IF( Ecarts!$E230=$A$1,IF( Ecarts!B230=\"\",\"\",Ecarts!A230),\"\")","v":""},{"$f":"IF( Ecarts!$E230=$A$1,IF( Ecarts!C230=\"\",\"\",Ecarts!C230),\"\")","v":""},{"$f":"IF( Ecarts!$E230=$A$1, IF(Ecarts!F230=\"\",\"\",Ecarts!F230),\"\")","v":""},{"$f":"IF( Ecarts!$E230=$A$1, IF(Ecarts!I230=\"\",\"\",Ecarts!I230),\"\")","v":""},{"$f":"IF( Ecarts!$E230=$A$1, IF(Ecarts!J230=\"\",\"\",Ecarts!J230),\"\")","v":""},{"$f":"IF( Ecarts!$E230=$A$1, IF(Ecarts!K230=\"\",\"\",Ecarts!K230),\"\")","v":""},{"$f":"IF( Ecarts!$E230=$A$1, IF(Ecarts!L230=\"\",\"\",Ecarts!L230),\"\")","v":""},{"$f":"IF( Ecarts!$E230=$A$1, IF(Ecarts!M230=\"\",\"\",Ecarts!M230),\"\")","v":""},0,0]
[{"$f":"IF( Ecarts!$E231=$A$1,IF( Ecarts!B231=\"\",\"\",Ecarts!A231),\"\")","v":""},{"$f":"IF( Ecarts!$E231=$A$1,IF( Ecarts!C231=\"\",\"\",Ecarts!C231),\"\")","v":""},{"$f":"IF( Ecarts!$E231=$A$1, IF(Ecarts!F231=\"\",\"\",Ecarts!F231),\"\")","v":""},{"$f":"IF( Ecarts!$E231=$A$1, IF(Ecarts!I231=\"\",\"\",Ecarts!I231),\"\")","v":""},{"$f":"IF( Ecarts!$E231=$A$1, IF(Ecarts!J231=\"\",\"\",Ecarts!J231),\"\")","v":""},{"$f":"IF( Ecarts!$E231=$A$1, IF(Ecarts!K231=\"\",\"\",Ecarts!K231),\"\")","v":""},{"$f":"IF( Ecarts!$E231=$A$1, IF(Ecarts!L231=\"\",\"\",Ecarts!L231),\"\")","v":""},{"$f":"IF( Ecarts!$E231=$A$1, IF(Ecarts!M231=\"\",\"\",Ecarts!M231),\"\")","v":""},0,0]
[{"$f":"IF( Ecarts!$E232=$A$1,IF( Ecarts!B232=\"\",\"\",Ecarts!A232),\"\")","v":""},{"$f":"IF( Ecarts!$E232=$A$1,IF( Ecarts!C232=\"\",\"\",Ecarts!C232),\"\")","v":""},{"$f":"IF( Ecarts!$E232=$A$1, IF(Ecarts!F232=\"\",\"\",Ecarts!F232),\"\")","v":""},{"$f":"IF( Ecarts!$E232=$A$1, IF(Ecarts!I232=\"\",\"\",Ecarts!I232),\"\")","v":""},{"$f":"IF( Ecarts!$E232=$A$1, IF(Ecarts!J232=\"\",\"\",Ecarts!J232),\"\")","v":""},{"$f":"IF( Ecarts!$E232=$A$1, IF(Ecarts!K232=\"\",\"\",Ecarts!K232),\"\")","v":""},{"$f":"IF( Ecarts!$E232=$A$1, IF(Ecarts!L232=\"\",\"\",Ecarts!L232),\"\")","v":""},{"$f":"IF( Ecarts!$E232=$A$1, IF(Ecarts!M232=\"\",\"\",Ecarts!M232),\"\")","v":""},0,0]
[{"$f":"IF( Ecarts!$E233=$A$1,IF( Ecarts!B233=\"\",\"\",Ecarts!A233),\"\")","v":""},{"$f":"IF( Ecarts!$E233=$A$1,IF( Ecarts!C233=\"\",\"\",Ecarts!C233),\"\")","v":""},{"$f":"IF( Ecarts!$E233=$A$1, IF(Ecarts!F233=\"\",\"\",Ecarts!F233),\"\")","v":""},{"$f":"IF( Ecarts!$E233=$A$1, IF(Ecarts!I233=\"\",\"\",Ecarts!I233),\"\")","v":""},{"$f":"IF( Ecarts!$E233=$A$1, IF(Ecarts!J233=\"\",\"\",Ecarts!J233),\"\")","v":""},{"$f":"IF( Ecarts!$E233=$A$1, IF(Ecarts!K233=\"\",\"\",Ecarts!K233),\"\")","v":""},{"$f":"IF( Ecarts!$E233=$A$1, IF(Ecarts!L233=\"\",\"\",Ecarts!L233),\"\")","v":""},{"$f":"IF( Ecarts!$E233=$A$1, IF(Ecarts!M233=\"\",\"\",Ecarts!M233),\"\")","v":""},0,0]
[{"$f":"IF( Ecarts!$E234=$A$1,IF( Ecarts!B234=\"\",\"\",Ecarts!A234),\"\")","v":""},{"$f":"IF( Ecarts!$E234=$A$1,IF( Ecarts!C234=\"\",\"\",Ecarts!C234),\"\")","v":""},{"$f":"IF( Ecarts!$E234=$A$1, IF(Ecarts!F234=\"\",\"\",Ecarts!F234),\"\")","v":""},{"$f":"IF( Ecarts!$E234=$A$1, IF(Ecarts!I234=\"\",\"\",Ecarts!I234),\"\")","v":""},{"$f":"IF( Ecarts!$E234=$A$1, IF(Ecarts!J234=\"\",\"\",Ecarts!J234),\"\")","v":""},{"$f":"IF( Ecarts!$E234=$A$1, IF(Ecarts!K234=\"\",\"\",Ecarts!K234),\"\")","v":""},{"$f":"IF( Ecarts!$E234=$A$1, IF(Ecarts!L234=\"\",\"\",Ecarts!L234),\"\")","v":""},{"$f":"IF( Ecarts!$E234=$A$1, IF(Ecarts!M234=\"\",\"\",Ecarts!M234),\"\")","v":""},0,0]
[{"$f":"IF( Ecarts!$E235=$A$1,IF( Ecarts!B235=\"\",\"\",Ecarts!A235),\"\")","v":""},{"$f":"IF( Ecarts!$E235=$A$1,IF( Ecarts!C235=\"\",\"\",Ecarts!C235),\"\")","v":""},{"$f":"IF( Ecarts!$E235=$A$1, IF(Ecarts!F235=\"\",\"\",Ecarts!F235),\"\")","v":""},{"$f":"IF( Ecarts!$E235=$A$1, IF(Ecarts!I235=\"\",\"\",Ecarts!I235),\"\")","v":""},{"$f":"IF( Ecarts!$E235=$A$1, IF(Ecarts!J235=\"\",\"\",Ecarts!J235),\"\")","v":""},{"$f":"IF( Ecarts!$E235=$A$1, IF(Ecarts!K235=\"\",\"\",Ecarts!K235),\"\")","v":""},{"$f":"IF( Ecarts!$E235=$A$1, IF(Ecarts!L235=\"\",\"\",Ecarts!L235),\"\")","v":""},{"$f":"IF( Ecarts!$E235=$A$1, IF(Ecarts!M235=\"\",\"\",Ecarts!M235),\"\")","v":""},0,0]
[{"$f":"IF( Ecarts!$E236=$A$1,IF( Ecarts!B236=\"\",\"\",Ecarts!A236),\"\")","v":""},{"$f":"IF( Ecarts!$E236=$A$1,IF( Ecarts!C236=\"\",\"\",Ecarts!C236),\"\")","v":""},{"$f":"IF( Ecarts!$E236=$A$1, IF(Ecarts!F236=\"\",\"\",Ecarts!F236),\"\")","v":""},{"$f":"IF( Ecarts!$E236=$A$1, IF(Ecarts!I236=\"\",\"\",Ecarts!I236),\"\")","v":""},{"$f":"IF( Ecarts!$E236=$A$1, IF(Ecarts!J236=\"\",\"\",Ecarts!J236),\"\")","v":""},{"$f":"IF( Ecarts!$E236=$A$1, IF(Ecarts!K236=\"\",\"\",Ecarts!K236),\"\")","v":""},{"$f":"IF( Ecarts!$E236=$A$1, IF(Ecarts!L236=\"\",\"\",Ecarts!L236),\"\")","v":""},{"$f":"IF( Ecarts!$E236=$A$1, IF(Ecarts!M236=\"\",\"\",Ecarts!M236),\"\")","v":""},0,0]
[{"$f":"IF( Ecarts!$E237=$A$1,IF( Ecarts!B237=\"\",\"\",Ecarts!A237),\"\")","v":""},{"$f":"IF( Ecarts!$E237=$A$1,IF( Ecarts!C237=\"\",\"\",Ecarts!C237),\"\")","v":""},{"$f":"IF( Ecarts!$E237=$A$1, IF(Ecarts!F237=\"\",\"\",Ecarts!F237),\"\")","v":""},{"$f":"IF( Ecarts!$E237=$A$1, IF(Ecarts!I237=\"\",\"\",Ecarts!I237),\"\")","v":""},{"$f":"IF( Ecarts!$E237=$A$1, IF(Ecarts!J237=\"\",\"\",Ecarts!J237),\"\")","v":""},{"$f":"IF( Ecarts!$E237=$A$1, IF(Ecarts!K237=\"\",\"\",Ecarts!K237),\"\")","v":""},{"$f":"IF( Ecarts!$E237=$A$1, IF(Ecarts!L237=\"\",\"\",Ecarts!L237),\"\")","v":""},{"$f":"IF( Ecarts!$E237=$A$1, IF(Ecarts!M237=\"\",\"\",Ecarts!M237),\"\")","v":""},0,0]
[{"$f":"IF( Ecarts!$E238=$A$1,IF( Ecarts!B238=\"\",\"\",Ecarts!A238),\"\")","v":""},{"$f":"IF( Ecarts!$E238=$A$1,IF( Ecarts!C238=\"\",\"\",Ecarts!C238),\"\")","v":""},{"$f":"IF( Ecarts!$E238=$A$1, IF(Ecarts!F238=\"\",\"\",Ecarts!F238),\"\")","v":""},{"$f":"IF( Ecarts!$E238=$A$1, IF(Ecarts!I238=\"\",\"\",Ecarts!I238),\"\")","v":""},{"$f":"IF( Ecarts!$E238=$A$1, IF(Ecarts!J238=\"\",\"\",Ecarts!J238),\"\")","v":""},{"$f":"IF( Ecarts!$E238=$A$1, IF(Ecarts!K238=\"\",\"\",Ecarts!K238),\"\")","v":""},{"$f":"IF( Ecarts!$E238=$A$1, IF(Ecarts!L238=\"\",\"\",Ecarts!L238),\"\")","v":""},{"$f":"IF( Ecarts!$E238=$A$1, IF(Ecarts!M238=\"\",\"\",Ecarts!M238),\"\")","v":""},0,0]
[{"$f":"IF( Ecarts!$E239=$A$1,IF( Ecarts!B239=\"\",\"\",Ecarts!A239),\"\")","v":""},{"$f":"IF( Ecarts!$E239=$A$1,IF( Ecarts!C239=\"\",\"\",Ecarts!C239),\"\")","v":""},{"$f":"IF( Ecarts!$E239=$A$1, IF(Ecarts!F239=\"\",\"\",Ecarts!F239),\"\")","v":""},{"$f":"IF( Ecarts!$E239=$A$1, IF(Ecarts!I239=\"\",\"\",Ecarts!I239),\"\")","v":""},{"$f":"IF( Ecarts!$E239=$A$1, IF(Ecarts!J239=\"\",\"\",Ecarts!J239),\"\")","v":""},{"$f":"IF( Ecarts!$E239=$A$1, IF(Ecarts!K239=\"\",\"\",Ecarts!K239),\"\")","v":""},{"$f":"IF( Ecarts!$E239=$A$1, IF(Ecarts!L239=\"\",\"\",Ecarts!L239),\"\")","v":""},{"$f":"IF( Ecarts!$E239=$A$1, IF(Ecarts!M239=\"\",\"\",Ecarts!M239),\"\")","v":""},0,0]
[{"$f":"IF( Ecarts!$E240=$A$1,IF( Ecarts!B240=\"\",\"\",Ecarts!A240),\"\")","v":""},{"$f":"IF( Ecarts!$E240=$A$1,IF( Ecarts!C240=\"\",\"\",Ecarts!C240),\"\")","v":""},{"$f":"IF( Ecarts!$E240=$A$1, IF(Ecarts!F240=\"\",\"\",Ecarts!F240),\"\")","v":""},{"$f":"IF( Ecarts!$E240=$A$1, IF(Ecarts!I240=\"\",\"\",Ecarts!I240),\"\")","v":""},{"$f":"IF( Ecarts!$E240=$A$1, IF(Ecarts!J240=\"\",\"\",Ecarts!J240),\"\")","v":""},{"$f":"IF( Ecarts!$E240=$A$1, IF(Ecarts!K240=\"\",\"\",Ecarts!K240),\"\")","v":""},{"$f":"IF( Ecarts!$E240=$A$1, IF(Ecarts!L240=\"\",\"\",Ecarts!L240),\"\")","v":""},{"$f":"IF( Ecarts!$E240=$A$1, IF(Ecarts!M240=\"\",\"\",Ecarts!M240),\"\")","v":""},0,0]
[{"$f":"IF( Ecarts!$E241=$A$1,IF( Ecarts!B241=\"\",\"\",Ecarts!A241),\"\")","v":""},{"$f":"IF( Ecarts!$E241=$A$1,IF( Ecarts!C241=\"\",\"\",Ecarts!C241),\"\")","v":""},{"$f":"IF( Ecarts!$E241=$A$1, IF(Ecarts!F241=\"\",\"\",Ecarts!F241),\"\")","v":""},{"$f":"IF( Ecarts!$E241=$A$1, IF(Ecarts!I241=\"\",\"\",Ecarts!I241),\"\")","v":""},{"$f":"IF( Ecarts!$E241=$A$1, IF(Ecarts!J241=\"\",\"\",Ecarts!J241),\"\")","v":""},{"$f":"IF( Ecarts!$E241=$A$1, IF(Ecarts!K241=\"\",\"\",Ecarts!K241),\"\")","v":""},{"$f":"IF( Ecarts!$E241=$A$1, IF(Ecarts!L241=\"\",\"\",Ecarts!L241),\"\")","v":""},{"$f":"IF( Ecarts!$E241=$A$1, IF(Ecarts!M241=\"\",\"\",Ecarts!M241),\"\")","v":""},0,0]
[{"$f":"IF( Ecarts!$E242=$A$1,IF( Ecarts!B242=\"\",\"\",Ecarts!A242),\"\")","v":""},{"$f":"IF( Ecarts!$E242=$A$1,IF( Ecarts!C242=\"\",\"\",Ecarts!C242),\"\")","v":""},{"$f":"IF( Ecarts!$E242=$A$1, IF(Ecarts!F242=\"\",\"\",Ecarts!F242),\"\")","v":""},{"$f":"IF( Ecarts!$E242=$A$1, IF(Ecarts!I242=\"\",\"\",Ecarts!I242),\"\")","v":""},{"$f":"IF( Ecarts!$E242=$A$1, IF(Ecarts!J242=\"\",\"\",Ecarts!J242),\"\")","v":""},{"$f":"IF( Ecarts!$E242=$A$1, IF(Ecarts!K242=\"\",\"\",Ecarts!K242),\"\")","v":""},{"$f":"IF( Ecarts!$E242=$A$1, IF(Ecarts!L242=\"\",\"\",Ecarts!L242),\"\")","v":""},{"$f":"IF( Ecarts!$E242=$A$1, IF(Ecarts!M242=\"\",\"\",Ecarts!M242),\"\")","v":""},0,0]
[{"$f":"IF( Ecarts!$E243=$A$1,IF( Ecarts!B243=\"\",\"\",Ecarts!A243),\"\")","v":""},{"$f":"IF( Ecarts!$E243=$A$1,IF( Ecarts!C243=\"\",\"\",Ecarts!C243),\"\")","v":""},{"$f":"IF( Ecarts!$E243=$A$1, IF(Ecarts!F243=\"\",\"\",Ecarts!F243),\"\")","v":""},{"$f":"IF( Ecarts!$E243=$A$1, IF(Ecarts!I243=\"\",\"\",Ecarts!I243),\"\")","v":""},{"$f":"IF( Ecarts!$E243=$A$1, IF(Ecarts!J243=\"\",\"\",Ecarts!J243),\"\")","v":""},{"$f":"IF( Ecarts!$E243=$A$1, IF(Ecarts!K243=\"\",\"\",Ecarts!K243),\"\")","v":""},{"$f":"IF( Ecarts!$E243=$A$1, IF(Ecarts!L243=\"\",\"\",Ecarts!L243),\"\")","v":""},{"$f":"IF( Ecarts!$E243=$A$1, IF(Ecarts!M243=\"\",\"\",Ecarts!M243),\"\")","v":""},0,0]
[{"$f":"IF( Ecarts!$E244=$A$1,IF( Ecarts!B244=\"\",\"\",Ecarts!A244),\"\")","v":""},{"$f":"IF( Ecarts!$E244=$A$1,IF( Ecarts!C244=\"\",\"\",Ecarts!C244),\"\")","v":""},{"$f":"IF( Ecarts!$E244=$A$1, IF(Ecarts!F244=\"\",\"\",Ecarts!F244),\"\")","v":""},{"$f":"IF( Ecarts!$E244=$A$1, IF(Ecarts!I244=\"\",\"\",Ecarts!I244),\"\")","v":""},{"$f":"IF( Ecarts!$E244=$A$1, IF(Ecarts!J244=\"\",\"\",Ecarts!J244),\"\")","v":""},{"$f":"IF( Ecarts!$E244=$A$1, IF(Ecarts!K244=\"\",\"\",Ecarts!K244),\"\")","v":""},{"$f":"IF( Ecarts!$E244=$A$1, IF(Ecarts!L244=\"\",\"\",Ecarts!L244),\"\")","v":""},{"$f":"IF( Ecarts!$E244=$A$1, IF(Ecarts!M244=\"\",\"\",Ecarts!M244),\"\")","v":""},0,0]
[{"$f":"IF( Ecarts!$E245=$A$1,IF( Ecarts!B245=\"\",\"\",Ecarts!A245),\"\")","v":""},{"$f":"IF( Ecarts!$E245=$A$1,IF( Ecarts!C245=\"\",\"\",Ecarts!C245),\"\")","v":""},{"$f":"IF( Ecarts!$E245=$A$1, IF(Ecarts!F245=\"\",\"\",Ecarts!F245),\"\")","v":""},{"$f":"IF( Ecarts!$E245=$A$1, IF(Ecarts!I245=\"\",\"\",Ecarts!I245),\"\")","v":""},{"$f":"IF( Ecarts!$E245=$A$1, IF(Ecarts!J245=\"\",\"\",Ecarts!J245),\"\")","v":""},{"$f":"IF( Ecarts!$E245=$A$1, IF(Ecarts!K245=\"\",\"\",Ecarts!K245),\"\")","v":""},{"$f":"IF( Ecarts!$E245=$A$1, IF(Ecarts!L245=\"\",\"\",Ecarts!L245),\"\")","v":""},{"$f":"IF( Ecarts!$E245=$A$1, IF(Ecarts!M245=\"\",\"\",Ecarts!M245),\"\")","v":""},0,0]
[{"$f":"IF( Ecarts!$E246=$A$1,IF( Ecarts!B246=\"\",\"\",Ecarts!A246),\"\")","v":""},{"$f":"IF( Ecarts!$E246=$A$1,IF( Ecarts!C246=\"\",\"\",Ecarts!C246),\"\")","v":""},{"$f":"IF( Ecarts!$E246=$A$1, IF(Ecarts!F246=\"\",\"\",Ecarts!F246),\"\")","v":""},{"$f":"IF( Ecarts!$E246=$A$1, IF(Ecarts!I246=\"\",\"\",Ecarts!I246),\"\")","v":""},{"$f":"IF( Ecarts!$E246=$A$1, IF(Ecarts!J246=\"\",\"\",Ecarts!J246),\"\")","v":""},{"$f":"IF( Ecarts!$E246=$A$1, IF(Ecarts!K246=\"\",\"\",Ecarts!K246),\"\")","v":""},{"$f":"IF( Ecarts!$E246=$A$1, IF(Ecarts!L246=\"\",\"\",Ecarts!L246),\"\")","v":""},{"$f":"IF( Ecarts!$E246=$A$1, IF(Ecarts!M246=\"\",\"\",Ecarts!M246),\"\")","v":""},0,0]
[{"$f":"IF( Ecarts!$E247=$A$1,IF( Ecarts!B247=\"\",\"\",Ecarts!A247),\"\")","v":""},{"$f":"IF( Ecarts!$E247=$A$1,IF( Ecarts!C247=\"\",\"\",Ecarts!C247),\"\")","v":""},{"$f":"IF( Ecarts!$E247=$A$1, IF(Ecarts!F247=\"\",\"\",Ecarts!F247),\"\")","v":""},{"$f":"IF( Ecarts!$E247=$A$1, IF(Ecarts!I247=\"\",\"\",Ecarts!I247),\"\")","v":""},{"$f":"IF( Ecarts!$E247=$A$1, IF(Ecarts!J247=\"\",\"\",Ecarts!J247),\"\")","v":""},{"$f":"IF( Ecarts!$E247=$A$1, IF(Ecarts!K247=\"\",\"\",Ecarts!K247),\"\")","v":""},{"$f":"IF( Ecarts!$E247=$A$1, IF(Ecarts!L247=\"\",\"\",Ecarts!L247),\"\")","v":""},{"$f":"IF( Ecarts!$E247=$A$1, IF(Ecarts!M247=\"\",\"\",Ecarts!M247),\"\")","v":""},0,0]
[{"$f":"IF( Ecarts!$E248=$A$1,IF( Ecarts!B248=\"\",\"\",Ecarts!A248),\"\")","v":""},{"$f":"IF( Ecarts!$E248=$A$1,IF( Ecarts!C248=\"\",\"\",Ecarts!C248),\"\")","v":""},{"$f":"IF( Ecarts!$E248=$A$1, IF(Ecarts!F248=\"\",\"\",Ecarts!F248),\"\")","v":""},{"$f":"IF( Ecarts!$E248=$A$1, IF(Ecarts!I248=\"\",\"\",Ecarts!I248),\"\")","v":""},{"$f":"IF( Ecarts!$E248=$A$1, IF(Ecarts!J248=\"\",\"\",Ecarts!J248),\"\")","v":""},{"$f":"IF( Ecarts!$E248=$A$1, IF(Ecarts!K248=\"\",\"\",Ecarts!K248),\"\")","v":""},{"$f":"IF( Ecarts!$E248=$A$1, IF(Ecarts!L248=\"\",\"\",Ecarts!L248),\"\")","v":""},{"$f":"IF( Ecarts!$E248=$A$1, IF(Ecarts!M248=\"\",\"\",Ecarts!M248),\"\")","v":""},0,0]
[{"$f":"IF( Ecarts!$E249=$A$1,IF( Ecarts!B249=\"\",\"\",Ecarts!A249),\"\")","v":""},{"$f":"IF( Ecarts!$E249=$A$1,IF( Ecarts!C249=\"\",\"\",Ecarts!C249),\"\")","v":""},{"$f":"IF( Ecarts!$E249=$A$1, IF(Ecarts!F249=\"\",\"\",Ecarts!F249),\"\")","v":""},{"$f":"IF( Ecarts!$E249=$A$1, IF(Ecarts!I249=\"\",\"\",Ecarts!I249),\"\")","v":""},{"$f":"IF( Ecarts!$E249=$A$1, IF(Ecarts!J249=\"\",\"\",Ecarts!J249),\"\")","v":""},{"$f":"IF( Ecarts!$E249=$A$1, IF(Ecarts!K249=\"\",\"\",Ecarts!K249),\"\")","v":""},{"$f":"IF( Ecarts!$E249=$A$1, IF(Ecarts!L249=\"\",\"\",Ecarts!L249),\"\")","v":""},{"$f":"IF( Ecarts!$E249=$A$1, IF(Ecarts!M249=\"\",\"\",Ecarts!M249),\"\")","v":""},0,0]
[{"$f":"IF( Ecarts!$E250=$A$1,IF( Ecarts!B250=\"\",\"\",Ecarts!A250),\"\")","v":""},{"$f":"IF( Ecarts!$E250=$A$1,IF( Ecarts!C250=\"\",\"\",Ecarts!C250),\"\")","v":""},{"$f":"IF( Ecarts!$E250=$A$1, IF(Ecarts!F250=\"\",\"\",Ecarts!F250),\"\")","v":""},{"$f":"IF( Ecarts!$E250=$A$1, IF(Ecarts!I250=\"\",\"\",Ecarts!I250),\"\")","v":""},{"$f":"IF( Ecarts!$E250=$A$1, IF(Ecarts!J250=\"\",\"\",Ecarts!J250),\"\")","v":""},{"$f":"IF( Ecarts!$E250=$A$1, IF(Ecarts!K250=\"\",\"\",Ecarts!K250),\"\")","v":""},{"$f":"IF( Ecarts!$E250=$A$1, IF(Ecarts!L250=\"\",\"\",Ecarts!L250),\"\")","v":""},{"$f":"IF( Ecarts!$E250=$A$1, IF(Ecarts!M250=\"\",\"\",Ecarts!M250),\"\")","v":""},0,0]
[{"$f":"IF( Ecarts!$E251=$A$1,IF( Ecarts!B251=\"\",\"\",Ecarts!A251),\"\")","v":""},{"$f":"IF( Ecarts!$E251=$A$1,IF( Ecarts!C251=\"\",\"\",Ecarts!C251),\"\")","v":""},{"$f":"IF( Ecarts!$E251=$A$1, IF(Ecarts!F251=\"\",\"\",Ecarts!F251),\"\")","v":""},{"$f":"IF( Ecarts!$E251=$A$1, IF(Ecarts!I251=\"\",\"\",Ecarts!I251),\"\")","v":""},{"$f":"IF( Ecarts!$E251=$A$1, IF(Ecarts!J251=\"\",\"\",Ecarts!J251),\"\")","v":""},{"$f":"IF( Ecarts!$E251=$A$1, IF(Ecarts!K251=\"\",\"\",Ecarts!K251),\"\")","v":""},{"$f":"IF( Ecarts!$E251=$A$1, IF(Ecarts!L251=\"\",\"\",Ecarts!L251),\"\")","v":""},{"$f":"IF( Ecarts!$E251=$A$1, IF(Ecarts!M251=\"\",\"\",Ecarts!M251),\"\")","v":""},0,0]
[{"$f":"IF( Ecarts!$E252=$A$1,IF( Ecarts!B252=\"\",\"\",Ecarts!A252),\"\")","v":""},{"$f":"IF( Ecarts!$E252=$A$1,IF( Ecarts!C252=\"\",\"\",Ecarts!C252),\"\")","v":""},{"$f":"IF( Ecarts!$E252=$A$1, IF(Ecarts!F252=\"\",\"\",Ecarts!F252),\"\")","v":""},{"$f":"IF( Ecarts!$E252=$A$1, IF(Ecarts!I252=\"\",\"\",Ecarts!I252),\"\")","v":""},{"$f":"IF( Ecarts!$E252=$A$1, IF(Ecarts!J252=\"\",\"\",Ecarts!J252),\"\")","v":""},{"$f":"IF( Ecarts!$E252=$A$1, IF(Ecarts!K252=\"\",\"\",Ecarts!K252),\"\")","v":""},{"$f":"IF( Ecarts!$E252=$A$1, IF(Ecarts!L252=\"\",\"\",Ecarts!L252),\"\")","v":""},{"$f":"IF( Ecarts!$E252=$A$1, IF(Ecarts!M252=\"\",\"\",Ecarts!M252),\"\")","v":""},0,0]
[{"$f":"IF( Ecarts!$E253=$A$1,IF( Ecarts!B253=\"\",\"\",Ecarts!A253),\"\")","v":""},{"$f":"IF( Ecarts!$E253=$A$1,IF( Ecarts!C253=\"\",\"\",Ecarts!C253),\"\")","v":""},{"$f":"IF( Ecarts!$E253=$A$1, IF(Ecarts!F253=\"\",\"\",Ecarts!F253),\"\")","v":""},{"$f":"IF( Ecarts!$E253=$A$1, IF(Ecarts!I253=\"\",\"\",Ecarts!I253),\"\")","v":""},{"$f":"IF( Ecarts!$E253=$A$1, IF(Ecarts!J253=\"\",\"\",Ecarts!J253),\"\")","v":""},{"$f":"IF( Ecarts!$E253=$A$1, IF(Ecarts!K253=\"\",\"\",Ecarts!K253),\"\")","v":""},{"$f":"IF( Ecarts!$E253=$A$1, IF(Ecarts!L253=\"\",\"\",Ecarts!L253),\"\")","v":""},{"$f":"IF( Ecarts!$E253=$A$1, IF(Ecarts!M253=\"\",\"\",Ecarts!M253),\"\")","v":""},0,0]
[{"$f":"IF( Ecarts!$E254=$A$1,IF( Ecarts!B254=\"\",\"\",Ecarts!A254),\"\")","v":""},{"$f":"IF( Ecarts!$E254=$A$1,IF( Ecarts!C254=\"\",\"\",Ecarts!C254),\"\")","v":""},{"$f":"IF( Ecarts!$E254=$A$1, IF(Ecarts!F254=\"\",\"\",Ecarts!F254),\"\")","v":""},{"$f":"IF( Ecarts!$E254=$A$1, IF(Ecarts!I254=\"\",\"\",Ecarts!I254),\"\")","v":""},{"$f":"IF( Ecarts!$E254=$A$1, IF(Ecarts!J254=\"\",\"\",Ecarts!J254),\"\")","v":""},{"$f":"IF( Ecarts!$E254=$A$1, IF(Ecarts!K254=\"\",\"\",Ecarts!K254),\"\")","v":""},{"$f":"IF( Ecarts!$E254=$A$1, IF(Ecarts!L254=\"\",\"\",Ecarts!L254),\"\")","v":""},{"$f":"IF( Ecarts!$E254=$A$1, IF(Ecarts!M254=\"\",\"\",Ecarts!M254),\"\")","v":""},0,0]
[{"$f":"IF( Ecarts!$E255=$A$1,IF( Ecarts!B255=\"\",\"\",Ecarts!A255),\"\")","v":""},{"$f":"IF( Ecarts!$E255=$A$1,IF( Ecarts!C255=\"\",\"\",Ecarts!C255),\"\")","v":""},{"$f":"IF( Ecarts!$E255=$A$1, IF(Ecarts!F255=\"\",\"\",Ecarts!F255),\"\")","v":""},{"$f":"IF( Ecarts!$E255=$A$1, IF(Ecarts!I255=\"\",\"\",Ecarts!I255),\"\")","v":""},{"$f":"IF( Ecarts!$E255=$A$1, IF(Ecarts!J255=\"\",\"\",Ecarts!J255),\"\")","v":""},{"$f":"IF( Ecarts!$E255=$A$1, IF(Ecarts!K255=\"\",\"\",Ecarts!K255),\"\")","v":""},{"$f":"IF( Ecarts!$E255=$A$1, IF(Ecarts!L255=\"\",\"\",Ecarts!L255),\"\")","v":""},{"$f":"IF( Ecarts!$E255=$A$1, IF(Ecarts!M255=\"\",\"\",Ecarts!M255),\"\")","v":""},0,0]
[{"$f":"IF( Ecarts!$E256=$A$1,IF( Ecarts!B256=\"\",\"\",Ecarts!A256),\"\")","v":""},{"$f":"IF( Ecarts!$E256=$A$1,IF( Ecarts!C256=\"\",\"\",Ecarts!C256),\"\")","v":""},{"$f":"IF( Ecarts!$E256=$A$1, IF(Ecarts!F256=\"\",\"\",Ecarts!F256),\"\")","v":""},{"$f":"IF( Ecarts!$E256=$A$1, IF(Ecarts!I256=\"\",\"\",Ecarts!I256),\"\")","v":""},{"$f":"IF( Ecarts!$E256=$A$1, IF(Ecarts!J256=\"\",\"\",Ecarts!J256),\"\")","v":""},{"$f":"IF( Ecarts!$E256=$A$1, IF(Ecarts!K256=\"\",\"\",Ecarts!K256),\"\")","v":""},{"$f":"IF( Ecarts!$E256=$A$1, IF(Ecarts!L256=\"\",\"\",Ecarts!L256),\"\")","v":""},{"$f":"IF( Ecarts!$E256=$A$1, IF(Ecarts!M256=\"\",\"\",Ecarts!M256),\"\")","v":""},0,0]
[{"$f":"IF( Ecarts!$E257=$A$1,IF( Ecarts!B257=\"\",\"\",Ecarts!A257),\"\")","v":""},{"$f":"IF( Ecarts!$E257=$A$1,IF( Ecarts!C257=\"\",\"\",Ecarts!C257),\"\")","v":""},{"$f":"IF( Ecarts!$E257=$A$1, IF(Ecarts!F257=\"\",\"\",Ecarts!F257),\"\")","v":""},{"$f":"IF( Ecarts!$E257=$A$1, IF(Ecarts!I257=\"\",\"\",Ecarts!I257),\"\")","v":""},{"$f":"IF( Ecarts!$E257=$A$1, IF(Ecarts!J257=\"\",\"\",Ecarts!J257),\"\")","v":""},{"$f":"IF( Ecarts!$E257=$A$1, IF(Ecarts!K257=\"\",\"\",Ecarts!K257),\"\")","v":""},{"$f":"IF( Ecarts!$E257=$A$1, IF(Ecarts!L257=\"\",\"\",Ecarts!L257),\"\")","v":""},{"$f":"IF( Ecarts!$E257=$A$1, IF(Ecarts!M257=\"\",\"\",Ecarts!M257),\"\")","v":""},0,0]
[{"$f":"IF( Ecarts!$E258=$A$1,IF( Ecarts!B258=\"\",\"\",Ecarts!A258),\"\")","v":""},{"$f":"IF( Ecarts!$E258=$A$1,IF( Ecarts!C258=\"\",\"\",Ecarts!C258),\"\")","v":""},{"$f":"IF( Ecarts!$E258=$A$1, IF(Ecarts!F258=\"\",\"\",Ecarts!F258),\"\")","v":""},{"$f":"IF( Ecarts!$E258=$A$1, IF(Ecarts!I258=\"\",\"\",Ecarts!I258),\"\")","v":""},{"$f":"IF( Ecarts!$E258=$A$1, IF(Ecarts!J258=\"\",\"\",Ecarts!J258),\"\")","v":""},{"$f":"IF( Ecarts!$E258=$A$1, IF(Ecarts!K258=\"\",\"\",Ecarts!K258),\"\")","v":""},{"$f":"IF( Ecarts!$E258=$A$1, IF(Ecarts!L258=\"\",\"\",Ecarts!L258),\"\")","v":""},{"$f":"IF( Ecarts!$E258=$A$1, IF(Ecarts!M258=\"\",\"\",Ecarts!M258),\"\")","v":""},0,0]
[{"$f":"IF( Ecarts!$E259=$A$1,IF( Ecarts!B259=\"\",\"\",Ecarts!A259),\"\")","v":""},{"$f":"IF( Ecarts!$E259=$A$1,IF( Ecarts!C259=\"\",\"\",Ecarts!C259),\"\")","v":""},{"$f":"IF( Ecarts!$E259=$A$1, IF(Ecarts!F259=\"\",\"\",Ecarts!F259),\"\")","v":""},{"$f":"IF( Ecarts!$E259=$A$1, IF(Ecarts!I259=\"\",\"\",Ecarts!I259),\"\")","v":""},{"$f":"IF( Ecarts!$E259=$A$1, IF(Ecarts!J259=\"\",\"\",Ecarts!J259),\"\")","v":""},{"$f":"IF( Ecarts!$E259=$A$1, IF(Ecarts!K259=\"\",\"\",Ecarts!K259),\"\")","v":""},{"$f":"IF( Ecarts!$E259=$A$1, IF(Ecarts!L259=\"\",\"\",Ecarts!L259),\"\")","v":""},{"$f":"IF( Ecarts!$E259=$A$1, IF(Ecarts!M259=\"\",\"\",Ecarts!M259),\"\")","v":""},0,0]
[{"$f":"IF( Ecarts!$E260=$A$1,IF( Ecarts!B260=\"\",\"\",Ecarts!A260),\"\")","v":""},{"$f":"IF( Ecarts!$E260=$A$1,IF( Ecarts!C260=\"\",\"\",Ecarts!C260),\"\")","v":""},{"$f":"IF( Ecarts!$E260=$A$1, IF(Ecarts!F260=\"\",\"\",Ecarts!F260),\"\")","v":""},{"$f":"IF( Ecarts!$E260=$A$1, IF(Ecarts!I260=\"\",\"\",Ecarts!I260),\"\")","v":""},{"$f":"IF( Ecarts!$E260=$A$1, IF(Ecarts!J260=\"\",\"\",Ecarts!J260),\"\")","v":""},{"$f":"IF( Ecarts!$E260=$A$1, IF(Ecarts!K260=\"\",\"\",Ecarts!K260),\"\")","v":""},{"$f":"IF( Ecarts!$E260=$A$1, IF(Ecarts!L260=\"\",\"\",Ecarts!L260),\"\")","v":""},{"$f":"IF( Ecarts!$E260=$A$1, IF(Ecarts!M260=\"\",\"\",Ecarts!M260),\"\")","v":""},{"$f":"IF(B261=\"\",0,IF(G261=1,0,1))","v":0},{"$f":"IF(F261=\"\",0,IF(F261>(TODAY()-60),1,0))","v":0}]
[{"$f":"IF( Ecarts!$E261=$A$1,IF( Ecarts!B261=\"\",\"\",Ecarts!A261),\"\")","v":""},{"$f":"IF( Ecarts!$E261=$A$1,IF( Ecarts!C261=\"\",\"\",Ecarts!C261),\"\")","v":""},{"$f":"IF( Ecarts!$E261=$A$1, IF(Ecarts!F261=\"\",\"\",Ecarts!F261),\"\")","v":""},{"$f":"IF( Ecarts!$E261=$A$1, IF(Ecarts!I261=\"\",\"\",Ecarts!I261),\"\")","v":""},{"$f":"IF( Ecarts!$E261=$A$1, IF(Ecarts!J261=\"\",\"\",Ecarts!J261),\"\")","v":""},{"$f":"IF( Ecarts!$E261=$A$1, IF(Ecarts!K261=\"\",\"\",Ecarts!K261),\"\")","v":""},{"$f":"IF( Ecarts!$E261=$A$1, IF(Ecarts!L261=\"\",\"\",Ecarts!L261),\"\")","v":""},{"$f":"IF( Ecarts!$E261=$A$1, IF(Ecarts!M261=\"\",\"\",Ecarts!M261),\"\")","v":""},0,0]
[{"$f":"IF( Ecarts!$E262=$A$1,IF( Ecarts!B262=\"\",\"\",Ecarts!A262),\"\")","v":""},{"$f":"IF( Ecarts!$E262=$A$1,IF( Ecarts!C262=\"\",\"\",Ecarts!C262),\"\")","v":""},{"$f":"IF( Ecarts!$E262=$A$1, IF(Ecarts!F262=\"\",\"\",Ecarts!F262),\"\")","v":""},{"$f":"IF( Ecarts!$E262=$A$1, IF(Ecarts!I262=\"\",\"\",Ecarts!I262),\"\")","v":""},{"$f":"IF( Ecarts!$E262=$A$1, IF(Ecarts!J262=\"\",\"\",Ecarts!J262),\"\")","v":""},{"$f":"IF( Ecarts!$E262=$A$1, IF(Ecarts!K262=\"\",\"\",Ecarts!K262),\"\")","v":""},{"$f":"IF( Ecarts!$E262=$A$1, IF(Ecarts!L262=\"\",\"\",Ecarts!L262),\"\")","v":""},{"$f":"IF( Ecarts!$E262=$A$1, IF(Ecarts!M262=\"\",\"\",Ecarts!M262),\"\")","v":""},0,0]
[{"$f":"IF( Ecarts!$E263=$A$1,IF( Ecarts!B263=\"\",\"\",Ecarts!A263),\"\")","v":""},{"$f":"IF( Ecarts!$E263=$A$1,IF( Ecarts!C263=\"\",\"\",Ecarts!C263),\"\")","v":""},{"$f":"IF( Ecarts!$E263=$A$1, IF(Ecarts!F263=\"\",\"\",Ecarts!F263),\"\")","v":""},{"$f":"IF( Ecarts!$E263=$A$1, IF(Ecarts!I263=\"\",\"\",Ecarts!I263),\"\")","v":""},{"$f":"IF( Ecarts!$E263=$A$1, IF(Ecarts!J263=\"\",\"\",Ecarts!J263),\"\")","v":""},{"$f":"IF( Ecarts!$E263=$A$1, IF(Ecarts!K263=\"\",\"\",Ecarts!K263),\"\")","v":""},{"$f":"IF( Ecarts!$E263=$A$1, IF(Ecarts!L263=\"\",\"\",Ecarts!L263),\"\")","v":""},{"$f":"IF( Ecarts!$E263=$A$1, IF(Ecarts!M263=\"\",\"\",Ecarts!M263),\"\")","v":""},0,0]
[{"$f":"IF( Ecarts!$E264=$A$1,IF( Ecarts!B264=\"\",\"\",Ecarts!A264),\"\")","v":""},{"$f":"IF( Ecarts!$E264=$A$1,IF( Ecarts!C264=\"\",\"\",Ecarts!C264),\"\")","v":""},{"$f":"IF( Ecarts!$E264=$A$1, IF(Ecarts!F264=\"\",\"\",Ecarts!F264),\"\")","v":""},{"$f":"IF( Ecarts!$E264=$A$1, IF(Ecarts!I264=\"\",\"\",Ecarts!I264),\"\")","v":""},{"$f":"IF( Ecarts!$E264=$A$1, IF(Ecarts!J264=\"\",\"\",Ecarts!J264),\"\")","v":""},{"$f":"IF( Ecarts!$E264=$A$1, IF(Ecarts!K264=\"\",\"\",Ecarts!K264),\"\")","v":""},{"$f":"IF( Ecarts!$E264=$A$1, IF(Ecarts!L264=\"\",\"\",Ecarts!L264),\"\")","v":""},{"$f":"IF( Ecarts!$E264=$A$1, IF(Ecarts!M264=\"\",\"\",Ecarts!M264),\"\")","v":""},0,0]
[{"$f":"IF( Ecarts!$E265=$A$1,IF( Ecarts!B265=\"\",\"\",Ecarts!A265),\"\")","v":""},{"$f":"IF( Ecarts!$E265=$A$1,IF( Ecarts!C265=\"\",\"\",Ecarts!C265),\"\")","v":""},{"$f":"IF( Ecarts!$E265=$A$1, IF(Ecarts!F265=\"\",\"\",Ecarts!F265),\"\")","v":""},{"$f":"IF( Ecarts!$E265=$A$1, IF(Ecarts!I265=\"\",\"\",Ecarts!I265),\"\")","v":""},{"$f":"IF( Ecarts!$E265=$A$1, IF(Ecarts!J265=\"\",\"\",Ecarts!J265),\"\")","v":""},{"$f":"IF( Ecarts!$E265=$A$1, IF(Ecarts!K265=\"\",\"\",Ecarts!K265),\"\")","v":""},{"$f":"IF( Ecarts!$E265=$A$1, IF(Ecarts!L265=\"\",\"\",Ecarts!L265),\"\")","v":""},{"$f":"IF( Ecarts!$E265=$A$1, IF(Ecarts!M265=\"\",\"\",Ecarts!M265),\"\")","v":""},0,0]
[{"$f":"IF( Ecarts!$E266=$A$1,IF( Ecarts!B266=\"\",\"\",Ecarts!A266),\"\")","v":""},{"$f":"IF( Ecarts!$E266=$A$1,IF( Ecarts!C266=\"\",\"\",Ecarts!C266),\"\")","v":""},{"$f":"IF( Ecarts!$E266=$A$1, IF(Ecarts!F266=\"\",\"\",Ecarts!F266),\"\")","v":""},{"$f":"IF( Ecarts!$E266=$A$1, IF(Ecarts!I266=\"\",\"\",Ecarts!I266),\"\")","v":""},{"$f":"IF( Ecarts!$E266=$A$1, IF(Ecarts!J266=\"\",\"\",Ecarts!J266),\"\")","v":""},{"$f":"IF( Ecarts!$E266=$A$1, IF(Ecarts!K266=\"\",\"\",Ecarts!K266),\"\")","v":""},{"$f":"IF( Ecarts!$E266=$A$1, IF(Ecarts!L266=\"\",\"\",Ecarts!L266),\"\")","v":""},{"$f":"IF( Ecarts!$E266=$A$1, IF(Ecarts!M266=\"\",\"\",Ecarts!M266),\"\")","v":""},0,0]
[{"$f":"IF( Ecarts!$E267=$A$1,IF( Ecarts!B267=\"\",\"\",Ecarts!A267),\"\")","v":""},{"$f":"IF( Ecarts!$E267=$A$1,IF( Ecarts!C267=\"\",\"\",Ecarts!C267),\"\")","v":""},{"$f":"IF( Ecarts!$E267=$A$1, IF(Ecarts!F267=\"\",\"\",Ecarts!F267),\"\")","v":""},{"$f":"IF( Ecarts!$E267=$A$1, IF(Ecarts!I267=\"\",\"\",Ecarts!I267),\"\")","v":""},{"$f":"IF( Ecarts!$E267=$A$1, IF(Ecarts!J267=\"\",\"\",Ecarts!J267),\"\")","v":""},{"$f":"IF( Ecarts!$E267=$A$1, IF(Ecarts!K267=\"\",\"\",Ecarts!K267),\"\")","v":""},{"$f":"IF( Ecarts!$E267=$A$1, IF(Ecarts!L267=\"\",\"\",Ecarts!L267),\"\")","v":""},{"$f":"IF( Ecarts!$E267=$A$1, IF(Ecarts!M267=\"\",\"\",Ecarts!M267),\"\")","v":""},0,0]
[{"$f":"IF( Ecarts!$E268=$A$1,IF( Ecarts!B268=\"\",\"\",Ecarts!A268),\"\")","v":""},{"$f":"IF( Ecarts!$E268=$A$1,IF( Ecarts!C268=\"\",\"\",Ecarts!C268),\"\")","v":""},{"$f":"IF( Ecarts!$E268=$A$1, IF(Ecarts!F268=\"\",\"\",Ecarts!F268),\"\")","v":""},{"$f":"IF( Ecarts!$E268=$A$1, IF(Ecarts!I268=\"\",\"\",Ecarts!I268),\"\")","v":""},{"$f":"IF( Ecarts!$E268=$A$1, IF(Ecarts!J268=\"\",\"\",Ecarts!J268),\"\")","v":""},{"$f":"IF( Ecarts!$E268=$A$1, IF(Ecarts!K268=\"\",\"\",Ecarts!K268),\"\")","v":""},{"$f":"IF( Ecarts!$E268=$A$1, IF(Ecarts!L268=\"\",\"\",Ecarts!L268),\"\")","v":""},{"$f":"IF( Ecarts!$E268=$A$1, IF(Ecarts!M268=\"\",\"\",Ecarts!M268),\"\")","v":""},0,0]
[{"$f":"IF( Ecarts!$E269=$A$1,IF( Ecarts!B269=\"\",\"\",Ecarts!A269),\"\")","v":""},{"$f":"IF( Ecarts!$E269=$A$1,IF( Ecarts!C269=\"\",\"\",Ecarts!C269),\"\")","v":""},{"$f":"IF( Ecarts!$E269=$A$1, IF(Ecarts!F269=\"\",\"\",Ecarts!F269),\"\")","v":""},{"$f":"IF( Ecarts!$E269=$A$1, IF(Ecarts!I269=\"\",\"\",Ecarts!I269),\"\")","v":""},{"$f":"IF( Ecarts!$E269=$A$1, IF(Ecarts!J269=\"\",\"\",Ecarts!J269),\"\")","v":""},{"$f":"IF( Ecarts!$E269=$A$1, IF(Ecarts!K269=\"\",\"\",Ecarts!K269),\"\")","v":""},{"$f":"IF( Ecarts!$E269=$A$1, IF(Ecarts!L269=\"\",\"\",Ecarts!L269),\"\")","v":""},{"$f":"IF( Ecarts!$E269=$A$1, IF(Ecarts!M269=\"\",\"\",Ecarts!M269),\"\")","v":""},0,0]
[{"$f":"IF( Ecarts!$E270=$A$1,IF( Ecarts!B270=\"\",\"\",Ecarts!A270),\"\")","v":""},{"$f":"IF( Ecarts!$E270=$A$1,IF( Ecarts!C270=\"\",\"\",Ecarts!C270),\"\")","v":""},{"$f":"IF( Ecarts!$E270=$A$1, IF(Ecarts!F270=\"\",\"\",Ecarts!F270),\"\")","v":""},{"$f":"IF( Ecarts!$E270=$A$1, IF(Ecarts!I270=\"\",\"\",Ecarts!I270),\"\")","v":""},{"$f":"IF( Ecarts!$E270=$A$1, IF(Ecarts!J270=\"\",\"\",Ecarts!J270),\"\")","v":""},{"$f":"IF( Ecarts!$E270=$A$1, IF(Ecarts!K270=\"\",\"\",Ecarts!K270),\"\")","v":""},{"$f":"IF( Ecarts!$E270=$A$1, IF(Ecarts!L270=\"\",\"\",Ecarts!L270),\"\")","v":""},{"$f":"IF( Ecarts!$E270=$A$1, IF(Ecarts!M270=\"\",\"\",Ecarts!M270),\"\")","v":""},0,0]
[{"$f":"IF( Ecarts!$E271=$A$1,IF( Ecarts!B271=\"\",\"\",Ecarts!A271),\"\")","v":""},{"$f":"IF( Ecarts!$E271=$A$1,IF( Ecarts!C271=\"\",\"\",Ecarts!C271),\"\")","v":""},{"$f":"IF( Ecarts!$E271=$A$1, IF(Ecarts!F271=\"\",\"\",Ecarts!F271),\"\")","v":""},{"$f":"IF( Ecarts!$E271=$A$1, IF(Ecarts!I271=\"\",\"\",Ecarts!I271),\"\")","v":""},{"$f":"IF( Ecarts!$E271=$A$1, IF(Ecarts!J271=\"\",\"\",Ecarts!J271),\"\")","v":""},{"$f":"IF( Ecarts!$E271=$A$1, IF(Ecarts!K271=\"\",\"\",Ecarts!K271),\"\")","v":""},{"$f":"IF( Ecarts!$E271=$A$1, IF(Ecarts!L271=\"\",\"\",Ecarts!L271),\"\")","v":""},{"$f":"IF( Ecarts!$E271=$A$1, IF(Ecarts!M271=\"\",\"\",Ecarts!M271),\"\")","v":""},0,0]
[{"$f":"IF( Ecarts!$E272=$A$1,IF( Ecarts!B272=\"\",\"\",Ecarts!A272),\"\")","v":""},{"$f":"IF( Ecarts!$E272=$A$1,IF( Ecarts!C272=\"\",\"\",Ecarts!C272),\"\")","v":""},{"$f":"IF( Ecarts!$E272=$A$1, IF(Ecarts!F272=\"\",\"\",Ecarts!F272),\"\")","v":""},{"$f":"IF( Ecarts!$E272=$A$1, IF(Ecarts!I272=\"\",\"\",Ecarts!I272),\"\")","v":""},{"$f":"IF( Ecarts!$E272=$A$1, IF(Ecarts!J272=\"\",\"\",Ecarts!J272),\"\")","v":""},{"$f":"IF( Ecarts!$E272=$A$1, IF(Ecarts!K272=\"\",\"\",Ecarts!K272),\"\")","v":""},{"$f":"IF( Ecarts!$E272=$A$1, IF(Ecarts!L272=\"\",\"\",Ecarts!L272),\"\")","v":""},{"$f":"IF( Ecarts!$E272=$A$1, IF(Ecarts!M272=\"\",\"\",Ecarts!M272),\"\")","v":""},0,0]
[{"$f":"IF( Ecarts!$E273=$A$1,IF( Ecarts!B273=\"\",\"\",Ecarts!A273),\"\")","v":""},{"$f":"IF( Ecarts!$E273=$A$1,IF( Ecarts!C273=\"\",\"\",Ecarts!C273),\"\")","v":""},{"$f":"IF( Ecarts!$E273=$A$1, IF(Ecarts!F273=\"\",\"\",Ecarts!F273),\"\")","v":""},{"$f":"IF( Ecarts!$E273=$A$1, IF(Ecarts!I273=\"\",\"\",Ecarts!I273),\"\")","v":""},{"$f":"IF( Ecarts!$E273=$A$1, IF(Ecarts!J273=\"\",\"\",Ecarts!J273),\"\")","v":""},{"$f":"IF( Ecarts!$E273=$A$1, IF(Ecarts!K273=\"\",\"\",Ecarts!K273),\"\")","v":""},{"$f":"IF( Ecarts!$E273=$A$1, IF(Ecarts!L273=\"\",\"\",Ecarts!L273),\"\")","v":""},{"$f":"IF( Ecarts!$E273=$A$1, IF(Ecarts!M273=\"\",\"\",Ecarts!M273),\"\")","v":""},0,0]
[{"$f":"IF( Ecarts!$E274=$A$1,IF( Ecarts!B274=\"\",\"\",Ecarts!A274),\"\")","v":""},{"$f":"IF( Ecarts!$E274=$A$1,IF( Ecarts!C274=\"\",\"\",Ecarts!C274),\"\")","v":""},{"$f":"IF( Ecarts!$E274=$A$1, IF(Ecarts!F274=\"\",\"\",Ecarts!F274),\"\")","v":""},{"$f":"IF( Ecarts!$E274=$A$1, IF(Ecarts!I274=\"\",\"\",Ecarts!I274),\"\")","v":""},{"$f":"IF( Ecarts!$E274=$A$1, IF(Ecarts!J274=\"\",\"\",Ecarts!J274),\"\")","v":""},{"$f":"IF( Ecarts!$E274=$A$1, IF(Ecarts!K274=\"\",\"\",Ecarts!K274),\"\")","v":""},{"$f":"IF( Ecarts!$E274=$A$1, IF(Ecarts!L274=\"\",\"\",Ecarts!L274),\"\")","v":""},{"$f":"IF( Ecarts!$E274=$A$1, IF(Ecarts!M274=\"\",\"\",Ecarts!M274),\"\")","v":""},0,0]
[{"$f":"IF( Ecarts!$E275=$A$1,IF( Ecarts!B275=\"\",\"\",Ecarts!A275),\"\")","v":""},{"$f":"IF( Ecarts!$E275=$A$1,IF( Ecarts!C275=\"\",\"\",Ecarts!C275),\"\")","v":""},{"$f":"IF( Ecarts!$E275=$A$1, IF(Ecarts!F275=\"\",\"\",Ecarts!F275),\"\")","v":""},{"$f":"IF( Ecarts!$E275=$A$1, IF(Ecarts!I275=\"\",\"\",Ecarts!I275),\"\")","v":""},{"$f":"IF( Ecarts!$E275=$A$1, IF(Ecarts!J275=\"\",\"\",Ecarts!J275),\"\")","v":""},{"$f":"IF( Ecarts!$E275=$A$1, IF(Ecarts!K275=\"\",\"\",Ecarts!K275),\"\")","v":""},{"$f":"IF( Ecarts!$E275=$A$1, IF(Ecarts!L275=\"\",\"\",Ecarts!L275),\"\")","v":""},{"$f":"IF( Ecarts!$E275=$A$1, IF(Ecarts!M275=\"\",\"\",Ecarts!M275),\"\")","v":""},0,0]
[{"$f":"IF( Ecarts!$E276=$A$1,IF( Ecarts!B276=\"\",\"\",Ecarts!A276),\"\")","v":""},{"$f":"IF( Ecarts!$E276=$A$1,IF( Ecarts!C276=\"\",\"\",Ecarts!C276),\"\")","v":""},{"$f":"IF( Ecarts!$E276=$A$1, IF(Ecarts!F276=\"\",\"\",Ecarts!F276),\"\")","v":""},{"$f":"IF( Ecarts!$E276=$A$1, IF(Ecarts!I276=\"\",\"\",Ecarts!I276),\"\")","v":""},{"$f":"IF( Ecarts!$E276=$A$1, IF(Ecarts!J276=\"\",\"\",Ecarts!J276),\"\")","v":""},{"$f":"IF( Ecarts!$E276=$A$1, IF(Ecarts!K276=\"\",\"\",Ecarts!K276),\"\")","v":""},{"$f":"IF( Ecarts!$E276=$A$1, IF(Ecarts!L276=\"\",\"\",Ecarts!L276),\"\")","v":""},{"$f":"IF( Ecarts!$E276=$A$1, IF(Ecarts!M276=\"\",\"\",Ecarts!M276),\"\")","v":""},0,0]
[{"$f":"IF( Ecarts!$E277=$A$1,IF( Ecarts!B277=\"\",\"\",Ecarts!A277),\"\")","v":""},{"$f":"IF( Ecarts!$E277=$A$1,IF( Ecarts!C277=\"\",\"\",Ecarts!C277),\"\")","v":""},{"$f":"IF( Ecarts!$E277=$A$1, IF(Ecarts!F277=\"\",\"\",Ecarts!F277),\"\")","v":""},{"$f":"IF( Ecarts!$E277=$A$1, IF(Ecarts!I277=\"\",\"\",Ecarts!I277),\"\")","v":""},{"$f":"IF( Ecarts!$E277=$A$1, IF(Ecarts!J277=\"\",\"\",Ecarts!J277),\"\")","v":""},{"$f":"IF( Ecarts!$E277=$A$1, IF(Ecarts!K277=\"\",\"\",Ecarts!K277),\"\")","v":""},{"$f":"IF( Ecarts!$E277=$A$1, IF(Ecarts!L277=\"\",\"\",Ecarts!L277),\"\")","v":""},{"$f":"IF( Ecarts!$E277=$A$1, IF(Ecarts!M277=\"\",\"\",Ecarts!M277),\"\")","v":""},0,0]
[{"$f":"IF( Ecarts!$E278=$A$1,IF( Ecarts!B278=\"\",\"\",Ecarts!A278),\"\")","v":""},{"$f":"IF( Ecarts!$E278=$A$1,IF( Ecarts!C278=\"\",\"\",Ecarts!C278),\"\")","v":""},{"$f":"IF( Ecarts!$E278=$A$1, IF(Ecarts!F278=\"\",\"\",Ecarts!F278),\"\")","v":""},{"$f":"IF( Ecarts!$E278=$A$1, IF(Ecarts!I278=\"\",\"\",Ecarts!I278),\"\")","v":""},{"$f":"IF( Ecarts!$E278=$A$1, IF(Ecarts!J278=\"\",\"\",Ecarts!J278),\"\")","v":""},{"$f":"IF( Ecarts!$E278=$A$1, IF(Ecarts!K278=\"\",\"\",Ecarts!K278),\"\")","v":""},{"$f":"IF( Ecarts!$E278=$A$1, IF(Ecarts!L278=\"\",\"\",Ecarts!L278),\"\")","v":""},{"$f":"IF( Ecarts!$E278=$A$1, IF(Ecarts!M278=\"\",\"\",Ecarts!M278),\"\")","v":""},0,0]
[{"$f":"IF( Ecarts!$E279=$A$1,IF( Ecarts!B279=\"\",\"\",Ecarts!A279),\"\")","v":""},{"$f":"IF( Ecarts!$E279=$A$1,IF( Ecarts!C279=\"\",\"\",Ecarts!C279),\"\")","v":""},{"$f":"IF( Ecarts!$E279=$A$1, IF(Ecarts!F279=\"\",\"\",Ecarts!F279),\"\")","v":""},{"$f":"IF( Ecarts!$E279=$A$1, IF(Ecarts!I279=\"\",\"\",Ecarts!I279),\"\")","v":""},{"$f":"IF( Ecarts!$E279=$A$1, IF(Ecarts!J279=\"\",\"\",Ecarts!J279),\"\")","v":""},{"$f":"IF( Ecarts!$E279=$A$1, IF(Ecarts!K279=\"\",\"\",Ecarts!K279),\"\")","v":""},{"$f":"IF( Ecarts!$E279=$A$1, IF(Ecarts!L279=\"\",\"\",Ecarts!L279),\"\")","v":""},{"$f":"IF( Ecarts!$E279=$A$1, IF(Ecarts!M279=\"\",\"\",Ecarts!M279),\"\")","v":""},0,0]
[{"$f":"IF( Ecarts!$E280=$A$1,IF( Ecarts!B280=\"\",\"\",Ecarts!A280),\"\")","v":""},{"$f":"IF( Ecarts!$E280=$A$1,IF( Ecarts!C280=\"\",\"\",Ecarts!C280),\"\")","v":""},{"$f":"IF( Ecarts!$E280=$A$1, IF(Ecarts!F280=\"\",\"\",Ecarts!F280),\"\")","v":""},{"$f":"IF( Ecarts!$E280=$A$1, IF(Ecarts!I280=\"\",\"\",Ecarts!I280),\"\")","v":""},{"$f":"IF( Ecarts!$E280=$A$1, IF(Ecarts!J280=\"\",\"\",Ecarts!J280),\"\")","v":""},{"$f":"IF( Ecarts!$E280=$A$1, IF(Ecarts!K280=\"\",\"\",Ecarts!K280),\"\")","v":""},{"$f":"IF( Ecarts!$E280=$A$1, IF(Ecarts!L280=\"\",\"\",Ecarts!L280),\"\")","v":""},{"$f":"IF( Ecarts!$E280=$A$1, IF(Ecarts!M280=\"\",\"\",Ecarts!M280),\"\")","v":""},0,0]
[{"$f":"IF( Ecarts!$E281=$A$1,IF( Ecarts!B281=\"\",\"\",Ecarts!A281),\"\")","v":""},{"$f":"IF( Ecarts!$E281=$A$1,IF( Ecarts!C281=\"\",\"\",Ecarts!C281),\"\")","v":""},{"$f":"IF( Ecarts!$E281=$A$1, IF(Ecarts!F281=\"\",\"\",Ecarts!F281),\"\")","v":""},{"$f":"IF( Ecarts!$E281=$A$1, IF(Ecarts!I281=\"\",\"\",Ecarts!I281),\"\")","v":""},{"$f":"IF( Ecarts!$E281=$A$1, IF(Ecarts!J281=\"\",\"\",Ecarts!J281),\"\")","v":""},{"$f":"IF( Ecarts!$E281=$A$1, IF(Ecarts!K281=\"\",\"\",Ecarts!K281),\"\")","v":""},{"$f":"IF( Ecarts!$E281=$A$1, IF(Ecarts!L281=\"\",\"\",Ecarts!L281),\"\")","v":""},{"$f":"IF( Ecarts!$E281=$A$1, IF(Ecarts!M281=\"\",\"\",Ecarts!M281),\"\")","v":""},0,0]
[{"$f":"IF( Ecarts!$E282=$A$1,IF( Ecarts!B282=\"\",\"\",Ecarts!A282),\"\")","v":""},{"$f":"IF( Ecarts!$E282=$A$1,IF( Ecarts!C282=\"\",\"\",Ecarts!C282),\"\")","v":""},{"$f":"IF( Ecarts!$E282=$A$1, IF(Ecarts!F282=\"\",\"\",Ecarts!F282),\"\")","v":""},{"$f":"IF( Ecarts!$E282=$A$1, IF(Ecarts!I282=\"\",\"\",Ecarts!I282),\"\")","v":""},{"$f":"IF( Ecarts!$E282=$A$1, IF(Ecarts!J282=\"\",\"\",Ecarts!J282),\"\")","v":""},{"$f":"IF( Ecarts!$E282=$A$1, IF(Ecarts!K282=\"\",\"\",Ecarts!K282),\"\")","v":""},{"$f":"IF( Ecarts!$E282=$A$1, IF(Ecarts!L282=\"\",\"\",Ecarts!L282),\"\")","v":""},{"$f":"IF( Ecarts!$E282=$A$1, IF(Ecarts!M282=\"\",\"\",Ecarts!M282),\"\")","v":""},0,0]
[{"$f":"IF( Ecarts!$E283=$A$1,IF( Ecarts!B283=\"\",\"\",Ecarts!A283),\"\")","v":""},{"$f":"IF( Ecarts!$E283=$A$1,IF( Ecarts!C283=\"\",\"\",Ecarts!C283),\"\")","v":""},{"$f":"IF( Ecarts!$E283=$A$1, IF(Ecarts!F283=\"\",\"\",Ecarts!F283),\"\")","v":""},{"$f":"IF( Ecarts!$E283=$A$1, IF(Ecarts!I283=\"\",\"\",Ecarts!I283),\"\")","v":""},{"$f":"IF( Ecarts!$E283=$A$1, IF(Ecarts!J283=\"\",\"\",Ecarts!J283),\"\")","v":""},{"$f":"IF( Ecarts!$E283=$A$1, IF(Ecarts!K283=\"\",\"\",Ecarts!K283),\"\")","v":""},{"$f":"IF( Ecarts!$E283=$A$1, IF(Ecarts!L283=\"\",\"\",Ecarts!L283),\"\")","v":""},{"$f":"IF( Ecarts!$E283=$A$1, IF(Ecarts!M283=\"\",\"\",Ecarts!M283),\"\")","v":""},0,0]
[{"$f":"IF( Ecarts!$E284=$A$1,IF( Ecarts!B284=\"\",\"\",Ecarts!A284),\"\")","v":""},{"$f":"IF( Ecarts!$E284=$A$1,IF( Ecarts!C284=\"\",\"\",Ecarts!C284),\"\")","v":""},{"$f":"IF( Ecarts!$E284=$A$1, IF(Ecarts!F284=\"\",\"\",Ecarts!F284),\"\")","v":""},{"$f":"IF( Ecarts!$E284=$A$1, IF(Ecarts!I284=\"\",\"\",Ecarts!I284),\"\")","v":""},{"$f":"IF( Ecarts!$E284=$A$1, IF(Ecarts!J284=\"\",\"\",Ecarts!J284),\"\")","v":""},{"$f":"IF( Ecarts!$E284=$A$1, IF(Ecarts!K284=\"\",\"\",Ecarts!K284),\"\")","v":""},{"$f":"IF( Ecarts!$E284=$A$1, IF(Ecarts!L284=\"\",\"\",Ecarts!L284),\"\")","v":""},{"$f":"IF( Ecarts!$E284=$A$1, IF(Ecarts!M284=\"\",\"\",Ecarts!M284),\"\")","v":""},0,0]
[{"$f":"IF( Ecarts!$E285=$A$1,IF( Ecarts!B285=\"\",\"\",Ecarts!A285),\"\")","v":""},{"$f":"IF( Ecarts!$E285=$A$1,IF( Ecarts!C285=\"\",\"\",Ecarts!C285),\"\")","v":""},{"$f":"IF( Ecarts!$E285=$A$1, IF(Ecarts!F285=\"\",\"\",Ecarts!F285),\"\")","v":""},{"$f":"IF( Ecarts!$E285=$A$1, IF(Ecarts!I285=\"\",\"\",Ecarts!I285),\"\")","v":""},{"$f":"IF( Ecarts!$E285=$A$1, IF(Ecarts!J285=\"\",\"\",Ecarts!J285),\"\")","v":""},{"$f":"IF( Ecarts!$E285=$A$1, IF(Ecarts!K285=\"\",\"\",Ecarts!K285),\"\")","v":""},{"$f":"IF( Ecarts!$E285=$A$1, IF(Ecarts!L285=\"\",\"\",Ecarts!L285),\"\")","v":""},{"$f":"IF( Ecarts!$E285=$A$1, IF(Ecarts!M285=\"\",\"\",Ecarts!M285),\"\")","v":""},0,0]
[{"$f":"IF( Ecarts!$E286=$A$1,IF( Ecarts!B286=\"\",\"\",Ecarts!A286),\"\")","v":""},{"$f":"IF( Ecarts!$E286=$A$1,IF( Ecarts!C286=\"\",\"\",Ecarts!C286),\"\")","v":""},{"$f":"IF( Ecarts!$E286=$A$1, IF(Ecarts!F286=\"\",\"\",Ecarts!F286),\"\")","v":""},{"$f":"IF( Ecarts!$E286=$A$1, IF(Ecarts!I286=\"\",\"\",Ecarts!I286),\"\")","v":""},{"$f":"IF( Ecarts!$E286=$A$1, IF(Ecarts!J286=\"\",\"\",Ecarts!J286),\"\")","v":""},{"$f":"IF( Ecarts!$E286=$A$1, IF(Ecarts!K286=\"\",\"\",Ecarts!K286),\"\")","v":""},{"$f":"IF( Ecarts!$E286=$A$1, IF(Ecarts!L286=\"\",\"\",Ecarts!L286),\"\")","v":""},{"$f":"IF( Ecarts!$E286=$A$1, IF(Ecarts!M286=\"\",\"\",Ecarts!M286),\"\")","v":""},0,0]
[{"$f":"IF( Ecarts!$E287=$A$1,IF( Ecarts!B287=\"\",\"\",Ecarts!A287),\"\")","v":""},{"$f":"IF( Ecarts!$E287=$A$1,IF( Ecarts!C287=\"\",\"\",Ecarts!C287),\"\")","v":""},{"$f":"IF( Ecarts!$E287=$A$1, IF(Ecarts!F287=\"\",\"\",Ecarts!F287),\"\")","v":""},{"$f":"IF( Ecarts!$E287=$A$1, IF(Ecarts!I287=\"\",\"\",Ecarts!I287),\"\")","v":""},{"$f":"IF( Ecarts!$E287=$A$1, IF(Ecarts!J287=\"\",\"\",Ecarts!J287),\"\")","v":""},{"$f":"IF( Ecarts!$E287=$A$1, IF(Ecarts!K287=\"\",\"\",Ecarts!K287),\"\")","v":""},{"$f":"IF( Ecarts!$E287=$A$1, IF(Ecarts!L287=\"\",\"\",Ecarts!L287),\"\")","v":""},{"$f":"IF( Ecarts!$E287=$A$1, IF(Ecarts!M287=\"\",\"\",Ecarts!M287),\"\")","v":""},0,0]
[{"$f":"IF( Ecarts!$E288=$A$1,IF( Ecarts!B288=\"\",\"\",Ecarts!A288),\"\")","v":""},{"$f":"IF( Ecarts!$E288=$A$1,IF( Ecarts!C288=\"\",\"\",Ecarts!C288),\"\")","v":""},{"$f":"IF( Ecarts!$E288=$A$1, IF(Ecarts!F288=\"\",\"\",Ecarts!F288),\"\")","v":""},{"$f":"IF( Ecarts!$E288=$A$1, IF(Ecarts!I288=\"\",\"\",Ecarts!I288),\"\")","v":""},{"$f":"IF( Ecarts!$E288=$A$1, IF(Ecarts!J288=\"\",\"\",Ecarts!J288),\"\")","v":""},{"$f":"IF( Ecarts!$E288=$A$1, IF(Ecarts!K288=\"\",\"\",Ecarts!K288),\"\")","v":""},{"$f":"IF( Ecarts!$E288=$A$1, IF(Ecarts!L288=\"\",\"\",Ecarts!L288),\"\")","v":""},{"$f":"IF( Ecarts!$E288=$A$1, IF(Ecarts!M288=\"\",\"\",Ecarts!M288),\"\")","v":""},0,0]
[{"$f":"IF( Ecarts!$E289=$A$1,IF( Ecarts!B289=\"\",\"\",Ecarts!A289),\"\")","v":""},{"$f":"IF( Ecarts!$E289=$A$1,IF( Ecarts!C289=\"\",\"\",Ecarts!C289),\"\")","v":""},{"$f":"IF( Ecarts!$E289=$A$1, IF(Ecarts!F289=\"\",\"\",Ecarts!F289),\"\")","v":""},{"$f":"IF( Ecarts!$E289=$A$1, IF(Ecarts!I289=\"\",\"\",Ecarts!I289),\"\")","v":""},{"$f":"IF( Ecarts!$E289=$A$1, IF(Ecarts!J289=\"\",\"\",Ecarts!J289),\"\")","v":""},{"$f":"IF( Ecarts!$E289=$A$1, IF(Ecarts!K289=\"\",\"\",Ecarts!K289),\"\")","v":""},{"$f":"IF( Ecarts!$E289=$A$1, IF(Ecarts!L289=\"\",\"\",Ecarts!L289),\"\")","v":""},{"$f":"IF( Ecarts!$E289=$A$1, IF(Ecarts!M289=\"\",\"\",Ecarts!M289),\"\")","v":""},0,0]
[{"$f":"IF( Ecarts!$E290=$A$1,IF( Ecarts!B290=\"\",\"\",Ecarts!A290),\"\")","v":""},{"$f":"IF( Ecarts!$E290=$A$1,IF( Ecarts!C290=\"\",\"\",Ecarts!C290),\"\")","v":""},{"$f":"IF( Ecarts!$E290=$A$1, IF(Ecarts!F290=\"\",\"\",Ecarts!F290),\"\")","v":""},{"$f":"IF( Ecarts!$E290=$A$1, IF(Ecarts!I290=\"\",\"\",Ecarts!I290),\"\")","v":""},{"$f":"IF( Ecarts!$E290=$A$1, IF(Ecarts!J290=\"\",\"\",Ecarts!J290),\"\")","v":""},{"$f":"IF( Ecarts!$E290=$A$1, IF(Ecarts!K290=\"\",\"\",Ecarts!K290),\"\")","v":""},{"$f":"IF( Ecarts!$E290=$A$1, IF(Ecarts!L290=\"\",\"\",Ecarts!L290),\"\")","v":""},{"$f":"IF( Ecarts!$E290=$A$1, IF(Ecarts!M290=\"\",\"\",Ecarts!M290),\"\")","v":""},0,0]
[{"$f":"IF( Ecarts!$E291=$A$1,IF( Ecarts!B291=\"\",\"\",Ecarts!A291),\"\")","v":""},{"$f":"IF( Ecarts!$E291=$A$1,IF( Ecarts!C291=\"\",\"\",Ecarts!C291),\"\")","v":""},{"$f":"IF( Ecarts!$E291=$A$1, IF(Ecarts!F291=\"\",\"\",Ecarts!F291),\"\")","v":""},{"$f":"IF( Ecarts!$E291=$A$1, IF(Ecarts!I291=\"\",\"\",Ecarts!I291),\"\")","v":""},{"$f":"IF( Ecarts!$E291=$A$1, IF(Ecarts!J291=\"\",\"\",Ecarts!J291),\"\")","v":""},{"$f":"IF( Ecarts!$E291=$A$1, IF(Ecarts!K291=\"\",\"\",Ecarts!K291),\"\")","v":""},{"$f":"IF( Ecarts!$E291=$A$1, IF(Ecarts!L291=\"\",\"\",Ecarts!L291),\"\")","v":""},{"$f":"IF( Ecarts!$E291=$A$1, IF(Ecarts!M291=\"\",\"\",Ecarts!M291),\"\")","v":""},0,0]
[{"$f":"IF( Ecarts!$E292=$A$1,IF( Ecarts!B292=\"\",\"\",Ecarts!A292),\"\")","v":""},{"$f":"IF( Ecarts!$E292=$A$1,IF( Ecarts!C292=\"\",\"\",Ecarts!C292),\"\")","v":""},{"$f":"IF( Ecarts!$E292=$A$1, IF(Ecarts!F292=\"\",\"\",Ecarts!F292),\"\")","v":""},{"$f":"IF( Ecarts!$E292=$A$1, IF(Ecarts!I292=\"\",\"\",Ecarts!I292),\"\")","v":""},{"$f":"IF( Ecarts!$E292=$A$1, IF(Ecarts!J292=\"\",\"\",Ecarts!J292),\"\")","v":""},{"$f":"IF( Ecarts!$E292=$A$1, IF(Ecarts!K292=\"\",\"\",Ecarts!K292),\"\")","v":""},{"$f":"IF( Ecarts!$E292=$A$1, IF(Ecarts!L292=\"\",\"\",Ecarts!L292),\"\")","v":""},{"$f":"IF( Ecarts!$E292=$A$1, IF(Ecarts!M292=\"\",\"\",Ecarts!M292),\"\")","v":""},0,0]
[{"$f":"IF( Ecarts!$E293=$A$1,IF( Ecarts!B293=\"\",\"\",Ecarts!A293),\"\")","v":""},{"$f":"IF( Ecarts!$E293=$A$1,IF( Ecarts!C293=\"\",\"\",Ecarts!C293),\"\")","v":""},{"$f":"IF( Ecarts!$E293=$A$1, IF(Ecarts!F293=\"\",\"\",Ecarts!F293),\"\")","v":""},{"$f":"IF( Ecarts!$E293=$A$1, IF(Ecarts!I293=\"\",\"\",Ecarts!I293),\"\")","v":""},{"$f":"IF( Ecarts!$E293=$A$1, IF(Ecarts!J293=\"\",\"\",Ecarts!J293),\"\")","v":""},{"$f":"IF( Ecarts!$E293=$A$1, IF(Ecarts!K293=\"\",\"\",Ecarts!K293),\"\")","v":""},{"$f":"IF( Ecarts!$E293=$A$1, IF(Ecarts!L293=\"\",\"\",Ecarts!L293),\"\")","v":""},{"$f":"IF( Ecarts!$E293=$A$1, IF(Ecarts!M293=\"\",\"\",Ecarts!M293),\"\")","v":""},0,0]
[{"$f":"IF( Ecarts!$E294=$A$1,IF( Ecarts!B294=\"\",\"\",Ecarts!A294),\"\")","v":""},{"$f":"IF( Ecarts!$E294=$A$1,IF( Ecarts!C294=\"\",\"\",Ecarts!C294),\"\")","v":""},{"$f":"IF( Ecarts!$E294=$A$1, IF(Ecarts!F294=\"\",\"\",Ecarts!F294),\"\")","v":""},{"$f":"IF( Ecarts!$E294=$A$1, IF(Ecarts!I294=\"\",\"\",Ecarts!I294),\"\")","v":""},{"$f":"IF( Ecarts!$E294=$A$1, IF(Ecarts!J294=\"\",\"\",Ecarts!J294),\"\")","v":""},{"$f":"IF( Ecarts!$E294=$A$1, IF(Ecarts!K294=\"\",\"\",Ecarts!K294),\"\")","v":""},{"$f":"IF( Ecarts!$E294=$A$1, IF(Ecarts!L294=\"\",\"\",Ecarts!L294),\"\")","v":""},{"$f":"IF( Ecarts!$E294=$A$1, IF(Ecarts!M294=\"\",\"\",Ecarts!M294),\"\")","v":""},0,0]
[{"$f":"IF( Ecarts!$E295=$A$1,IF( Ecarts!B295=\"\",\"\",Ecarts!A295),\"\")","v":""},{"$f":"IF( Ecarts!$E295=$A$1,IF( Ecarts!C295=\"\",\"\",Ecarts!C295),\"\")","v":""},{"$f":"IF( Ecarts!$E295=$A$1, IF(Ecarts!F295=\"\",\"\",Ecarts!F295),\"\")","v":""},{"$f":"IF( Ecarts!$E295=$A$1, IF(Ecarts!I295=\"\",\"\",Ecarts!I295),\"\")","v":""},{"$f":"IF( Ecarts!$E295=$A$1, IF(Ecarts!J295=\"\",\"\",Ecarts!J295),\"\")","v":""},{"$f":"IF( Ecarts!$E295=$A$1, IF(Ecarts!K295=\"\",\"\",Ecarts!K295),\"\")","v":""},{"$f":"IF( Ecarts!$E295=$A$1, IF(Ecarts!L295=\"\",\"\",Ecarts!L295),\"\")","v":""},{"$f":"IF( Ecarts!$E295=$A$1, IF(Ecarts!M295=\"\",\"\",Ecarts!M295),\"\")","v":""},0,0]
[{"$f":"IF( Ecarts!$E296=$A$1,IF( Ecarts!B296=\"\",\"\",Ecarts!A296),\"\")","v":""},{"$f":"IF( Ecarts!$E296=$A$1,IF( Ecarts!C296=\"\",\"\",Ecarts!C296),\"\")","v":""},{"$f":"IF( Ecarts!$E296=$A$1, IF(Ecarts!F296=\"\",\"\",Ecarts!F296),\"\")","v":""},{"$f":"IF( Ecarts!$E296=$A$1, IF(Ecarts!I296=\"\",\"\",Ecarts!I296),\"\")","v":""},{"$f":"IF( Ecarts!$E296=$A$1, IF(Ecarts!J296=\"\",\"\",Ecarts!J296),\"\")","v":""},{"$f":"IF( Ecarts!$E296=$A$1, IF(Ecarts!K296=\"\",\"\",Ecarts!K296),\"\")","v":""},{"$f":"IF( Ecarts!$E296=$A$1, IF(Ecarts!L296=\"\",\"\",Ecarts!L296),\"\")","v":""},{"$f":"IF( Ecarts!$E296=$A$1, IF(Ecarts!M296=\"\",\"\",Ecarts!M296),\"\")","v":""},0,0]
[{"$f":"IF( Ecarts!$E297=$A$1,IF( Ecarts!B297=\"\",\"\",Ecarts!A297),\"\")","v":""},{"$f":"IF( Ecarts!$E297=$A$1,IF( Ecarts!C297=\"\",\"\",Ecarts!C297),\"\")","v":""},{"$f":"IF( Ecarts!$E297=$A$1, IF(Ecarts!F297=\"\",\"\",Ecarts!F297),\"\")","v":""},{"$f":"IF( Ecarts!$E297=$A$1, IF(Ecarts!I297=\"\",\"\",Ecarts!I297),\"\")","v":""},{"$f":"IF( Ecarts!$E297=$A$1, IF(Ecarts!J297=\"\",\"\",Ecarts!J297),\"\")","v":""},{"$f":"IF( Ecarts!$E297=$A$1, IF(Ecarts!K297=\"\",\"\",Ecarts!K297),\"\")","v":""},{"$f":"IF( Ecarts!$E297=$A$1, IF(Ecarts!L297=\"\",\"\",Ecarts!L297),\"\")","v":""},{"$f":"IF( Ecarts!$E297=$A$1, IF(Ecarts!M297=\"\",\"\",Ecarts!M297),\"\")","v":""},0,0]
[{"$f":"IF( Ecarts!$E298=$A$1,IF( Ecarts!B298=\"\",\"\",Ecarts!A298),\"\")","v":""},{"$f":"IF( Ecarts!$E298=$A$1,IF( Ecarts!C298=\"\",\"\",Ecarts!C298),\"\")","v":""},{"$f":"IF( Ecarts!$E298=$A$1, IF(Ecarts!F298=\"\",\"\",Ecarts!F298),\"\")","v":""},{"$f":"IF( Ecarts!$E298=$A$1, IF(Ecarts!I298=\"\",\"\",Ecarts!I298),\"\")","v":""},{"$f":"IF( Ecarts!$E298=$A$1, IF(Ecarts!J298=\"\",\"\",Ecarts!J298),\"\")","v":""},{"$f":"IF( Ecarts!$E298=$A$1, IF(Ecarts!K298=\"\",\"\",Ecarts!K298),\"\")","v":""},{"$f":"IF( Ecarts!$E298=$A$1, IF(Ecarts!L298=\"\",\"\",Ecarts!L298),\"\")","v":""},{"$f":"IF( Ecarts!$E298=$A$1, IF(Ecarts!M298=\"\",\"\",Ecarts!M298),\"\")","v":""},0,0]
[{"$f":"IF( Ecarts!$E299=$A$1,IF( Ecarts!B299=\"\",\"\",Ecarts!A299),\"\")","v":""},{"$f":"IF( Ecarts!$E299=$A$1,IF( Ecarts!C299=\"\",\"\",Ecarts!C299),\"\")","v":""},{"$f":"IF( Ecarts!$E299=$A$1, IF(Ecarts!F299=\"\",\"\",Ecarts!F299),\"\")","v":""},{"$f":"IF( Ecarts!$E299=$A$1, IF(Ecarts!I299=\"\",\"\",Ecarts!I299),\"\")","v":""},{"$f":"IF( Ecarts!$E299=$A$1, IF(Ecarts!J299=\"\",\"\",Ecarts!J299),\"\")","v":""},{"$f":"IF( Ecarts!$E299=$A$1, IF(Ecarts!K299=\"\",\"\",Ecarts!K299),\"\")","v":""},{"$f":"IF( Ecarts!$E299=$A$1, IF(Ecarts!L299=\"\",\"\",Ecarts!L299),\"\")","v":""},{"$f":"IF( Ecarts!$E299=$A$1, IF(Ecarts!M299=\"\",\"\",Ecarts!M299),\"\")","v":""},0,0]
[{"$f":"IF( Ecarts!$E300=$A$1,IF( Ecarts!B300=\"\",\"\",Ecarts!A300),\"\")","v":""},{"$f":"IF( Ecarts!$E300=$A$1,IF( Ecarts!C300=\"\",\"\",Ecarts!C300),\"\")","v":""},{"$f":"IF( Ecarts!$E300=$A$1, IF(Ecarts!F300=\"\",\"\",Ecarts!F300),\"\")","v":""},{"$f":"IF( Ecarts!$E300=$A$1, IF(Ecarts!I300=\"\",\"\",Ecarts!I300),\"\")","v":""},{"$f":"IF( Ecarts!$E300=$A$1, IF(Ecarts!J300=\"\",\"\",Ecarts!J300),\"\")","v":""},{"$f":"IF( Ecarts!$E300=$A$1, IF(Ecarts!K300=\"\",\"\",Ecarts!K300),\"\")","v":""},{"$f":"IF( Ecarts!$E300=$A$1, IF(Ecarts!L300=\"\",\"\",Ecarts!L300),\"\")","v":""},{"$f":"IF( Ecarts!$E300=$A$1, IF(Ecarts!M300=\"\",\"\",Ecarts!M300),\"\")","v":""},0,0]
[{"$f":"IF( Ecarts!$E301=$A$1,IF( Ecarts!B301=\"\",\"\",Ecarts!A301),\"\")","v":""},{"$f":"IF( Ecarts!$E301=$A$1,IF( Ecarts!C301=\"\",\"\",Ecarts!C301),\"\")","v":""},{"$f":"IF( Ecarts!$E301=$A$1, IF(Ecarts!F301=\"\",\"\",Ecarts!F301),\"\")","v":""},{"$f":"IF( Ecarts!$E301=$A$1, IF(Ecarts!I301=\"\",\"\",Ecarts!I301),\"\")","v":""},{"$f":"IF( Ecarts!$E301=$A$1, IF(Ecarts!J301=\"\",\"\",Ecarts!J301),\"\")","v":""},{"$f":"IF( Ecarts!$E301=$A$1, IF(Ecarts!K301=\"\",\"\",Ecarts!K301),\"\")","v":""},{"$f":"IF( Ecarts!$E301=$A$1, IF(Ecarts!L301=\"\",\"\",Ecarts!L301),\"\")","v":""},{"$f":"IF( Ecarts!$E301=$A$1, IF(Ecarts!M301=\"\",\"\",Ecarts!M301),\"\")","v":""},0,0]
[{"$f":"IF( Ecarts!$E360=$A$1,IF( Ecarts!B360=\"\",\"\",Ecarts!A360),\"\")","v":""},{"$f":"IF( Ecarts!$E360=$A$1,IF( Ecarts!C360=\"\",\"\",Ecarts!C360),\"\")","v":""},{"$f":"IF( Ecarts!$E360=$A$1, IF(Ecarts!F360=\"\",\"\",Ecarts!F360),\"\")","v":""},{"$f":"IF( Ecarts!$E360=$A$1, IF(Ecarts!I360=\"\",\"\",Ecarts!I360),\"\")","v":""},{"$f":"IF( Ecarts!$E360=$A$1, IF(Ecarts!J360=\"\",\"\",Ecarts!J360),\"\")","v":""},{"$f":"IF( Ecarts!$E302=$A$1, IF(Ecarts!K302=\"\",\"\",Ecarts!K302),\"\")","v":""},{"$f":"IF( Ecarts!$E302=$A$1, IF(Ecarts!L302=\"\",\"\",Ecarts!L302),\"\")","v":""},{"$f":"IF( Ecarts!$E302=$A$1, IF(Ecarts!M302=\"\",\"\",Ecarts!M302),\"\")","v":""},0,0]

{"sheet":"Autres","index":7,"n_rows":303,"n_cols":10,"rows_kept":303,"cut":false,"hidden":true,"merged":[[0,0,1,1]]}
[{"$f":"MID(CELL(\"nomfichier\",J1),FIND(\"]\",CELL(\"nomfichier\",J1),20)+1,32)","v":"Autres"},null,null,{"$f":"IF(SUM(I$1:I$64839)=0,\"Aucune action ouverte\",IF(SUM(I$1:I$64839)>1,CONCATENATE(SUM(I$1:I$64839),\" actions ouvertes\"),\"Une action ouverte\"))","v":"Aucune action ouverte"}]
[null,null,44,{"$f":"IF(SUM(J$1:J$64839)=0,\"Aucune action clôturée en 2 mois\",IF(SUM(J$1:J$64839)>1,CONCATENATE(SUM(J$1:J$64839),\" actions réglées en 2 mois\"),\"Une action réglée en 2 mois\"))","v":"Aucune action clôturée en 2 mois"}]
["N°","Libellé","Date enregistrement","Actions","Date objectif","Date clôture","Efficacité","Commentaires"]
[{"$f":"IF( Ecarts!$E3=$A$1,IF( Ecarts!B3=\"\",\"\",Ecarts!A3),\"\")","v":""},{"$f":"IF( Ecarts!$E3=$A$1,IF( Ecarts!C3=\"\",\"\",Ecarts!C3),\"\")","v":""},{"$f":"IF( Ecarts!$E3=$A$1, IF(Ecarts!F3=\"\",\"\",Ecarts!F3),\"\")","v":""},{"$f":"IF( Ecarts!$E3=$A$1, IF(Ecarts!I3=\"\",\"\",Ecarts!I3),\"\")","v":""},{"$f":"IF( Ecarts!$E3=$A$1, IF(Ecarts!J3=\"\",\"\",Ecarts!J3),\"\")","v":""},{"$f":"IF( Ecarts!$E3=$A$1, IF(Ecarts!K3=\"\",\"\",Ecarts!K3),\"\")","v":""},{"$f":"IF( Ecarts!$E3=$A$1, IF(Ecarts!L3=\"\",\"\",Ecarts!L3),\"\")","v":""},{"$f":"IF( Ecarts!$E3=$A$1, IF(Ecarts!M3=\"\",\"\",Ecarts!M3),\"\")","v":""},{"$f":"IF(B4=\"\",0,IF(G4=1,0,1))","v":0},{"$f":"IF(F4=\"\",0,IF(F4>(TODAY()-60),1,0))","v":0}]
[{"$f":"IF( Ecarts!$E4=$A$1,IF( Ecarts!B4=\"\",\"\",Ecarts!A4),\"\")","v":""},{"$f":"IF( Ecarts!$E4=$A$1,IF( Ecarts!C4=\"\",\"\",Ecarts!C4),\"\")","v":""},{"$f":"IF( Ecarts!$E4=$A$1, IF(Ecarts!F4=\"\",\"\",Ecarts!F4),\"\")","v":""},{"$f":"IF( Ecarts!$E4=$A$1, IF(Ecarts!I4=\"\",\"\",Ecarts!I4),\"\")","v":""},{"$f":"IF( Ecarts!$E4=$A$1, IF(Ecarts!J4=\"\",\"\",Ecarts!J4),\"\")","v":""},{"$f":"IF( Ecarts!$E4=$A$1, IF(Ecarts!K4=\"\",\"\",Ecarts!K4),\"\")","v":""},{"$f":"IF( Ecarts!$E4=$A$1, IF(Ecarts!L4=\"\",\"\",Ecarts!L4),\"\")","v":""},{"$f":"IF( Ecarts!$E4=$A$1, IF(Ecarts!M4=\"\",\"\",Ecarts!M4),\"\")","v":""},{"$f":"IF(B5=\"\",0,IF(G5=1,0,1))","v":0},{"$f":"IF(F5=\"\",0,IF(F5>(TODAY()-60),1,0))","v":0}]
[{"$f":"IF( Ecarts!$E5=$A$1,IF( Ecarts!B5=\"\",\"\",Ecarts!A5),\"\")","v":""},{"$f":"IF( Ecarts!$E5=$A$1,IF( Ecarts!C5=\"\",\"\",Ecarts!C5),\"\")","v":""},{"$f":"IF( Ecarts!$E5=$A$1, IF(Ecarts!F5=\"\",\"\",Ecarts!F5),\"\")","v":""},{"$f":"IF( Ecarts!$E5=$A$1, IF(Ecarts!I5=\"\",\"\",Ecarts!I5),\"\")","v":""},{"$f":"IF( Ecarts!$E5=$A$1, IF(Ecarts!J5=\"\",\"\",Ecarts!J5),\"\")","v":""},{"$f":"IF( Ecarts!$E5=$A$1, IF(Ecarts!K5=\"\",\"\",Ecarts!K5),\"\")","v":""},{"$f":"IF( Ecarts!$E5=$A$1, IF(Ecarts!L5=\"\",\"\",Ecarts!L5),\"\")","v":""},{"$f":"IF( Ecarts!$E5=$A$1, IF(Ecarts!M5=\"\",\"\",Ecarts!M5),\"\")","v":""},0,0]
[{"$f":"IF( Ecarts!$E6=$A$1,IF( Ecarts!B6=\"\",\"\",Ecarts!A6),\"\")","v":""},{"$f":"IF( Ecarts!$E6=$A$1,IF( Ecarts!C6=\"\",\"\",Ecarts!C6),\"\")","v":""},{"$f":"IF( Ecarts!$E6=$A$1, IF(Ecarts!F6=\"\",\"\",Ecarts!F6),\"\")","v":""},{"$f":"IF( Ecarts!$E6=$A$1, IF(Ecarts!I6=\"\",\"\",Ecarts!I6),\"\")","v":""},{"$f":"IF( Ecarts!$E6=$A$1, IF(Ecarts!J6=\"\",\"\",Ecarts!J6),\"\")","v":""},{"$f":"IF( Ecarts!$E6=$A$1, IF(Ecarts!K6=\"\",\"\",Ecarts!K6),\"\")","v":""},{"$f":"IF( Ecarts!$E6=$A$1, IF(Ecarts!L6=\"\",\"\",Ecarts!L6),\"\")","v":""},{"$f":"IF( Ecarts!$E6=$A$1, IF(Ecarts!M6=\"\",\"\",Ecarts!M6),\"\")","v":""},0,0]
[{"$f":"IF( Ecarts!$E7=$A$1,IF( Ecarts!B7=\"\",\"\",Ecarts!A7),\"\")","v":""},{"$f":"IF( Ecarts!$E7=$A$1,IF( Ecarts!C7=\"\",\"\",Ecarts!C7),\"\")","v":""},{"$f":"IF( Ecarts!$E7=$A$1, IF(Ecarts!F7=\"\",\"\",Ecarts!F7),\"\")","v":""},{"$f":"IF( Ecarts!$E7=$A$1, IF(Ecarts!I7=\"\",\"\",Ecarts!I7),\"\")","v":""},{"$f":"IF( Ecarts!$E7=$A$1, IF(Ecarts!J7=\"\",\"\",Ecarts!J7),\"\")","v":""},{"$f":"IF( Ecarts!$E7=$A$1, IF(Ecarts!K7=\"\",\"\",Ecarts!K7),\"\")","v":""},{"$f":"IF( Ecarts!$E7=$A$1, IF(Ecarts!L7=\"\",\"\",Ecarts!L7),\"\")","v":""},{"$f":"IF( Ecarts!$E7=$A$1, IF(Ecarts!M7=\"\",\"\",Ecarts!M7),\"\")","v":""},0,0]
[{"$f":"IF( Ecarts!$E8=$A$1,IF( Ecarts!B8=\"\",\"\",Ecarts!A8),\"\")","v":""},{"$f":"IF( Ecarts!$E8=$A$1,IF( Ecarts!C8=\"\",\"\",Ecarts!C8),\"\")","v":""},{"$f":"IF( Ecarts!$E8=$A$1, IF(Ecarts!F8=\"\",\"\",Ecarts!F8),\"\")","v":""},{"$f":"IF( Ecarts!$E8=$A$1, IF(Ecarts!I8=\"\",\"\",Ecarts!I8),\"\")","v":""},{"$f":"IF( Ecarts!$E8=$A$1, IF(Ecarts!J8=\"\",\"\",Ecarts!J8),\"\")","v":""},{"$f":"IF( Ecarts!$E8=$A$1, IF(Ecarts!K8=\"\",\"\",Ecarts!K8),\"\")","v":""},{"$f":"IF( Ecarts!$E8=$A$1, IF(Ecarts!L8=\"\",\"\",Ecarts!L8),\"\")","v":""},{"$f":"IF( Ecarts!$E8=$A$1, IF(Ecarts!M8=\"\",\"\",Ecarts!M8),\"\")","v":""},0,0]
[{"$f":"IF( Ecarts!$E9=$A$1,IF( Ecarts!B9=\"\",\"\",Ecarts!A9),\"\")","v":""},{"$f":"IF( Ecarts!$E9=$A$1,IF( Ecarts!C9=\"\",\"\",Ecarts!C9),\"\")","v":""},{"$f":"IF( Ecarts!$E9=$A$1, IF(Ecarts!F9=\"\",\"\",Ecarts!F9),\"\")","v":""},{"$f":"IF( Ecarts!$E9=$A$1, IF(Ecarts!I9=\"\",\"\",Ecarts!I9),\"\")","v":""},{"$f":"IF( Ecarts!$E9=$A$1, IF(Ecarts!J9=\"\",\"\",Ecarts!J9),\"\")","v":""},{"$f":"IF( Ecarts!$E9=$A$1, IF(Ecarts!K9=\"\",\"\",Ecarts!K9),\"\")","v":""},{"$f":"IF( Ecarts!$E9=$A$1, IF(Ecarts!L9=\"\",\"\",Ecarts!L9),\"\")","v":""},{"$f":"IF( Ecarts!$E9=$A$1, IF(Ecarts!M9=\"\",\"\",Ecarts!M9),\"\")","v":""},0,0]
[{"$f":"IF( Ecarts!$E10=$A$1,IF( Ecarts!B10=\"\",\"\",Ecarts!A10),\"\")","v":""},{"$f":"IF( Ecarts!$E10=$A$1,IF( Ecarts!C10=\"\",\"\",Ecarts!C10),\"\")","v":""},{"$f":"IF( Ecarts!$E10=$A$1, IF(Ecarts!F10=\"\",\"\",Ecarts!F10),\"\")","v":""},{"$f":"IF( Ecarts!$E10=$A$1, IF(Ecarts!I10=\"\",\"\",Ecarts!I10),\"\")","v":""},{"$f":"IF( Ecarts!$E10=$A$1, IF(Ecarts!J10=\"\",\"\",Ecarts!J10),\"\")","v":""},{"$f":"IF( Ecarts!$E10=$A$1, IF(Ecarts!K10=\"\",\"\",Ecarts!K10),\"\")","v":""},{"$f":"IF( Ecarts!$E10=$A$1, IF(Ecarts!L10=\"\",\"\",Ecarts!L10),\"\")","v":""},{"$f":"IF( Ecarts!$E10=$A$1, IF(Ecarts!M10=\"\",\"\",Ecarts!M10),\"\")","v":""},0,0]
[{"$f":"IF( Ecarts!$E11=$A$1,IF( Ecarts!B11=\"\",\"\",Ecarts!A11),\"\")","v":""},{"$f":"IF( Ecarts!$E11=$A$1,IF( Ecarts!C11=\"\",\"\",Ecarts!C11),\"\")","v":""},{"$f":"IF( Ecarts!$E11=$A$1, IF(Ecarts!F11=\"\",\"\",Ecarts!F11),\"\")","v":""},{"$f":"IF( Ecarts!$E11=$A$1, IF(Ecarts!I11=\"\",\"\",Ecarts!I11),\"\")","v":""},{"$f":"IF( Ecarts!$E11=$A$1, IF(Ecarts!J11=\"\",\"\",Ecarts!J11),\"\")","v":""},{"$f":"IF( Ecarts!$E11=$A$1, IF(Ecarts!K11=\"\",\"\",Ecarts!K11),\"\")","v":""},{"$f":"IF( Ecarts!$E11=$A$1, IF(Ecarts!L11=\"\",\"\",Ecarts!L11),\"\")","v":""},{"$f":"IF( Ecarts!$E11=$A$1, IF(Ecarts!M11=\"\",\"\",Ecarts!M11),\"\")","v":""},0,0]
[{"$f":"IF( Ecarts!$E12=$A$1,IF( Ecarts!B12=\"\",\"\",Ecarts!A12),\"\")","v":""},{"$f":"IF( Ecarts!$E12=$A$1,IF( Ecarts!C12=\"\",\"\",Ecarts!C12),\"\")","v":""},{"$f":"IF( Ecarts!$E12=$A$1, IF(Ecarts!F12=\"\",\"\",Ecarts!F12),\"\")","v":""},{"$f":"IF( Ecarts!$E12=$A$1, IF(Ecarts!I12=\"\",\"\",Ecarts!I12),\"\")","v":""},{"$f":"IF( Ecarts!$E12=$A$1, IF(Ecarts!J12=\"\",\"\",Ecarts!J12),\"\")","v":""},{"$f":"IF( Ecarts!$E12=$A$1, IF(Ecarts!K12=\"\",\"\",Ecarts!K12),\"\")","v":""},{"$f":"IF( Ecarts!$E12=$A$1, IF(Ecarts!L12=\"\",\"\",Ecarts!L12),\"\")","v":""},{"$f":"IF( Ecarts!$E12=$A$1, IF(Ecarts!M12=\"\",\"\",Ecarts!M12),\"\")","v":""},0,0]
[{"$f":"IF( Ecarts!$E13=$A$1,IF( Ecarts!B13=\"\",\"\",Ecarts!A13),\"\")","v":""},{"$f":"IF( Ecarts!$E13=$A$1,IF( Ecarts!C13=\"\",\"\",Ecarts!C13),\"\")","v":""},{"$f":"IF( Ecarts!$E13=$A$1, IF(Ecarts!F13=\"\",\"\",Ecarts!F13),\"\")","v":""},{"$f":"IF( Ecarts!$E13=$A$1, IF(Ecarts!I13=\"\",\"\",Ecarts!I13),\"\")","v":""},{"$f":"IF( Ecarts!$E13=$A$1, IF(Ecarts!J13=\"\",\"\",Ecarts!J13),\"\")","v":""},{"$f":"IF( Ecarts!$E13=$A$1, IF(Ecarts!K13=\"\",\"\",Ecarts!K13),\"\")","v":""},{"$f":"IF( Ecarts!$E13=$A$1, IF(Ecarts!L13=\"\",\"\",Ecarts!L13),\"\")","v":""},{"$f":"IF( Ecarts!$E13=$A$1, IF(Ecarts!M13=\"\",\"\",Ecarts!M13),\"\")","v":""},0,0]
[{"$f":"IF( Ecarts!$E14=$A$1,IF( Ecarts!B14=\"\",\"\",Ecarts!A14),\"\")","v":""},{"$f":"IF( Ecarts!$E14=$A$1,IF( Ecarts!C14=\"\",\"\",Ecarts!C14),\"\")","v":""},{"$f":"IF( Ecarts!$E14=$A$1, IF(Ecarts!F14=\"\",\"\",Ecarts!F14),\"\")","v":""},{"$f":"IF( Ecarts!$E14=$A$1, IF(Ecarts!I14=\"\",\"\",Ecarts!I14),\"\")","v":""},{"$f":"IF( Ecarts!$E14=$A$1, IF(Ecarts!J14=\"\",\"\",Ecarts!J14),\"\")","v":""},{"$f":"IF( Ecarts!$E14=$A$1, IF(Ecarts!K14=\"\",\"\",Ecarts!K14),\"\")","v":""},{"$f":"IF( Ecarts!$E14=$A$1, IF(Ecarts!L14=\"\",\"\",Ecarts!L14),\"\")","v":""},{"$f":"IF( Ecarts!$E14=$A$1, IF(Ecarts!M14=\"\",\"\",Ecarts!M14),\"\")","v":""},0,0]
[{"$f":"IF( Ecarts!$E15=$A$1,IF( Ecarts!B15=\"\",\"\",Ecarts!A15),\"\")","v":""},{"$f":"IF( Ecarts!$E15=$A$1,IF( Ecarts!C15=\"\",\"\",Ecarts!C15),\"\")","v":""},{"$f":"IF( Ecarts!$E15=$A$1, IF(Ecarts!F15=\"\",\"\",Ecarts!F15),\"\")","v":""},{"$f":"IF( Ecarts!$E15=$A$1, IF(Ecarts!I15=\"\",\"\",Ecarts!I15),\"\")","v":""},{"$f":"IF( Ecarts!$E15=$A$1, IF(Ecarts!J15=\"\",\"\",Ecarts!J15),\"\")","v":""},{"$f":"IF( Ecarts!$E15=$A$1, IF(Ecarts!K15=\"\",\"\",Ecarts!K15),\"\")","v":""},{"$f":"IF( Ecarts!$E15=$A$1, IF(Ecarts!L15=\"\",\"\",Ecarts!L15),\"\")","v":""},{"$f":"IF( Ecarts!$E15=$A$1, IF(Ecarts!M15=\"\",\"\",Ecarts!M15),\"\")","v":""},0,0]
[{"$f":"IF( Ecarts!$E16=$A$1,IF( Ecarts!B16=\"\",\"\",Ecarts!A16),\"\")","v":""},{"$f":"IF( Ecarts!$E16=$A$1,IF( Ecarts!C16=\"\",\"\",Ecarts!C16),\"\")","v":""},{"$f":"IF( Ecarts!$E16=$A$1, IF(Ecarts!F16=\"\",\"\",Ecarts!F16),\"\")","v":""},{"$f":"IF( Ecarts!$E16=$A$1, IF(Ecarts!I16=\"\",\"\",Ecarts!I16),\"\")","v":""},{"$f":"IF( Ecarts!$E16=$A$1, IF(Ecarts!J16=\"\",\"\",Ecarts!J16),\"\")","v":""},{"$f":"IF( Ecarts!$E16=$A$1, IF(Ecarts!K16=\"\",\"\",Ecarts!K16),\"\")","v":""},{"$f":"IF( Ecarts!$E16=$A$1, IF(Ecarts!L16=\"\",\"\",Ecarts!L16),\"\")","v":""},{"$f":"IF( Ecarts!$E16=$A$1, IF(Ecarts!M16=\"\",\"\",Ecarts!M16),\"\")","v":""},0,0]
[{"$f":"IF( Ecarts!$E17=$A$1,IF( Ecarts!B17=\"\",\"\",Ecarts!A17),\"\")","v":""},{"$f":"IF( Ecarts!$E17=$A$1,IF( Ecarts!C17=\"\",\"\",Ecarts!C17),\"\")","v":""},{"$f":"IF( Ecarts!$E17=$A$1, IF(Ecarts!F17=\"\",\"\",Ecarts!F17),\"\")","v":""},{"$f":"IF( Ecarts!$E17=$A$1, IF(Ecarts!I17=\"\",\"\",Ecarts!I17),\"\")","v":""},{"$f":"IF( Ecarts!$E17=$A$1, IF(Ecarts!J17=\"\",\"\",Ecarts!J17),\"\")","v":""},{"$f":"IF( Ecarts!$E17=$A$1, IF(Ecarts!K17=\"\",\"\",Ecarts!K17),\"\")","v":""},{"$f":"IF( Ecarts!$E17=$A$1, IF(Ecarts!L17=\"\",\"\",Ecarts!L17),\"\")","v":""},{"$f":"IF( Ecarts!$E17=$A$1, IF(Ecarts!M17=\"\",\"\",Ecarts!M17),\"\")","v":""},0,0]
[{"$f":"IF( Ecarts!$E18=$A$1,IF( Ecarts!B18=\"\",\"\",Ecarts!A18),\"\")","v":""},{"$f":"IF( Ecarts!$E18=$A$1,IF( Ecarts!C18=\"\",\"\",Ecarts!C18),\"\")","v":""},{"$f":"IF( Ecarts!$E18=$A$1, IF(Ecarts!F18=\"\",\"\",Ecarts!F18),\"\")","v":""},{"$f":"IF( Ecarts!$E18=$A$1, IF(Ecarts!I18=\"\",\"\",Ecarts!I18),\"\")","v":""},{"$f":"IF( Ecarts!$E18=$A$1, IF(Ecarts!J18=\"\",\"\",Ecarts!J18),\"\")","v":""},{"$f":"IF( Ecarts!$E18=$A$1, IF(Ecarts!K18=\"\",\"\",Ecarts!K18),\"\")","v":""},{"$f":"IF( Ecarts!$E18=$A$1, IF(Ecarts!L18=\"\",\"\",Ecarts!L18),\"\")","v":""},{"$f":"IF( Ecarts!$E18=$A$1, IF(Ecarts!M18=\"\",\"\",Ecarts!M18),\"\")","v":""},0,0]
[{"$f":"IF( Ecarts!$E19=$A$1,IF( Ecarts!B19=\"\",\"\",Ecarts!A19),\"\")","v":""},{"$f":"IF( Ecarts!$E19=$A$1,IF( Ecarts!C19=\"\",\"\",Ecarts!C19),\"\")","v":""},{"$f":"IF( Ecarts!$E19=$A$1, IF(Ecarts!F19=\"\",\"\",Ecarts!F19),\"\")","v":""},{"$f":"IF( Ecarts!$E19=$A$1, IF(Ecarts!I19=\"\",\"\",Ecarts!I19),\"\")","v":""},{"$f":"IF( Ecarts!$E19=$A$1, IF(Ecarts!J19=\"\",\"\",Ecarts!J19),\"\")","v":""},{"$f":"IF( Ecarts!$E19=$A$1, IF(Ecarts!K19=\"\",\"\",Ecarts!K19),\"\")","v":""},{"$f":"IF( Ecarts!$E19=$A$1, IF(Ecarts!L19=\"\",\"\",Ecarts!L19),\"\")","v":""},{"$f":"IF( Ecarts!$E19=$A$1, IF(Ecarts!M19=\"\",\"\",Ecarts!M19),\"\")","v":""},0,0]
[{"$f":"IF( Ecarts!$E20=$A$1,IF( Ecarts!B20=\"\",\"\",Ecarts!A20),\"\")","v":""},{"$f":"IF( Ecarts!$E20=$A$1,IF( Ecarts!C20=\"\",\"\",Ecarts!C20),\"\")","v":""},{"$f":"IF( Ecarts!$E20=$A$1, IF(Ecarts!F20=\"\",\"\",Ecarts!F20),\"\")","v":""},{"$f":"IF( Ecarts!$E20=$A$1, IF(Ecarts!I20=\"\",\"\",Ecarts!I20),\"\")","v":""},{"$f":"IF( Ecarts!$E20=$A$1, IF(Ecarts!J20=\"\",\"\",Ecarts!J20),\"\")","v":""},{"$f":"IF( Ecarts!$E20=$A$1, IF(Ecarts!K20=\"\",\"\",Ecarts!K20),\"\")","v":""},{"$f":"IF( Ecarts!$E20=$A$1, IF(Ecarts!L20=\"\",\"\",Ecarts!L20),\"\")","v":""},{"$f":"IF( Ecarts!$E20=$A$1, IF(Ecarts!M20=\"\",\"\",Ecarts!M20),\"\")","v":""},0,0]
[{"$f":"IF( Ecarts!$E21=$A$1,IF( Ecarts!B21=\"\",\"\",Ecarts!A21),\"\")","v":""},{"$f":"IF( Ecarts!$E21=$A$1,IF( Ecarts!C21=\"\",\"\",Ecarts!C21),\"\")","v":""},{"$f":"IF( Ecarts!$E21=$A$1, IF(Ecarts!F21=\"\",\"\",Ecarts!F21),\"\")","v":""},{"$f":"IF( Ecarts!$E21=$A$1, IF(Ecarts!I21=\"\",\"\",Ecarts!I21),\"\")","v":""},{"$f":"IF( Ecarts!$E21=$A$1, IF(Ecarts!J21=\"\",\"\",Ecarts!J21),\"\")","v":""},{"$f":"IF( Ecarts!$E21=$A$1, IF(Ecarts!K21=\"\",\"\",Ecarts!K21),\"\")","v":""},{"$f":"IF( Ecarts!$E21=$A$1, IF(Ecarts!L21=\"\",\"\",Ecarts!L21),\"\")","v":""},{"$f":"IF( Ecarts!$E21=$A$1, IF(Ecarts!M21=\"\",\"\",Ecarts!M21),\"\")","v":""},0,0]
[{"$f":"IF( Ecarts!$E22=$A$1,IF( Ecarts!B22=\"\",\"\",Ecarts!A22),\"\")","v":""},{"$f":"IF( Ecarts!$E22=$A$1,IF( Ecarts!C22=\"\",\"\",Ecarts!C22),\"\")","v":""},{"$f":"IF( Ecarts!$E22=$A$1, IF(Ecarts!F22=\"\",\"\",Ecarts!F22),\"\")","v":""},{"$f":"IF( Ecarts!$E22=$A$1, IF(Ecarts!I22=\"\",\"\",Ecarts!I22),\"\")","v":""},{"$f":"IF( Ecarts!$E22=$A$1, IF(Ecarts!J22=\"\",\"\",Ecarts!J22),\"\")","v":""},{"$f":"IF( Ecarts!$E22=$A$1, IF(Ecarts!K22=\"\",\"\",Ecarts!K22),\"\")","v":""},{"$f":"IF( Ecarts!$E22=$A$1, IF(Ecarts!L22=\"\",\"\",Ecarts!L22),\"\")","v":""},{"$f":"IF( Ecarts!$E22=$A$1, IF(Ecarts!M22=\"\",\"\",Ecarts!M22),\"\")","v":""},0,0]
[{"$f":"IF( Ecarts!$E23=$A$1,IF( Ecarts!B23=\"\",\"\",Ecarts!A23),\"\")","v":""},{"$f":"IF( Ecarts!$E23=$A$1,IF( Ecarts!C23=\"\",\"\",Ecarts!C23),\"\")","v":""},{"$f":"IF( Ecarts!$E23=$A$1, IF(Ecarts!F23=\"\",\"\",Ecarts!F23),\"\")","v":""},{"$f":"IF( Ecarts!$E23=$A$1, IF(Ecarts!I23=\"\",\"\",Ecarts!I23),\"\")","v":""},{"$f":"IF( Ecarts!$E23=$A$1, IF(Ecarts!J23=\"\",\"\",Ecarts!J23),\"\")","v":""},{"$f":"IF( Ecarts!$E23=$A$1, IF(Ecarts!K23=\"\",\"\",Ecarts!K23),\"\")","v":""},{"$f":"IF( Ecarts!$E23=$A$1, IF(Ecarts!L23=\"\",\"\",Ecarts!L23),\"\")","v":""},{"$f":"IF( Ecarts!$E23=$A$1, IF(Ecarts!M23=\"\",\"\",Ecarts!M23),\"\")","v":""},0,0]
[{"$f":"IF( Ecarts!$E24=$A$1,IF( Ecarts!B24=\"\",\"\",Ecarts!A24),\"\")","v":""},{"$f":"IF( Ecarts!$E24=$A$1,IF( Ecarts!C24=\"\",\"\",Ecarts!C24),\"\")","v":""},{"$f":"IF( Ecarts!$E24=$A$1, IF(Ecarts!F24=\"\",\"\",Ecarts!F24),\"\")","v":""},{"$f":"IF( Ecarts!$E24=$A$1, IF(Ecarts!I24=\"\",\"\",Ecarts!I24),\"\")","v":""},{"$f":"IF( Ecarts!$E24=$A$1, IF(Ecarts!J24=\"\",\"\",Ecarts!J24),\"\")","v":""},{"$f":"IF( Ecarts!$E24=$A$1, IF(Ecarts!K24=\"\",\"\",Ecarts!K24),\"\")","v":""},{"$f":"IF( Ecarts!$E24=$A$1, IF(Ecarts!L24=\"\",\"\",Ecarts!L24),\"\")","v":""},{"$f":"IF( Ecarts!$E24=$A$1, IF(Ecarts!M24=\"\",\"\",Ecarts!M24),\"\")","v":""},0,0]
[{"$f":"IF( Ecarts!$E25=$A$1,IF( Ecarts!B25=\"\",\"\",Ecarts!A25),\"\")","v":""},{"$f":"IF( Ecarts!$E25=$A$1,IF( Ecarts!C25=\"\",\"\",Ecarts!C25),\"\")","v":""},{"$f":"IF( Ecarts!$E25=$A$1, IF(Ecarts!F25=\"\",\"\",Ecarts!F25),\"\")","v":""},{"$f":"IF( Ecarts!$E25=$A$1, IF(Ecarts!I25=\"\",\"\",Ecarts!I25),\"\")","v":""},{"$f":"IF( Ecarts!$E25=$A$1, IF(Ecarts!J25=\"\",\"\",Ecarts!J25),\"\")","v":""},{"$f":"IF( Ecarts!$E25=$A$1, IF(Ecarts!K25=\"\",\"\",Ecarts!K25),\"\")","v":""},{"$f":"IF( Ecarts!$E25=$A$1, IF(Ecarts!L25=\"\",\"\",Ecarts!L25),\"\")","v":""},{"$f":"IF( Ecarts!$E25=$A$1, IF(Ecarts!M25=\"\",\"\",Ecarts!M25),\"\")","v":""},0,0]
[{"$f":"IF( Ecarts!$E26=$A$1,IF( Ecarts!B26=\"\",\"\",Ecarts!A26),\"\")","v":""},{"$f":"IF( Ecarts!$E26=$A$1,IF( Ecarts!C26=\"\",\"\",Ecarts!C26),\"\")","v":""},{"$f":"IF( Ecarts!$E26=$A$1, IF(Ecarts!F26=\"\",\"\",Ecarts!F26),\"\")","v":""},{"$f":"IF( Ecarts!$E26=$A$1, IF(Ecarts!I26=\"\",\"\",Ecarts!I26),\"\")","v":""},{"$f":"IF( Ecarts!$E26=$A$1, IF(Ecarts!J26=\"\",\"\",Ecarts!J26),\"\")","v":""},{"$f":"IF( Ecarts!$E26=$A$1, IF(Ecarts!K26=\"\",\"\",Ecarts!K26),\"\")","v":""},{"$f":"IF( Ecarts!$E26=$A$1, IF(Ecarts!L26=\"\",\"\",Ecarts!L26),\"\")","v":""},{"$f":"IF( Ecarts!$E26=$A$1, IF(Ecarts!M26=\"\",\"\",Ecarts!M26),\"\")","v":""},0,0]
[{"$f":"IF( Ecarts!$E27=$A$1,IF( Ecarts!B27=\"\",\"\",Ecarts!A27),\"\")","v":""},{"$f":"IF( Ecarts!$E27=$A$1,IF( Ecarts!C27=\"\",\"\",Ecarts!C27),\"\")","v":""},{"$f":"IF( Ecarts!$E27=$A$1, IF(Ecarts!F27=\"\",\"\",Ecarts!F27),\"\")","v":""},{"$f":"IF( Ecarts!$E27=$A$1, IF(Ecarts!I27=\"\",\"\",Ecarts!I27),\"\")","v":""},{"$f":"IF( Ecarts!$E27=$A$1, IF(Ecarts!J27=\"\",\"\",Ecarts!J27),\"\")","v":""},{"$f":"IF( Ecarts!$E27=$A$1, IF(Ecarts!K27=\"\",\"\",Ecarts!K27),\"\")","v":""},{"$f":"IF( Ecarts!$E27=$A$1, IF(Ecarts!L27=\"\",\"\",Ecarts!L27),\"\")","v":""},{"$f":"IF( Ecarts!$E27=$A$1, IF(Ecarts!M27=\"\",\"\",Ecarts!M27),\"\")","v":""},0,0]
[{"$f":"IF( Ecarts!$E28=$A$1,IF( Ecarts!B28=\"\",\"\",Ecarts!A28),\"\")","v":""},{"$f":"IF( Ecarts!$E28=$A$1,IF( Ecarts!C28=\"\",\"\",Ecarts!C28),\"\")","v":""},{"$f":"IF( Ecarts!$E28=$A$1, IF(Ecarts!F28=\"\",\"\",Ecarts!F28),\"\")","v":""},{"$f":"IF( Ecarts!$E28=$A$1, IF(Ecarts!I28=\"\",\"\",Ecarts!I28),\"\")","v":""},{"$f":"IF( Ecarts!$E28=$A$1, IF(Ecarts!J28=\"\",\"\",Ecarts!J28),\"\")","v":""},{"$f":"IF( Ecarts!$E28=$A$1, IF(Ecarts!K28=\"\",\"\",Ecarts!K28),\"\")","v":""},{"$f":"IF( Ecarts!$E28=$A$1, IF(Ecarts!L28=\"\",\"\",Ecarts!L28),\"\")","v":""},{"$f":"IF( Ecarts!$E28=$A$1, IF(Ecarts!M28=\"\",\"\",Ecarts!M28),\"\")","v":""},0,0]
[{"$f":"IF( Ecarts!$E29=$A$1,IF( Ecarts!B29=\"\",\"\",Ecarts!A29),\"\")","v":""},{"$f":"IF( Ecarts!$E29=$A$1,IF( Ecarts!C29=\"\",\"\",Ecarts!C29),\"\")","v":""},{"$f":"IF( Ecarts!$E29=$A$1, IF(Ecarts!F29=\"\",\"\",Ecarts!F29),\"\")","v":""},{"$f":"IF( Ecarts!$E29=$A$1, IF(Ecarts!I29=\"\",\"\",Ecarts!I29),\"\")","v":""},{"$f":"IF( Ecarts!$E29=$A$1, IF(Ecarts!J29=\"\",\"\",Ecarts!J29),\"\")","v":""},{"$f":"IF( Ecarts!$E29=$A$1, IF(Ecarts!K29=\"\",\"\",Ecarts!K29),\"\")","v":""},{"$f":"IF( Ecarts!$E29=$A$1, IF(Ecarts!L29=\"\",\"\",Ecarts!L29),\"\")","v":""},{"$f":"IF( Ecarts!$E29=$A$1, IF(Ecarts!M29=\"\",\"\",Ecarts!M29),\"\")","v":""},0,0]
[{"$f":"IF( Ecarts!$E30=$A$1,IF( Ecarts!B30=\"\",\"\",Ecarts!A30),\"\")","v":""},{"$f":"IF( Ecarts!$E30=$A$1,IF( Ecarts!C30=\"\",\"\",Ecarts!C30),\"\")","v":""},{"$f":"IF( Ecarts!$E30=$A$1, IF(Ecarts!F30=\"\",\"\",Ecarts!F30),\"\")","v":""},{"$f":"IF( Ecarts!$E30=$A$1, IF(Ecarts!I30=\"\",\"\",Ecarts!I30),\"\")","v":""},{"$f":"IF( Ecarts!$E30=$A$1, IF(Ecarts!J30=\"\",\"\",Ecarts!J30),\"\")","v":""},{"$f":"IF( Ecarts!$E30=$A$1, IF(Ecarts!K30=\"\",\"\",Ecarts!K30),\"\")","v":""},{"$f":"IF( Ecarts!$E30=$A$1, IF(Ecarts!L30=\"\",\"\",Ecarts!L30),\"\")","v":""},{"$f":"IF( Ecarts!$E30=$A$1, IF(Ecarts!M30=\"\",\"\",Ecarts!M30),\"\")","v":""},0,0]
[{"$f":"IF( Ecarts!$E31=$A$1,IF( Ecarts!B31=\"\",\"\",Ecarts!A31),\"\")","v":""},{"$f":"IF( Ecarts!$E31=$A$1,IF( Ecarts!C31=\"\",\"\",Ecarts!C31),\"\")","v":""},{"$f":"IF( Ecarts!$E31=$A$1, IF(Ecarts!F31=\"\",\"\",Ecarts!F31),\"\")","v":""},{"$f":"IF( Ecarts!$E31=$A$1, IF(Ecarts!I31=\"\",\"\",Ecarts!I31),\"\")","v":""},{"$f":"IF( Ecarts!$E31=$A$1, IF(Ecarts!J31=\"\",\"\",Ecarts!J31),\"\")","v":""},{"$f":"IF( Ecarts!$E31=$A$1, IF(Ecarts!K31=\"\",\"\",Ecarts!K31),\"\")","v":""},{"$f":"IF( Ecarts!$E31=$A$1, IF(Ecarts!L31=\"\",\"\",Ecarts!L31),\"\")","v":""},{"$f":"IF( Ecarts!$E31=$A$1, IF(Ecarts!M31=\"\",\"\",Ecarts!M31),\"\")","v":""},0,0]
[{"$f":"IF( Ecarts!$E32=$A$1,IF( Ecarts!B32=\"\",\"\",Ecarts!A32),\"\")","v":""},{"$f":"IF( Ecarts!$E32=$A$1,IF( Ecarts!C32=\"\",\"\",Ecarts!C32),\"\")","v":""},{"$f":"IF( Ecarts!$E32=$A$1, IF(Ecarts!F32=\"\",\"\",Ecarts!F32),\"\")","v":""},{"$f":"IF( Ecarts!$E32=$A$1, IF(Ecarts!I32=\"\",\"\",Ecarts!I32),\"\")","v":""},{"$f":"IF( Ecarts!$E32=$A$1, IF(Ecarts!J32=\"\",\"\",Ecarts!J32),\"\")","v":""},{"$f":"IF( Ecarts!$E32=$A$1, IF(Ecarts!K32=\"\",\"\",Ecarts!K32),\"\")","v":""},{"$f":"IF( Ecarts!$E32=$A$1, IF(Ecarts!L32=\"\",\"\",Ecarts!L32),\"\")","v":""},{"$f":"IF( Ecarts!$E32=$A$1, IF(Ecarts!M32=\"\",\"\",Ecarts!M32),\"\")","v":""},0,0]
[{"$f":"IF( Ecarts!$E33=$A$1,IF( Ecarts!B33=\"\",\"\",Ecarts!A33),\"\")","v":""},{"$f":"IF( Ecarts!$E33=$A$1,IF( Ecarts!C33=\"\",\"\",Ecarts!C33),\"\")","v":""},{"$f":"IF( Ecarts!$E33=$A$1, IF(Ecarts!F33=\"\",\"\",Ecarts!F33),\"\")","v":""},{"$f":"IF( Ecarts!$E33=$A$1, IF(Ecarts!I33=\"\",\"\",Ecarts!I33),\"\")","v":""},{"$f":"IF( Ecarts!$E33=$A$1, IF(Ecarts!J33=\"\",\"\",Ecarts!J33),\"\")","v":""},{"$f":"IF( Ecarts!$E33=$A$1, IF(Ecarts!K33=\"\",\"\",Ecarts!K33),\"\")","v":""},{"$f":"IF( Ecarts!$E33=$A$1, IF(Ecarts!L33=\"\",\"\",Ecarts!L33),\"\")","v":""},{"$f":"IF( Ecarts!$E33=$A$1, IF(Ecarts!M33=\"\",\"\",Ecarts!M33),\"\")","v":""},0,0]
[{"$f":"IF( Ecarts!$E34=$A$1,IF( Ecarts!B34=\"\",\"\",Ecarts!A34),\"\")","v":""},{"$f":"IF( Ecarts!$E34=$A$1,IF( Ecarts!C34=\"\",\"\",Ecarts!C34),\"\")","v":""},{"$f":"IF( Ecarts!$E34=$A$1, IF(Ecarts!F34=\"\",\"\",Ecarts!F34),\"\")","v":""},{"$f":"IF( Ecarts!$E34=$A$1, IF(Ecarts!I34=\"\",\"\",Ecarts!I34),\"\")","v":""},{"$f":"IF( Ecarts!$E34=$A$1, IF(Ecarts!J34=\"\",\"\",Ecarts!J34),\"\")","v":""},{"$f":"IF( Ecarts!$E34=$A$1, IF(Ecarts!K34=\"\",\"\",Ecarts!K34),\"\")","v":""},{"$f":"IF( Ecarts!$E34=$A$1, IF(Ecarts!L34=\"\",\"\",Ecarts!L34),\"\")","v":""},{"$f":"IF( Ecarts!$E34=$A$1, IF(Ecarts!M34=\"\",\"\",Ecarts!M34),\"\")","v":""},0,0]
[{"$f":"IF( Ecarts!$E35=$A$1,IF( Ecarts!B35=\"\",\"\",Ecarts!A35),\"\")","v":""},{"$f":"IF( Ecarts!$E35=$A$1,IF( Ecarts!C35=\"\",\"\",Ecarts!C35),\"\")","v":""},{"$f":"IF( Ecarts!$E35=$A$1, IF(Ecarts!F35=\"\",\"\",Ecarts!F35),\"\")","v":""},{"$f":"IF( Ecarts!$E35=$A$1, IF(Ecarts!I35=\"\",\"\",Ecarts!I35),\"\")","v":""},{"$f":"IF( Ecarts!$E35=$A$1, IF(Ecarts!J35=\"\",\"\",Ecarts!J35),\"\")","v":""},{"$f":"IF( Ecarts!$E35=$A$1, IF(Ecarts!K35=\"\",\"\",Ecarts!K35),\"\")","v":""},{"$f":"IF( Ecarts!$E35=$A$1, IF(Ecarts!L35=\"\",\"\",Ecarts!L35),\"\")","v":""},{"$f":"IF( Ecarts!$E35=$A$1, IF(Ecarts!M35=\"\",\"\",Ecarts!M35),\"\")","v":""},0,0]
[{"$f":"IF( Ecarts!$E36=$A$1,IF( Ecarts!B36=\"\",\"\",Ecarts!A36),\"\")","v":""},{"$f":"IF( Ecarts!$E36=$A$1,IF( Ecarts!C36=\"\",\"\",Ecarts!C36),\"\")","v":""},{"$f":"IF( Ecarts!$E36=$A$1, IF(Ecarts!F36=\"\",\"\",Ecarts!F36),\"\")","v":""},{"$f":"IF( Ecarts!$E36=$A$1, IF(Ecarts!I36=\"\",\"\",Ecarts!I36),\"\")","v":""},{"$f":"IF( Ecarts!$E36=$A$1, IF(Ecarts!J36=\"\",\"\",Ecarts!J36),\"\")","v":""},{"$f":"IF( Ecarts!$E36=$A$1, IF(Ecarts!K36=\"\",\"\",Ecarts!K36),\"\")","v":""},{"$f":"IF( Ecarts!$E36=$A$1, IF(Ecarts!L36=\"\",\"\",Ecarts!L36),\"\")","v":""},{"$f":"IF( Ecarts!$E36=$A$1, IF(Ecarts!M36=\"\",\"\",Ecarts!M36),\"\")","v":""},0,0]
[{"$f":"IF( Ecarts!$E37=$A$1,IF( Ecarts!B37=\"\",\"\",Ecarts!A37),\"\")","v":""},{"$f":"IF( Ecarts!$E37=$A$1,IF( Ecarts!C37=\"\",\"\",Ecarts!C37),\"\")","v":""},{"$f":"IF( Ecarts!$E37=$A$1, IF(Ecarts!F37=\"\",\"\",Ecarts!F37),\"\")","v":""},{"$f":"IF( Ecarts!$E37=$A$1, IF(Ecarts!I37=\"\",\"\",Ecarts!I37),\"\")","v":""},{"$f":"IF( Ecarts!$E37=$A$1, IF(Ecarts!J37=\"\",\"\",Ecarts!J37),\"\")","v":""},{"$f":"IF( Ecarts!$E37=$A$1, IF(Ecarts!K37=\"\",\"\",Ecarts!K37),\"\")","v":""},{"$f":"IF( Ecarts!$E37=$A$1, IF(Ecarts!L37=\"\",\"\",Ecarts!L37),\"\")","v":""},{"$f":"IF( Ecarts!$E37=$A$1, IF(Ecarts!M37=\"\",\"\",Ecarts!M37),\"\")","v":""},0,0]
[{"$f":"IF( Ecarts!$E38=$A$1,IF( Ecarts!B38=\"\",\"\",Ecarts!A38),\"\")","v":""},{"$f":"IF( Ecarts!$E38=$A$1,IF( Ecarts!C38=\"\",\"\",Ecarts!C38),\"\")","v":""},{"$f":"IF( Ecarts!$E38=$A$1, IF(Ecarts!F38=\"\",\"\",Ecarts!F38),\"\")","v":""},{"$f":"IF( Ecarts!$E38=$A$1, IF(Ecarts!I38=\"\",\"\",Ecarts!I38),\"\")","v":""},{"$f":"IF( Ecarts!$E38=$A$1, IF(Ecarts!J38=\"\",\"\",Ecarts!J38),\"\")","v":""},{"$f":"IF( Ecarts!$E38=$A$1, IF(Ecarts!K38=\"\",\"\",Ecarts!K38),\"\")","v":""},{"$f":"IF( Ecarts!$E38=$A$1, IF(Ecarts!L38=\"\",\"\",Ecarts!L38),\"\")","v":""},{"$f":"IF( Ecarts!$E38=$A$1, IF(Ecarts!M38=\"\",\"\",Ecarts!M38),\"\")","v":""},0,0]
[{"$f":"IF( Ecarts!$E39=$A$1,IF( Ecarts!B39=\"\",\"\",Ecarts!A39),\"\")","v":""},{"$f":"IF( Ecarts!$E39=$A$1,IF( Ecarts!C39=\"\",\"\",Ecarts!C39),\"\")","v":""},{"$f":"IF( Ecarts!$E39=$A$1, IF(Ecarts!F39=\"\",\"\",Ecarts!F39),\"\")","v":""},{"$f":"IF( Ecarts!$E39=$A$1, IF(Ecarts!I39=\"\",\"\",Ecarts!I39),\"\")","v":""},{"$f":"IF( Ecarts!$E39=$A$1, IF(Ecarts!J39=\"\",\"\",Ecarts!J39),\"\")","v":""},{"$f":"IF( Ecarts!$E39=$A$1, IF(Ecarts!K39=\"\",\"\",Ecarts!K39),\"\")","v":""},{"$f":"IF( Ecarts!$E39=$A$1, IF(Ecarts!L39=\"\",\"\",Ecarts!L39),\"\")","v":""},{"$f":"IF( Ecarts!$E39=$A$1, IF(Ecarts!M39=\"\",\"\",Ecarts!M39),\"\")","v":""},0,0]
[{"$f":"IF( Ecarts!$E40=$A$1,IF( Ecarts!B40=\"\",\"\",Ecarts!A40),\"\")","v":""},{"$f":"IF( Ecarts!$E40=$A$1,IF( Ecarts!C40=\"\",\"\",Ecarts!C40),\"\")","v":""},{"$f":"IF( Ecarts!$E40=$A$1, IF(Ecarts!F40=\"\",\"\",Ecarts!F40),\"\")","v":""},{"$f":"IF( Ecarts!$E40=$A$1, IF(Ecarts!I40=\"\",\"\",Ecarts!I40),\"\")","v":""},{"$f":"IF( Ecarts!$E40=$A$1, IF(Ecarts!J40=\"\",\"\",Ecarts!J40),\"\")","v":""},{"$f":"IF( Ecarts!$E40=$A$1, IF(Ecarts!K40=\"\",\"\",Ecarts!K40),\"\")","v":""},{"$f":"IF( Ecarts!$E40=$A$1, IF(Ecarts!L40=\"\",\"\",Ecarts!L40),\"\")","v":""},{"$f":"IF( Ecarts!$E40=$A$1, IF(Ecarts!M40=\"\",\"\",Ecarts!M40),\"\")","v":""},0,0]
[{"$f":"IF( Ecarts!$E41=$A$1,IF( Ecarts!B41=\"\",\"\",Ecarts!A41),\"\")","v":""},{"$f":"IF( Ecarts!$E41=$A$1,IF( Ecarts!C41=\"\",\"\",Ecarts!C41),\"\")","v":""},{"$f":"IF( Ecarts!$E41=$A$1, IF(Ecarts!F41=\"\",\"\",Ecarts!F41),\"\")","v":""},{"$f":"IF( Ecarts!$E41=$A$1, IF(Ecarts!I41=\"\",\"\",Ecarts!I41),\"\")","v":""},{"$f":"IF( Ecarts!$E41=$A$1, IF(Ecarts!J41=\"\",\"\",Ecarts!J41),\"\")","v":""},{"$f":"IF( Ecarts!$E41=$A$1, IF(Ecarts!K41=\"\",\"\",Ecarts!K41),\"\")","v":""},{"$f":"IF( Ecarts!$E41=$A$1, IF(Ecarts!L41=\"\",\"\",Ecarts!L41),\"\")","v":""},{"$f":"IF( Ecarts!$E41=$A$1, IF(Ecarts!M41=\"\",\"\",Ecarts!M41),\"\")","v":""},0,0]
[{"$f":"IF( Ecarts!$E42=$A$1,IF( Ecarts!B42=\"\",\"\",Ecarts!A42),\"\")","v":""},{"$f":"IF( Ecarts!$E42=$A$1,IF( Ecarts!C42=\"\",\"\",Ecarts!C42),\"\")","v":""},{"$f":"IF( Ecarts!$E42=$A$1, IF(Ecarts!F42=\"\",\"\",Ecarts!F42),\"\")","v":""},{"$f":"IF( Ecarts!$E42=$A$1, IF(Ecarts!I42=\"\",\"\",Ecarts!I42),\"\")","v":""},{"$f":"IF( Ecarts!$E42=$A$1, IF(Ecarts!J42=\"\",\"\",Ecarts!J42),\"\")","v":""},{"$f":"IF( Ecarts!$E42=$A$1, IF(Ecarts!K42=\"\",\"\",Ecarts!K42),\"\")","v":""},{"$f":"IF( Ecarts!$E42=$A$1, IF(Ecarts!L42=\"\",\"\",Ecarts!L42),\"\")","v":""},{"$f":"IF( Ecarts!$E42=$A$1, IF(Ecarts!M42=\"\",\"\",Ecarts!M42),\"\")","v":""},0,0]
[{"$f":"IF( Ecarts!$E43=$A$1,IF( Ecarts!B43=\"\",\"\",Ecarts!A43),\"\")","v":""},{"$f":"IF( Ecarts!$E43=$A$1,IF( Ecarts!C43=\"\",\"\",Ecarts!C43),\"\")","v":""},{"$f":"IF( Ecarts!$E43=$A$1, IF(Ecarts!F43=\"\",\"\",Ecarts!F43),\"\")","v":""},{"$f":"IF( Ecarts!$E43=$A$1, IF(Ecarts!I43=\"\",\"\",Ecarts!I43),\"\")","v":""},{"$f":"IF( Ecarts!$E43=$A$1, IF(Ecarts!J43=\"\",\"\",Ecarts!J43),\"\")","v":""},{"$f":"IF( Ecarts!$E43=$A$1, IF(Ecarts!K43=\"\",\"\",Ecarts!K43),\"\")","v":""},{"$f":"IF( Ecarts!$E43=$A$1, IF(Ecarts!L43=\"\",\"\",Ecarts!L43),\"\")","v":""},{"$f":"IF( Ecarts!$E43=$A$1, IF(Ecarts!M43=\"\",\"\",Ecarts!M43),\"\")","v":""},0,0]
[{"$f":"IF( Ecarts!$E44=$A$1,IF( Ecarts!B44=\"\",\"\",Ecarts!A44),\"\")","v":""},{"$f":"IF( Ecarts!$E44=$A$1,IF( Ecarts!C44=\"\",\"\",Ecarts!C44),\"\")","v":""},{"$f":"IF( Ecarts!$E44=$A$1, IF(Ecarts!F44=\"\",\"\",Ecarts!F44),\"\")","v":""},{"$f":"IF( Ecarts!$E44=$A$1, IF(Ecarts!I44=\"\",\"\",Ecarts!I44),\"\")","v":""},{"$f":"IF( Ecarts!$E44=$A$1, IF(Ecarts!J44=\"\",\"\",Ecarts!J44),\"\")","v":""},{"$f":"IF( Ecarts!$E44=$A$1, IF(Ecarts!K44=\"\",\"\",Ecarts!K44),\"\")","v":""},{"$f":"IF( Ecarts!$E44=$A$1, IF(Ecarts!L44=\"\",\"\",Ecarts!L44),\"\")","v":""},{"$f":"IF( Ecarts!$E44=$A$1, IF(Ecarts!M44=\"\",\"\",Ecarts!M44),\"\")","v":""},0,0]
[{"$f":"IF( Ecarts!$E45=$A$1,IF( Ecarts!B45=\"\",\"\",Ecarts!A45),\"\")","v":""},{"$f":"IF( Ecarts!$E45=$A$1,IF( Ecarts!C45=\"\",\"\",Ecarts!C45),\"\")","v":""},{"$f":"IF( Ecarts!$E45=$A$1, IF(Ecarts!F45=\"\",\"\",Ecarts!F45),\"\")","v":""},{"$f":"IF( Ecarts!$E45=$A$1, IF(Ecarts!I45=\"\",\"\",Ecarts!I45),\"\")","v":""},{"$f":"IF( Ecarts!$E45=$A$1, IF(Ecarts!J45=\"\",\"\",Ecarts!J45),\"\")","v":""},{"$f":"IF( Ecarts!$E45=$A$1, IF(Ecarts!K45=\"\",\"\",Ecarts!K45),\"\")","v":""},{"$f":"IF( Ecarts!$E45=$A$1, IF(Ecarts!L45=\"\",\"\",Ecarts!L45),\"\")","v":""},{"$f":"IF( Ecarts!$E45=$A$1, IF(Ecarts!M45=\"\",\"\",Ecarts!M45),\"\")","v":""},0,0]
[{"$f":"IF( Ecarts!$E46=$A$1,IF( Ecarts!B46=\"\",\"\",Ecarts!A46),\"\")","v":""},{"$f":"IF( Ecarts!$E46=$A$1,IF( Ecarts!C46=\"\",\"\",Ecarts!C46),\"\")","v":""},{"$f":"IF( Ecarts!$E46=$A$1, IF(Ecarts!F46=\"\",\"\",Ecarts!F46),\"\")","v":""},{"$f":"IF( Ecarts!$E46=$A$1, IF(Ecarts!I46=\"\",\"\",Ecarts!I46),\"\")","v":""},{"$f":"IF( Ecarts!$E46=$A$1, IF(Ecarts!J46=\"\",\"\",Ecarts!J46),\"\")","v":""},{"$f":"IF( Ecarts!$E46=$A$1, IF(Ecarts!K46=\"\",\"\",Ecarts!K46),\"\")","v":""},{"$f":"IF( Ecarts!$E46=$A$1, IF(Ecarts!L46=\"\",\"\",Ecarts!L46),\"\")","v":""},{"$f":"IF( Ecarts!$E46=$A$1, IF(Ecarts!M46=\"\",\"\",Ecarts!M46),\"\")","v":""},0,0]
[{"$f":"IF( Ecarts!$E47=$A$1,IF( Ecarts!B47=\"\",\"\",Ecarts!A47),\"\")","v":""},{"$f":"IF( Ecarts!$E47=$A$1,IF( Ecarts!C47=\"\",\"\",Ecarts!C47),\"\")","v":""},{"$f":"IF( Ecarts!$E47=$A$1, IF(Ecarts!F47=\"\",\"\",Ecarts!F47),\"\")","v":""},{"$f":"IF( Ecarts!$E47=$A$1, IF(Ecarts!I47=\"\",\"\",Ecarts!I47),\"\")","v":""},{"$f":"IF( Ecarts!$E47=$A$1, IF(Ecarts!J47=\"\",\"\",Ecarts!J47),\"\")","v":""},{"$f":"IF( Ecarts!$E47=$A$1, IF(Ecarts!K47=\"\",\"\",Ecarts!K47),\"\")","v":""},{"$f":"IF( Ecarts!$E47=$A$1, IF(Ecarts!L47=\"\",\"\",Ecarts!L47),\"\")","v":""},{"$f":"IF( Ecarts!$E47=$A$1, IF(Ecarts!M47=\"\",\"\",Ecarts!M47),\"\")","v":""},0,0]
[{"$f":"IF( Ecarts!$E48=$A$1,IF( Ecarts!B48=\"\",\"\",Ecarts!A48),\"\")","v":""},{"$f":"IF( Ecarts!$E48=$A$1,IF( Ecarts!C48=\"\",\"\",Ecarts!C48),\"\")","v":""},{"$f":"IF( Ecarts!$E48=$A$1, IF(Ecarts!F48=\"\",\"\",Ecarts!F48),\"\")","v":""},{"$f":"IF( Ecarts!$E48=$A$1, IF(Ecarts!I48=\"\",\"\",Ecarts!I48),\"\")","v":""},{"$f":"IF( Ecarts!$E48=$A$1, IF(Ecarts!J48=\"\",\"\",Ecarts!J48),\"\")","v":""},{"$f":"IF( Ecarts!$E48=$A$1, IF(Ecarts!K48=\"\",\"\",Ecarts!K48),\"\")","v":""},{"$f":"IF( Ecarts!$E48=$A$1, IF(Ecarts!L48=\"\",\"\",Ecarts!L48),\"\")","v":""},{"$f":"IF( Ecarts!$E48=$A$1, IF(Ecarts!M48=\"\",\"\",Ecarts!M48),\"\")","v":""},0,0]
[{"$f":"IF( Ecarts!$E49=$A$1,IF( Ecarts!B49=\"\",\"\",Ecarts!A49),\"\")","v":""},{"$f":"IF( Ecarts!$E49=$A$1,IF( Ecarts!C49=\"\",\"\",Ecarts!C49),\"\")","v":""},{"$f":"IF( Ecarts!$E49=$A$1, IF(Ecarts!F49=\"\",\"\",Ecarts!F49),\"\")","v":""},{"$f":"IF( Ecarts!$E49=$A$1, IF(Ecarts!I49=\"\",\"\",Ecarts!I49),\"\")","v":""},{"$f":"IF( Ecarts!$E49=$A$1, IF(Ecarts!J49=\"\",\"\",Ecarts!J49),\"\")","v":""},{"$f":"IF( Ecarts!$E49=$A$1, IF(Ecarts!K49=\"\",\"\",Ecarts!K49),\"\")","v":""},{"$f":"IF( Ecarts!$E49=$A$1, IF(Ecarts!L49=\"\",\"\",Ecarts!L49),\"\")","v":""},{"$f":"IF( Ecarts!$E49=$A$1, IF(Ecarts!M49=\"\",\"\",Ecarts!M49),\"\")","v":""},0,0]
[{"$f":"IF( Ecarts!$E50=$A$1,IF( Ecarts!B50=\"\",\"\",Ecarts!A50),\"\")","v":""},{"$f":"IF( Ecarts!$E50=$A$1,IF( Ecarts!C50=\"\",\"\",Ecarts!C50),\"\")","v":""},{"$f":"IF( Ecarts!$E50=$A$1, IF(Ecarts!F50=\"\",\"\",Ecarts!F50),\"\")","v":""},{"$f":"IF( Ecarts!$E50=$A$1, IF(Ecarts!I50=\"\",\"\",Ecarts!I50),\"\")","v":""},{"$f":"IF( Ecarts!$E50=$A$1, IF(Ecarts!J50=\"\",\"\",Ecarts!J50),\"\")","v":""},{"$f":"IF( Ecarts!$E50=$A$1, IF(Ecarts!K50=\"\",\"\",Ecarts!K50),\"\")","v":""},{"$f":"IF( Ecarts!$E50=$A$1, IF(Ecarts!L50=\"\",\"\",Ecarts!L50),\"\")","v":""},{"$f":"IF( Ecarts!$E50=$A$1, IF(Ecarts!M50=\"\",\"\",Ecarts!M50),\"\")","v":""},0,0]
[{"$f":"IF( Ecarts!$E51=$A$1,IF( Ecarts!B51=\"\",\"\",Ecarts!A51),\"\")","v":""},{"$f":"IF( Ecarts!$E51=$A$1,IF( Ecarts!C51=\"\",\"\",Ecarts!C51),\"\")","v":""},{"$f":"IF( Ecarts!$E51=$A$1, IF(Ecarts!F51=\"\",\"\",Ecarts!F51),\"\")","v":""},{"$f":"IF( Ecarts!$E51=$A$1, IF(Ecarts!I51=\"\",\"\",Ecarts!I51),\"\")","v":""},{"$f":"IF( Ecarts!$E51=$A$1, IF(Ecarts!J51=\"\",\"\",Ecarts!J51),\"\")","v":""},{"$f":"IF( Ecarts!$E51=$A$1, IF(Ecarts!K51=\"\",\"\",Ecarts!K51),\"\")","v":""},{"$f":"IF( Ecarts!$E51=$A$1, IF(Ecarts!L51=\"\",\"\",Ecarts!L51),\"\")","v":""},{"$f":"IF( Ecarts!$E51=$A$1, IF(Ecarts!M51=\"\",\"\",Ecarts!M51),\"\")","v":""},0,0]
[{"$f":"IF( Ecarts!$E52=$A$1,IF( Ecarts!B52=\"\",\"\",Ecarts!A52),\"\")","v":""},{"$f":"IF( Ecarts!$E52=$A$1,IF( Ecarts!C52=\"\",\"\",Ecarts!C52),\"\")","v":""},{"$f":"IF( Ecarts!$E52=$A$1, IF(Ecarts!F52=\"\",\"\",Ecarts!F52),\"\")","v":""},{"$f":"IF( Ecarts!$E52=$A$1, IF(Ecarts!I52=\"\",\"\",Ecarts!I52),\"\")","v":""},{"$f":"IF( Ecarts!$E52=$A$1, IF(Ecarts!J52=\"\",\"\",Ecarts!J52),\"\")","v":""},{"$f":"IF( Ecarts!$E52=$A$1, IF(Ecarts!K52=\"\",\"\",Ecarts!K52),\"\")","v":""},{"$f":"IF( Ecarts!$E52=$A$1, IF(Ecarts!L52=\"\",\"\",Ecarts!L52),\"\")","v":""},{"$f":"IF( Ecarts!$E52=$A$1, IF(Ecarts!M52=\"\",\"\",Ecarts!M52),\"\")","v":""},0,0]
[{"$f":"IF( Ecarts!$E53=$A$1,IF( Ecarts!B53=\"\",\"\",Ecarts!A53),\"\")","v":""},{"$f":"IF( Ecarts!$E53=$A$1,IF( Ecarts!C53=\"\",\"\",Ecarts!C53),\"\")","v":""},{"$f":"IF( Ecarts!$E53=$A$1, IF(Ecarts!F53=\"\",\"\",Ecarts!F53),\"\")","v":""},{"$f":"IF( Ecarts!$E53=$A$1, IF(Ecarts!I53=\"\",\"\",Ecarts!I53),\"\")","v":""},{"$f":"IF( Ecarts!$E53=$A$1, IF(Ecarts!J53=\"\",\"\",Ecarts!J53),\"\")","v":""},{"$f":"IF( Ecarts!$E53=$A$1, IF(Ecarts!K53=\"\",\"\",Ecarts!K53),\"\")","v":""},{"$f":"IF( Ecarts!$E53=$A$1, IF(Ecarts!L53=\"\",\"\",Ecarts!L53),\"\")","v":""},{"$f":"IF( Ecarts!$E53=$A$1, IF(Ecarts!M53=\"\",\"\",Ecarts!M53),\"\")","v":""},0,0]
[{"$f":"IF( Ecarts!$E54=$A$1,IF( Ecarts!B54=\"\",\"\",Ecarts!A54),\"\")","v":""},{"$f":"IF( Ecarts!$E54=$A$1,IF( Ecarts!C54=\"\",\"\",Ecarts!C54),\"\")","v":""},{"$f":"IF( Ecarts!$E54=$A$1, IF(Ecarts!F54=\"\",\"\",Ecarts!F54),\"\")","v":""},{"$f":"IF( Ecarts!$E54=$A$1, IF(Ecarts!I54=\"\",\"\",Ecarts!I54),\"\")","v":""},{"$f":"IF( Ecarts!$E54=$A$1, IF(Ecarts!J54=\"\",\"\",Ecarts!J54),\"\")","v":""},{"$f":"IF( Ecarts!$E54=$A$1, IF(Ecarts!K54=\"\",\"\",Ecarts!K54),\"\")","v":""},{"$f":"IF( Ecarts!$E54=$A$1, IF(Ecarts!L54=\"\",\"\",Ecarts!L54),\"\")","v":""},{"$f":"IF( Ecarts!$E54=$A$1, IF(Ecarts!M54=\"\",\"\",Ecarts!M54),\"\")","v":""},0,0]
[{"$f":"IF( Ecarts!$E55=$A$1,IF( Ecarts!B55=\"\",\"\",Ecarts!A55),\"\")","v":""},{"$f":"IF( Ecarts!$E55=$A$1,IF( Ecarts!C55=\"\",\"\",Ecarts!C55),\"\")","v":""},{"$f":"IF( Ecarts!$E55=$A$1, IF(Ecarts!F55=\"\",\"\",Ecarts!F55),\"\")","v":""},{"$f":"IF( Ecarts!$E55=$A$1, IF(Ecarts!I55=\"\",\"\",Ecarts!I55),\"\")","v":""},{"$f":"IF( Ecarts!$E55=$A$1, IF(Ecarts!J55=\"\",\"\",Ecarts!J55),\"\")","v":""},{"$f":"IF( Ecarts!$E55=$A$1, IF(Ecarts!K55=\"\",\"\",Ecarts!K55),\"\")","v":""},{"$f":"IF( Ecarts!$E55=$A$1, IF(Ecarts!L55=\"\",\"\",Ecarts!L55),\"\")","v":""},{"$f":"IF( Ecarts!$E55=$A$1, IF(Ecarts!M55=\"\",\"\",Ecarts!M55),\"\")","v":""},0,0]
[{"$f":"IF( Ecarts!$E56=$A$1,IF( Ecarts!B56=\"\",\"\",Ecarts!A56),\"\")","v":""},{"$f":"IF( Ecarts!$E56=$A$1,IF( Ecarts!C56=\"\",\"\",Ecarts!C56),\"\")","v":""},{"$f":"IF( Ecarts!$E56=$A$1, IF(Ecarts!F56=\"\",\"\",Ecarts!F56),\"\")","v":""},{"$f":"IF( Ecarts!$E56=$A$1, IF(Ecarts!I56=\"\",\"\",Ecarts!I56),\"\")","v":""},{"$f":"IF( Ecarts!$E56=$A$1, IF(Ecarts!J56=\"\",\"\",Ecarts!J56),\"\")","v":""},{"$f":"IF( Ecarts!$E56=$A$1, IF(Ecarts!K56=\"\",\"\",Ecarts!K56),\"\")","v":""},{"$f":"IF( Ecarts!$E56=$A$1, IF(Ecarts!L56=\"\",\"\",Ecarts!L56),\"\")","v":""},{"$f":"IF( Ecarts!$E56=$A$1, IF(Ecarts!M56=\"\",\"\",Ecarts!M56),\"\")","v":""},0,0]
[{"$f":"IF( Ecarts!$E57=$A$1,IF( Ecarts!B57=\"\",\"\",Ecarts!A57),\"\")","v":""},{"$f":"IF( Ecarts!$E57=$A$1,IF( Ecarts!C57=\"\",\"\",Ecarts!C57),\"\")","v":""},{"$f":"IF( Ecarts!$E57=$A$1, IF(Ecarts!F57=\"\",\"\",Ecarts!F57),\"\")","v":""},{"$f":"IF( Ecarts!$E57=$A$1, IF(Ecarts!I57=\"\",\"\",Ecarts!I57),\"\")","v":""},{"$f":"IF( Ecarts!$E57=$A$1, IF(Ecarts!J57=\"\",\"\",Ecarts!J57),\"\")","v":""},{"$f":"IF( Ecarts!$E57=$A$1, IF(Ecarts!K57=\"\",\"\",Ecarts!K57),\"\")","v":""},{"$f":"IF( Ecarts!$E57=$A$1, IF(Ecarts!L57=\"\",\"\",Ecarts!L57),\"\")","v":""},{"$f":"IF( Ecarts!$E57=$A$1, IF(Ecarts!M57=\"\",\"\",Ecarts!M57),\"\")","v":""},0,0]
[{"$f":"IF( Ecarts!$E58=$A$1,IF( Ecarts!B58=\"\",\"\",Ecarts!A58),\"\")","v":""},{"$f":"IF( Ecarts!$E58=$A$1,IF( Ecarts!C58=\"\",\"\",Ecarts!C58),\"\")","v":""},{"$f":"IF( Ecarts!$E58=$A$1, IF(Ecarts!F58=\"\",\"\",Ecarts!F58),\"\")","v":""},{"$f":"IF( Ecarts!$E58=$A$1, IF(Ecarts!I58=\"\",\"\",Ecarts!I58),\"\")","v":""},{"$f":"IF( Ecarts!$E58=$A$1, IF(Ecarts!J58=\"\",\"\",Ecarts!J58),\"\")","v":""},{"$f":"IF( Ecarts!$E58=$A$1, IF(Ecarts!K58=\"\",\"\",Ecarts!K58),\"\")","v":""},{"$f":"IF( Ecarts!$E58=$A$1, IF(Ecarts!L58=\"\",\"\",Ecarts!L58),\"\")","v":""},{"$f":"IF( Ecarts!$E58=$A$1, IF(Ecarts!M58=\"\",\"\",Ecarts!M58),\"\")","v":""},0,0]
[{"$f":"IF( Ecarts!$E59=$A$1,IF( Ecarts!B59=\"\",\"\",Ecarts!A59),\"\")","v":""},{"$f":"IF( Ecarts!$E59=$A$1,IF( Ecarts!C59=\"\",\"\",Ecarts!C59),\"\")","v":""},{"$f":"IF( Ecarts!$E59=$A$1, IF(Ecarts!F59=\"\",\"\",Ecarts!F59),\"\")","v":""},{"$f":"IF( Ecarts!$E59=$A$1, IF(Ecarts!I59=\"\",\"\",Ecarts!I59),\"\")","v":""},{"$f":"IF( Ecarts!$E59=$A$1, IF(Ecarts!J59=\"\",\"\",Ecarts!J59),\"\")","v":""},{"$f":"IF( Ecarts!$E59=$A$1, IF(Ecarts!K59=\"\",\"\",Ecarts!K59),\"\")","v":""},{"$f":"IF( Ecarts!$E59=$A$1, IF(Ecarts!L59=\"\",\"\",Ecarts!L59),\"\")","v":""},{"$f":"IF( Ecarts!$E59=$A$1, IF(Ecarts!M59=\"\",\"\",Ecarts!M59),\"\")","v":""},0,0]
[{"$f":"IF( Ecarts!$E60=$A$1,IF( Ecarts!B60=\"\",\"\",Ecarts!A60),\"\")","v":""},{"$f":"IF( Ecarts!$E60=$A$1,IF( Ecarts!C60=\"\",\"\",Ecarts!C60),\"\")","v":""},{"$f":"IF( Ecarts!$E60=$A$1, IF(Ecarts!F60=\"\",\"\",Ecarts!F60),\"\")","v":""},{"$f":"IF( Ecarts!$E60=$A$1, IF(Ecarts!I60=\"\",\"\",Ecarts!I60),\"\")","v":""},{"$f":"IF( Ecarts!$E60=$A$1, IF(Ecarts!J60=\"\",\"\",Ecarts!J60),\"\")","v":""},{"$f":"IF( Ecarts!$E60=$A$1, IF(Ecarts!K60=\"\",\"\",Ecarts!K60),\"\")","v":""},{"$f":"IF( Ecarts!$E60=$A$1, IF(Ecarts!L60=\"\",\"\",Ecarts!L60),\"\")","v":""},{"$f":"IF( Ecarts!$E60=$A$1, IF(Ecarts!M60=\"\",\"\",Ecarts!M60),\"\")","v":""},0,0]
[{"$f":"IF( Ecarts!$E61=$A$1,IF( Ecarts!B61=\"\",\"\",Ecarts!A61),\"\")","v":""},{"$f":"IF( Ecarts!$E61=$A$1,IF( Ecarts!C61=\"\",\"\",Ecarts!C61),\"\")","v":""},{"$f":"IF( Ecarts!$E61=$A$1, IF(Ecarts!F61=\"\",\"\",Ecarts!F61),\"\")","v":""},{"$f":"IF( Ecarts!$E61=$A$1, IF(Ecarts!I61=\"\",\"\",Ecarts!I61),\"\")","v":""},{"$f":"IF( Ecarts!$E61=$A$1, IF(Ecarts!J61=\"\",\"\",Ecarts!J61),\"\")","v":""},{"$f":"IF( Ecarts!$E61=$A$1, IF(Ecarts!K61=\"\",\"\",Ecarts!K61),\"\")","v":""},{"$f":"IF( Ecarts!$E61=$A$1, IF(Ecarts!L61=\"\",\"\",Ecarts!L61),\"\")","v":""},{"$f":"IF( Ecarts!$E61=$A$1, IF(Ecarts!M61=\"\",\"\",Ecarts!M61),\"\")","v":""},0,0]
[{"$f":"IF( Ecarts!$E62=$A$1,IF( Ecarts!B62=\"\",\"\",Ecarts!A62),\"\")","v":""},{"$f":"IF( Ecarts!$E62=$A$1,IF( Ecarts!C62=\"\",\"\",Ecarts!C62),\"\")","v":""},{"$f":"IF( Ecarts!$E62=$A$1, IF(Ecarts!F62=\"\",\"\",Ecarts!F62),\"\")","v":""},{"$f":"IF( Ecarts!$E62=$A$1, IF(Ecarts!I62=\"\",\"\",Ecarts!I62),\"\")","v":""},{"$f":"IF( Ecarts!$E62=$A$1, IF(Ecarts!J62=\"\",\"\",Ecarts!J62),\"\")","v":""},{"$f":"IF( Ecarts!$E62=$A$1, IF(Ecarts!K62=\"\",\"\",Ecarts!K62),\"\")","v":""},{"$f":"IF( Ecarts!$E62=$A$1, IF(Ecarts!L62=\"\",\"\",Ecarts!L62),\"\")","v":""},{"$f":"IF( Ecarts!$E62=$A$1, IF(Ecarts!M62=\"\",\"\",Ecarts!M62),\"\")","v":""},0,0]
[{"$f":"IF( Ecarts!$E63=$A$1,IF( Ecarts!B63=\"\",\"\",Ecarts!A63),\"\")","v":""},{"$f":"IF( Ecarts!$E63=$A$1,IF( Ecarts!C63=\"\",\"\",Ecarts!C63),\"\")","v":""},{"$f":"IF( Ecarts!$E63=$A$1, IF(Ecarts!F63=\"\",\"\",Ecarts!F63),\"\")","v":""},{"$f":"IF( Ecarts!$E63=$A$1, IF(Ecarts!I63=\"\",\"\",Ecarts!I63),\"\")","v":""},{"$f":"IF( Ecarts!$E63=$A$1, IF(Ecarts!J63=\"\",\"\",Ecarts!J63),\"\")","v":""},{"$f":"IF( Ecarts!$E63=$A$1, IF(Ecarts!K63=\"\",\"\",Ecarts!K63),\"\")","v":""},{"$f":"IF( Ecarts!$E63=$A$1, IF(Ecarts!L63=\"\",\"\",Ecarts!L63),\"\")","v":""},{"$f":"IF( Ecarts!$E63=$A$1, IF(Ecarts!M63=\"\",\"\",Ecarts!M63),\"\")","v":""},0,0]
[{"$f":"IF( Ecarts!$E64=$A$1,IF( Ecarts!B64=\"\",\"\",Ecarts!A64),\"\")","v":""},{"$f":"IF( Ecarts!$E64=$A$1,IF( Ecarts!C64=\"\",\"\",Ecarts!C64),\"\")","v":""},{"$f":"IF( Ecarts!$E64=$A$1, IF(Ecarts!F64=\"\",\"\",Ecarts!F64),\"\")","v":""},{"$f":"IF( Ecarts!$E64=$A$1, IF(Ecarts!I64=\"\",\"\",Ecarts!I64),\"\")","v":""},{"$f":"IF( Ecarts!$E64=$A$1, IF(Ecarts!J64=\"\",\"\",Ecarts!J64),\"\")","v":""},{"$f":"IF( Ecarts!$E64=$A$1, IF(Ecarts!K64=\"\",\"\",Ecarts!K64),\"\")","v":""},{"$f":"IF( Ecarts!$E64=$A$1, IF(Ecarts!L64=\"\",\"\",Ecarts!L64),\"\")","v":""},{"$f":"IF( Ecarts!$E64=$A$1, IF(Ecarts!M64=\"\",\"\",Ecarts!M64),\"\")","v":""},0,0]
[{"$f":"IF( Ecarts!$E65=$A$1,IF( Ecarts!B65=\"\",\"\",Ecarts!A65),\"\")","v":""},{"$f":"IF( Ecarts!$E65=$A$1,IF( Ecarts!C65=\"\",\"\",Ecarts!C65),\"\")","v":""},{"$f":"IF( Ecarts!$E65=$A$1, IF(Ecarts!F65=\"\",\"\",Ecarts!F65),\"\")","v":""},{"$f":"IF( Ecarts!$E65=$A$1, IF(Ecarts!I65=\"\",\"\",Ecarts!I65),\"\")","v":""},{"$f":"IF( Ecarts!$E65=$A$1, IF(Ecarts!J65=\"\",\"\",Ecarts!J65),\"\")","v":""},{"$f":"IF( Ecarts!$E65=$A$1, IF(Ecarts!K65=\"\",\"\",Ecarts!K65),\"\")","v":""},{"$f":"IF( Ecarts!$E65=$A$1, IF(Ecarts!L65=\"\",\"\",Ecarts!L65),\"\")","v":""},{"$f":"IF( Ecarts!$E65=$A$1, IF(Ecarts!M65=\"\",\"\",Ecarts!M65),\"\")","v":""},0,0]
[{"$f":"IF( Ecarts!$E66=$A$1,IF( Ecarts!B66=\"\",\"\",Ecarts!A66),\"\")","v":""},{"$f":"IF( Ecarts!$E66=$A$1,IF( Ecarts!C66=\"\",\"\",Ecarts!C66),\"\")","v":""},{"$f":"IF( Ecarts!$E66=$A$1, IF(Ecarts!F66=\"\",\"\",Ecarts!F66),\"\")","v":""},{"$f":"IF( Ecarts!$E66=$A$1, IF(Ecarts!I66=\"\",\"\",Ecarts!I66),\"\")","v":""},{"$f":"IF( Ecarts!$E66=$A$1, IF(Ecarts!J66=\"\",\"\",Ecarts!J66),\"\")","v":""},{"$f":"IF( Ecarts!$E66=$A$1, IF(Ecarts!K66=\"\",\"\",Ecarts!K66),\"\")","v":""},{"$f":"IF( Ecarts!$E66=$A$1, IF(Ecarts!L66=\"\",\"\",Ecarts!L66),\"\")","v":""},{"$f":"IF( Ecarts!$E66=$A$1, IF(Ecarts!M66=\"\",\"\",Ecarts!M66),\"\")","v":""},0,0]
[{"$f":"IF( Ecarts!$E67=$A$1,IF( Ecarts!B67=\"\",\"\",Ecarts!A67),\"\")","v":""},{"$f":"IF( Ecarts!$E67=$A$1,IF( Ecarts!C67=\"\",\"\",Ecarts!C67),\"\")","v":""},{"$f":"IF( Ecarts!$E67=$A$1, IF(Ecarts!F67=\"\",\"\",Ecarts!F67),\"\")","v":""},{"$f":"IF( Ecarts!$E67=$A$1, IF(Ecarts!I67=\"\",\"\",Ecarts!I67),\"\")","v":""},{"$f":"IF( Ecarts!$E67=$A$1, IF(Ecarts!J67=\"\",\"\",Ecarts!J67),\"\")","v":""},{"$f":"IF( Ecarts!$E67=$A$1, IF(Ecarts!K67=\"\",\"\",Ecarts!K67),\"\")","v":""},{"$f":"IF( Ecarts!$E67=$A$1, IF(Ecarts!L67=\"\",\"\",Ecarts!L67),\"\")","v":""},{"$f":"IF( Ecarts!$E67=$A$1, IF(Ecarts!M67=\"\",\"\",Ecarts!M67),\"\")","v":""},0,0]
[{"$f":"IF( Ecarts!$E68=$A$1,IF( Ecarts!B68=\"\",\"\",Ecarts!A68),\"\")","v":""},{"$f":"IF( Ecarts!$E68=$A$1,IF( Ecarts!C68=\"\",\"\",Ecarts!C68),\"\")","v":""},{"$f":"IF( Ecarts!$E68=$A$1, IF(Ecarts!F68=\"\",\"\",Ecarts!F68),\"\")","v":""},{"$f":"IF( Ecarts!$E68=$A$1, IF(Ecarts!I68=\"\",\"\",Ecarts!I68),\"\")","v":""},{"$f":"IF( Ecarts!$E68=$A$1, IF(Ecarts!J68=\"\",\"\",Ecarts!J68),\"\")","v":""},{"$f":"IF( Ecarts!$E68=$A$1, IF(Ecarts!K68=\"\",\"\",Ecarts!K68),\"\")","v":""},{"$f":"IF( Ecarts!$E68=$A$1, IF(Ecarts!L68=\"\",\"\",Ecarts!L68),\"\")","v":""},{"$f":"IF( Ecarts!$E68=$A$1, IF(Ecarts!M68=\"\",\"\",Ecarts!M68),\"\")","v":""},{"$f":"IF(B69=\"\",0,IF(G69=1,0,1))","v":0},{"$f":"IF(F69=\"\",0,IF(F69>(TODAY()-60),1,0))","v":0}]
[{"$f":"IF( Ecarts!$E69=$A$1,IF( Ecarts!B69=\"\",\"\",Ecarts!A69),\"\")","v":""},{"$f":"IF( Ecarts!$E69=$A$1,IF( Ecarts!C69=\"\",\"\",Ecarts!C69),\"\")","v":""},{"$f":"IF( Ecarts!$E69=$A$1, IF(Ecarts!F69=\"\",\"\",Ecarts!F69),\"\")","v":""},{"$f":"IF( Ecarts!$E69=$A$1, IF(Ecarts!I69=\"\",\"\",Ecarts!I69),\"\")","v":""},{"$f":"IF( Ecarts!$E69=$A$1, IF(Ecarts!J69=\"\",\"\",Ecarts!J69),\"\")","v":""},{"$f":"IF( Ecarts!$E69=$A$1, IF(Ecarts!K69=\"\",\"\",Ecarts!K69),\"\")","v":""},{"$f":"IF( Ecarts!$E69=$A$1, IF(Ecarts!L69=\"\",\"\",Ecarts!L69),\"\")","v":""},{"$f":"IF( Ecarts!$E69=$A$1, IF(Ecarts!M69=\"\",\"\",Ecarts!M69),\"\")","v":""},0,0]
[{"$f":"IF( Ecarts!$E70=$A$1,IF( Ecarts!B70=\"\",\"\",Ecarts!A70),\"\")","v":""},{"$f":"IF( Ecarts!$E70=$A$1,IF( Ecarts!C70=\"\",\"\",Ecarts!C70),\"\")","v":""},{"$f":"IF( Ecarts!$E70=$A$1, IF(Ecarts!F70=\"\",\"\",Ecarts!F70),\"\")","v":""},{"$f":"IF( Ecarts!$E70=$A$1, IF(Ecarts!I70=\"\",\"\",Ecarts!I70),\"\")","v":""},{"$f":"IF( Ecarts!$E70=$A$1, IF(Ecarts!J70=\"\",\"\",Ecarts!J70),\"\")","v":""},{"$f":"IF( Ecarts!$E70=$A$1, IF(Ecarts!K70=\"\",\"\",Ecarts!K70),\"\")","v":""},{"$f":"IF( Ecarts!$E70=$A$1, IF(Ecarts!L70=\"\",\"\",Ecarts!L70),\"\")","v":""},{"$f":"IF( Ecarts!$E70=$A$1, IF(Ecarts!M70=\"\",\"\",Ecarts!M70),\"\")","v":""},0,0]
[{"$f":"IF( Ecarts!$E71=$A$1,IF( Ecarts!B71=\"\",\"\",Ecarts!A71),\"\")","v":""},{"$f":"IF( Ecarts!$E71=$A$1,IF( Ecarts!C71=\"\",\"\",Ecarts!C71),\"\")","v":""},{"$f":"IF( Ecarts!$E71=$A$1, IF(Ecarts!F71=\"\",\"\",Ecarts!F71),\"\")","v":""},{"$f":"IF( Ecarts!$E71=$A$1, IF(Ecarts!I71=\"\",\"\",Ecarts!I71),\"\")","v":""},{"$f":"IF( Ecarts!$E71=$A$1, IF(Ecarts!J71=\"\",\"\",Ecarts!J71),\"\")","v":""},{"$f":"IF( Ecarts!$E71=$A$1, IF(Ecarts!K71=\"\",\"\",Ecarts!K71),\"\")","v":""},{"$f":"IF( Ecarts!$E71=$A$1, IF(Ecarts!L71=\"\",\"\",Ecarts!L71),\"\")","v":""},{"$f":"IF( Ecarts!$E71=$A$1, IF(Ecarts!M71=\"\",\"\",Ecarts!M71),\"\")","v":""},0,0]
[{"$f":"IF( Ecarts!$E72=$A$1,IF( Ecarts!B72=\"\",\"\",Ecarts!A72),\"\")","v":""},{"$f":"IF( Ecarts!$E72=$A$1,IF( Ecarts!C72=\"\",\"\",Ecarts!C72),\"\")","v":""},{"$f":"IF( Ecarts!$E72=$A$1, IF(Ecarts!F72=\"\",\"\",Ecarts!F72),\"\")","v":""},{"$f":"IF( Ecarts!$E72=$A$1, IF(Ecarts!I72=\"\",\"\",Ecarts!I72),\"\")","v":""},{"$f":"IF( Ecarts!$E72=$A$1, IF(Ecarts!J72=\"\",\"\",Ecarts!J72),\"\")","v":""},{"$f":"IF( Ecarts!$E72=$A$1, IF(Ecarts!K72=\"\",\"\",Ecarts!K72),\"\")","v":""},{"$f":"IF( Ecarts!$E72=$A$1, IF(Ecarts!L72=\"\",\"\",Ecarts!L72),\"\")","v":""},{"$f":"IF( Ecarts!$E72=$A$1, IF(Ecarts!M72=\"\",\"\",Ecarts!M72),\"\")","v":""},0,0]
[{"$f":"IF( Ecarts!$E73=$A$1,IF( Ecarts!B73=\"\",\"\",Ecarts!A73),\"\")","v":""},{"$f":"IF( Ecarts!$E73=$A$1,IF( Ecarts!C73=\"\",\"\",Ecarts!C73),\"\")","v":""},{"$f":"IF( Ecarts!$E73=$A$1, IF(Ecarts!F73=\"\",\"\",Ecarts!F73),\"\")","v":""},{"$f":"IF( Ecarts!$E73=$A$1, IF(Ecarts!I73=\"\",\"\",Ecarts!I73),\"\")","v":""},{"$f":"IF( Ecarts!$E73=$A$1, IF(Ecarts!J73=\"\",\"\",Ecarts!J73),\"\")","v":""},{"$f":"IF( Ecarts!$E73=$A$1, IF(Ecarts!K73=\"\",\"\",Ecarts!K73),\"\")","v":""},{"$f":"IF( Ecarts!$E73=$A$1, IF(Ecarts!L73=\"\",\"\",Ecarts!L73),\"\")","v":""},{"$f":"IF( Ecarts!$E73=$A$1, IF(Ecarts!M73=\"\",\"\",Ecarts!M73),\"\")","v":""},0,0]
[{"$f":"IF( Ecarts!$E74=$A$1,IF( Ecarts!B74=\"\",\"\",Ecarts!A74),\"\")","v":""},{"$f":"IF( Ecarts!$E74=$A$1,IF( Ecarts!C74=\"\",\"\",Ecarts!C74),\"\")","v":""},{"$f":"IF( Ecarts!$E74=$A$1, IF(Ecarts!F74=\"\",\"\",Ecarts!F74),\"\")","v":""},{"$f":"IF( Ecarts!$E74=$A$1, IF(Ecarts!I74=\"\",\"\",Ecarts!I74),\"\")","v":""},{"$f":"IF( Ecarts!$E74=$A$1, IF(Ecarts!J74=\"\",\"\",Ecarts!J74),\"\")","v":""},{"$f":"IF( Ecarts!$E74=$A$1, IF(Ecarts!K74=\"\",\"\",Ecarts!K74),\"\")","v":""},{"$f":"IF( Ecarts!$E74=$A$1, IF(Ecarts!L74=\"\",\"\",Ecarts!L74),\"\")","v":""},{"$f":"IF( Ecarts!$E74=$A$1, IF(Ecarts!M74=\"\",\"\",Ecarts!M74),\"\")","v":""},0,0]
[{"$f":"IF( Ecarts!$E75=$A$1,IF( Ecarts!B75=\"\",\"\",Ecarts!A75),\"\")","v":""},{"$f":"IF( Ecarts!$E75=$A$1,IF( Ecarts!C75=\"\",\"\",Ecarts!C75),\"\")","v":""},{"$f":"IF( Ecarts!$E75=$A$1, IF(Ecarts!F75=\"\",\"\",Ecarts!F75),\"\")","v":""},{"$f":"IF( Ecarts!$E75=$A$1, IF(Ecarts!I75=\"\",\"\",Ecarts!I75),\"\")","v":""},{"$f":"IF( Ecarts!$E75=$A$1, IF(Ecarts!J75=\"\",\"\",Ecarts!J75),\"\")","v":""},{"$f":"IF( Ecarts!$E75=$A$1, IF(Ecarts!K75=\"\",\"\",Ecarts!K75),\"\")","v":""},{"$f":"IF( Ecarts!$E75=$A$1, IF(Ecarts!L75=\"\",\"\",Ecarts!L75),\"\")","v":""},{"$f":"IF( Ecarts!$E75=$A$1, IF(Ecarts!M75=\"\",\"\",Ecarts!M75),\"\")","v":""},0,0]
[{"$f":"IF( Ecarts!$E76=$A$1,IF( Ecarts!B76=\"\",\"\",Ecarts!A76),\"\")","v":""},{"$f":"IF( Ecarts!$E76=$A$1,IF( Ecarts!C76=\"\",\"\",Ecarts!C76),\"\")","v":""},{"$f":"IF( Ecarts!$E76=$A$1, IF(Ecarts!F76=\"\",\"\",Ecarts!F76),\"\")","v":""},{"$f":"IF( Ecarts!$E76=$A$1, IF(Ecarts!I76=\"\",\"\",Ecarts!I76),\"\")","v":""},{"$f":"IF( Ecarts!$E76=$A$1, IF(Ecarts!J76=\"\",\"\",Ecarts!J76),\"\")","v":""},{"$f":"IF( Ecarts!$E76=$A$1, IF(Ecarts!K76=\"\",\"\",Ecarts!K76),\"\")","v":""},{"$f":"IF( Ecarts!$E76=$A$1, IF(Ecarts!L76=\"\",\"\",Ecarts!L76),\"\")","v":""},{"$f":"IF( Ecarts!$E76=$A$1, IF(Ecarts!M76=\"\",\"\",Ecarts!M76),\"\")","v":""},0,0]
[{"$f":"IF( Ecarts!$E77=$A$1,IF( Ecarts!B77=\"\",\"\",Ecarts!A77),\"\")","v":""},{"$f":"IF( Ecarts!$E77=$A$1,IF( Ecarts!C77=\"\",\"\",Ecarts!C77),\"\")","v":""},{"$f":"IF( Ecarts!$E77=$A$1, IF(Ecarts!F77=\"\",\"\",Ecarts!F77),\"\")","v":""},{"$f":"IF( Ecarts!$E77=$A$1, IF(Ecarts!I77=\"\",\"\",Ecarts!I77),\"\")","v":""},{"$f":"IF( Ecarts!$E77=$A$1, IF(Ecarts!J77=\"\",\"\",Ecarts!J77),\"\")","v":""},{"$f":"IF( Ecarts!$E77=$A$1, IF(Ecarts!K77=\"\",\"\",Ecarts!K77),\"\")","v":""},{"$f":"IF( Ecarts!$E77=$A$1, IF(Ecarts!L77=\"\",\"\",Ecarts!L77),\"\")","v":""},{"$f":"IF( Ecarts!$E77=$A$1, IF(Ecarts!M77=\"\",\"\",Ecarts!M77),\"\")","v":""},0,0]
[{"$f":"IF( Ecarts!$E78=$A$1,IF( Ecarts!B78=\"\",\"\",Ecarts!A78),\"\")","v":""},{"$f":"IF( Ecarts!$E78=$A$1,IF( Ecarts!C78=\"\",\"\",Ecarts!C78),\"\")","v":""},{"$f":"IF( Ecarts!$E78=$A$1, IF(Ecarts!F78=\"\",\"\",Ecarts!F78),\"\")","v":""},{"$f":"IF( Ecarts!$E78=$A$1, IF(Ecarts!I78=\"\",\"\",Ecarts!I78),\"\")","v":""},{"$f":"IF( Ecarts!$E78=$A$1, IF(Ecarts!J78=\"\",\"\",Ecarts!J78),\"\")","v":""},{"$f":"IF( Ecarts!$E78=$A$1, IF(Ecarts!K78=\"\",\"\",Ecarts!K78),\"\")","v":""},{"$f":"IF( Ecarts!$E78=$A$1, IF(Ecarts!L78=\"\",\"\",Ecarts!L78),\"\")","v":""},{"$f":"IF( Ecarts!$E78=$A$1, IF(Ecarts!M78=\"\",\"\",Ecarts!M78),\"\")","v":""},0,0]
[{"$f":"IF( Ecarts!$E79=$A$1,IF( Ecarts!B79=\"\",\"\",Ecarts!A79),\"\")","v":""},{"$f":"IF( Ecarts!$E79=$A$1,IF( Ecarts!C79=\"\",\"\",Ecarts!C79),\"\")","v":""},{"$f":"IF( Ecarts!$E79=$A$1, IF(Ecarts!F79=\"\",\"\",Ecarts!F79),\"\")","v":""},{"$f":"IF( Ecarts!$E79=$A$1, IF(Ecarts!I79=\"\",\"\",Ecarts!I79),\"\")","v":""},{"$f":"IF( Ecarts!$E79=$A$1, IF(Ecarts!J79=\"\",\"\",Ecarts!J79),\"\")","v":""},{"$f":"IF( Ecarts!$E79=$A$1, IF(Ecarts!K79=\"\",\"\",Ecarts!K79),\"\")","v":""},{"$f":"IF( Ecarts!$E79=$A$1, IF(Ecarts!L79=\"\",\"\",Ecarts!L79),\"\")","v":""},{"$f":"IF( Ecarts!$E79=$A$1, IF(Ecarts!M79=\"\",\"\",Ecarts!M79),\"\")","v":""},0,0]
[{"$f":"IF( Ecarts!$E80=$A$1,IF( Ecarts!B80=\"\",\"\",Ecarts!A80),\"\")","v":""},{"$f":"IF( Ecarts!$E80=$A$1,IF( Ecarts!C80=\"\",\"\",Ecarts!C80),\"\")","v":""},{"$f":"IF( Ecarts!$E80=$A$1, IF(Ecarts!F80=\"\",\"\",Ecarts!F80),\"\")","v":""},{"$f":"IF( Ecarts!$E80=$A$1, IF(Ecarts!I80=\"\",\"\",Ecarts!I80),\"\")","v":""},{"$f":"IF( Ecarts!$E80=$A$1, IF(Ecarts!J80=\"\",\"\",Ecarts!J80),\"\")","v":""},{"$f":"IF( Ecarts!$E80=$A$1, IF(Ecarts!K80=\"\",\"\",Ecarts!K80),\"\")","v":""},{"$f":"IF( Ecarts!$E80=$A$1, IF(Ecarts!L80=\"\",\"\",Ecarts!L80),\"\")","v":""},{"$f":"IF( Ecarts!$E80=$A$1, IF(Ecarts!M80=\"\",\"\",Ecarts!M80),\"\")","v":""},0,0]
[{"$f":"IF( Ecarts!$E81=$A$1,IF( Ecarts!B81=\"\",\"\",Ecarts!A81),\"\")","v":""},{"$f":"IF( Ecarts!$E81=$A$1,IF( Ecarts!C81=\"\",\"\",Ecarts!C81),\"\")","v":""},{"$f":"IF( Ecarts!$E81=$A$1, IF(Ecarts!F81=\"\",\"\",Ecarts!F81),\"\")","v":""},{"$f":"IF( Ecarts!$E81=$A$1, IF(Ecarts!I81=\"\",\"\",Ecarts!I81),\"\")","v":""},{"$f":"IF( Ecarts!$E81=$A$1, IF(Ecarts!J81=\"\",\"\",Ecarts!J81),\"\")","v":""},{"$f":"IF( Ecarts!$E81=$A$1, IF(Ecarts!K81=\"\",\"\",Ecarts!K81),\"\")","v":""},{"$f":"IF( Ecarts!$E81=$A$1, IF(Ecarts!L81=\"\",\"\",Ecarts!L81),\"\")","v":""},{"$f":"IF( Ecarts!$E81=$A$1, IF(Ecarts!M81=\"\",\"\",Ecarts!M81),\"\")","v":""},0,0]
[{"$f":"IF( Ecarts!$E82=$A$1,IF( Ecarts!B82=\"\",\"\",Ecarts!A82),\"\")","v":""},{"$f":"IF( Ecarts!$E82=$A$1,IF( Ecarts!C82=\"\",\"\",Ecarts!C82),\"\")","v":""},{"$f":"IF( Ecarts!$E82=$A$1, IF(Ecarts!F82=\"\",\"\",Ecarts!F82),\"\")","v":""},{"$f":"IF( Ecarts!$E82=$A$1, IF(Ecarts!I82=\"\",\"\",Ecarts!I82),\"\")","v":""},{"$f":"IF( Ecarts!$E82=$A$1, IF(Ecarts!J82=\"\",\"\",Ecarts!J82),\"\")","v":""},{"$f":"IF( Ecarts!$E82=$A$1, IF(Ecarts!K82=\"\",\"\",Ecarts!K82),\"\")","v":""},{"$f":"IF( Ecarts!$E82=$A$1, IF(Ecarts!L82=\"\",\"\",Ecarts!L82),\"\")","v":""},{"$f":"IF( Ecarts!$E82=$A$1, IF(Ecarts!M82=\"\",\"\",Ecarts!M82),\"\")","v":""},0,0]
[{"$f":"IF( Ecarts!$E83=$A$1,IF( Ecarts!B83=\"\",\"\",Ecarts!A83),\"\")","v":""},{"$f":"IF( Ecarts!$E83=$A$1,IF( Ecarts!C83=\"\",\"\",Ecarts!C83),\"\")","v":""},{"$f":"IF( Ecarts!$E83=$A$1, IF(Ecarts!F83=\"\",\"\",Ecarts!F83),\"\")","v":""},{"$f":"IF( Ecarts!$E83=$A$1, IF(Ecarts!I83=\"\",\"\",Ecarts!I83),\"\")","v":""},{"$f":"IF( Ecarts!$E83=$A$1, IF(Ecarts!J83=\"\",\"\",Ecarts!J83),\"\")","v":""},{"$f":"IF( Ecarts!$E83=$A$1, IF(Ecarts!K83=\"\",\"\",Ecarts!K83),\"\")","v":""},{"$f":"IF( Ecarts!$E83=$A$1, IF(Ecarts!L83=\"\",\"\",Ecarts!L83),\"\")","v":""},{"$f":"IF( Ecarts!$E83=$A$1, IF(Ecarts!M83=\"\",\"\",Ecarts!M83),\"\")","v":""},0,0]
[{"$f":"IF( Ecarts!$E84=$A$1,IF( Ecarts!B84=\"\",\"\",Ecarts!A84),\"\")","v":""},{"$f":"IF( Ecarts!$E84=$A$1,IF( Ecarts!C84=\"\",\"\",Ecarts!C84),\"\")","v":""},{"$f":"IF( Ecarts!$E84=$A$1, IF(Ecarts!F84=\"\",\"\",Ecarts!F84),\"\")","v":""},{"$f":"IF( Ecarts!$E84=$A$1, IF(Ecarts!I84=\"\",\"\",Ecarts!I84),\"\")","v":""},{"$f":"IF( Ecarts!$E84=$A$1, IF(Ecarts!J84=\"\",\"\",Ecarts!J84),\"\")","v":""},{"$f":"IF( Ecarts!$E84=$A$1, IF(Ecarts!K84=\"\",\"\",Ecarts!K84),\"\")","v":""},{"$f":"IF( Ecarts!$E84=$A$1, IF(Ecarts!L84=\"\",\"\",Ecarts!L84),\"\")","v":""},{"$f":"IF( Ecarts!$E84=$A$1, IF(Ecarts!M84=\"\",\"\",Ecarts!M84),\"\")","v":""},0,0]
[{"$f":"IF( Ecarts!$E85=$A$1,IF( Ecarts!B85=\"\",\"\",Ecarts!A85),\"\")","v":""},{"$f":"IF( Ecarts!$E85=$A$1,IF( Ecarts!C85=\"\",\"\",Ecarts!C85),\"\")","v":""},{"$f":"IF( Ecarts!$E85=$A$1, IF(Ecarts!F85=\"\",\"\",Ecarts!F85),\"\")","v":""},{"$f":"IF( Ecarts!$E85=$A$1, IF(Ecarts!I85=\"\",\"\",Ecarts!I85),\"\")","v":""},{"$f":"IF( Ecarts!$E85=$A$1, IF(Ecarts!J85=\"\",\"\",Ecarts!J85),\"\")","v":""},{"$f":"IF( Ecarts!$E85=$A$1, IF(Ecarts!K85=\"\",\"\",Ecarts!K85),\"\")","v":""},{"$f":"IF( Ecarts!$E85=$A$1, IF(Ecarts!L85=\"\",\"\",Ecarts!L85),\"\")","v":""},{"$f":"IF( Ecarts!$E85=$A$1, IF(Ecarts!M85=\"\",\"\",Ecarts!M85),\"\")","v":""},0,0]
[{"$f":"IF( Ecarts!$E86=$A$1,IF( Ecarts!B86=\"\",\"\",Ecarts!A86),\"\")","v":""},{"$f":"IF( Ecarts!$E86=$A$1,IF( Ecarts!C86=\"\",\"\",Ecarts!C86),\"\")","v":""},{"$f":"IF( Ecarts!$E86=$A$1, IF(Ecarts!F86=\"\",\"\",Ecarts!F86),\"\")","v":""},{"$f":"IF( Ecarts!$E86=$A$1, IF(Ecarts!I86=\"\",\"\",Ecarts!I86),\"\")","v":""},{"$f":"IF( Ecarts!$E86=$A$1, IF(Ecarts!J86=\"\",\"\",Ecarts!J86),\"\")","v":""},{"$f":"IF( Ecarts!$E86=$A$1, IF(Ecarts!K86=\"\",\"\",Ecarts!K86),\"\")","v":""},{"$f":"IF( Ecarts!$E86=$A$1, IF(Ecarts!L86=\"\",\"\",Ecarts!L86),\"\")","v":""},{"$f":"IF( Ecarts!$E86=$A$1, IF(Ecarts!M86=\"\",\"\",Ecarts!M86),\"\")","v":""},0,0]
[{"$f":"IF( Ecarts!$E87=$A$1,IF( Ecarts!B87=\"\",\"\",Ecarts!A87),\"\")","v":""},{"$f":"IF( Ecarts!$E87=$A$1,IF( Ecarts!C87=\"\",\"\",Ecarts!C87),\"\")","v":""},{"$f":"IF( Ecarts!$E87=$A$1, IF(Ecarts!F87=\"\",\"\",Ecarts!F87),\"\")","v":""},{"$f":"IF( Ecarts!$E87=$A$1, IF(Ecarts!I87=\"\",\"\",Ecarts!I87),\"\")","v":""},{"$f":"IF( Ecarts!$E87=$A$1, IF(Ecarts!J87=\"\",\"\",Ecarts!J87),\"\")","v":""},{"$f":"IF( Ecarts!$E87=$A$1, IF(Ecarts!K87=\"\",\"\",Ecarts!K87),\"\")","v":""},{"$f":"IF( Ecarts!$E87=$A$1, IF(Ecarts!L87=\"\",\"\",Ecarts!L87),\"\")","v":""},{"$f":"IF( Ecarts!$E87=$A$1, IF(Ecarts!M87=\"\",\"\",Ecarts!M87),\"\")","v":""},0,0]
[{"$f":"IF( Ecarts!$E88=$A$1,IF( Ecarts!B88=\"\",\"\",Ecarts!A88),\"\")","v":""},{"$f":"IF( Ecarts!$E88=$A$1,IF( Ecarts!C88=\"\",\"\",Ecarts!C88),\"\")","v":""},{"$f":"IF( Ecarts!$E88=$A$1, IF(Ecarts!F88=\"\",\"\",Ecarts!F88),\"\")","v":""},{"$f":"IF( Ecarts!$E88=$A$1, IF(Ecarts!I88=\"\",\"\",Ecarts!I88),\"\")","v":""},{"$f":"IF( Ecarts!$E88=$A$1, IF(Ecarts!J88=\"\",\"\",Ecarts!J88),\"\")","v":""},{"$f":"IF( Ecarts!$E88=$A$1, IF(Ecarts!K88=\"\",\"\",Ecarts!K88),\"\")","v":""},{"$f":"IF( Ecarts!$E88=$A$1, IF(Ecarts!L88=\"\",\"\",Ecarts!L88),\"\")","v":""},{"$f":"IF( Ecarts!$E88=$A$1, IF(Ecarts!M88=\"\",\"\",Ecarts!M88),\"\")","v":""},0,0]
[{"$f":"IF( Ecarts!$E89=$A$1,IF( Ecarts!B89=\"\",\"\",Ecarts!A89),\"\")","v":""},{"$f":"IF( Ecarts!$E89=$A$1,IF( Ecarts!C89=\"\",\"\",Ecarts!C89),\"\")","v":""},{"$f":"IF( Ecarts!$E89=$A$1, IF(Ecarts!F89=\"\",\"\",Ecarts!F89),\"\")","v":""},{"$f":"IF( Ecarts!$E89=$A$1, IF(Ecarts!I89=\"\",\"\",Ecarts!I89),\"\")","v":""},{"$f":"IF( Ecarts!$E89=$A$1, IF(Ecarts!J89=\"\",\"\",Ecarts!J89),\"\")","v":""},{"$f":"IF( Ecarts!$E89=$A$1, IF(Ecarts!K89=\"\",\"\",Ecarts!K89),\"\")","v":""},{"$f":"IF( Ecarts!$E89=$A$1, IF(Ecarts!L89=\"\",\"\",Ecarts!L89),\"\")","v":""},{"$f":"IF( Ecarts!$E89=$A$1, IF(Ecarts!M89=\"\",\"\",Ecarts!M89),\"\")","v":""},0,0]
[{"$f":"IF( Ecarts!$E90=$A$1,IF( Ecarts!B90=\"\",\"\",Ecarts!A90),\"\")","v":""},{"$f":"IF( Ecarts!$E90=$A$1,IF( Ecarts!C90=\"\",\"\",Ecarts!C90),\"\")","v":""},{"$f":"IF( Ecarts!$E90=$A$1, IF(Ecarts!F90=\"\",\"\",Ecarts!F90),\"\")","v":""},{"$f":"IF( Ecarts!$E90=$A$1, IF(Ecarts!I90=\"\",\"\",Ecarts!I90),\"\")","v":""},{"$f":"IF( Ecarts!$E90=$A$1, IF(Ecarts!J90=\"\",\"\",Ecarts!J90),\"\")","v":""},{"$f":"IF( Ecarts!$E90=$A$1, IF(Ecarts!K90=\"\",\"\",Ecarts!K90),\"\")","v":""},{"$f":"IF( Ecarts!$E90=$A$1, IF(Ecarts!L90=\"\",\"\",Ecarts!L90),\"\")","v":""},{"$f":"IF( Ecarts!$E90=$A$1, IF(Ecarts!M90=\"\",\"\",Ecarts!M90),\"\")","v":""},0,0]
[{"$f":"IF( Ecarts!$E91=$A$1,IF( Ecarts!B91=\"\",\"\",Ecarts!A91),\"\")","v":""},{"$f":"IF( Ecarts!$E91=$A$1,IF( Ecarts!C91=\"\",\"\",Ecarts!C91),\"\")","v":""},{"$f":"IF( Ecarts!$E91=$A$1, IF(Ecarts!F91=\"\",\"\",Ecarts!F91),\"\")","v":""},{"$f":"IF( Ecarts!$E91=$A$1, IF(Ecarts!I91=\"\",\"\",Ecarts!I91),\"\")","v":""},{"$f":"IF( Ecarts!$E91=$A$1, IF(Ecarts!J91=\"\",\"\",Ecarts!J91),\"\")","v":""},{"$f":"IF( Ecarts!$E91=$A$1, IF(Ecarts!K91=\"\",\"\",Ecarts!K91),\"\")","v":""},{"$f":"IF( Ecarts!$E91=$A$1, IF(Ecarts!L91=\"\",\"\",Ecarts!L91),\"\")","v":""},{"$f":"IF( Ecarts!$E91=$A$1, IF(Ecarts!M91=\"\",\"\",Ecarts!M91),\"\")","v":""},0,0]
[{"$f":"IF( Ecarts!$E92=$A$1,IF( Ecarts!B92=\"\",\"\",Ecarts!A92),\"\")","v":""},{"$f":"IF( Ecarts!$E92=$A$1,IF( Ecarts!C92=\"\",\"\",Ecarts!C92),\"\")","v":""},{"$f":"IF( Ecarts!$E92=$A$1, IF(Ecarts!F92=\"\",\"\",Ecarts!F92),\"\")","v":""},{"$f":"IF( Ecarts!$E92=$A$1, IF(Ecarts!I92=\"\",\"\",Ecarts!I92),\"\")","v":""},{"$f":"IF( Ecarts!$E92=$A$1, IF(Ecarts!J92=\"\",\"\",Ecarts!J92),\"\")","v":""},{"$f":"IF( Ecarts!$E92=$A$1, IF(Ecarts!K92=\"\",\"\",Ecarts!K92),\"\")","v":""},{"$f":"IF( Ecarts!$E92=$A$1, IF(Ecarts!L92=\"\",\"\",Ecarts!L92),\"\")","v":""},{"$f":"IF( Ecarts!$E92=$A$1, IF(Ecarts!M92=\"\",\"\",Ecarts!M92),\"\")","v":""},0,0]
[{"$f":"IF( Ecarts!$E93=$A$1,IF( Ecarts!B93=\"\",\"\",Ecarts!A93),\"\")","v":""},{"$f":"IF( Ecarts!$E93=$A$1,IF( Ecarts!C93=\"\",\"\",Ecarts!C93),\"\")","v":""},{"$f":"IF( Ecarts!$E93=$A$1, IF(Ecarts!F93=\"\",\"\",Ecarts!F93),\"\")","v":""},{"$f":"IF( Ecarts!$E93=$A$1, IF(Ecarts!I93=\"\",\"\",Ecarts!I93),\"\")","v":""},{"$f":"IF( Ecarts!$E93=$A$1, IF(Ecarts!J93=\"\",\"\",Ecarts!J93),\"\")","v":""},{"$f":"IF( Ecarts!$E93=$A$1, IF(Ecarts!K93=\"\",\"\",Ecarts!K93),\"\")","v":""},{"$f":"IF( Ecarts!$E93=$A$1, IF(Ecarts!L93=\"\",\"\",Ecarts!L93),\"\")","v":""},{"$f":"IF( Ecarts!$E93=$A$1, IF(Ecarts!M93=\"\",\"\",Ecarts!M93),\"\")","v":""},0,0]
[{"$f":"IF( Ecarts!$E94=$A$1,IF( Ecarts!B94=\"\",\"\",Ecarts!A94),\"\")","v":""},{"$f":"IF( Ecarts!$E94=$A$1,IF( Ecarts!C94=\"\",\"\",Ecarts!C94),\"\")","v":""},{"$f":"IF( Ecarts!$E94=$A$1, IF(Ecarts!F94=\"\",\"\",Ecarts!F94),\"\")","v":""},{"$f":"IF( Ecarts!$E94=$A$1, IF(Ecarts!I94=\"\",\"\",Ecarts!I94),\"\")","v":""},{"$f":"IF( Ecarts!$E94=$A$1, IF(Ecarts!J94=\"\",\"\",Ecarts!J94),\"\")","v":""},{"$f":"IF( Ecarts!$E94=$A$1, IF(Ecarts!K94=\"\",\"\",Ecarts!K94),\"\")","v":""},{"$f":"IF( Ecarts!$E94=$A$1, IF(Ecarts!L94=\"\",\"\",Ecarts!L94),\"\")","v":""},{"$f":"IF( Ecarts!$E94=$A$1, IF(Ecarts!M94=\"\",\"\",Ecarts!M94),\"\")","v":""},0,0]
[{"$f":"IF( Ecarts!$E95=$A$1,IF( Ecarts!B95=\"\",\"\",Ecarts!A95),\"\")","v":""},{"$f":"IF( Ecarts!$E95=$A$1,IF( Ecarts!C95=\"\",\"\",Ecarts!C95),\"\")","v":""},{"$f":"IF( Ecarts!$E95=$A$1, IF(Ecarts!F95=\"\",\"\",Ecarts!F95),\"\")","v":""},{"$f":"IF( Ecarts!$E95=$A$1, IF(Ecarts!I95=\"\",\"\",Ecarts!I95),\"\")","v":""},{"$f":"IF( Ecarts!$E95=$A$1, IF(Ecarts!J95=\"\",\"\",Ecarts!J95),\"\")","v":""},{"$f":"IF( Ecarts!$E95=$A$1, IF(Ecarts!K95=\"\",\"\",Ecarts!K95),\"\")","v":""},{"$f":"IF( Ecarts!$E95=$A$1, IF(Ecarts!L95=\"\",\"\",Ecarts!L95),\"\")","v":""},{"$f":"IF( Ecarts!$E95=$A$1, IF(Ecarts!M95=\"\",\"\",Ecarts!M95),\"\")","v":""},0,0]
[{"$f":"IF( Ecarts!$E96=$A$1,IF( Ecarts!B96=\"\",\"\",Ecarts!A96),\"\")","v":""},{"$f":"IF( Ecarts!$E96=$A$1,IF( Ecarts!C96=\"\",\"\",Ecarts!C96),\"\")","v":""},{"$f":"IF( Ecarts!$E96=$A$1, IF(Ecarts!F96=\"\",\"\",Ecarts!F96),\"\")","v":""},{"$f":"IF( Ecarts!$E96=$A$1, IF(Ecarts!I96=\"\",\"\",Ecarts!I96),\"\")","v":""},{"$f":"IF( Ecarts!$E96=$A$1, IF(Ecarts!J96=\"\",\"\",Ecarts!J96),\"\")","v":""},{"$f":"IF( Ecarts!$E96=$A$1, IF(Ecarts!K96=\"\",\"\",Ecarts!K96),\"\")","v":""},{"$f":"IF( Ecarts!$E96=$A$1, IF(Ecarts!L96=\"\",\"\",Ecarts!L96),\"\")","v":""},{"$f":"IF( Ecarts!$E96=$A$1, IF(Ecarts!M96=\"\",\"\",Ecarts!M96),\"\")","v":""},0,0]
[{"$f":"IF( Ecarts!$E97=$A$1,IF( Ecarts!B97=\"\",\"\",Ecarts!A97),\"\")","v":""},{"$f":"IF( Ecarts!$E97=$A$1,IF( Ecarts!C97=\"\",\"\",Ecarts!C97),\"\")","v":""},{"$f":"IF( Ecarts!$E97=$A$1, IF(Ecarts!F97=\"\",\"\",Ecarts!F97),\"\")","v":""},{"$f":"IF( Ecarts!$E97=$A$1, IF(Ecarts!I97=\"\",\"\",Ecarts!I97),\"\")","v":""},{"$f":"IF( Ecarts!$E97=$A$1, IF(Ecarts!J97=\"\",\"\",Ecarts!J97),\"\")","v":""},{"$f":"IF( Ecarts!$E97=$A$1, IF(Ecarts!K97=\"\",\"\",Ecarts!K97),\"\")","v":""},{"$f":"IF( Ecarts!$E97=$A$1, IF(Ecarts!L97=\"\",\"\",Ecarts!L97),\"\")","v":""},{"$f":"IF( Ecarts!$E97=$A$1, IF(Ecarts!M97=\"\",\"\",Ecarts!M97),\"\")","v":""},0,0]
[{"$f":"IF( Ecarts!$E98=$A$1,IF( Ecarts!B98=\"\",\"\",Ecarts!A98),\"\")","v":""},{"$f":"IF( Ecarts!$E98=$A$1,IF( Ecarts!C98=\"\",\"\",Ecarts!C98),\"\")","v":""},{"$f":"IF( Ecarts!$E98=$A$1, IF(Ecarts!F98=\"\",\"\",Ecarts!F98),\"\")","v":""},{"$f":"IF( Ecarts!$E98=$A$1, IF(Ecarts!I98=\"\",\"\",Ecarts!I98),\"\")","v":""},{"$f":"IF( Ecarts!$E98=$A$1, IF(Ecarts!J98=\"\",\"\",Ecarts!J98),\"\")","v":""},{"$f":"IF( Ecarts!$E98=$A$1, IF(Ecarts!K98=\"\",\"\",Ecarts!K98),\"\")","v":""},{"$f":"IF( Ecarts!$E98=$A$1, IF(Ecarts!L98=\"\",\"\",Ecarts!L98),\"\")","v":""},{"$f":"IF( Ecarts!$E98=$A$1, IF(Ecarts!M98=\"\",\"\",Ecarts!M98),\"\")","v":""},0,0]
[{"$f":"IF( Ecarts!$E99=$A$1,IF( Ecarts!B99=\"\",\"\",Ecarts!A99),\"\")","v":""},{"$f":"IF( Ecarts!$E99=$A$1,IF( Ecarts!C99=\"\",\"\",Ecarts!C99),\"\")","v":""},{"$f":"IF( Ecarts!$E99=$A$1, IF(Ecarts!F99=\"\",\"\",Ecarts!F99),\"\")","v":""},{"$f":"IF( Ecarts!$E99=$A$1, IF(Ecarts!I99=\"\",\"\",Ecarts!I99),\"\")","v":""},{"$f":"IF( Ecarts!$E99=$A$1, IF(Ecarts!J99=\"\",\"\",Ecarts!J99),\"\")","v":""},{"$f":"IF( Ecarts!$E99=$A$1, IF(Ecarts!K99=\"\",\"\",Ecarts!K99),\"\")","v":""},{"$f":"IF( Ecarts!$E99=$A$1, IF(Ecarts!L99=\"\",\"\",Ecarts!L99),\"\")","v":""},{"$f":"IF( Ecarts!$E99=$A$1, IF(Ecarts!M99=\"\",\"\",Ecarts!M99),\"\")","v":""},0,0]
[{"$f":"IF( Ecarts!$E100=$A$1,IF( Ecarts!B100=\"\",\"\",Ecarts!A100),\"\")","v":""},{"$f":"IF( Ecarts!$E100=$A$1,IF( Ecarts!C100=\"\",\"\",Ecarts!C100),\"\")","v":""},{"$f":"IF( Ecarts!$E100=$A$1, IF(Ecarts!F100=\"\",\"\",Ecarts!F100),\"\")","v":""},{"$f":"IF( Ecarts!$E100=$A$1, IF(Ecarts!I100=\"\",\"\",Ecarts!I100),\"\")","v":""},{"$f":"IF( Ecarts!$E100=$A$1, IF(Ecarts!J100=\"\",\"\",Ecarts!J100),\"\")","v":""},{"$f":"IF( Ecarts!$E100=$A$1, IF(Ecarts!K100=\"\",\"\",Ecarts!K100),\"\")","v":""},{"$f":"IF( Ecarts!$E100=$A$1, IF(Ecarts!L100=\"\",\"\",Ecarts!L100),\"\")","v":""},{"$f":"IF( Ecarts!$E100=$A$1, IF(Ecarts!M100=\"\",\"\",Ecarts!M100),\"\")","v":""},0,0]
[{"$f":"IF( Ecarts!$E101=$A$1,IF( Ecarts!B101=\"\",\"\",Ecarts!A101),\"\")","v":""},{"$f":"IF( Ecarts!$E101=$A$1,IF( Ecarts!C101=\"\",\"\",Ecarts!C101),\"\")","v":""},{"$f":"IF( Ecarts!$E101=$A$1, IF(Ecarts!F101=\"\",\"\",Ecarts!F101),\"\")","v":""},{"$f":"IF( Ecarts!$E101=$A$1, IF(Ecarts!I101=\"\",\"\",Ecarts!I101),\"\")","v":""},{"$f":"IF( Ecarts!$E101=$A$1, IF(Ecarts!J101=\"\",\"\",Ecarts!J101),\"\")","v":""},{"$f":"IF( Ecarts!$E101=$A$1, IF(Ecarts!K101=\"\",\"\",Ecarts!K101),\"\")","v":""},{"$f":"IF( Ecarts!$E101=$A$1, IF(Ecarts!L101=\"\",\"\",Ecarts!L101),\"\")","v":""},{"$f":"IF( Ecarts!$E101=$A$1, IF(Ecarts!M101=\"\",\"\",Ecarts!M101),\"\")","v":""},0,0]
[{"$f":"IF( Ecarts!$E102=$A$1,IF( Ecarts!B102=\"\",\"\",Ecarts!A102),\"\")","v":""},{"$f":"IF( Ecarts!$E102=$A$1,IF( Ecarts!C102=\"\",\"\",Ecarts!C102),\"\")","v":""},{"$f":"IF( Ecarts!$E102=$A$1, IF(Ecarts!F102=\"\",\"\",Ecarts!F102),\"\")","v":""},{"$f":"IF( Ecarts!$E102=$A$1, IF(Ecarts!I102=\"\",\"\",Ecarts!I102),\"\")","v":""},{"$f":"IF( Ecarts!$E102=$A$1, IF(Ecarts!J102=\"\",\"\",Ecarts!J102),\"\")","v":""},{"$f":"IF( Ecarts!$E102=$A$1, IF(Ecarts!K102=\"\",\"\",Ecarts!K102),\"\")","v":""},{"$f":"IF( Ecarts!$E102=$A$1, IF(Ecarts!L102=\"\",\"\",Ecarts!L102),\"\")","v":""},{"$f":"IF( Ecarts!$E102=$A$1, IF(Ecarts!M102=\"\",\"\",Ecarts!M102),\"\")","v":""},0,0]
[{"$f":"IF( Ecarts!$E103=$A$1,IF( Ecarts!B103=\"\",\"\",Ecarts!A103),\"\")","v":""},{"$f":"IF( Ecarts!$E103=$A$1,IF( Ecarts!C103=\"\",\"\",Ecarts!C103),\"\")","v":""},{"$f":"IF( Ecarts!$E103=$A$1, IF(Ecarts!F103=\"\",\"\",Ecarts!F103),\"\")","v":""},{"$f":"IF( Ecarts!$E103=$A$1, IF(Ecarts!I103=\"\",\"\",Ecarts!I103),\"\")","v":""},{"$f":"IF( Ecarts!$E103=$A$1, IF(Ecarts!J103=\"\",\"\",Ecarts!J103),\"\")","v":""},{"$f":"IF( Ecarts!$E103=$A$1, IF(Ecarts!K103=\"\",\"\",Ecarts!K103),\"\")","v":""},{"$f":"IF( Ecarts!$E103=$A$1, IF(Ecarts!L103=\"\",\"\",Ecarts!L103),\"\")","v":""},{"$f":"IF( Ecarts!$E103=$A$1, IF(Ecarts!M103=\"\",\"\",Ecarts!M103),\"\")","v":""},0,0]
[{"$f":"IF( Ecarts!$E104=$A$1,IF( Ecarts!B104=\"\",\"\",Ecarts!A104),\"\")","v":""},{"$f":"IF( Ecarts!$E104=$A$1,IF( Ecarts!C104=\"\",\"\",Ecarts!C104),\"\")","v":""},{"$f":"IF( Ecarts!$E104=$A$1, IF(Ecarts!F104=\"\",\"\",Ecarts!F104),\"\")","v":""},{"$f":"IF( Ecarts!$E104=$A$1, IF(Ecarts!I104=\"\",\"\",Ecarts!I104),\"\")","v":""},{"$f":"IF( Ecarts!$E104=$A$1, IF(Ecarts!J104=\"\",\"\",Ecarts!J104),\"\")","v":""},{"$f":"IF( Ecarts!$E104=$A$1, IF(Ecarts!K104=\"\",\"\",Ecarts!K104),\"\")","v":""},{"$f":"IF( Ecarts!$E104=$A$1, IF(Ecarts!L104=\"\",\"\",Ecarts!L104),\"\")","v":""},{"$f":"IF( Ecarts!$E104=$A$1, IF(Ecarts!M104=\"\",\"\",Ecarts!M104),\"\")","v":""},0,0]
[{"$f":"IF( Ecarts!$E105=$A$1,IF( Ecarts!B105=\"\",\"\",Ecarts!A105),\"\")","v":""},{"$f":"IF( Ecarts!$E105=$A$1,IF( Ecarts!C105=\"\",\"\",Ecarts!C105),\"\")","v":""},{"$f":"IF( Ecarts!$E105=$A$1, IF(Ecarts!F105=\"\",\"\",Ecarts!F105),\"\")","v":""},{"$f":"IF( Ecarts!$E105=$A$1, IF(Ecarts!I105=\"\",\"\",Ecarts!I105),\"\")","v":""},{"$f":"IF( Ecarts!$E105=$A$1, IF(Ecarts!J105=\"\",\"\",Ecarts!J105),\"\")","v":""},{"$f":"IF( Ecarts!$E105=$A$1, IF(Ecarts!K105=\"\",\"\",Ecarts!K105),\"\")","v":""},{"$f":"IF( Ecarts!$E105=$A$1, IF(Ecarts!L105=\"\",\"\",Ecarts!L105),\"\")","v":""},{"$f":"IF( Ecarts!$E105=$A$1, IF(Ecarts!M105=\"\",\"\",Ecarts!M105),\"\")","v":""},0,0]
[{"$f":"IF( Ecarts!$E106=$A$1,IF( Ecarts!B106=\"\",\"\",Ecarts!A106),\"\")","v":""},{"$f":"IF( Ecarts!$E106=$A$1,IF( Ecarts!C106=\"\",\"\",Ecarts!C106),\"\")","v":""},{"$f":"IF( Ecarts!$E106=$A$1, IF(Ecarts!F106=\"\",\"\",Ecarts!F106),\"\")","v":""},{"$f":"IF( Ecarts!$E106=$A$1, IF(Ecarts!I106=\"\",\"\",Ecarts!I106),\"\")","v":""},{"$f":"IF( Ecarts!$E106=$A$1, IF(Ecarts!J106=\"\",\"\",Ecarts!J106),\"\")","v":""},{"$f":"IF( Ecarts!$E106=$A$1, IF(Ecarts!K106=\"\",\"\",Ecarts!K106),\"\")","v":""},{"$f":"IF( Ecarts!$E106=$A$1, IF(Ecarts!L106=\"\",\"\",Ecarts!L106),\"\")","v":""},{"$f":"IF( Ecarts!$E106=$A$1, IF(Ecarts!M106=\"\",\"\",Ecarts!M106),\"\")","v":""},0,0]
[{"$f":"IF( Ecarts!$E107=$A$1,IF( Ecarts!B107=\"\",\"\",Ecarts!A107),\"\")","v":""},{"$f":"IF( Ecarts!$E107=$A$1,IF( Ecarts!C107=\"\",\"\",Ecarts!C107),\"\")","v":""},{"$f":"IF( Ecarts!$E107=$A$1, IF(Ecarts!F107=\"\",\"\",Ecarts!F107),\"\")","v":""},{"$f":"IF( Ecarts!$E107=$A$1, IF(Ecarts!I107=\"\",\"\",Ecarts!I107),\"\")","v":""},{"$f":"IF( Ecarts!$E107=$A$1, IF(Ecarts!J107=\"\",\"\",Ecarts!J107),\"\")","v":""},{"$f":"IF( Ecarts!$E107=$A$1, IF(Ecarts!K107=\"\",\"\",Ecarts!K107),\"\")","v":""},{"$f":"IF( Ecarts!$E107=$A$1, IF(Ecarts!L107=\"\",\"\",Ecarts!L107),\"\")","v":""},{"$f":"IF( Ecarts!$E107=$A$1, IF(Ecarts!M107=\"\",\"\",Ecarts!M107),\"\")","v":""},0,0]
[{"$f":"IF( Ecarts!$E108=$A$1,IF( Ecarts!B108=\"\",\"\",Ecarts!A108),\"\")","v":""},{"$f":"IF( Ecarts!$E108=$A$1,IF( Ecarts!C108=\"\",\"\",Ecarts!C108),\"\")","v":""},{"$f":"IF( Ecarts!$E108=$A$1, IF(Ecarts!F108=\"\",\"\",Ecarts!F108),\"\")","v":""},{"$f":"IF( Ecarts!$E108=$A$1, IF(Ecarts!I108=\"\",\"\",Ecarts!I108),\"\")","v":""},{"$f":"IF( Ecarts!$E108=$A$1, IF(Ecarts!J108=\"\",\"\",Ecarts!J108),\"\")","v":""},{"$f":"IF( Ecarts!$E108=$A$1, IF(Ecarts!K108=\"\",\"\",Ecarts!K108),\"\")","v":""},{"$f":"IF( Ecarts!$E108=$A$1, IF(Ecarts!L108=\"\",\"\",Ecarts!L108),\"\")","v":""},{"$f":"IF( Ecarts!$E108=$A$1, IF(Ecarts!M108=\"\",\"\",Ecarts!M108),\"\")","v":""},0,0]
[{"$f":"IF( Ecarts!$E109=$A$1,IF( Ecarts!B109=\"\",\"\",Ecarts!A109),\"\")","v":""},{"$f":"IF( Ecarts!$E109=$A$1,IF( Ecarts!C109=\"\",\"\",Ecarts!C109),\"\")","v":""},{"$f":"IF( Ecarts!$E109=$A$1, IF(Ecarts!F109=\"\",\"\",Ecarts!F109),\"\")","v":""},{"$f":"IF( Ecarts!$E109=$A$1, IF(Ecarts!I109=\"\",\"\",Ecarts!I109),\"\")","v":""},{"$f":"IF( Ecarts!$E109=$A$1, IF(Ecarts!J109=\"\",\"\",Ecarts!J109),\"\")","v":""},{"$f":"IF( Ecarts!$E109=$A$1, IF(Ecarts!K109=\"\",\"\",Ecarts!K109),\"\")","v":""},{"$f":"IF( Ecarts!$E109=$A$1, IF(Ecarts!L109=\"\",\"\",Ecarts!L109),\"\")","v":""},{"$f":"IF( Ecarts!$E109=$A$1, IF(Ecarts!M109=\"\",\"\",Ecarts!M109),\"\")","v":""},0,0]
[{"$f":"IF( Ecarts!$E110=$A$1,IF( Ecarts!B110=\"\",\"\",Ecarts!A110),\"\")","v":""},{"$f":"IF( Ecarts!$E110=$A$1,IF( Ecarts!C110=\"\",\"\",Ecarts!C110),\"\")","v":""},{"$f":"IF( Ecarts!$E110=$A$1, IF(Ecarts!F110=\"\",\"\",Ecarts!F110),\"\")","v":""},{"$f":"IF( Ecarts!$E110=$A$1, IF(Ecarts!I110=\"\",\"\",Ecarts!I110),\"\")","v":""},{"$f":"IF( Ecarts!$E110=$A$1, IF(Ecarts!J110=\"\",\"\",Ecarts!J110),\"\")","v":""},{"$f":"IF( Ecarts!$E110=$A$1, IF(Ecarts!K110=\"\",\"\",Ecarts!K110),\"\")","v":""},{"$f":"IF( Ecarts!$E110=$A$1, IF(Ecarts!L110=\"\",\"\",Ecarts!L110),\"\")","v":""},{"$f":"IF( Ecarts!$E110=$A$1, IF(Ecarts!M110=\"\",\"\",Ecarts!M110),\"\")","v":""},0,0]
[{"$f":"IF( Ecarts!$E111=$A$1,IF( Ecarts!B111=\"\",\"\",Ecarts!A111),\"\")","v":""},{"$f":"IF( Ecarts!$E111=$A$1,IF( Ecarts!C111=\"\",\"\",Ecarts!C111),\"\")","v":""},{"$f":"IF( Ecarts!$E111=$A$1, IF(Ecarts!F111=\"\",\"\",Ecarts!F111),\"\")","v":""},{"$f":"IF( Ecarts!$E111=$A$1, IF(Ecarts!I111=\"\",\"\",Ecarts!I111),\"\")","v":""},{"$f":"IF( Ecarts!$E111=$A$1, IF(Ecarts!J111=\"\",\"\",Ecarts!J111),\"\")","v":""},{"$f":"IF( Ecarts!$E111=$A$1, IF(Ecarts!K111=\"\",\"\",Ecarts!K111),\"\")","v":""},{"$f":"IF( Ecarts!$E111=$A$1, IF(Ecarts!L111=\"\",\"\",Ecarts!L111),\"\")","v":""},{"$f":"IF( Ecarts!$E111=$A$1, IF(Ecarts!M111=\"\",\"\",Ecarts!M111),\"\")","v":""},0,0]
[{"$f":"IF( Ecarts!$E112=$A$1,IF( Ecarts!B112=\"\",\"\",Ecarts!A112),\"\")","v":""},{"$f":"IF( Ecarts!$E112=$A$1,IF( Ecarts!C112=\"\",\"\",Ecarts!C112),\"\")","v":""},{"$f":"IF( Ecarts!$E112=$A$1, IF(Ecarts!F112=\"\",\"\",Ecarts!F112),\"\")","v":""},{"$f":"IF( Ecarts!$E112=$A$1, IF(Ecarts!I112=\"\",\"\",Ecarts!I112),\"\")","v":""},{"$f":"IF( Ecarts!$E112=$A$1, IF(Ecarts!J112=\"\",\"\",Ecarts!J112),\"\")","v":""},{"$f":"IF( Ecarts!$E112=$A$1, IF(Ecarts!K112=\"\",\"\",Ecarts!K112),\"\")","v":""},{"$f":"IF( Ecarts!$E112=$A$1, IF(Ecarts!L112=\"\",\"\",Ecarts!L112),\"\")","v":""},{"$f":"IF( Ecarts!$E112=$A$1, IF(Ecarts!M112=\"\",\"\",Ecarts!M112),\"\")","v":""},0,0]
[{"$f":"IF( Ecarts!$E113=$A$1,IF( Ecarts!B113=\"\",\"\",Ecarts!A113),\"\")","v":""},{"$f":"IF( Ecarts!$E113=$A$1,IF( Ecarts!C113=\"\",\"\",Ecarts!C113),\"\")","v":""},{"$f":"IF( Ecarts!$E113=$A$1, IF(Ecarts!F113=\"\",\"\",Ecarts!F113),\"\")","v":""},{"$f":"IF( Ecarts!$E113=$A$1, IF(Ecarts!I113=\"\",\"\",Ecarts!I113),\"\")","v":""},{"$f":"IF( Ecarts!$E113=$A$1, IF(Ecarts!J113=\"\",\"\",Ecarts!J113),\"\")","v":""},{"$f":"IF( Ecarts!$E113=$A$1, IF(Ecarts!K113=\"\",\"\",Ecarts!K113),\"\")","v":""},{"$f":"IF( Ecarts!$E113=$A$1, IF(Ecarts!L113=\"\",\"\",Ecarts!L113),\"\")","v":""},{"$f":"IF( Ecarts!$E113=$A$1, IF(Ecarts!M113=\"\",\"\",Ecarts!M113),\"\")","v":""},0,0]
[{"$f":"IF( Ecarts!$E114=$A$1,IF( Ecarts!B114=\"\",\"\",Ecarts!A114),\"\")","v":""},{"$f":"IF( Ecarts!$E114=$A$1,IF( Ecarts!C114=\"\",\"\",Ecarts!C114),\"\")","v":""},{"$f":"IF( Ecarts!$E114=$A$1, IF(Ecarts!F114=\"\",\"\",Ecarts!F114),\"\")","v":""},{"$f":"IF( Ecarts!$E114=$A$1, IF(Ecarts!I114=\"\",\"\",Ecarts!I114),\"\")","v":""},{"$f":"IF( Ecarts!$E114=$A$1, IF(Ecarts!J114=\"\",\"\",Ecarts!J114),\"\")","v":""},{"$f":"IF( Ecarts!$E114=$A$1, IF(Ecarts!K114=\"\",\"\",Ecarts!K114),\"\")","v":""},{"$f":"IF( Ecarts!$E114=$A$1, IF(Ecarts!L114=\"\",\"\",Ecarts!L114),\"\")","v":""},{"$f":"IF( Ecarts!$E114=$A$1, IF(Ecarts!M114=\"\",\"\",Ecarts!M114),\"\")","v":""},0,0]
[{"$f":"IF( Ecarts!$E115=$A$1,IF( Ecarts!B115=\"\",\"\",Ecarts!A115),\"\")","v":""},{"$f":"IF( Ecarts!$E115=$A$1,IF( Ecarts!C115=\"\",\"\",Ecarts!C115),\"\")","v":""},{"$f":"IF( Ecarts!$E115=$A$1, IF(Ecarts!F115=\"\",\"\",Ecarts!F115),\"\")","v":""},{"$f":"IF( Ecarts!$E115=$A$1, IF(Ecarts!I115=\"\",\"\",Ecarts!I115),\"\")","v":""},{"$f":"IF( Ecarts!$E115=$A$1, IF(Ecarts!J115=\"\",\"\",Ecarts!J115),\"\")","v":""},{"$f":"IF( Ecarts!$E115=$A$1, IF(Ecarts!K115=\"\",\"\",Ecarts!K115),\"\")","v":""},{"$f":"IF( Ecarts!$E115=$A$1, IF(Ecarts!L115=\"\",\"\",Ecarts!L115),\"\")","v":""},{"$f":"IF( Ecarts!$E115=$A$1, IF(Ecarts!M115=\"\",\"\",Ecarts!M115),\"\")","v":""},0,0]
[{"$f":"IF( Ecarts!$E116=$A$1,IF( Ecarts!B116=\"\",\"\",Ecarts!A116),\"\")","v":""},{"$f":"IF( Ecarts!$E116=$A$1,IF( Ecarts!C116=\"\",\"\",Ecarts!C116),\"\")","v":""},{"$f":"IF( Ecarts!$E116=$A$1, IF(Ecarts!F116=\"\",\"\",Ecarts!F116),\"\")","v":""},{"$f":"IF( Ecarts!$E116=$A$1, IF(Ecarts!I116=\"\",\"\",Ecarts!I116),\"\")","v":""},{"$f":"IF( Ecarts!$E116=$A$1, IF(Ecarts!J116=\"\",\"\",Ecarts!J116),\"\")","v":""},{"$f":"IF( Ecarts!$E116=$A$1, IF(Ecarts!K116=\"\",\"\",Ecarts!K116),\"\")","v":""},{"$f":"IF( Ecarts!$E116=$A$1, IF(Ecarts!L116=\"\",\"\",Ecarts!L116),\"\")","v":""},{"$f":"IF( Ecarts!$E116=$A$1, IF(Ecarts!M116=\"\",\"\",Ecarts!M116),\"\")","v":""},0,0]
[{"$f":"IF( Ecarts!$E117=$A$1,IF( Ecarts!B117=\"\",\"\",Ecarts!A117),\"\")","v":""},{"$f":"IF( Ecarts!$E117=$A$1,IF( Ecarts!C117=\"\",\"\",Ecarts!C117),\"\")","v":""},{"$f":"IF( Ecarts!$E117=$A$1, IF(Ecarts!F117=\"\",\"\",Ecarts!F117),\"\")","v":""},{"$f":"IF( Ecarts!$E117=$A$1, IF(Ecarts!I117=\"\",\"\",Ecarts!I117),\"\")","v":""},{"$f":"IF( Ecarts!$E117=$A$1, IF(Ecarts!J117=\"\",\"\",Ecarts!J117),\"\")","v":""},{"$f":"IF( Ecarts!$E117=$A$1, IF(Ecarts!K117=\"\",\"\",Ecarts!K117),\"\")","v":""},{"$f":"IF( Ecarts!$E117=$A$1, IF(Ecarts!L117=\"\",\"\",Ecarts!L117),\"\")","v":""},{"$f":"IF( Ecarts!$E117=$A$1, IF(Ecarts!M117=\"\",\"\",Ecarts!M117),\"\")","v":""},0,0]
[{"$f":"IF( Ecarts!$E118=$A$1,IF( Ecarts!B118=\"\",\"\",Ecarts!A118),\"\")","v":""},{"$f":"IF( Ecarts!$E118=$A$1,IF( Ecarts!C118=\"\",\"\",Ecarts!C118),\"\")","v":""},{"$f":"IF( Ecarts!$E118=$A$1, IF(Ecarts!F118=\"\",\"\",Ecarts!F118),\"\")","v":""},{"$f":"IF( Ecarts!$E118=$A$1, IF(Ecarts!I118=\"\",\"\",Ecarts!I118),\"\")","v":""},{"$f":"IF( Ecarts!$E118=$A$1, IF(Ecarts!J118=\"\",\"\",Ecarts!J118),\"\")","v":""},{"$f":"IF( Ecarts!$E118=$A$1, IF(Ecarts!K118=\"\",\"\",Ecarts!K118),\"\")","v":""},{"$f":"IF( Ecarts!$E118=$A$1, IF(Ecarts!L118=\"\",\"\",Ecarts!L118),\"\")","v":""},{"$f":"IF( Ecarts!$E118=$A$1, IF(Ecarts!M118=\"\",\"\",Ecarts!M118),\"\")","v":""},0,0]
[{"$f":"IF( Ecarts!$E119=$A$1,IF( Ecarts!B119=\"\",\"\",Ecarts!A119),\"\")","v":""},{"$f":"IF( Ecarts!$E119=$A$1,IF( Ecarts!C119=\"\",\"\",Ecarts!C119),\"\")","v":""},{"$f":"IF( Ecarts!$E119=$A$1, IF(Ecarts!F119=\"\",\"\",Ecarts!F119),\"\")","v":""},{"$f":"IF( Ecarts!$E119=$A$1, IF(Ecarts!I119=\"\",\"\",Ecarts!I119),\"\")","v":""},{"$f":"IF( Ecarts!$E119=$A$1, IF(Ecarts!J119=\"\",\"\",Ecarts!J119),\"\")","v":""},{"$f":"IF( Ecarts!$E119=$A$1, IF(Ecarts!K119=\"\",\"\",Ecarts!K119),\"\")","v":""},{"$f":"IF( Ecarts!$E119=$A$1, IF(Ecarts!L119=\"\",\"\",Ecarts!L119),\"\")","v":""},{"$f":"IF( Ecarts!$E119=$A$1, IF(Ecarts!M119=\"\",\"\",Ecarts!M119),\"\")","v":""},0,0]
[{"$f":"IF( Ecarts!$E120=$A$1,IF( Ecarts!B120=\"\",\"\",Ecarts!A120),\"\")","v":""},{"$f":"IF( Ecarts!$E120=$A$1,IF( Ecarts!C120=\"\",\"\",Ecarts!C120),\"\")","v":""},{"$f":"IF( Ecarts!$E120=$A$1, IF(Ecarts!F120=\"\",\"\",Ecarts!F120),\"\")","v":""},{"$f":"IF( Ecarts!$E120=$A$1, IF(Ecarts!I120=\"\",\"\",Ecarts!I120),\"\")","v":""},{"$f":"IF( Ecarts!$E120=$A$1, IF(Ecarts!J120=\"\",\"\",Ecarts!J120),\"\")","v":""},{"$f":"IF( Ecarts!$E120=$A$1, IF(Ecarts!K120=\"\",\"\",Ecarts!K120),\"\")","v":""},{"$f":"IF( Ecarts!$E120=$A$1, IF(Ecarts!L120=\"\",\"\",Ecarts!L120),\"\")","v":""},{"$f":"IF( Ecarts!$E120=$A$1, IF(Ecarts!M120=\"\",\"\",Ecarts!M120),\"\")","v":""},0,0]
[{"$f":"IF( Ecarts!$E121=$A$1,IF( Ecarts!B121=\"\",\"\",Ecarts!A121),\"\")","v":""},{"$f":"IF( Ecarts!$E121=$A$1,IF( Ecarts!C121=\"\",\"\",Ecarts!C121),\"\")","v":""},{"$f":"IF( Ecarts!$E121=$A$1, IF(Ecarts!F121=\"\",\"\",Ecarts!F121),\"\")","v":""},{"$f":"IF( Ecarts!$E121=$A$1, IF(Ecarts!I121=\"\",\"\",Ecarts!I121),\"\")","v":""},{"$f":"IF( Ecarts!$E121=$A$1, IF(Ecarts!J121=\"\",\"\",Ecarts!J121),\"\")","v":""},{"$f":"IF( Ecarts!$E121=$A$1, IF(Ecarts!K121=\"\",\"\",Ecarts!K121),\"\")","v":""},{"$f":"IF( Ecarts!$E121=$A$1, IF(Ecarts!L121=\"\",\"\",Ecarts!L121),\"\")","v":""},{"$f":"IF( Ecarts!$E121=$A$1, IF(Ecarts!M121=\"\",\"\",Ecarts!M121),\"\")","v":""},0,0]
[{"$f":"IF( Ecarts!$E122=$A$1,IF( Ecarts!B122=\"\",\"\",Ecarts!A122),\"\")","v":""},{"$f":"IF( Ecarts!$E122=$A$1,IF( Ecarts!C122=\"\",\"\",Ecarts!C122),\"\")","v":""},{"$f":"IF( Ecarts!$E122=$A$1, IF(Ecarts!F122=\"\",\"\",Ecarts!F122),\"\")","v":""},{"$f":"IF( Ecarts!$E122=$A$1, IF(Ecarts!I122=\"\",\"\",Ecarts!I122),\"\")","v":""},{"$f":"IF( Ecarts!$E122=$A$1, IF(Ecarts!J122=\"\",\"\",Ecarts!J122),\"\")","v":""},{"$f":"IF( Ecarts!$E122=$A$1, IF(Ecarts!K122=\"\",\"\",Ecarts!K122),\"\")","v":""},{"$f":"IF( Ecarts!$E122=$A$1, IF(Ecarts!L122=\"\",\"\",Ecarts!L122),\"\")","v":""},{"$f":"IF( Ecarts!$E122=$A$1, IF(Ecarts!M122=\"\",\"\",Ecarts!M122),\"\")","v":""},0,0]
[{"$f":"IF( Ecarts!$E123=$A$1,IF( Ecarts!B123=\"\",\"\",Ecarts!A123),\"\")","v":""},{"$f":"IF( Ecarts!$E123=$A$1,IF( Ecarts!C123=\"\",\"\",Ecarts!C123),\"\")","v":""},{"$f":"IF( Ecarts!$E123=$A$1, IF(Ecarts!F123=\"\",\"\",Ecarts!F123),\"\")","v":""},{"$f":"IF( Ecarts!$E123=$A$1, IF(Ecarts!I123=\"\",\"\",Ecarts!I123),\"\")","v":""},{"$f":"IF( Ecarts!$E123=$A$1, IF(Ecarts!J123=\"\",\"\",Ecarts!J123),\"\")","v":""},{"$f":"IF( Ecarts!$E123=$A$1, IF(Ecarts!K123=\"\",\"\",Ecarts!K123),\"\")","v":""},{"$f":"IF( Ecarts!$E123=$A$1, IF(Ecarts!L123=\"\",\"\",Ecarts!L123),\"\")","v":""},{"$f":"IF( Ecarts!$E123=$A$1, IF(Ecarts!M123=\"\",\"\",Ecarts!M123),\"\")","v":""},0,0]
[{"$f":"IF( Ecarts!$E124=$A$1,IF( Ecarts!B124=\"\",\"\",Ecarts!A124),\"\")","v":""},{"$f":"IF( Ecarts!$E124=$A$1,IF( Ecarts!C124=\"\",\"\",Ecarts!C124),\"\")","v":""},{"$f":"IF( Ecarts!$E124=$A$1, IF(Ecarts!F124=\"\",\"\",Ecarts!F124),\"\")","v":""},{"$f":"IF( Ecarts!$E124=$A$1, IF(Ecarts!I124=\"\",\"\",Ecarts!I124),\"\")","v":""},{"$f":"IF( Ecarts!$E124=$A$1, IF(Ecarts!J124=\"\",\"\",Ecarts!J124),\"\")","v":""},{"$f":"IF( Ecarts!$E124=$A$1, IF(Ecarts!K124=\"\",\"\",Ecarts!K124),\"\")","v":""},{"$f":"IF( Ecarts!$E124=$A$1, IF(Ecarts!L124=\"\",\"\",Ecarts!L124),\"\")","v":""},{"$f":"IF( Ecarts!$E124=$A$1, IF(Ecarts!M124=\"\",\"\",Ecarts!M124),\"\")","v":""},0,0]
[{"$f":"IF( Ecarts!$E125=$A$1,IF( Ecarts!B125=\"\",\"\",Ecarts!A125),\"\")","v":""},{"$f":"IF( Ecarts!$E125=$A$1,IF( Ecarts!C125=\"\",\"\",Ecarts!C125),\"\")","v":""},{"$f":"IF( Ecarts!$E125=$A$1, IF(Ecarts!F125=\"\",\"\",Ecarts!F125),\"\")","v":""},{"$f":"IF( Ecarts!$E125=$A$1, IF(Ecarts!I125=\"\",\"\",Ecarts!I125),\"\")","v":""},{"$f":"IF( Ecarts!$E125=$A$1, IF(Ecarts!J125=\"\",\"\",Ecarts!J125),\"\")","v":""},{"$f":"IF( Ecarts!$E125=$A$1, IF(Ecarts!K125=\"\",\"\",Ecarts!K125),\"\")","v":""},{"$f":"IF( Ecarts!$E125=$A$1, IF(Ecarts!L125=\"\",\"\",Ecarts!L125),\"\")","v":""},{"$f":"IF( Ecarts!$E125=$A$1, IF(Ecarts!M125=\"\",\"\",Ecarts!M125),\"\")","v":""},0,0]
[{"$f":"IF( Ecarts!$E126=$A$1,IF( Ecarts!B126=\"\",\"\",Ecarts!A126),\"\")","v":""},{"$f":"IF( Ecarts!$E126=$A$1,IF( Ecarts!C126=\"\",\"\",Ecarts!C126),\"\")","v":""},{"$f":"IF( Ecarts!$E126=$A$1, IF(Ecarts!F126=\"\",\"\",Ecarts!F126),\"\")","v":""},{"$f":"IF( Ecarts!$E126=$A$1, IF(Ecarts!I126=\"\",\"\",Ecarts!I126),\"\")","v":""},{"$f":"IF( Ecarts!$E126=$A$1, IF(Ecarts!J126=\"\",\"\",Ecarts!J126),\"\")","v":""},{"$f":"IF( Ecarts!$E126=$A$1, IF(Ecarts!K126=\"\",\"\",Ecarts!K126),\"\")","v":""},{"$f":"IF( Ecarts!$E126=$A$1, IF(Ecarts!L126=\"\",\"\",Ecarts!L126),\"\")","v":""},{"$f":"IF( Ecarts!$E126=$A$1, IF(Ecarts!M126=\"\",\"\",Ecarts!M126),\"\")","v":""},0,0]
[{"$f":"IF( Ecarts!$E127=$A$1,IF( Ecarts!B127=\"\",\"\",Ecarts!A127),\"\")","v":""},{"$f":"IF( Ecarts!$E127=$A$1,IF( Ecarts!C127=\"\",\"\",Ecarts!C127),\"\")","v":""},{"$f":"IF( Ecarts!$E127=$A$1, IF(Ecarts!F127=\"\",\"\",Ecarts!F127),\"\")","v":""},{"$f":"IF( Ecarts!$E127=$A$1, IF(Ecarts!I127=\"\",\"\",Ecarts!I127),\"\")","v":""},{"$f":"IF( Ecarts!$E127=$A$1, IF(Ecarts!J127=\"\",\"\",Ecarts!J127),\"\")","v":""},{"$f":"IF( Ecarts!$E127=$A$1, IF(Ecarts!K127=\"\",\"\",Ecarts!K127),\"\")","v":""},{"$f":"IF( Ecarts!$E127=$A$1, IF(Ecarts!L127=\"\",\"\",Ecarts!L127),\"\")","v":""},{"$f":"IF( Ecarts!$E127=$A$1, IF(Ecarts!M127=\"\",\"\",Ecarts!M127),\"\")","v":""},0,0]
[{"$f":"IF( Ecarts!$E128=$A$1,IF( Ecarts!B128=\"\",\"\",Ecarts!A128),\"\")","v":""},{"$f":"IF( Ecarts!$E128=$A$1,IF( Ecarts!C128=\"\",\"\",Ecarts!C128),\"\")","v":""},{"$f":"IF( Ecarts!$E128=$A$1, IF(Ecarts!F128=\"\",\"\",Ecarts!F128),\"\")","v":""},{"$f":"IF( Ecarts!$E128=$A$1, IF(Ecarts!I128=\"\",\"\",Ecarts!I128),\"\")","v":""},{"$f":"IF( Ecarts!$E128=$A$1, IF(Ecarts!J128=\"\",\"\",Ecarts!J128),\"\")","v":""},{"$f":"IF( Ecarts!$E128=$A$1, IF(Ecarts!K128=\"\",\"\",Ecarts!K128),\"\")","v":""},{"$f":"IF( Ecarts!$E128=$A$1, IF(Ecarts!L128=\"\",\"\",Ecarts!L128),\"\")","v":""},{"$f":"IF( Ecarts!$E128=$A$1, IF(Ecarts!M128=\"\",\"\",Ecarts!M128),\"\")","v":""},0,0]
[{"$f":"IF( Ecarts!$E129=$A$1,IF( Ecarts!B129=\"\",\"\",Ecarts!A129),\"\")","v":""},{"$f":"IF( Ecarts!$E129=$A$1,IF( Ecarts!C129=\"\",\"\",Ecarts!C129),\"\")","v":""},{"$f":"IF( Ecarts!$E129=$A$1, IF(Ecarts!F129=\"\",\"\",Ecarts!F129),\"\")","v":""},{"$f":"IF( Ecarts!$E129=$A$1, IF(Ecarts!I129=\"\",\"\",Ecarts!I129),\"\")","v":""},{"$f":"IF( Ecarts!$E129=$A$1, IF(Ecarts!J129=\"\",\"\",Ecarts!J129),\"\")","v":""},{"$f":"IF( Ecarts!$E129=$A$1, IF(Ecarts!K129=\"\",\"\",Ecarts!K129),\"\")","v":""},{"$f":"IF( Ecarts!$E129=$A$1, IF(Ecarts!L129=\"\",\"\",Ecarts!L129),\"\")","v":""},{"$f":"IF( Ecarts!$E129=$A$1, IF(Ecarts!M129=\"\",\"\",Ecarts!M129),\"\")","v":""},0,0]
[{"$f":"IF( Ecarts!$E130=$A$1,IF( Ecarts!B130=\"\",\"\",Ecarts!A130),\"\")","v":""},{"$f":"IF( Ecarts!$E130=$A$1,IF( Ecarts!C130=\"\",\"\",Ecarts!C130),\"\")","v":""},{"$f":"IF( Ecarts!$E130=$A$1, IF(Ecarts!F130=\"\",\"\",Ecarts!F130),\"\")","v":""},{"$f":"IF( Ecarts!$E130=$A$1, IF(Ecarts!I130=\"\",\"\",Ecarts!I130),\"\")","v":""},{"$f":"IF( Ecarts!$E130=$A$1, IF(Ecarts!J130=\"\",\"\",Ecarts!J130),\"\")","v":""},{"$f":"IF( Ecarts!$E130=$A$1, IF(Ecarts!K130=\"\",\"\",Ecarts!K130),\"\")","v":""},{"$f":"IF( Ecarts!$E130=$A$1, IF(Ecarts!L130=\"\",\"\",Ecarts!L130),\"\")","v":""},{"$f":"IF( Ecarts!$E130=$A$1, IF(Ecarts!M130=\"\",\"\",Ecarts!M130),\"\")","v":""},0,0]
[{"$f":"IF( Ecarts!$E131=$A$1,IF( Ecarts!B131=\"\",\"\",Ecarts!A131),\"\")","v":""},{"$f":"IF( Ecarts!$E131=$A$1,IF( Ecarts!C131=\"\",\"\",Ecarts!C131),\"\")","v":""},{"$f":"IF( Ecarts!$E131=$A$1, IF(Ecarts!F131=\"\",\"\",Ecarts!F131),\"\")","v":""},{"$f":"IF( Ecarts!$E131=$A$1, IF(Ecarts!I131=\"\",\"\",Ecarts!I131),\"\")","v":""},{"$f":"IF( Ecarts!$E131=$A$1, IF(Ecarts!J131=\"\",\"\",Ecarts!J131),\"\")","v":""},{"$f":"IF( Ecarts!$E131=$A$1, IF(Ecarts!K131=\"\",\"\",Ecarts!K131),\"\")","v":""},{"$f":"IF( Ecarts!$E131=$A$1, IF(Ecarts!L131=\"\",\"\",Ecarts!L131),\"\")","v":""},{"$f":"IF( Ecarts!$E131=$A$1, IF(Ecarts!M131=\"\",\"\",Ecarts!M131),\"\")","v":""},0,0]
[{"$f":"IF( Ecarts!$E132=$A$1,IF( Ecarts!B132=\"\",\"\",Ecarts!A132),\"\")","v":""},{"$f":"IF( Ecarts!$E132=$A$1,IF( Ecarts!C132=\"\",\"\",Ecarts!C132),\"\")","v":""},{"$f":"IF( Ecarts!$E132=$A$1, IF(Ecarts!F132=\"\",\"\",Ecarts!F132),\"\")","v":""},{"$f":"IF( Ecarts!$E132=$A$1, IF(Ecarts!I132=\"\",\"\",Ecarts!I132),\"\")","v":""},{"$f":"IF( Ecarts!$E132=$A$1, IF(Ecarts!J132=\"\",\"\",Ecarts!J132),\"\")","v":""},{"$f":"IF( Ecarts!$E132=$A$1, IF(Ecarts!K132=\"\",\"\",Ecarts!K132),\"\")","v":""},{"$f":"IF( Ecarts!$E132=$A$1, IF(Ecarts!L132=\"\",\"\",Ecarts!L132),\"\")","v":""},{"$f":"IF( Ecarts!$E132=$A$1, IF(Ecarts!M132=\"\",\"\",Ecarts!M132),\"\")","v":""},{"$f":"IF(B133=\"\",0,IF(G133=1,0,1))","v":0},{"$f":"IF(F133=\"\",0,IF(F133>(TODAY()-60),1,0))","v":0}]
[{"$f":"IF( Ecarts!$E133=$A$1,IF( Ecarts!B133=\"\",\"\",Ecarts!A133),\"\")","v":""},{"$f":"IF( Ecarts!$E133=$A$1,IF( Ecarts!C133=\"\",\"\",Ecarts!C133),\"\")","v":""},{"$f":"IF( Ecarts!$E133=$A$1, IF(Ecarts!F133=\"\",\"\",Ecarts!F133),\"\")","v":""},{"$f":"IF( Ecarts!$E133=$A$1, IF(Ecarts!I133=\"\",\"\",Ecarts!I133),\"\")","v":""},{"$f":"IF( Ecarts!$E133=$A$1, IF(Ecarts!J133=\"\",\"\",Ecarts!J133),\"\")","v":""},{"$f":"IF( Ecarts!$E133=$A$1, IF(Ecarts!K133=\"\",\"\",Ecarts!K133),\"\")","v":""},{"$f":"IF( Ecarts!$E133=$A$1, IF(Ecarts!L133=\"\",\"\",Ecarts!L133),\"\")","v":""},{"$f":"IF( Ecarts!$E133=$A$1, IF(Ecarts!M133=\"\",\"\",Ecarts!M133),\"\")","v":""},0,0]
[{"$f":"IF( Ecarts!$E134=$A$1,IF( Ecarts!B134=\"\",\"\",Ecarts!A134),\"\")","v":""},{"$f":"IF( Ecarts!$E134=$A$1,IF( Ecarts!C134=\"\",\"\",Ecarts!C134),\"\")","v":""},{"$f":"IF( Ecarts!$E134=$A$1, IF(Ecarts!F134=\"\",\"\",Ecarts!F134),\"\")","v":""},{"$f":"IF( Ecarts!$E134=$A$1, IF(Ecarts!I134=\"\",\"\",Ecarts!I134),\"\")","v":""},{"$f":"IF( Ecarts!$E134=$A$1, IF(Ecarts!J134=\"\",\"\",Ecarts!J134),\"\")","v":""},{"$f":"IF( Ecarts!$E134=$A$1, IF(Ecarts!K134=\"\",\"\",Ecarts!K134),\"\")","v":""},{"$f":"IF( Ecarts!$E134=$A$1, IF(Ecarts!L134=\"\",\"\",Ecarts!L134),\"\")","v":""},{"$f":"IF( Ecarts!$E134=$A$1, IF(Ecarts!M134=\"\",\"\",Ecarts!M134),\"\")","v":""},0,0]
[{"$f":"IF( Ecarts!$E135=$A$1,IF( Ecarts!B135=\"\",\"\",Ecarts!A135),\"\")","v":""},{"$f":"IF( Ecarts!$E135=$A$1,IF( Ecarts!C135=\"\",\"\",Ecarts!C135),\"\")","v":""},{"$f":"IF( Ecarts!$E135=$A$1, IF(Ecarts!F135=\"\",\"\",Ecarts!F135),\"\")","v":""},{"$f":"IF( Ecarts!$E135=$A$1, IF(Ecarts!I135=\"\",\"\",Ecarts!I135),\"\")","v":""},{"$f":"IF( Ecarts!$E135=$A$1, IF(Ecarts!J135=\"\",\"\",Ecarts!J135),\"\")","v":""},{"$f":"IF( Ecarts!$E135=$A$1, IF(Ecarts!K135=\"\",\"\",Ecarts!K135),\"\")","v":""},{"$f":"IF( Ecarts!$E135=$A$1, IF(Ecarts!L135=\"\",\"\",Ecarts!L135),\"\")","v":""},{"$f":"IF( Ecarts!$E135=$A$1, IF(Ecarts!M135=\"\",\"\",Ecarts!M135),\"\")","v":""},0,0]
[{"$f":"IF( Ecarts!$E136=$A$1,IF( Ecarts!B136=\"\",\"\",Ecarts!A136),\"\")","v":""},{"$f":"IF( Ecarts!$E136=$A$1,IF( Ecarts!C136=\"\",\"\",Ecarts!C136),\"\")","v":""},{"$f":"IF( Ecarts!$E136=$A$1, IF(Ecarts!F136=\"\",\"\",Ecarts!F136),\"\")","v":""},{"$f":"IF( Ecarts!$E136=$A$1, IF(Ecarts!I136=\"\",\"\",Ecarts!I136),\"\")","v":""},{"$f":"IF( Ecarts!$E136=$A$1, IF(Ecarts!J136=\"\",\"\",Ecarts!J136),\"\")","v":""},{"$f":"IF( Ecarts!$E136=$A$1, IF(Ecarts!K136=\"\",\"\",Ecarts!K136),\"\")","v":""},{"$f":"IF( Ecarts!$E136=$A$1, IF(Ecarts!L136=\"\",\"\",Ecarts!L136),\"\")","v":""},{"$f":"IF( Ecarts!$E136=$A$1, IF(Ecarts!M136=\"\",\"\",Ecarts!M136),\"\")","v":""},0,0]
[{"$f":"IF( Ecarts!$E137=$A$1,IF( Ecarts!B137=\"\",\"\",Ecarts!A137),\"\")","v":""},{"$f":"IF( Ecarts!$E137=$A$1,IF( Ecarts!C137=\"\",\"\",Ecarts!C137),\"\")","v":""},{"$f":"IF( Ecarts!$E137=$A$1, IF(Ecarts!F137=\"\",\"\",Ecarts!F137),\"\")","v":""},{"$f":"IF( Ecarts!$E137=$A$1, IF(Ecarts!I137=\"\",\"\",Ecarts!I137),\"\")","v":""},{"$f":"IF( Ecarts!$E137=$A$1, IF(Ecarts!J137=\"\",\"\",Ecarts!J137),\"\")","v":""},{"$f":"IF( Ecarts!$E137=$A$1, IF(Ecarts!K137=\"\",\"\",Ecarts!K137),\"\")","v":""},{"$f":"IF( Ecarts!$E137=$A$1, IF(Ecarts!L137=\"\",\"\",Ecarts!L137),\"\")","v":""},{"$f":"IF( Ecarts!$E137=$A$1, IF(Ecarts!M137=\"\",\"\",Ecarts!M137),\"\")","v":""},0,0]
[{"$f":"IF( Ecarts!$E138=$A$1,IF( Ecarts!B138=\"\",\"\",Ecarts!A138),\"\")","v":""},{"$f":"IF( Ecarts!$E138=$A$1,IF( Ecarts!C138=\"\",\"\",Ecarts!C138),\"\")","v":""},{"$f":"IF( Ecarts!$E138=$A$1, IF(Ecarts!F138=\"\",\"\",Ecarts!F138),\"\")","v":""},{"$f":"IF( Ecarts!$E138=$A$1, IF(Ecarts!I138=\"\",\"\",Ecarts!I138),\"\")","v":""},{"$f":"IF( Ecarts!$E138=$A$1, IF(Ecarts!J138=\"\",\"\",Ecarts!J138),\"\")","v":""},{"$f":"IF( Ecarts!$E138=$A$1, IF(Ecarts!K138=\"\",\"\",Ecarts!K138),\"\")","v":""},{"$f":"IF( Ecarts!$E138=$A$1, IF(Ecarts!L138=\"\",\"\",Ecarts!L138),\"\")","v":""},{"$f":"IF( Ecarts!$E138=$A$1, IF(Ecarts!M138=\"\",\"\",Ecarts!M138),\"\")","v":""},0,0]
[{"$f":"IF( Ecarts!$E139=$A$1,IF( Ecarts!B139=\"\",\"\",Ecarts!A139),\"\")","v":""},{"$f":"IF( Ecarts!$E139=$A$1,IF( Ecarts!C139=\"\",\"\",Ecarts!C139),\"\")","v":""},{"$f":"IF( Ecarts!$E139=$A$1, IF(Ecarts!F139=\"\",\"\",Ecarts!F139),\"\")","v":""},{"$f":"IF( Ecarts!$E139=$A$1, IF(Ecarts!I139=\"\",\"\",Ecarts!I139),\"\")","v":""},{"$f":"IF( Ecarts!$E139=$A$1, IF(Ecarts!J139=\"\",\"\",Ecarts!J139),\"\")","v":""},{"$f":"IF( Ecarts!$E139=$A$1, IF(Ecarts!K139=\"\",\"\",Ecarts!K139),\"\")","v":""},{"$f":"IF( Ecarts!$E139=$A$1, IF(Ecarts!L139=\"\",\"\",Ecarts!L139),\"\")","v":""},{"$f":"IF( Ecarts!$E139=$A$1, IF(Ecarts!M139=\"\",\"\",Ecarts!M139),\"\")","v":""},0,0]
[{"$f":"IF( Ecarts!$E140=$A$1,IF( Ecarts!B140=\"\",\"\",Ecarts!A140),\"\")","v":""},{"$f":"IF( Ecarts!$E140=$A$1,IF( Ecarts!C140=\"\",\"\",Ecarts!C140),\"\")","v":""},{"$f":"IF( Ecarts!$E140=$A$1, IF(Ecarts!F140=\"\",\"\",Ecarts!F140),\"\")","v":""},{"$f":"IF( Ecarts!$E140=$A$1, IF(Ecarts!I140=\"\",\"\",Ecarts!I140),\"\")","v":""},{"$f":"IF( Ecarts!$E140=$A$1, IF(Ecarts!J140=\"\",\"\",Ecarts!J140),\"\")","v":""},{"$f":"IF( Ecarts!$E140=$A$1, IF(Ecarts!K140=\"\",\"\",Ecarts!K140),\"\")","v":""},{"$f":"IF( Ecarts!$E140=$A$1, IF(Ecarts!L140=\"\",\"\",Ecarts!L140),\"\")","v":""},{"$f":"IF( Ecarts!$E140=$A$1, IF(Ecarts!M140=\"\",\"\",Ecarts!M140),\"\")","v":""},0,0]
[{"$f":"IF( Ecarts!$E141=$A$1,IF( Ecarts!B141=\"\",\"\",Ecarts!A141),\"\")","v":""},{"$f":"IF( Ecarts!$E141=$A$1,IF( Ecarts!C141=\"\",\"\",Ecarts!C141),\"\")","v":""},{"$f":"IF( Ecarts!$E141=$A$1, IF(Ecarts!F141=\"\",\"\",Ecarts!F141),\"\")","v":""},{"$f":"IF( Ecarts!$E141=$A$1, IF(Ecarts!I141=\"\",\"\",Ecarts!I141),\"\")","v":""},{"$f":"IF( Ecarts!$E141=$A$1, IF(Ecarts!J141=\"\",\"\",Ecarts!J141),\"\")","v":""},{"$f":"IF( Ecarts!$E141=$A$1, IF(Ecarts!K141=\"\",\"\",Ecarts!K141),\"\")","v":""},{"$f":"IF( Ecarts!$E141=$A$1, IF(Ecarts!L141=\"\",\"\",Ecarts!L141),\"\")","v":""},{"$f":"IF( Ecarts!$E141=$A$1, IF(Ecarts!M141=\"\",\"\",Ecarts!M141),\"\")","v":""},0,0]
[{"$f":"IF( Ecarts!$E142=$A$1,IF( Ecarts!B142=\"\",\"\",Ecarts!A142),\"\")","v":""},{"$f":"IF( Ecarts!$E142=$A$1,IF( Ecarts!C142=\"\",\"\",Ecarts!C142),\"\")","v":""},{"$f":"IF( Ecarts!$E142=$A$1, IF(Ecarts!F142=\"\",\"\",Ecarts!F142),\"\")","v":""},{"$f":"IF( Ecarts!$E142=$A$1, IF(Ecarts!I142=\"\",\"\",Ecarts!I142),\"\")","v":""},{"$f":"IF( Ecarts!$E142=$A$1, IF(Ecarts!J142=\"\",\"\",Ecarts!J142),\"\")","v":""},{"$f":"IF( Ecarts!$E142=$A$1, IF(Ecarts!K142=\"\",\"\",Ecarts!K142),\"\")","v":""},{"$f":"IF( Ecarts!$E142=$A$1, IF(Ecarts!L142=\"\",\"\",Ecarts!L142),\"\")","v":""},{"$f":"IF( Ecarts!$E142=$A$1, IF(Ecarts!M142=\"\",\"\",Ecarts!M142),\"\")","v":""},0,0]
[{"$f":"IF( Ecarts!$E143=$A$1,IF( Ecarts!B143=\"\",\"\",Ecarts!A143),\"\")","v":""},{"$f":"IF( Ecarts!$E143=$A$1,IF( Ecarts!C143=\"\",\"\",Ecarts!C143),\"\")","v":""},{"$f":"IF( Ecarts!$E143=$A$1, IF(Ecarts!F143=\"\",\"\",Ecarts!F143),\"\")","v":""},{"$f":"IF( Ecarts!$E143=$A$1, IF(Ecarts!I143=\"\",\"\",Ecarts!I143),\"\")","v":""},{"$f":"IF( Ecarts!$E143=$A$1, IF(Ecarts!J143=\"\",\"\",Ecarts!J143),\"\")","v":""},{"$f":"IF( Ecarts!$E143=$A$1, IF(Ecarts!K143=\"\",\"\",Ecarts!K143),\"\")","v":""},{"$f":"IF( Ecarts!$E143=$A$1, IF(Ecarts!L143=\"\",\"\",Ecarts!L143),\"\")","v":""},{"$f":"IF( Ecarts!$E143=$A$1, IF(Ecarts!M143=\"\",\"\",Ecarts!M143),\"\")","v":""},0,0]
[{"$f":"IF( Ecarts!$E144=$A$1,IF( Ecarts!B144=\"\",\"\",Ecarts!A144),\"\")","v":""},{"$f":"IF( Ecarts!$E144=$A$1,IF( Ecarts!C144=\"\",\"\",Ecarts!C144),\"\")","v":""},{"$f":"IF( Ecarts!$E144=$A$1, IF(Ecarts!F144=\"\",\"\",Ecarts!F144),\"\")","v":""},{"$f":"IF( Ecarts!$E144=$A$1, IF(Ecarts!I144=\"\",\"\",Ecarts!I144),\"\")","v":""},{"$f":"IF( Ecarts!$E144=$A$1, IF(Ecarts!J144=\"\",\"\",Ecarts!J144),\"\")","v":""},{"$f":"IF( Ecarts!$E144=$A$1, IF(Ecarts!K144=\"\",\"\",Ecarts!K144),\"\")","v":""},{"$f":"IF( Ecarts!$E144=$A$1, IF(Ecarts!L144=\"\",\"\",Ecarts!L144),\"\")","v":""},{"$f":"IF( Ecarts!$E144=$A$1, IF(Ecarts!M144=\"\",\"\",Ecarts!M144),\"\")","v":""},0,0]
[{"$f":"IF( Ecarts!$E145=$A$1,IF( Ecarts!B145=\"\",\"\",Ecarts!A145),\"\")","v":""},{"$f":"IF( Ecarts!$E145=$A$1,IF( Ecarts!C145=\"\",\"\",Ecarts!C145),\"\")","v":""},{"$f":"IF( Ecarts!$E145=$A$1, IF(Ecarts!F145=\"\",\"\",Ecarts!F145),\"\")","v":""},{"$f":"IF( Ecarts!$E145=$A$1, IF(Ecarts!I145=\"\",\"\",Ecarts!I145),\"\")","v":""},{"$f":"IF( Ecarts!$E145=$A$1, IF(Ecarts!J145=\"\",\"\",Ecarts!J145),\"\")","v":""},{"$f":"IF( Ecarts!$E145=$A$1, IF(Ecarts!K145=\"\",\"\",Ecarts!K145),\"\")","v":""},{"$f":"IF( Ecarts!$E145=$A$1, IF(Ecarts!L145=\"\",\"\",Ecarts!L145),\"\")","v":""},{"$f":"IF( Ecarts!$E145=$A$1, IF(Ecarts!M145=\"\",\"\",Ecarts!M145),\"\")","v":""},0,0]
[{"$f":"IF( Ecarts!$E146=$A$1,IF( Ecarts!B146=\"\",\"\",Ecarts!A146),\"\")","v":""},{"$f":"IF( Ecarts!$E146=$A$1,IF( Ecarts!C146=\"\",\"\",Ecarts!C146),\"\")","v":""},{"$f":"IF( Ecarts!$E146=$A$1, IF(Ecarts!F146=\"\",\"\",Ecarts!F146),\"\")","v":""},{"$f":"IF( Ecarts!$E146=$A$1, IF(Ecarts!I146=\"\",\"\",Ecarts!I146),\"\")","v":""},{"$f":"IF( Ecarts!$E146=$A$1, IF(Ecarts!J146=\"\",\"\",Ecarts!J146),\"\")","v":""},{"$f":"IF( Ecarts!$E146=$A$1, IF(Ecarts!K146=\"\",\"\",Ecarts!K146),\"\")","v":""},{"$f":"IF( Ecarts!$E146=$A$1, IF(Ecarts!L146=\"\",\"\",Ecarts!L146),\"\")","v":""},{"$f":"IF( Ecarts!$E146=$A$1, IF(Ecarts!M146=\"\",\"\",Ecarts!M146),\"\")","v":""},0,0]
[{"$f":"IF( Ecarts!$E147=$A$1,IF( Ecarts!B147=\"\",\"\",Ecarts!A147),\"\")","v":""},{"$f":"IF( Ecarts!$E147=$A$1,IF( Ecarts!C147=\"\",\"\",Ecarts!C147),\"\")","v":""},{"$f":"IF( Ecarts!$E147=$A$1, IF(Ecarts!F147=\"\",\"\",Ecarts!F147),\"\")","v":""},{"$f":"IF( Ecarts!$E147=$A$1, IF(Ecarts!I147=\"\",\"\",Ecarts!I147),\"\")","v":""},{"$f":"IF( Ecarts!$E147=$A$1, IF(Ecarts!J147=\"\",\"\",Ecarts!J147),\"\")","v":""},{"$f":"IF( Ecarts!$E147=$A$1, IF(Ecarts!K147=\"\",\"\",Ecarts!K147),\"\")","v":""},{"$f":"IF( Ecarts!$E147=$A$1, IF(Ecarts!L147=\"\",\"\",Ecarts!L147),\"\")","v":""},{"$f":"IF( Ecarts!$E147=$A$1, IF(Ecarts!M147=\"\",\"\",Ecarts!M147),\"\")","v":""},0,0]
[{"$f":"IF( Ecarts!$E148=$A$1,IF( Ecarts!B148=\"\",\"\",Ecarts!A148),\"\")","v":""},{"$f":"IF( Ecarts!$E148=$A$1,IF( Ecarts!C148=\"\",\"\",Ecarts!C148),\"\")","v":""},{"$f":"IF( Ecarts!$E148=$A$1, IF(Ecarts!F148=\"\",\"\",Ecarts!F148),\"\")","v":""},{"$f":"IF( Ecarts!$E148=$A$1, IF(Ecarts!I148=\"\",\"\",Ecarts!I148),\"\")","v":""},{"$f":"IF( Ecarts!$E148=$A$1, IF(Ecarts!J148=\"\",\"\",Ecarts!J148),\"\")","v":""},{"$f":"IF( Ecarts!$E148=$A$1, IF(Ecarts!K148=\"\",\"\",Ecarts!K148),\"\")","v":""},{"$f":"IF( Ecarts!$E148=$A$1, IF(Ecarts!L148=\"\",\"\",Ecarts!L148),\"\")","v":""},{"$f":"IF( Ecarts!$E148=$A$1, IF(Ecarts!M148=\"\",\"\",Ecarts!M148),\"\")","v":""},0,0]
[{"$f":"IF( Ecarts!$E149=$A$1,IF( Ecarts!B149=\"\",\"\",Ecarts!A149),\"\")","v":""},{"$f":"IF( Ecarts!$E149=$A$1,IF( Ecarts!C149=\"\",\"\",Ecarts!C149),\"\")","v":""},{"$f":"IF( Ecarts!$E149=$A$1, IF(Ecarts!F149=\"\",\"\",Ecarts!F149),\"\")","v":""},{"$f":"IF( Ecarts!$E149=$A$1, IF(Ecarts!I149=\"\",\"\",Ecarts!I149),\"\")","v":""},{"$f":"IF( Ecarts!$E149=$A$1, IF(Ecarts!J149=\"\",\"\",Ecarts!J149),\"\")","v":""},{"$f":"IF( Ecarts!$E149=$A$1, IF(Ecarts!K149=\"\",\"\",Ecarts!K149),\"\")","v":""},{"$f":"IF( Ecarts!$E149=$A$1, IF(Ecarts!L149=\"\",\"\",Ecarts!L149),\"\")","v":""},{"$f":"IF( Ecarts!$E149=$A$1, IF(Ecarts!M149=\"\",\"\",Ecarts!M149),\"\")","v":""},0,0]
[{"$f":"IF( Ecarts!$E150=$A$1,IF( Ecarts!B150=\"\",\"\",Ecarts!A150),\"\")","v":""},{"$f":"IF( Ecarts!$E150=$A$1,IF( Ecarts!C150=\"\",\"\",Ecarts!C150),\"\")","v":""},{"$f":"IF( Ecarts!$E150=$A$1, IF(Ecarts!F150=\"\",\"\",Ecarts!F150),\"\")","v":""},{"$f":"IF( Ecarts!$E150=$A$1, IF(Ecarts!I150=\"\",\"\",Ecarts!I150),\"\")","v":""},{"$f":"IF( Ecarts!$E150=$A$1, IF(Ecarts!J150=\"\",\"\",Ecarts!J150),\"\")","v":""},{"$f":"IF( Ecarts!$E150=$A$1, IF(Ecarts!K150=\"\",\"\",Ecarts!K150),\"\")","v":""},{"$f":"IF( Ecarts!$E150=$A$1, IF(Ecarts!L150=\"\",\"\",Ecarts!L150),\"\")","v":""},{"$f":"IF( Ecarts!$E150=$A$1, IF(Ecarts!M150=\"\",\"\",Ecarts!M150),\"\")","v":""},0,0]
[{"$f":"IF( Ecarts!$E151=$A$1,IF( Ecarts!B151=\"\",\"\",Ecarts!A151),\"\")","v":""},{"$f":"IF( Ecarts!$E151=$A$1,IF( Ecarts!C151=\"\",\"\",Ecarts!C151),\"\")","v":""},{"$f":"IF( Ecarts!$E151=$A$1, IF(Ecarts!F151=\"\",\"\",Ecarts!F151),\"\")","v":""},{"$f":"IF( Ecarts!$E151=$A$1, IF(Ecarts!I151=\"\",\"\",Ecarts!I151),\"\")","v":""},{"$f":"IF( Ecarts!$E151=$A$1, IF(Ecarts!J151=\"\",\"\",Ecarts!J151),\"\")","v":""},{"$f":"IF( Ecarts!$E151=$A$1, IF(Ecarts!K151=\"\",\"\",Ecarts!K151),\"\")","v":""},{"$f":"IF( Ecarts!$E151=$A$1, IF(Ecarts!L151=\"\",\"\",Ecarts!L151),\"\")","v":""},{"$f":"IF( Ecarts!$E151=$A$1, IF(Ecarts!M151=\"\",\"\",Ecarts!M151),\"\")","v":""},0,0]
[{"$f":"IF( Ecarts!$E152=$A$1,IF( Ecarts!B152=\"\",\"\",Ecarts!A152),\"\")","v":""},{"$f":"IF( Ecarts!$E152=$A$1,IF( Ecarts!C152=\"\",\"\",Ecarts!C152),\"\")","v":""},{"$f":"IF( Ecarts!$E152=$A$1, IF(Ecarts!F152=\"\",\"\",Ecarts!F152),\"\")","v":""},{"$f":"IF( Ecarts!$E152=$A$1, IF(Ecarts!I152=\"\",\"\",Ecarts!I152),\"\")","v":""},{"$f":"IF( Ecarts!$E152=$A$1, IF(Ecarts!J152=\"\",\"\",Ecarts!J152),\"\")","v":""},{"$f":"IF( Ecarts!$E152=$A$1, IF(Ecarts!K152=\"\",\"\",Ecarts!K152),\"\")","v":""},{"$f":"IF( Ecarts!$E152=$A$1, IF(Ecarts!L152=\"\",\"\",Ecarts!L152),\"\")","v":""},{"$f":"IF( Ecarts!$E152=$A$1, IF(Ecarts!M152=\"\",\"\",Ecarts!M152),\"\")","v":""},0,0]
[{"$f":"IF( Ecarts!$E153=$A$1,IF( Ecarts!B153=\"\",\"\",Ecarts!A153),\"\")","v":""},{"$f":"IF( Ecarts!$E153=$A$1,IF( Ecarts!C153=\"\",\"\",Ecarts!C153),\"\")","v":""},{"$f":"IF( Ecarts!$E153=$A$1, IF(Ecarts!F153=\"\",\"\",Ecarts!F153),\"\")","v":""},{"$f":"IF( Ecarts!$E153=$A$1, IF(Ecarts!I153=\"\",\"\",Ecarts!I153),\"\")","v":""},{"$f":"IF( Ecarts!$E153=$A$1, IF(Ecarts!J153=\"\",\"\",Ecarts!J153),\"\")","v":""},{"$f":"IF( Ecarts!$E153=$A$1, IF(Ecarts!K153=\"\",\"\",Ecarts!K153),\"\")","v":""},{"$f":"IF( Ecarts!$E153=$A$1, IF(Ecarts!L153=\"\",\"\",Ecarts!L153),\"\")","v":""},{"$f":"IF( Ecarts!$E153=$A$1, IF(Ecarts!M153=\"\",\"\",Ecarts!M153),\"\")","v":""},0,0]
[{"$f":"IF( Ecarts!$E154=$A$1,IF( Ecarts!B154=\"\",\"\",Ecarts!A154),\"\")","v":""},{"$f":"IF( Ecarts!$E154=$A$1,IF( Ecarts!C154=\"\",\"\",Ecarts!C154),\"\")","v":""},{"$f":"IF( Ecarts!$E154=$A$1, IF(Ecarts!F154=\"\",\"\",Ecarts!F154),\"\")","v":""},{"$f":"IF( Ecarts!$E154=$A$1, IF(Ecarts!I154=\"\",\"\",Ecarts!I154),\"\")","v":""},{"$f":"IF( Ecarts!$E154=$A$1, IF(Ecarts!J154=\"\",\"\",Ecarts!J154),\"\")","v":""},{"$f":"IF( Ecarts!$E154=$A$1, IF(Ecarts!K154=\"\",\"\",Ecarts!K154),\"\")","v":""},{"$f":"IF( Ecarts!$E154=$A$1, IF(Ecarts!L154=\"\",\"\",Ecarts!L154),\"\")","v":""},{"$f":"IF( Ecarts!$E154=$A$1, IF(Ecarts!M154=\"\",\"\",Ecarts!M154),\"\")","v":""},0,0]
[{"$f":"IF( Ecarts!$E155=$A$1,IF( Ecarts!B155=\"\",\"\",Ecarts!A155),\"\")","v":""},{"$f":"IF( Ecarts!$E155=$A$1,IF( Ecarts!C155=\"\",\"\",Ecarts!C155),\"\")","v":""},{"$f":"IF( Ecarts!$E155=$A$1, IF(Ecarts!F155=\"\",\"\",Ecarts!F155),\"\")","v":""},{"$f":"IF( Ecarts!$E155=$A$1, IF(Ecarts!I155=\"\",\"\",Ecarts!I155),\"\")","v":""},{"$f":"IF( Ecarts!$E155=$A$1, IF(Ecarts!J155=\"\",\"\",Ecarts!J155),\"\")","v":""},{"$f":"IF( Ecarts!$E155=$A$1, IF(Ecarts!K155=\"\",\"\",Ecarts!K155),\"\")","v":""},{"$f":"IF( Ecarts!$E155=$A$1, IF(Ecarts!L155=\"\",\"\",Ecarts!L155),\"\")","v":""},{"$f":"IF( Ecarts!$E155=$A$1, IF(Ecarts!M155=\"\",\"\",Ecarts!M155),\"\")","v":""},0,0]
[{"$f":"IF( Ecarts!$E156=$A$1,IF( Ecarts!B156=\"\",\"\",Ecarts!A156),\"\")","v":""},{"$f":"IF( Ecarts!$E156=$A$1,IF( Ecarts!C156=\"\",\"\",Ecarts!C156),\"\")","v":""},{"$f":"IF( Ecarts!$E156=$A$1, IF(Ecarts!F156=\"\",\"\",Ecarts!F156),\"\")","v":""},{"$f":"IF( Ecarts!$E156=$A$1, IF(Ecarts!I156=\"\",\"\",Ecarts!I156),\"\")","v":""},{"$f":"IF( Ecarts!$E156=$A$1, IF(Ecarts!J156=\"\",\"\",Ecarts!J156),\"\")","v":""},{"$f":"IF( Ecarts!$E156=$A$1, IF(Ecarts!K156=\"\",\"\",Ecarts!K156),\"\")","v":""},{"$f":"IF( Ecarts!$E156=$A$1, IF(Ecarts!L156=\"\",\"\",Ecarts!L156),\"\")","v":""},{"$f":"IF( Ecarts!$E156=$A$1, IF(Ecarts!M156=\"\",\"\",Ecarts!M156),\"\")","v":""},0,0]
[{"$f":"IF( Ecarts!$E157=$A$1,IF( Ecarts!B157=\"\",\"\",Ecarts!A157),\"\")","v":""},{"$f":"IF( Ecarts!$E157=$A$1,IF( Ecarts!C157=\"\",\"\",Ecarts!C157),\"\")","v":""},{"$f":"IF( Ecarts!$E157=$A$1, IF(Ecarts!F157=\"\",\"\",Ecarts!F157),\"\")","v":""},{"$f":"IF( Ecarts!$E157=$A$1, IF(Ecarts!I157=\"\",\"\",Ecarts!I157),\"\")","v":""},{"$f":"IF( Ecarts!$E157=$A$1, IF(Ecarts!J157=\"\",\"\",Ecarts!J157),\"\")","v":""},{"$f":"IF( Ecarts!$E157=$A$1, IF(Ecarts!K157=\"\",\"\",Ecarts!K157),\"\")","v":""},{"$f":"IF( Ecarts!$E157=$A$1, IF(Ecarts!L157=\"\",\"\",Ecarts!L157),\"\")","v":""},{"$f":"IF( Ecarts!$E157=$A$1, IF(Ecarts!M157=\"\",\"\",Ecarts!M157),\"\")","v":""},0,0]
[{"$f":"IF( Ecarts!$E158=$A$1,IF( Ecarts!B158=\"\",\"\",Ecarts!A158),\"\")","v":""},{"$f":"IF( Ecarts!$E158=$A$1,IF( Ecarts!C158=\"\",\"\",Ecarts!C158),\"\")","v":""},{"$f":"IF( Ecarts!$E158=$A$1, IF(Ecarts!F158=\"\",\"\",Ecarts!F158),\"\")","v":""},{"$f":"IF( Ecarts!$E158=$A$1, IF(Ecarts!I158=\"\",\"\",Ecarts!I158),\"\")","v":""},{"$f":"IF( Ecarts!$E158=$A$1, IF(Ecarts!J158=\"\",\"\",Ecarts!J158),\"\")","v":""},{"$f":"IF( Ecarts!$E158=$A$1, IF(Ecarts!K158=\"\",\"\",Ecarts!K158),\"\")","v":""},{"$f":"IF( Ecarts!$E158=$A$1, IF(Ecarts!L158=\"\",\"\",Ecarts!L158),\"\")","v":""},{"$f":"IF( Ecarts!$E158=$A$1, IF(Ecarts!M158=\"\",\"\",Ecarts!M158),\"\")","v":""},0,0]
[{"$f":"IF( Ecarts!$E159=$A$1,IF( Ecarts!B159=\"\",\"\",Ecarts!A159),\"\")","v":""},{"$f":"IF( Ecarts!$E159=$A$1,IF( Ecarts!C159=\"\",\"\",Ecarts!C159),\"\")","v":""},{"$f":"IF( Ecarts!$E159=$A$1, IF(Ecarts!F159=\"\",\"\",Ecarts!F159),\"\")","v":""},{"$f":"IF( Ecarts!$E159=$A$1, IF(Ecarts!I159=\"\",\"\",Ecarts!I159),\"\")","v":""},{"$f":"IF( Ecarts!$E159=$A$1, IF(Ecarts!J159=\"\",\"\",Ecarts!J159),\"\")","v":""},{"$f":"IF( Ecarts!$E159=$A$1, IF(Ecarts!K159=\"\",\"\",Ecarts!K159),\"\")","v":""},{"$f":"IF( Ecarts!$E159=$A$1, IF(Ecarts!L159=\"\",\"\",Ecarts!L159),\"\")","v":""},{"$f":"IF( Ecarts!$E159=$A$1, IF(Ecarts!M159=\"\",\"\",Ecarts!M159),\"\")","v":""},0,0]
[{"$f":"IF( Ecarts!$E160=$A$1,IF( Ecarts!B160=\"\",\"\",Ecarts!A160),\"\")","v":""},{"$f":"IF( Ecarts!$E160=$A$1,IF( Ecarts!C160=\"\",\"\",Ecarts!C160),\"\")","v":""},{"$f":"IF( Ecarts!$E160=$A$1, IF(Ecarts!F160=\"\",\"\",Ecarts!F160),\"\")","v":""},{"$f":"IF( Ecarts!$E160=$A$1, IF(Ecarts!I160=\"\",\"\",Ecarts!I160),\"\")","v":""},{"$f":"IF( Ecarts!$E160=$A$1, IF(Ecarts!J160=\"\",\"\",Ecarts!J160),\"\")","v":""},{"$f":"IF( Ecarts!$E160=$A$1, IF(Ecarts!K160=\"\",\"\",Ecarts!K160),\"\")","v":""},{"$f":"IF( Ecarts!$E160=$A$1, IF(Ecarts!L160=\"\",\"\",Ecarts!L160),\"\")","v":""},{"$f":"IF( Ecarts!$E160=$A$1, IF(Ecarts!M160=\"\",\"\",Ecarts!M160),\"\")","v":""},0,0]
[{"$f":"IF( Ecarts!$E161=$A$1,IF( Ecarts!B161=\"\",\"\",Ecarts!A161),\"\")","v":""},{"$f":"IF( Ecarts!$E161=$A$1,IF( Ecarts!C161=\"\",\"\",Ecarts!C161),\"\")","v":""},{"$f":"IF( Ecarts!$E161=$A$1, IF(Ecarts!F161=\"\",\"\",Ecarts!F161),\"\")","v":""},{"$f":"IF( Ecarts!$E161=$A$1, IF(Ecarts!I161=\"\",\"\",Ecarts!I161),\"\")","v":""},{"$f":"IF( Ecarts!$E161=$A$1, IF(Ecarts!J161=\"\",\"\",Ecarts!J161),\"\")","v":""},{"$f":"IF( Ecarts!$E161=$A$1, IF(Ecarts!K161=\"\",\"\",Ecarts!K161),\"\")","v":""},{"$f":"IF( Ecarts!$E161=$A$1, IF(Ecarts!L161=\"\",\"\",Ecarts!L161),\"\")","v":""},{"$f":"IF( Ecarts!$E161=$A$1, IF(Ecarts!M161=\"\",\"\",Ecarts!M161),\"\")","v":""},0,0]
[{"$f":"IF( Ecarts!$E162=$A$1,IF( Ecarts!B162=\"\",\"\",Ecarts!A162),\"\")","v":""},{"$f":"IF( Ecarts!$E162=$A$1,IF( Ecarts!C162=\"\",\"\",Ecarts!C162),\"\")","v":""},{"$f":"IF( Ecarts!$E162=$A$1, IF(Ecarts!F162=\"\",\"\",Ecarts!F162),\"\")","v":""},{"$f":"IF( Ecarts!$E162=$A$1, IF(Ecarts!I162=\"\",\"\",Ecarts!I162),\"\")","v":""},{"$f":"IF( Ecarts!$E162=$A$1, IF(Ecarts!J162=\"\",\"\",Ecarts!J162),\"\")","v":""},{"$f":"IF( Ecarts!$E162=$A$1, IF(Ecarts!K162=\"\",\"\",Ecarts!K162),\"\")","v":""},{"$f":"IF( Ecarts!$E162=$A$1, IF(Ecarts!L162=\"\",\"\",Ecarts!L162),\"\")","v":""},{"$f":"IF( Ecarts!$E162=$A$1, IF(Ecarts!M162=\"\",\"\",Ecarts!M162),\"\")","v":""},0,0]
[{"$f":"IF( Ecarts!$E163=$A$1,IF( Ecarts!B163=\"\",\"\",Ecarts!A163),\"\")","v":""},{"$f":"IF( Ecarts!$E163=$A$1,IF( Ecarts!C163=\"\",\"\",Ecarts!C163),\"\")","v":""},{"$f":"IF( Ecarts!$E163=$A$1, IF(Ecarts!F163=\"\",\"\",Ecarts!F163),\"\")","v":""},{"$f":"IF( Ecarts!$E163=$A$1, IF(Ecarts!I163=\"\",\"\",Ecarts!I163),\"\")","v":""},{"$f":"IF( Ecarts!$E163=$A$1, IF(Ecarts!J163=\"\",\"\",Ecarts!J163),\"\")","v":""},{"$f":"IF( Ecarts!$E163=$A$1, IF(Ecarts!K163=\"\",\"\",Ecarts!K163),\"\")","v":""},{"$f":"IF( Ecarts!$E163=$A$1, IF(Ecarts!L163=\"\",\"\",Ecarts!L163),\"\")","v":""},{"$f":"IF( Ecarts!$E163=$A$1, IF(Ecarts!M163=\"\",\"\",Ecarts!M163),\"\")","v":""},0,0]
[{"$f":"IF( Ecarts!$E164=$A$1,IF( Ecarts!B164=\"\",\"\",Ecarts!A164),\"\")","v":""},{"$f":"IF( Ecarts!$E164=$A$1,IF( Ecarts!C164=\"\",\"\",Ecarts!C164),\"\")","v":""},{"$f":"IF( Ecarts!$E164=$A$1, IF(Ecarts!F164=\"\",\"\",Ecarts!F164),\"\")","v":""},{"$f":"IF( Ecarts!$E164=$A$1, IF(Ecarts!I164=\"\",\"\",Ecarts!I164),\"\")","v":""},{"$f":"IF( Ecarts!$E164=$A$1, IF(Ecarts!J164=\"\",\"\",Ecarts!J164),\"\")","v":""},{"$f":"IF( Ecarts!$E164=$A$1, IF(Ecarts!K164=\"\",\"\",Ecarts!K164),\"\")","v":""},{"$f":"IF( Ecarts!$E164=$A$1, IF(Ecarts!L164=\"\",\"\",Ecarts!L164),\"\")","v":""},{"$f":"IF( Ecarts!$E164=$A$1, IF(Ecarts!M164=\"\",\"\",Ecarts!M164),\"\")","v":""},0,0]
[{"$f":"IF( Ecarts!$E165=$A$1,IF( Ecarts!B165=\"\",\"\",Ecarts!A165),\"\")","v":""},{"$f":"IF( Ecarts!$E165=$A$1,IF( Ecarts!C165=\"\",\"\",Ecarts!C165),\"\")","v":""},{"$f":"IF( Ecarts!$E165=$A$1, IF(Ecarts!F165=\"\",\"\",Ecarts!F165),\"\")","v":""},{"$f":"IF( Ecarts!$E165=$A$1, IF(Ecarts!I165=\"\",\"\",Ecarts!I165),\"\")","v":""},{"$f":"IF( Ecarts!$E165=$A$1, IF(Ecarts!J165=\"\",\"\",Ecarts!J165),\"\")","v":""},{"$f":"IF( Ecarts!$E165=$A$1, IF(Ecarts!K165=\"\",\"\",Ecarts!K165),\"\")","v":""},{"$f":"IF( Ecarts!$E165=$A$1, IF(Ecarts!L165=\"\",\"\",Ecarts!L165),\"\")","v":""},{"$f":"IF( Ecarts!$E165=$A$1, IF(Ecarts!M165=\"\",\"\",Ecarts!M165),\"\")","v":""},0,0]
[{"$f":"IF( Ecarts!$E166=$A$1,IF( Ecarts!B166=\"\",\"\",Ecarts!A166),\"\")","v":""},{"$f":"IF( Ecarts!$E166=$A$1,IF( Ecarts!C166=\"\",\"\",Ecarts!C166),\"\")","v":""},{"$f":"IF( Ecarts!$E166=$A$1, IF(Ecarts!F166=\"\",\"\",Ecarts!F166),\"\")","v":""},{"$f":"IF( Ecarts!$E166=$A$1, IF(Ecarts!I166=\"\",\"\",Ecarts!I166),\"\")","v":""},{"$f":"IF( Ecarts!$E166=$A$1, IF(Ecarts!J166=\"\",\"\",Ecarts!J166),\"\")","v":""},{"$f":"IF( Ecarts!$E166=$A$1, IF(Ecarts!K166=\"\",\"\",Ecarts!K166),\"\")","v":""},{"$f":"IF( Ecarts!$E166=$A$1, IF(Ecarts!L166=\"\",\"\",Ecarts!L166),\"\")","v":""},{"$f":"IF( Ecarts!$E166=$A$1, IF(Ecarts!M166=\"\",\"\",Ecarts!M166),\"\")","v":""},0,0]
[{"$f":"IF( Ecarts!$E167=$A$1,IF( Ecarts!B167=\"\",\"\",Ecarts!A167),\"\")","v":""},{"$f":"IF( Ecarts!$E167=$A$1,IF( Ecarts!C167=\"\",\"\",Ecarts!C167),\"\")","v":""},{"$f":"IF( Ecarts!$E167=$A$1, IF(Ecarts!F167=\"\",\"\",Ecarts!F167),\"\")","v":""},{"$f":"IF( Ecarts!$E167=$A$1, IF(Ecarts!I167=\"\",\"\",Ecarts!I167),\"\")","v":""},{"$f":"IF( Ecarts!$E167=$A$1, IF(Ecarts!J167=\"\",\"\",Ecarts!J167),\"\")","v":""},{"$f":"IF( Ecarts!$E167=$A$1, IF(Ecarts!K167=\"\",\"\",Ecarts!K167),\"\")","v":""},{"$f":"IF( Ecarts!$E167=$A$1, IF(Ecarts!L167=\"\",\"\",Ecarts!L167),\"\")","v":""},{"$f":"IF( Ecarts!$E167=$A$1, IF(Ecarts!M167=\"\",\"\",Ecarts!M167),\"\")","v":""},0,0]
[{"$f":"IF( Ecarts!$E168=$A$1,IF( Ecarts!B168=\"\",\"\",Ecarts!A168),\"\")","v":""},{"$f":"IF( Ecarts!$E168=$A$1,IF( Ecarts!C168=\"\",\"\",Ecarts!C168),\"\")","v":""},{"$f":"IF( Ecarts!$E168=$A$1, IF(Ecarts!F168=\"\",\"\",Ecarts!F168),\"\")","v":""},{"$f":"IF( Ecarts!$E168=$A$1, IF(Ecarts!I168=\"\",\"\",Ecarts!I168),\"\")","v":""},{"$f":"IF( Ecarts!$E168=$A$1, IF(Ecarts!J168=\"\",\"\",Ecarts!J168),\"\")","v":""},{"$f":"IF( Ecarts!$E168=$A$1, IF(Ecarts!K168=\"\",\"\",Ecarts!K168),\"\")","v":""},{"$f":"IF( Ecarts!$E168=$A$1, IF(Ecarts!L168=\"\",\"\",Ecarts!L168),\"\")","v":""},{"$f":"IF( Ecarts!$E168=$A$1, IF(Ecarts!M168=\"\",\"\",Ecarts!M168),\"\")","v":""},0,0]
[{"$f":"IF( Ecarts!$E169=$A$1,IF( Ecarts!B169=\"\",\"\",Ecarts!A169),\"\")","v":""},{"$f":"IF( Ecarts!$E169=$A$1,IF( Ecarts!C169=\"\",\"\",Ecarts!C169),\"\")","v":""},{"$f":"IF( Ecarts!$E169=$A$1, IF(Ecarts!F169=\"\",\"\",Ecarts!F169),\"\")","v":""},{"$f":"IF( Ecarts!$E169=$A$1, IF(Ecarts!I169=\"\",\"\",Ecarts!I169),\"\")","v":""},{"$f":"IF( Ecarts!$E169=$A$1, IF(Ecarts!J169=\"\",\"\",Ecarts!J169),\"\")","v":""},{"$f":"IF( Ecarts!$E169=$A$1, IF(Ecarts!K169=\"\",\"\",Ecarts!K169),\"\")","v":""},{"$f":"IF( Ecarts!$E169=$A$1, IF(Ecarts!L169=\"\",\"\",Ecarts!L169),\"\")","v":""},{"$f":"IF( Ecarts!$E169=$A$1, IF(Ecarts!M169=\"\",\"\",Ecarts!M169),\"\")","v":""},0,0]
[{"$f":"IF( Ecarts!$E170=$A$1,IF( Ecarts!B170=\"\",\"\",Ecarts!A170),\"\")","v":""},{"$f":"IF( Ecarts!$E170=$A$1,IF( Ecarts!C170=\"\",\"\",Ecarts!C170),\"\")","v":""},{"$f":"IF( Ecarts!$E170=$A$1, IF(Ecarts!F170=\"\",\"\",Ecarts!F170),\"\")","v":""},{"$f":"IF( Ecarts!$E170=$A$1, IF(Ecarts!I170=\"\",\"\",Ecarts!I170),\"\")","v":""},{"$f":"IF( Ecarts!$E170=$A$1, IF(Ecarts!J170=\"\",\"\",Ecarts!J170),\"\")","v":""},{"$f":"IF( Ecarts!$E170=$A$1, IF(Ecarts!K170=\"\",\"\",Ecarts!K170),\"\")","v":""},{"$f":"IF( Ecarts!$E170=$A$1, IF(Ecarts!L170=\"\",\"\",Ecarts!L170),\"\")","v":""},{"$f":"IF( Ecarts!$E170=$A$1, IF(Ecarts!M170=\"\",\"\",Ecarts!M170),\"\")","v":""},0,0]
[{"$f":"IF( Ecarts!$E171=$A$1,IF( Ecarts!B171=\"\",\"\",Ecarts!A171),\"\")","v":""},{"$f":"IF( Ecarts!$E171=$A$1,IF( Ecarts!C171=\"\",\"\",Ecarts!C171),\"\")","v":""},{"$f":"IF( Ecarts!$E171=$A$1, IF(Ecarts!F171=\"\",\"\",Ecarts!F171),\"\")","v":""},{"$f":"IF( Ecarts!$E171=$A$1, IF(Ecarts!I171=\"\",\"\",Ecarts!I171),\"\")","v":""},{"$f":"IF( Ecarts!$E171=$A$1, IF(Ecarts!J171=\"\",\"\",Ecarts!J171),\"\")","v":""},{"$f":"IF( Ecarts!$E171=$A$1, IF(Ecarts!K171=\"\",\"\",Ecarts!K171),\"\")","v":""},{"$f":"IF( Ecarts!$E171=$A$1, IF(Ecarts!L171=\"\",\"\",Ecarts!L171),\"\")","v":""},{"$f":"IF( Ecarts!$E171=$A$1, IF(Ecarts!M171=\"\",\"\",Ecarts!M171),\"\")","v":""},0,0]
[{"$f":"IF( Ecarts!$E172=$A$1,IF( Ecarts!B172=\"\",\"\",Ecarts!A172),\"\")","v":""},{"$f":"IF( Ecarts!$E172=$A$1,IF( Ecarts!C172=\"\",\"\",Ecarts!C172),\"\")","v":""},{"$f":"IF( Ecarts!$E172=$A$1, IF(Ecarts!F172=\"\",\"\",Ecarts!F172),\"\")","v":""},{"$f":"IF( Ecarts!$E172=$A$1, IF(Ecarts!I172=\"\",\"\",Ecarts!I172),\"\")","v":""},{"$f":"IF( Ecarts!$E172=$A$1, IF(Ecarts!J172=\"\",\"\",Ecarts!J172),\"\")","v":""},{"$f":"IF( Ecarts!$E172=$A$1, IF(Ecarts!K172=\"\",\"\",Ecarts!K172),\"\")","v":""},{"$f":"IF( Ecarts!$E172=$A$1, IF(Ecarts!L172=\"\",\"\",Ecarts!L172),\"\")","v":""},{"$f":"IF( Ecarts!$E172=$A$1, IF(Ecarts!M172=\"\",\"\",Ecarts!M172),\"\")","v":""},0,0]
[{"$f":"IF( Ecarts!$E173=$A$1,IF( Ecarts!B173=\"\",\"\",Ecarts!A173),\"\")","v":""},{"$f":"IF( Ecarts!$E173=$A$1,IF( Ecarts!C173=\"\",\"\",Ecarts!C173),\"\")","v":""},{"$f":"IF( Ecarts!$E173=$A$1, IF(Ecarts!F173=\"\",\"\",Ecarts!F173),\"\")","v":""},{"$f":"IF( Ecarts!$E173=$A$1, IF(Ecarts!I173=\"\",\"\",Ecarts!I173),\"\")","v":""},{"$f":"IF( Ecarts!$E173=$A$1, IF(Ecarts!J173=\"\",\"\",Ecarts!J173),\"\")","v":""},{"$f":"IF( Ecarts!$E173=$A$1, IF(Ecarts!K173=\"\",\"\",Ecarts!K173),\"\")","v":""},{"$f":"IF( Ecarts!$E173=$A$1, IF(Ecarts!L173=\"\",\"\",Ecarts!L173),\"\")","v":""},{"$f":"IF( Ecarts!$E173=$A$1, IF(Ecarts!M173=\"\",\"\",Ecarts!M173),\"\")","v":""},0,0]
[{"$f":"IF( Ecarts!$E174=$A$1,IF( Ecarts!B174=\"\",\"\",Ecarts!A174),\"\")","v":""},{"$f":"IF( Ecarts!$E174=$A$1,IF( Ecarts!C174=\"\",\"\",Ecarts!C174),\"\")","v":""},{"$f":"IF( Ecarts!$E174=$A$1, IF(Ecarts!F174=\"\",\"\",Ecarts!F174),\"\")","v":""},{"$f":"IF( Ecarts!$E174=$A$1, IF(Ecarts!I174=\"\",\"\",Ecarts!I174),\"\")","v":""},{"$f":"IF( Ecarts!$E174=$A$1, IF(Ecarts!J174=\"\",\"\",Ecarts!J174),\"\")","v":""},{"$f":"IF( Ecarts!$E174=$A$1, IF(Ecarts!K174=\"\",\"\",Ecarts!K174),\"\")","v":""},{"$f":"IF( Ecarts!$E174=$A$1, IF(Ecarts!L174=\"\",\"\",Ecarts!L174),\"\")","v":""},{"$f":"IF( Ecarts!$E174=$A$1, IF(Ecarts!M174=\"\",\"\",Ecarts!M174),\"\")","v":""},0,0]
[{"$f":"IF( Ecarts!$E175=$A$1,IF( Ecarts!B175=\"\",\"\",Ecarts!A175),\"\")","v":""},{"$f":"IF( Ecarts!$E175=$A$1,IF( Ecarts!C175=\"\",\"\",Ecarts!C175),\"\")","v":""},{"$f":"IF( Ecarts!$E175=$A$1, IF(Ecarts!F175=\"\",\"\",Ecarts!F175),\"\")","v":""},{"$f":"IF( Ecarts!$E175=$A$1, IF(Ecarts!I175=\"\",\"\",Ecarts!I175),\"\")","v":""},{"$f":"IF( Ecarts!$E175=$A$1, IF(Ecarts!J175=\"\",\"\",Ecarts!J175),\"\")","v":""},{"$f":"IF( Ecarts!$E175=$A$1, IF(Ecarts!K175=\"\",\"\",Ecarts!K175),\"\")","v":""},{"$f":"IF( Ecarts!$E175=$A$1, IF(Ecarts!L175=\"\",\"\",Ecarts!L175),\"\")","v":""},{"$f":"IF( Ecarts!$E175=$A$1, IF(Ecarts!M175=\"\",\"\",Ecarts!M175),\"\")","v":""},0,0]
[{"$f":"IF( Ecarts!$E176=$A$1,IF( Ecarts!B176=\"\",\"\",Ecarts!A176),\"\")","v":""},{"$f":"IF( Ecarts!$E176=$A$1,IF( Ecarts!C176=\"\",\"\",Ecarts!C176),\"\")","v":""},{"$f":"IF( Ecarts!$E176=$A$1, IF(Ecarts!F176=\"\",\"\",Ecarts!F176),\"\")","v":""},{"$f":"IF( Ecarts!$E176=$A$1, IF(Ecarts!I176=\"\",\"\",Ecarts!I176),\"\")","v":""},{"$f":"IF( Ecarts!$E176=$A$1, IF(Ecarts!J176=\"\",\"\",Ecarts!J176),\"\")","v":""},{"$f":"IF( Ecarts!$E176=$A$1, IF(Ecarts!K176=\"\",\"\",Ecarts!K176),\"\")","v":""},{"$f":"IF( Ecarts!$E176=$A$1, IF(Ecarts!L176=\"\",\"\",Ecarts!L176),\"\")","v":""},{"$f":"IF( Ecarts!$E176=$A$1, IF(Ecarts!M176=\"\",\"\",Ecarts!M176),\"\")","v":""},0,0]
[{"$f":"IF( Ecarts!$E177=$A$1,IF( Ecarts!B177=\"\",\"\",Ecarts!A177),\"\")","v":""},{"$f":"IF( Ecarts!$E177=$A$1,IF( Ecarts!C177=\"\",\"\",Ecarts!C177),\"\")","v":""},{"$f":"IF( Ecarts!$E177=$A$1, IF(Ecarts!F177=\"\",\"\",Ecarts!F177),\"\")","v":""},{"$f":"IF( Ecarts!$E177=$A$1, IF(Ecarts!I177=\"\",\"\",Ecarts!I177),\"\")","v":""},{"$f":"IF( Ecarts!$E177=$A$1, IF(Ecarts!J177=\"\",\"\",Ecarts!J177),\"\")","v":""},{"$f":"IF( Ecarts!$E177=$A$1, IF(Ecarts!K177=\"\",\"\",Ecarts!K177),\"\")","v":""},{"$f":"IF( Ecarts!$E177=$A$1, IF(Ecarts!L177=\"\",\"\",Ecarts!L177),\"\")","v":""},{"$f":"IF( Ecarts!$E177=$A$1, IF(Ecarts!M177=\"\",\"\",Ecarts!M177),\"\")","v":""},0,0]
[{"$f":"IF( Ecarts!$E178=$A$1,IF( Ecarts!B178=\"\",\"\",Ecarts!A178),\"\")","v":""},{"$f":"IF( Ecarts!$E178=$A$1,IF( Ecarts!C178=\"\",\"\",Ecarts!C178),\"\")","v":""},{"$f":"IF( Ecarts!$E178=$A$1, IF(Ecarts!F178=\"\",\"\",Ecarts!F178),\"\")","v":""},{"$f":"IF( Ecarts!$E178=$A$1, IF(Ecarts!I178=\"\",\"\",Ecarts!I178),\"\")","v":""},{"$f":"IF( Ecarts!$E178=$A$1, IF(Ecarts!J178=\"\",\"\",Ecarts!J178),\"\")","v":""},{"$f":"IF( Ecarts!$E178=$A$1, IF(Ecarts!K178=\"\",\"\",Ecarts!K178),\"\")","v":""},{"$f":"IF( Ecarts!$E178=$A$1, IF(Ecarts!L178=\"\",\"\",Ecarts!L178),\"\")","v":""},{"$f":"IF( Ecarts!$E178=$A$1, IF(Ecarts!M178=\"\",\"\",Ecarts!M178),\"\")","v":""},0,0]
[{"$f":"IF( Ecarts!$E179=$A$1,IF( Ecarts!B179=\"\",\"\",Ecarts!A179),\"\")","v":""},{"$f":"IF( Ecarts!$E179=$A$1,IF( Ecarts!C179=\"\",\"\",Ecarts!C179),\"\")","v":""},{"$f":"IF( Ecarts!$E179=$A$1, IF(Ecarts!F179=\"\",\"\",Ecarts!F179),\"\")","v":""},{"$f":"IF( Ecarts!$E179=$A$1, IF(Ecarts!I179=\"\",\"\",Ecarts!I179),\"\")","v":""},{"$f":"IF( Ecarts!$E179=$A$1, IF(Ecarts!J179=\"\",\"\",Ecarts!J179),\"\")","v":""},{"$f":"IF( Ecarts!$E179=$A$1, IF(Ecarts!K179=\"\",\"\",Ecarts!K179),\"\")","v":""},{"$f":"IF( Ecarts!$E179=$A$1, IF(Ecarts!L179=\"\",\"\",Ecarts!L179),\"\")","v":""},{"$f":"IF( Ecarts!$E179=$A$1, IF(Ecarts!M179=\"\",\"\",Ecarts!M179),\"\")","v":""},0,0]
[{"$f":"IF( Ecarts!$E180=$A$1,IF( Ecarts!B180=\"\",\"\",Ecarts!A180),\"\")","v":""},{"$f":"IF( Ecarts!$E180=$A$1,IF( Ecarts!C180=\"\",\"\",Ecarts!C180),\"\")","v":""},{"$f":"IF( Ecarts!$E180=$A$1, IF(Ecarts!F180=\"\",\"\",Ecarts!F180),\"\")","v":""},{"$f":"IF( Ecarts!$E180=$A$1, IF(Ecarts!I180=\"\",\"\",Ecarts!I180),\"\")","v":""},{"$f":"IF( Ecarts!$E180=$A$1, IF(Ecarts!J180=\"\",\"\",Ecarts!J180),\"\")","v":""},{"$f":"IF( Ecarts!$E180=$A$1, IF(Ecarts!K180=\"\",\"\",Ecarts!K180),\"\")","v":""},{"$f":"IF( Ecarts!$E180=$A$1, IF(Ecarts!L180=\"\",\"\",Ecarts!L180),\"\")","v":""},{"$f":"IF( Ecarts!$E180=$A$1, IF(Ecarts!M180=\"\",\"\",Ecarts!M180),\"\")","v":""},0,0]
[{"$f":"IF( Ecarts!$E181=$A$1,IF( Ecarts!B181=\"\",\"\",Ecarts!A181),\"\")","v":""},{"$f":"IF( Ecarts!$E181=$A$1,IF( Ecarts!C181=\"\",\"\",Ecarts!C181),\"\")","v":""},{"$f":"IF( Ecarts!$E181=$A$1, IF(Ecarts!F181=\"\",\"\",Ecarts!F181),\"\")","v":""},{"$f":"IF( Ecarts!$E181=$A$1, IF(Ecarts!I181=\"\",\"\",Ecarts!I181),\"\")","v":""},{"$f":"IF( Ecarts!$E181=$A$1, IF(Ecarts!J181=\"\",\"\",Ecarts!J181),\"\")","v":""},{"$f":"IF( Ecarts!$E181=$A$1, IF(Ecarts!K181=\"\",\"\",Ecarts!K181),\"\")","v":""},{"$f":"IF( Ecarts!$E181=$A$1, IF(Ecarts!L181=\"\",\"\",Ecarts!L181),\"\")","v":""},{"$f":"IF( Ecarts!$E181=$A$1, IF(Ecarts!M181=\"\",\"\",Ecarts!M181),\"\")","v":""},0,0]
[{"$f":"IF( Ecarts!$E182=$A$1,IF( Ecarts!B182=\"\",\"\",Ecarts!A182),\"\")","v":""},{"$f":"IF( Ecarts!$E182=$A$1,IF( Ecarts!C182=\"\",\"\",Ecarts!C182),\"\")","v":""},{"$f":"IF( Ecarts!$E182=$A$1, IF(Ecarts!F182=\"\",\"\",Ecarts!F182),\"\")","v":""},{"$f":"IF( Ecarts!$E182=$A$1, IF(Ecarts!I182=\"\",\"\",Ecarts!I182),\"\")","v":""},{"$f":"IF( Ecarts!$E182=$A$1, IF(Ecarts!J182=\"\",\"\",Ecarts!J182),\"\")","v":""},{"$f":"IF( Ecarts!$E182=$A$1, IF(Ecarts!K182=\"\",\"\",Ecarts!K182),\"\")","v":""},{"$f":"IF( Ecarts!$E182=$A$1, IF(Ecarts!L182=\"\",\"\",Ecarts!L182),\"\")","v":""},{"$f":"IF( Ecarts!$E182=$A$1, IF(Ecarts!M182=\"\",\"\",Ecarts!M182),\"\")","v":""},0,0]
[{"$f":"IF( Ecarts!$E183=$A$1,IF( Ecarts!B183=\"\",\"\",Ecarts!A183),\"\")","v":""},{"$f":"IF( Ecarts!$E183=$A$1,IF( Ecarts!C183=\"\",\"\",Ecarts!C183),\"\")","v":""},{"$f":"IF( Ecarts!$E183=$A$1, IF(Ecarts!F183=\"\",\"\",Ecarts!F183),\"\")","v":""},{"$f":"IF( Ecarts!$E183=$A$1, IF(Ecarts!I183=\"\",\"\",Ecarts!I183),\"\")","v":""},{"$f":"IF( Ecarts!$E183=$A$1, IF(Ecarts!J183=\"\",\"\",Ecarts!J183),\"\")","v":""},{"$f":"IF( Ecarts!$E183=$A$1, IF(Ecarts!K183=\"\",\"\",Ecarts!K183),\"\")","v":""},{"$f":"IF( Ecarts!$E183=$A$1, IF(Ecarts!L183=\"\",\"\",Ecarts!L183),\"\")","v":""},{"$f":"IF( Ecarts!$E183=$A$1, IF(Ecarts!M183=\"\",\"\",Ecarts!M183),\"\")","v":""},0,0]
[{"$f":"IF( Ecarts!$E184=$A$1,IF( Ecarts!B184=\"\",\"\",Ecarts!A184),\"\")","v":""},{"$f":"IF( Ecarts!$E184=$A$1,IF( Ecarts!C184=\"\",\"\",Ecarts!C184),\"\")","v":""},{"$f":"IF( Ecarts!$E184=$A$1, IF(Ecarts!F184=\"\",\"\",Ecarts!F184),\"\")","v":""},{"$f":"IF( Ecarts!$E184=$A$1, IF(Ecarts!I184=\"\",\"\",Ecarts!I184),\"\")","v":""},{"$f":"IF( Ecarts!$E184=$A$1, IF(Ecarts!J184=\"\",\"\",Ecarts!J184),\"\")","v":""},{"$f":"IF( Ecarts!$E184=$A$1, IF(Ecarts!K184=\"\",\"\",Ecarts!K184),\"\")","v":""},{"$f":"IF( Ecarts!$E184=$A$1, IF(Ecarts!L184=\"\",\"\",Ecarts!L184),\"\")","v":""},{"$f":"IF( Ecarts!$E184=$A$1, IF(Ecarts!M184=\"\",\"\",Ecarts!M184),\"\")","v":""},0,0]
[{"$f":"IF( Ecarts!$E185=$A$1,IF( Ecarts!B185=\"\",\"\",Ecarts!A185),\"\")","v":""},{"$f":"IF( Ecarts!$E185=$A$1,IF( Ecarts!C185=\"\",\"\",Ecarts!C185),\"\")","v":""},{"$f":"IF( Ecarts!$E185=$A$1, IF(Ecarts!F185=\"\",\"\",Ecarts!F185),\"\")","v":""},{"$f":"IF( Ecarts!$E185=$A$1, IF(Ecarts!I185=\"\",\"\",Ecarts!I185),\"\")","v":""},{"$f":"IF( Ecarts!$E185=$A$1, IF(Ecarts!J185=\"\",\"\",Ecarts!J185),\"\")","v":""},{"$f":"IF( Ecarts!$E185=$A$1, IF(Ecarts!K185=\"\",\"\",Ecarts!K185),\"\")","v":""},{"$f":"IF( Ecarts!$E185=$A$1, IF(Ecarts!L185=\"\",\"\",Ecarts!L185),\"\")","v":""},{"$f":"IF( Ecarts!$E185=$A$1, IF(Ecarts!M185=\"\",\"\",Ecarts!M185),\"\")","v":""},0,0]
[{"$f":"IF( Ecarts!$E186=$A$1,IF( Ecarts!B186=\"\",\"\",Ecarts!A186),\"\")","v":""},{"$f":"IF( Ecarts!$E186=$A$1,IF( Ecarts!C186=\"\",\"\",Ecarts!C186),\"\")","v":""},{"$f":"IF( Ecarts!$E186=$A$1, IF(Ecarts!F186=\"\",\"\",Ecarts!F186),\"\")","v":""},{"$f":"IF( Ecarts!$E186=$A$1, IF(Ecarts!I186=\"\",\"\",Ecarts!I186),\"\")","v":""},{"$f":"IF( Ecarts!$E186=$A$1, IF(Ecarts!J186=\"\",\"\",Ecarts!J186),\"\")","v":""},{"$f":"IF( Ecarts!$E186=$A$1, IF(Ecarts!K186=\"\",\"\",Ecarts!K186),\"\")","v":""},{"$f":"IF( Ecarts!$E186=$A$1, IF(Ecarts!L186=\"\",\"\",Ecarts!L186),\"\")","v":""},{"$f":"IF( Ecarts!$E186=$A$1, IF(Ecarts!M186=\"\",\"\",Ecarts!M186),\"\")","v":""},0,0]
[{"$f":"IF( Ecarts!$E187=$A$1,IF( Ecarts!B187=\"\",\"\",Ecarts!A187),\"\")","v":""},{"$f":"IF( Ecarts!$E187=$A$1,IF( Ecarts!C187=\"\",\"\",Ecarts!C187),\"\")","v":""},{"$f":"IF( Ecarts!$E187=$A$1, IF(Ecarts!F187=\"\",\"\",Ecarts!F187),\"\")","v":""},{"$f":"IF( Ecarts!$E187=$A$1, IF(Ecarts!I187=\"\",\"\",Ecarts!I187),\"\")","v":""},{"$f":"IF( Ecarts!$E187=$A$1, IF(Ecarts!J187=\"\",\"\",Ecarts!J187),\"\")","v":""},{"$f":"IF( Ecarts!$E187=$A$1, IF(Ecarts!K187=\"\",\"\",Ecarts!K187),\"\")","v":""},{"$f":"IF( Ecarts!$E187=$A$1, IF(Ecarts!L187=\"\",\"\",Ecarts!L187),\"\")","v":""},{"$f":"IF( Ecarts!$E187=$A$1, IF(Ecarts!M187=\"\",\"\",Ecarts!M187),\"\")","v":""},0,0]
[{"$f":"IF( Ecarts!$E188=$A$1,IF( Ecarts!B188=\"\",\"\",Ecarts!A188),\"\")","v":""},{"$f":"IF( Ecarts!$E188=$A$1,IF( Ecarts!C188=\"\",\"\",Ecarts!C188),\"\")","v":""},{"$f":"IF( Ecarts!$E188=$A$1, IF(Ecarts!F188=\"\",\"\",Ecarts!F188),\"\")","v":""},{"$f":"IF( Ecarts!$E188=$A$1, IF(Ecarts!I188=\"\",\"\",Ecarts!I188),\"\")","v":""},{"$f":"IF( Ecarts!$E188=$A$1, IF(Ecarts!J188=\"\",\"\",Ecarts!J188),\"\")","v":""},{"$f":"IF( Ecarts!$E188=$A$1, IF(Ecarts!K188=\"\",\"\",Ecarts!K188),\"\")","v":""},{"$f":"IF( Ecarts!$E188=$A$1, IF(Ecarts!L188=\"\",\"\",Ecarts!L188),\"\")","v":""},{"$f":"IF( Ecarts!$E188=$A$1, IF(Ecarts!M188=\"\",\"\",Ecarts!M188),\"\")","v":""},0,0]
[{"$f":"IF( Ecarts!$E189=$A$1,IF( Ecarts!B189=\"\",\"\",Ecarts!A189),\"\")","v":""},{"$f":"IF( Ecarts!$E189=$A$1,IF( Ecarts!C189=\"\",\"\",Ecarts!C189),\"\")","v":""},{"$f":"IF( Ecarts!$E189=$A$1, IF(Ecarts!F189=\"\",\"\",Ecarts!F189),\"\")","v":""},{"$f":"IF( Ecarts!$E189=$A$1, IF(Ecarts!I189=\"\",\"\",Ecarts!I189),\"\")","v":""},{"$f":"IF( Ecarts!$E189=$A$1, IF(Ecarts!J189=\"\",\"\",Ecarts!J189),\"\")","v":""},{"$f":"IF( Ecarts!$E189=$A$1, IF(Ecarts!K189=\"\",\"\",Ecarts!K189),\"\")","v":""},{"$f":"IF( Ecarts!$E189=$A$1, IF(Ecarts!L189=\"\",\"\",Ecarts!L189),\"\")","v":""},{"$f":"IF( Ecarts!$E189=$A$1, IF(Ecarts!M189=\"\",\"\",Ecarts!M189),\"\")","v":""},0,0]
[{"$f":"IF( Ecarts!$E190=$A$1,IF( Ecarts!B190=\"\",\"\",Ecarts!A190),\"\")","v":""},{"$f":"IF( Ecarts!$E190=$A$1,IF( Ecarts!C190=\"\",\"\",Ecarts!C190),\"\")","v":""},{"$f":"IF( Ecarts!$E190=$A$1, IF(Ecarts!F190=\"\",\"\",Ecarts!F190),\"\")","v":""},{"$f":"IF( Ecarts!$E190=$A$1, IF(Ecarts!I190=\"\",\"\",Ecarts!I190),\"\")","v":""},{"$f":"IF( Ecarts!$E190=$A$1, IF(Ecarts!J190=\"\",\"\",Ecarts!J190),\"\")","v":""},{"$f":"IF( Ecarts!$E190=$A$1, IF(Ecarts!K190=\"\",\"\",Ecarts!K190),\"\")","v":""},{"$f":"IF( Ecarts!$E190=$A$1, IF(Ecarts!L190=\"\",\"\",Ecarts!L190),\"\")","v":""},{"$f":"IF( Ecarts!$E190=$A$1, IF(Ecarts!M190=\"\",\"\",Ecarts!M190),\"\")","v":""},0,0]
[{"$f":"IF( Ecarts!$E191=$A$1,IF( Ecarts!B191=\"\",\"\",Ecarts!A191),\"\")","v":""},{"$f":"IF( Ecarts!$E191=$A$1,IF( Ecarts!C191=\"\",\"\",Ecarts!C191),\"\")","v":""},{"$f":"IF( Ecarts!$E191=$A$1, IF(Ecarts!F191=\"\",\"\",Ecarts!F191),\"\")","v":""},{"$f":"IF( Ecarts!$E191=$A$1, IF(Ecarts!I191=\"\",\"\",Ecarts!I191),\"\")","v":""},{"$f":"IF( Ecarts!$E191=$A$1, IF(Ecarts!J191=\"\",\"\",Ecarts!J191),\"\")","v":""},{"$f":"IF( Ecarts!$E191=$A$1, IF(Ecarts!K191=\"\",\"\",Ecarts!K191),\"\")","v":""},{"$f":"IF( Ecarts!$E191=$A$1, IF(Ecarts!L191=\"\",\"\",Ecarts!L191),\"\")","v":""},{"$f":"IF( Ecarts!$E191=$A$1, IF(Ecarts!M191=\"\",\"\",Ecarts!M191),\"\")","v":""},0,0]
[{"$f":"IF( Ecarts!$E192=$A$1,IF( Ecarts!B192=\"\",\"\",Ecarts!A192),\"\")","v":""},{"$f":"IF( Ecarts!$E192=$A$1,IF( Ecarts!C192=\"\",\"\",Ecarts!C192),\"\")","v":""},{"$f":"IF( Ecarts!$E192=$A$1, IF(Ecarts!F192=\"\",\"\",Ecarts!F192),\"\")","v":""},{"$f":"IF( Ecarts!$E192=$A$1, IF(Ecarts!I192=\"\",\"\",Ecarts!I192),\"\")","v":""},{"$f":"IF( Ecarts!$E192=$A$1, IF(Ecarts!J192=\"\",\"\",Ecarts!J192),\"\")","v":""},{"$f":"IF( Ecarts!$E192=$A$1, IF(Ecarts!K192=\"\",\"\",Ecarts!K192),\"\")","v":""},{"$f":"IF( Ecarts!$E192=$A$1, IF(Ecarts!L192=\"\",\"\",Ecarts!L192),\"\")","v":""},{"$f":"IF( Ecarts!$E192=$A$1, IF(Ecarts!M192=\"\",\"\",Ecarts!M192),\"\")","v":""},0,0]
[{"$f":"IF( Ecarts!$E193=$A$1,IF( Ecarts!B193=\"\",\"\",Ecarts!A193),\"\")","v":""},{"$f":"IF( Ecarts!$E193=$A$1,IF( Ecarts!C193=\"\",\"\",Ecarts!C193),\"\")","v":""},{"$f":"IF( Ecarts!$E193=$A$1, IF(Ecarts!F193=\"\",\"\",Ecarts!F193),\"\")","v":""},{"$f":"IF( Ecarts!$E193=$A$1, IF(Ecarts!I193=\"\",\"\",Ecarts!I193),\"\")","v":""},{"$f":"IF( Ecarts!$E193=$A$1, IF(Ecarts!J193=\"\",\"\",Ecarts!J193),\"\")","v":""},{"$f":"IF( Ecarts!$E193=$A$1, IF(Ecarts!K193=\"\",\"\",Ecarts!K193),\"\")","v":""},{"$f":"IF( Ecarts!$E193=$A$1, IF(Ecarts!L193=\"\",\"\",Ecarts!L193),\"\")","v":""},{"$f":"IF( Ecarts!$E193=$A$1, IF(Ecarts!M193=\"\",\"\",Ecarts!M193),\"\")","v":""},0,0]
[{"$f":"IF( Ecarts!$E194=$A$1,IF( Ecarts!B194=\"\",\"\",Ecarts!A194),\"\")","v":""},{"$f":"IF( Ecarts!$E194=$A$1,IF( Ecarts!C194=\"\",\"\",Ecarts!C194),\"\")","v":""},{"$f":"IF( Ecarts!$E194=$A$1, IF(Ecarts!F194=\"\",\"\",Ecarts!F194),\"\")","v":""},{"$f":"IF( Ecarts!$E194=$A$1, IF(Ecarts!I194=\"\",\"\",Ecarts!I194),\"\")","v":""},{"$f":"IF( Ecarts!$E194=$A$1, IF(Ecarts!J194=\"\",\"\",Ecarts!J194),\"\")","v":""},{"$f":"IF( Ecarts!$E194=$A$1, IF(Ecarts!K194=\"\",\"\",Ecarts!K194),\"\")","v":""},{"$f":"IF( Ecarts!$E194=$A$1, IF(Ecarts!L194=\"\",\"\",Ecarts!L194),\"\")","v":""},{"$f":"IF( Ecarts!$E194=$A$1, IF(Ecarts!M194=\"\",\"\",Ecarts!M194),\"\")","v":""},0,0]
[{"$f":"IF( Ecarts!$E195=$A$1,IF( Ecarts!B195=\"\",\"\",Ecarts!A195),\"\")","v":""},{"$f":"IF( Ecarts!$E195=$A$1,IF( Ecarts!C195=\"\",\"\",Ecarts!C195),\"\")","v":""},{"$f":"IF( Ecarts!$E195=$A$1, IF(Ecarts!F195=\"\",\"\",Ecarts!F195),\"\")","v":""},{"$f":"IF( Ecarts!$E195=$A$1, IF(Ecarts!I195=\"\",\"\",Ecarts!I195),\"\")","v":""},{"$f":"IF( Ecarts!$E195=$A$1, IF(Ecarts!J195=\"\",\"\",Ecarts!J195),\"\")","v":""},{"$f":"IF( Ecarts!$E195=$A$1, IF(Ecarts!K195=\"\",\"\",Ecarts!K195),\"\")","v":""},{"$f":"IF( Ecarts!$E195=$A$1, IF(Ecarts!L195=\"\",\"\",Ecarts!L195),\"\")","v":""},{"$f":"IF( Ecarts!$E195=$A$1, IF(Ecarts!M195=\"\",\"\",Ecarts!M195),\"\")","v":""},0,0]
[{"$f":"IF( Ecarts!$E196=$A$1,IF( Ecarts!B196=\"\",\"\",Ecarts!A196),\"\")","v":""},{"$f":"IF( Ecarts!$E196=$A$1,IF( Ecarts!C196=\"\",\"\",Ecarts!C196),\"\")","v":""},{"$f":"IF( Ecarts!$E196=$A$1, IF(Ecarts!F196=\"\",\"\",Ecarts!F196),\"\")","v":""},{"$f":"IF( Ecarts!$E196=$A$1, IF(Ecarts!I196=\"\",\"\",Ecarts!I196),\"\")","v":""},{"$f":"IF( Ecarts!$E196=$A$1, IF(Ecarts!J196=\"\",\"\",Ecarts!J196),\"\")","v":""},{"$f":"IF( Ecarts!$E196=$A$1, IF(Ecarts!K196=\"\",\"\",Ecarts!K196),\"\")","v":""},{"$f":"IF( Ecarts!$E196=$A$1, IF(Ecarts!L196=\"\",\"\",Ecarts!L196),\"\")","v":""},{"$f":"IF( Ecarts!$E196=$A$1, IF(Ecarts!M196=\"\",\"\",Ecarts!M196),\"\")","v":""},{"$f":"IF(B197=\"\",0,IF(G197=1,0,1))","v":0},{"$f":"IF(F197=\"\",0,IF(F197>(TODAY()-60),1,0))","v":0}]
[{"$f":"IF( Ecarts!$E197=$A$1,IF( Ecarts!B197=\"\",\"\",Ecarts!A197),\"\")","v":""},{"$f":"IF( Ecarts!$E197=$A$1,IF( Ecarts!C197=\"\",\"\",Ecarts!C197),\"\")","v":""},{"$f":"IF( Ecarts!$E197=$A$1, IF(Ecarts!F197=\"\",\"\",Ecarts!F197),\"\")","v":""},{"$f":"IF( Ecarts!$E197=$A$1, IF(Ecarts!I197=\"\",\"\",Ecarts!I197),\"\")","v":""},{"$f":"IF( Ecarts!$E197=$A$1, IF(Ecarts!J197=\"\",\"\",Ecarts!J197),\"\")","v":""},{"$f":"IF( Ecarts!$E197=$A$1, IF(Ecarts!K197=\"\",\"\",Ecarts!K197),\"\")","v":""},{"$f":"IF( Ecarts!$E197=$A$1, IF(Ecarts!L197=\"\",\"\",Ecarts!L197),\"\")","v":""},{"$f":"IF( Ecarts!$E197=$A$1, IF(Ecarts!M197=\"\",\"\",Ecarts!M197),\"\")","v":""},0,0]
[{"$f":"IF( Ecarts!$E198=$A$1,IF( Ecarts!B198=\"\",\"\",Ecarts!A198),\"\")","v":""},{"$f":"IF( Ecarts!$E198=$A$1,IF( Ecarts!C198=\"\",\"\",Ecarts!C198),\"\")","v":""},{"$f":"IF( Ecarts!$E198=$A$1, IF(Ecarts!F198=\"\",\"\",Ecarts!F198),\"\")","v":""},{"$f":"IF( Ecarts!$E198=$A$1, IF(Ecarts!I198=\"\",\"\",Ecarts!I198),\"\")","v":""},{"$f":"IF( Ecarts!$E198=$A$1, IF(Ecarts!J198=\"\",\"\",Ecarts!J198),\"\")","v":""},{"$f":"IF( Ecarts!$E198=$A$1, IF(Ecarts!K198=\"\",\"\",Ecarts!K198),\"\")","v":""},{"$f":"IF( Ecarts!$E198=$A$1, IF(Ecarts!L198=\"\",\"\",Ecarts!L198),\"\")","v":""},{"$f":"IF( Ecarts!$E198=$A$1, IF(Ecarts!M198=\"\",\"\",Ecarts!M198),\"\")","v":""},0,0]
[{"$f":"IF( Ecarts!$E199=$A$1,IF( Ecarts!B199=\"\",\"\",Ecarts!A199),\"\")","v":""},{"$f":"IF( Ecarts!$E199=$A$1,IF( Ecarts!C199=\"\",\"\",Ecarts!C199),\"\")","v":""},{"$f":"IF( Ecarts!$E199=$A$1, IF(Ecarts!F199=\"\",\"\",Ecarts!F199),\"\")","v":""},{"$f":"IF( Ecarts!$E199=$A$1, IF(Ecarts!I199=\"\",\"\",Ecarts!I199),\"\")","v":""},{"$f":"IF( Ecarts!$E199=$A$1, IF(Ecarts!J199=\"\",\"\",Ecarts!J199),\"\")","v":""},{"$f":"IF( Ecarts!$E199=$A$1, IF(Ecarts!K199=\"\",\"\",Ecarts!K199),\"\")","v":""},{"$f":"IF( Ecarts!$E199=$A$1, IF(Ecarts!L199=\"\",\"\",Ecarts!L199),\"\")","v":""},{"$f":"IF( Ecarts!$E199=$A$1, IF(Ecarts!M199=\"\",\"\",Ecarts!M199),\"\")","v":""},0,0]
[{"$f":"IF( Ecarts!$E200=$A$1,IF( Ecarts!B200=\"\",\"\",Ecarts!A200),\"\")","v":""},{"$f":"IF( Ecarts!$E200=$A$1,IF( Ecarts!C200=\"\",\"\",Ecarts!C200),\"\")","v":""},{"$f":"IF( Ecarts!$E200=$A$1, IF(Ecarts!F200=\"\",\"\",Ecarts!F200),\"\")","v":""},{"$f":"IF( Ecarts!$E200=$A$1, IF(Ecarts!I200=\"\",\"\",Ecarts!I200),\"\")","v":""},{"$f":"IF( Ecarts!$E200=$A$1, IF(Ecarts!J200=\"\",\"\",Ecarts!J200),\"\")","v":""},{"$f":"IF( Ecarts!$E200=$A$1, IF(Ecarts!K200=\"\",\"\",Ecarts!K200),\"\")","v":""},{"$f":"IF( Ecarts!$E200=$A$1, IF(Ecarts!L200=\"\",\"\",Ecarts!L200),\"\")","v":""},{"$f":"IF( Ecarts!$E200=$A$1, IF(Ecarts!M200=\"\",\"\",Ecarts!M200),\"\")","v":""},0,0]
[{"$f":"IF( Ecarts!$E201=$A$1,IF( Ecarts!B201=\"\",\"\",Ecarts!A201),\"\")","v":""},{"$f":"IF( Ecarts!$E201=$A$1,IF( Ecarts!C201=\"\",\"\",Ecarts!C201),\"\")","v":""},{"$f":"IF( Ecarts!$E201=$A$1, IF(Ecarts!F201=\"\",\"\",Ecarts!F201),\"\")","v":""},{"$f":"IF( Ecarts!$E201=$A$1, IF(Ecarts!I201=\"\",\"\",Ecarts!I201),\"\")","v":""},{"$f":"IF( Ecarts!$E201=$A$1, IF(Ecarts!J201=\"\",\"\",Ecarts!J201),\"\")","v":""},{"$f":"IF( Ecarts!$E201=$A$1, IF(Ecarts!K201=\"\",\"\",Ecarts!K201),\"\")","v":""},{"$f":"IF( Ecarts!$E201=$A$1, IF(Ecarts!L201=\"\",\"\",Ecarts!L201),\"\")","v":""},{"$f":"IF( Ecarts!$E201=$A$1, IF(Ecarts!M201=\"\",\"\",Ecarts!M201),\"\")","v":""},0,0]
[{"$f":"IF( Ecarts!$E202=$A$1,IF( Ecarts!B202=\"\",\"\",Ecarts!A202),\"\")","v":""},{"$f":"IF( Ecarts!$E202=$A$1,IF( Ecarts!C202=\"\",\"\",Ecarts!C202),\"\")","v":""},{"$f":"IF( Ecarts!$E202=$A$1, IF(Ecarts!F202=\"\",\"\",Ecarts!F202),\"\")","v":""},{"$f":"IF( Ecarts!$E202=$A$1, IF(Ecarts!I202=\"\",\"\",Ecarts!I202),\"\")","v":""},{"$f":"IF( Ecarts!$E202=$A$1, IF(Ecarts!J202=\"\",\"\",Ecarts!J202),\"\")","v":""},{"$f":"IF( Ecarts!$E202=$A$1, IF(Ecarts!K202=\"\",\"\",Ecarts!K202),\"\")","v":""},{"$f":"IF( Ecarts!$E202=$A$1, IF(Ecarts!L202=\"\",\"\",Ecarts!L202),\"\")","v":""},{"$f":"IF( Ecarts!$E202=$A$1, IF(Ecarts!M202=\"\",\"\",Ecarts!M202),\"\")","v":""},0,0]
[{"$f":"IF( Ecarts!$E203=$A$1,IF( Ecarts!B203=\"\",\"\",Ecarts!A203),\"\")","v":""},{"$f":"IF( Ecarts!$E203=$A$1,IF( Ecarts!C203=\"\",\"\",Ecarts!C203),\"\")","v":""},{"$f":"IF( Ecarts!$E203=$A$1, IF(Ecarts!F203=\"\",\"\",Ecarts!F203),\"\")","v":""},{"$f":"IF( Ecarts!$E203=$A$1, IF(Ecarts!I203=\"\",\"\",Ecarts!I203),\"\")","v":""},{"$f":"IF( Ecarts!$E203=$A$1, IF(Ecarts!J203=\"\",\"\",Ecarts!J203),\"\")","v":""},{"$f":"IF( Ecarts!$E203=$A$1, IF(Ecarts!K203=\"\",\"\",Ecarts!K203),\"\")","v":""},{"$f":"IF( Ecarts!$E203=$A$1, IF(Ecarts!L203=\"\",\"\",Ecarts!L203),\"\")","v":""},{"$f":"IF( Ecarts!$E203=$A$1, IF(Ecarts!M203=\"\",\"\",Ecarts!M203),\"\")","v":""},0,0]
[{"$f":"IF( Ecarts!$E204=$A$1,IF( Ecarts!B204=\"\",\"\",Ecarts!A204),\"\")","v":""},{"$f":"IF( Ecarts!$E204=$A$1,IF( Ecarts!C204=\"\",\"\",Ecarts!C204),\"\")","v":""},{"$f":"IF( Ecarts!$E204=$A$1, IF(Ecarts!F204=\"\",\"\",Ecarts!F204),\"\")","v":""},{"$f":"IF( Ecarts!$E204=$A$1, IF(Ecarts!I204=\"\",\"\",Ecarts!I204),\"\")","v":""},{"$f":"IF( Ecarts!$E204=$A$1, IF(Ecarts!J204=\"\",\"\",Ecarts!J204),\"\")","v":""},{"$f":"IF( Ecarts!$E204=$A$1, IF(Ecarts!K204=\"\",\"\",Ecarts!K204),\"\")","v":""},{"$f":"IF( Ecarts!$E204=$A$1, IF(Ecarts!L204=\"\",\"\",Ecarts!L204),\"\")","v":""},{"$f":"IF( Ecarts!$E204=$A$1, IF(Ecarts!M204=\"\",\"\",Ecarts!M204),\"\")","v":""},0,0]
[{"$f":"IF( Ecarts!$E205=$A$1,IF( Ecarts!B205=\"\",\"\",Ecarts!A205),\"\")","v":""},{"$f":"IF( Ecarts!$E205=$A$1,IF( Ecarts!C205=\"\",\"\",Ecarts!C205),\"\")","v":""},{"$f":"IF( Ecarts!$E205=$A$1, IF(Ecarts!F205=\"\",\"\",Ecarts!F205),\"\")","v":""},{"$f":"IF( Ecarts!$E205=$A$1, IF(Ecarts!I205=\"\",\"\",Ecarts!I205),\"\")","v":""},{"$f":"IF( Ecarts!$E205=$A$1, IF(Ecarts!J205=\"\",\"\",Ecarts!J205),\"\")","v":""},{"$f":"IF( Ecarts!$E205=$A$1, IF(Ecarts!K205=\"\",\"\",Ecarts!K205),\"\")","v":""},{"$f":"IF( Ecarts!$E205=$A$1, IF(Ecarts!L205=\"\",\"\",Ecarts!L205),\"\")","v":""},{"$f":"IF( Ecarts!$E205=$A$1, IF(Ecarts!M205=\"\",\"\",Ecarts!M205),\"\")","v":""},0,0]
[{"$f":"IF( Ecarts!$E206=$A$1,IF( Ecarts!B206=\"\",\"\",Ecarts!A206),\"\")","v":""},{"$f":"IF( Ecarts!$E206=$A$1,IF( Ecarts!C206=\"\",\"\",Ecarts!C206),\"\")","v":""},{"$f":"IF( Ecarts!$E206=$A$1, IF(Ecarts!F206=\"\",\"\",Ecarts!F206),\"\")","v":""},{"$f":"IF( Ecarts!$E206=$A$1, IF(Ecarts!I206=\"\",\"\",Ecarts!I206),\"\")","v":""},{"$f":"IF( Ecarts!$E206=$A$1, IF(Ecarts!J206=\"\",\"\",Ecarts!J206),\"\")","v":""},{"$f":"IF( Ecarts!$E206=$A$1, IF(Ecarts!K206=\"\",\"\",Ecarts!K206),\"\")","v":""},{"$f":"IF( Ecarts!$E206=$A$1, IF(Ecarts!L206=\"\",\"\",Ecarts!L206),\"\")","v":""},{"$f":"IF( Ecarts!$E206=$A$1, IF(Ecarts!M206=\"\",\"\",Ecarts!M206),\"\")","v":""},0,0]
[{"$f":"IF( Ecarts!$E207=$A$1,IF( Ecarts!B207=\"\",\"\",Ecarts!A207),\"\")","v":""},{"$f":"IF( Ecarts!$E207=$A$1,IF( Ecarts!C207=\"\",\"\",Ecarts!C207),\"\")","v":""},{"$f":"IF( Ecarts!$E207=$A$1, IF(Ecarts!F207=\"\",\"\",Ecarts!F207),\"\")","v":""},{"$f":"IF( Ecarts!$E207=$A$1, IF(Ecarts!I207=\"\",\"\",Ecarts!I207),\"\")","v":""},{"$f":"IF( Ecarts!$E207=$A$1, IF(Ecarts!J207=\"\",\"\",Ecarts!J207),\"\")","v":""},{"$f":"IF( Ecarts!$E207=$A$1, IF(Ecarts!K207=\"\",\"\",Ecarts!K207),\"\")","v":""},{"$f":"IF( Ecarts!$E207=$A$1, IF(Ecarts!L207=\"\",\"\",Ecarts!L207),\"\")","v":""},{"$f":"IF( Ecarts!$E207=$A$1, IF(Ecarts!M207=\"\",\"\",Ecarts!M207),\"\")","v":""},0,0]
[{"$f":"IF( Ecarts!$E208=$A$1,IF( Ecarts!B208=\"\",\"\",Ecarts!A208),\"\")","v":""},{"$f":"IF( Ecarts!$E208=$A$1,IF( Ecarts!C208=\"\",\"\",Ecarts!C208),\"\")","v":""},{"$f":"IF( Ecarts!$E208=$A$1, IF(Ecarts!F208=\"\",\"\",Ecarts!F208),\"\")","v":""},{"$f":"IF( Ecarts!$E208=$A$1, IF(Ecarts!I208=\"\",\"\",Ecarts!I208),\"\")","v":""},{"$f":"IF( Ecarts!$E208=$A$1, IF(Ecarts!J208=\"\",\"\",Ecarts!J208),\"\")","v":""},{"$f":"IF( Ecarts!$E208=$A$1, IF(Ecarts!K208=\"\",\"\",Ecarts!K208),\"\")","v":""},{"$f":"IF( Ecarts!$E208=$A$1, IF(Ecarts!L208=\"\",\"\",Ecarts!L208),\"\")","v":""},{"$f":"IF( Ecarts!$E208=$A$1, IF(Ecarts!M208=\"\",\"\",Ecarts!M208),\"\")","v":""},0,0]
[{"$f":"IF( Ecarts!$E209=$A$1,IF( Ecarts!B209=\"\",\"\",Ecarts!A209),\"\")","v":""},{"$f":"IF( Ecarts!$E209=$A$1,IF( Ecarts!C209=\"\",\"\",Ecarts!C209),\"\")","v":""},{"$f":"IF( Ecarts!$E209=$A$1, IF(Ecarts!F209=\"\",\"\",Ecarts!F209),\"\")","v":""},{"$f":"IF( Ecarts!$E209=$A$1, IF(Ecarts!I209=\"\",\"\",Ecarts!I209),\"\")","v":""},{"$f":"IF( Ecarts!$E209=$A$1, IF(Ecarts!J209=\"\",\"\",Ecarts!J209),\"\")","v":""},{"$f":"IF( Ecarts!$E209=$A$1, IF(Ecarts!K209=\"\",\"\",Ecarts!K209),\"\")","v":""},{"$f":"IF( Ecarts!$E209=$A$1, IF(Ecarts!L209=\"\",\"\",Ecarts!L209),\"\")","v":""},{"$f":"IF( Ecarts!$E209=$A$1, IF(Ecarts!M209=\"\",\"\",Ecarts!M209),\"\")","v":""},0,0]
[{"$f":"IF( Ecarts!$E210=$A$1,IF( Ecarts!B210=\"\",\"\",Ecarts!A210),\"\")","v":""},{"$f":"IF( Ecarts!$E210=$A$1,IF( Ecarts!C210=\"\",\"\",Ecarts!C210),\"\")","v":""},{"$f":"IF( Ecarts!$E210=$A$1, IF(Ecarts!F210=\"\",\"\",Ecarts!F210),\"\")","v":""},{"$f":"IF( Ecarts!$E210=$A$1, IF(Ecarts!I210=\"\",\"\",Ecarts!I210),\"\")","v":""},{"$f":"IF( Ecarts!$E210=$A$1, IF(Ecarts!J210=\"\",\"\",Ecarts!J210),\"\")","v":""},{"$f":"IF( Ecarts!$E210=$A$1, IF(Ecarts!K210=\"\",\"\",Ecarts!K210),\"\")","v":""},{"$f":"IF( Ecarts!$E210=$A$1, IF(Ecarts!L210=\"\",\"\",Ecarts!L210),\"\")","v":""},{"$f":"IF( Ecarts!$E210=$A$1, IF(Ecarts!M210=\"\",\"\",Ecarts!M210),\"\")","v":""},0,0]
[{"$f":"IF( Ecarts!$E211=$A$1,IF( Ecarts!B211=\"\",\"\",Ecarts!A211),\"\")","v":""},{"$f":"IF( Ecarts!$E211=$A$1,IF( Ecarts!C211=\"\",\"\",Ecarts!C211),\"\")","v":""},{"$f":"IF( Ecarts!$E211=$A$1, IF(Ecarts!F211=\"\",\"\",Ecarts!F211),\"\")","v":""},{"$f":"IF( Ecarts!$E211=$A$1, IF(Ecarts!I211=\"\",\"\",Ecarts!I211),\"\")","v":""},{"$f":"IF( Ecarts!$E211=$A$1, IF(Ecarts!J211=\"\",\"\",Ecarts!J211),\"\")","v":""},{"$f":"IF( Ecarts!$E211=$A$1, IF(Ecarts!K211=\"\",\"\",Ecarts!K211),\"\")","v":""},{"$f":"IF( Ecarts!$E211=$A$1, IF(Ecarts!L211=\"\",\"\",Ecarts!L211),\"\")","v":""},{"$f":"IF( Ecarts!$E211=$A$1, IF(Ecarts!M211=\"\",\"\",Ecarts!M211),\"\")","v":""},0,0]
[{"$f":"IF( Ecarts!$E212=$A$1,IF( Ecarts!B212=\"\",\"\",Ecarts!A212),\"\")","v":""},{"$f":"IF( Ecarts!$E212=$A$1,IF( Ecarts!C212=\"\",\"\",Ecarts!C212),\"\")","v":""},{"$f":"IF( Ecarts!$E212=$A$1, IF(Ecarts!F212=\"\",\"\",Ecarts!F212),\"\")","v":""},{"$f":"IF( Ecarts!$E212=$A$1, IF(Ecarts!I212=\"\",\"\",Ecarts!I212),\"\")","v":""},{"$f":"IF( Ecarts!$E212=$A$1, IF(Ecarts!J212=\"\",\"\",Ecarts!J212),\"\")","v":""},{"$f":"IF( Ecarts!$E212=$A$1, IF(Ecarts!K212=\"\",\"\",Ecarts!K212),\"\")","v":""},{"$f":"IF( Ecarts!$E212=$A$1, IF(Ecarts!L212=\"\",\"\",Ecarts!L212),\"\")","v":""},{"$f":"IF( Ecarts!$E212=$A$1, IF(Ecarts!M212=\"\",\"\",Ecarts!M212),\"\")","v":""},0,0]
[{"$f":"IF( Ecarts!$E213=$A$1,IF( Ecarts!B213=\"\",\"\",Ecarts!A213),\"\")","v":""},{"$f":"IF( Ecarts!$E213=$A$1,IF( Ecarts!C213=\"\",\"\",Ecarts!C213),\"\")","v":""},{"$f":"IF( Ecarts!$E213=$A$1, IF(Ecarts!F213=\"\",\"\",Ecarts!F213),\"\")","v":""},{"$f":"IF( Ecarts!$E213=$A$1, IF(Ecarts!I213=\"\",\"\",Ecarts!I213),\"\")","v":""},{"$f":"IF( Ecarts!$E213=$A$1, IF(Ecarts!J213=\"\",\"\",Ecarts!J213),\"\")","v":""},{"$f":"IF( Ecarts!$E213=$A$1, IF(Ecarts!K213=\"\",\"\",Ecarts!K213),\"\")","v":""},{"$f":"IF( Ecarts!$E213=$A$1, IF(Ecarts!L213=\"\",\"\",Ecarts!L213),\"\")","v":""},{"$f":"IF( Ecarts!$E213=$A$1, IF(Ecarts!M213=\"\",\"\",Ecarts!M213),\"\")","v":""},0,0]
[{"$f":"IF( Ecarts!$E214=$A$1,IF( Ecarts!B214=\"\",\"\",Ecarts!A214),\"\")","v":""},{"$f":"IF( Ecarts!$E214=$A$1,IF( Ecarts!C214=\"\",\"\",Ecarts!C214),\"\")","v":""},{"$f":"IF( Ecarts!$E214=$A$1, IF(Ecarts!F214=\"\",\"\",Ecarts!F214),\"\")","v":""},{"$f":"IF( Ecarts!$E214=$A$1, IF(Ecarts!I214=\"\",\"\",Ecarts!I214),\"\")","v":""},{"$f":"IF( Ecarts!$E214=$A$1, IF(Ecarts!J214=\"\",\"\",Ecarts!J214),\"\")","v":""},{"$f":"IF( Ecarts!$E214=$A$1, IF(Ecarts!K214=\"\",\"\",Ecarts!K214),\"\")","v":""},{"$f":"IF( Ecarts!$E214=$A$1, IF(Ecarts!L214=\"\",\"\",Ecarts!L214),\"\")","v":""},{"$f":"IF( Ecarts!$E214=$A$1, IF(Ecarts!M214=\"\",\"\",Ecarts!M214),\"\")","v":""},0,0]
[{"$f":"IF( Ecarts!$E215=$A$1,IF( Ecarts!B215=\"\",\"\",Ecarts!A215),\"\")","v":""},{"$f":"IF( Ecarts!$E215=$A$1,IF( Ecarts!C215=\"\",\"\",Ecarts!C215),\"\")","v":""},{"$f":"IF( Ecarts!$E215=$A$1, IF(Ecarts!F215=\"\",\"\",Ecarts!F215),\"\")","v":""},{"$f":"IF( Ecarts!$E215=$A$1, IF(Ecarts!I215=\"\",\"\",Ecarts!I215),\"\")","v":""},{"$f":"IF( Ecarts!$E215=$A$1, IF(Ecarts!J215=\"\",\"\",Ecarts!J215),\"\")","v":""},{"$f":"IF( Ecarts!$E215=$A$1, IF(Ecarts!K215=\"\",\"\",Ecarts!K215),\"\")","v":""},{"$f":"IF( Ecarts!$E215=$A$1, IF(Ecarts!L215=\"\",\"\",Ecarts!L215),\"\")","v":""},{"$f":"IF( Ecarts!$E215=$A$1, IF(Ecarts!M215=\"\",\"\",Ecarts!M215),\"\")","v":""},0,0]
[{"$f":"IF( Ecarts!$E216=$A$1,IF( Ecarts!B216=\"\",\"\",Ecarts!A216),\"\")","v":""},{"$f":"IF( Ecarts!$E216=$A$1,IF( Ecarts!C216=\"\",\"\",Ecarts!C216),\"\")","v":""},{"$f":"IF( Ecarts!$E216=$A$1, IF(Ecarts!F216=\"\",\"\",Ecarts!F216),\"\")","v":""},{"$f":"IF( Ecarts!$E216=$A$1, IF(Ecarts!I216=\"\",\"\",Ecarts!I216),\"\")","v":""},{"$f":"IF( Ecarts!$E216=$A$1, IF(Ecarts!J216=\"\",\"\",Ecarts!J216),\"\")","v":""},{"$f":"IF( Ecarts!$E216=$A$1, IF(Ecarts!K216=\"\",\"\",Ecarts!K216),\"\")","v":""},{"$f":"IF( Ecarts!$E216=$A$1, IF(Ecarts!L216=\"\",\"\",Ecarts!L216),\"\")","v":""},{"$f":"IF( Ecarts!$E216=$A$1, IF(Ecarts!M216=\"\",\"\",Ecarts!M216),\"\")","v":""},0,0]
[{"$f":"IF( Ecarts!$E217=$A$1,IF( Ecarts!B217=\"\",\"\",Ecarts!A217),\"\")","v":""},{"$f":"IF( Ecarts!$E217=$A$1,IF( Ecarts!C217=\"\",\"\",Ecarts!C217),\"\")","v":""},{"$f":"IF( Ecarts!$E217=$A$1, IF(Ecarts!F217=\"\",\"\",Ecarts!F217),\"\")","v":""},{"$f":"IF( Ecarts!$E217=$A$1, IF(Ecarts!I217=\"\",\"\",Ecarts!I217),\"\")","v":""},{"$f":"IF( Ecarts!$E217=$A$1, IF(Ecarts!J217=\"\",\"\",Ecarts!J217),\"\")","v":""},{"$f":"IF( Ecarts!$E217=$A$1, IF(Ecarts!K217=\"\",\"\",Ecarts!K217),\"\")","v":""},{"$f":"IF( Ecarts!$E217=$A$1, IF(Ecarts!L217=\"\",\"\",Ecarts!L217),\"\")","v":""},{"$f":"IF( Ecarts!$E217=$A$1, IF(Ecarts!M217=\"\",\"\",Ecarts!M217),\"\")","v":""},0,0]
[{"$f":"IF( Ecarts!$E218=$A$1,IF( Ecarts!B218=\"\",\"\",Ecarts!A218),\"\")","v":""},{"$f":"IF( Ecarts!$E218=$A$1,IF( Ecarts!C218=\"\",\"\",Ecarts!C218),\"\")","v":""},{"$f":"IF( Ecarts!$E218=$A$1, IF(Ecarts!F218=\"\",\"\",Ecarts!F218),\"\")","v":""},{"$f":"IF( Ecarts!$E218=$A$1, IF(Ecarts!I218=\"\",\"\",Ecarts!I218),\"\")","v":""},{"$f":"IF( Ecarts!$E218=$A$1, IF(Ecarts!J218=\"\",\"\",Ecarts!J218),\"\")","v":""},{"$f":"IF( Ecarts!$E218=$A$1, IF(Ecarts!K218=\"\",\"\",Ecarts!K218),\"\")","v":""},{"$f":"IF( Ecarts!$E218=$A$1, IF(Ecarts!L218=\"\",\"\",Ecarts!L218),\"\")","v":""},{"$f":"IF( Ecarts!$E218=$A$1, IF(Ecarts!M218=\"\",\"\",Ecarts!M218),\"\")","v":""},0,0]
[{"$f":"IF( Ecarts!$E219=$A$1,IF( Ecarts!B219=\"\",\"\",Ecarts!A219),\"\")","v":""},{"$f":"IF( Ecarts!$E219=$A$1,IF( Ecarts!C219=\"\",\"\",Ecarts!C219),\"\")","v":""},{"$f":"IF( Ecarts!$E219=$A$1, IF(Ecarts!F219=\"\",\"\",Ecarts!F219),\"\")","v":""},{"$f":"IF( Ecarts!$E219=$A$1, IF(Ecarts!I219=\"\",\"\",Ecarts!I219),\"\")","v":""},{"$f":"IF( Ecarts!$E219=$A$1, IF(Ecarts!J219=\"\",\"\",Ecarts!J219),\"\")","v":""},{"$f":"IF( Ecarts!$E219=$A$1, IF(Ecarts!K219=\"\",\"\",Ecarts!K219),\"\")","v":""},{"$f":"IF( Ecarts!$E219=$A$1, IF(Ecarts!L219=\"\",\"\",Ecarts!L219),\"\")","v":""},{"$f":"IF( Ecarts!$E219=$A$1, IF(Ecarts!M219=\"\",\"\",Ecarts!M219),\"\")","v":""},0,0]
[{"$f":"IF( Ecarts!$E220=$A$1,IF( Ecarts!B220=\"\",\"\",Ecarts!A220),\"\")","v":""},{"$f":"IF( Ecarts!$E220=$A$1,IF( Ecarts!C220=\"\",\"\",Ecarts!C220),\"\")","v":""},{"$f":"IF( Ecarts!$E220=$A$1, IF(Ecarts!F220=\"\",\"\",Ecarts!F220),\"\")","v":""},{"$f":"IF( Ecarts!$E220=$A$1, IF(Ecarts!I220=\"\",\"\",Ecarts!I220),\"\")","v":""},{"$f":"IF( Ecarts!$E220=$A$1, IF(Ecarts!J220=\"\",\"\",Ecarts!J220),\"\")","v":""},{"$f":"IF( Ecarts!$E220=$A$1, IF(Ecarts!K220=\"\",\"\",Ecarts!K220),\"\")","v":""},{"$f":"IF( Ecarts!$E220=$A$1, IF(Ecarts!L220=\"\",\"\",Ecarts!L220),\"\")","v":""},{"$f":"IF( Ecarts!$E220=$A$1, IF(Ecarts!M220=\"\",\"\",Ecarts!M220),\"\")","v":""},0,0]
[{"$f":"IF( Ecarts!$E221=$A$1,IF( Ecarts!B221=\"\",\"\",Ecarts!A221),\"\")","v":""},{"$f":"IF( Ecarts!$E221=$A$1,IF( Ecarts!C221=\"\",\"\",Ecarts!C221),\"\")","v":""},{"$f":"IF( Ecarts!$E221=$A$1, IF(Ecarts!F221=\"\",\"\",Ecarts!F221),\"\")","v":""},{"$f":"IF( Ecarts!$E221=$A$1, IF(Ecarts!I221=\"\",\"\",Ecarts!I221),\"\")","v":""},{"$f":"IF( Ecarts!$E221=$A$1, IF(Ecarts!J221=\"\",\"\",Ecarts!J221),\"\")","v":""},{"$f":"IF( Ecarts!$E221=$A$1, IF(Ecarts!K221=\"\",\"\",Ecarts!K221),\"\")","v":""},{"$f":"IF( Ecarts!$E221=$A$1, IF(Ecarts!L221=\"\",\"\",Ecarts!L221),\"\")","v":""},{"$f":"IF( Ecarts!$E221=$A$1, IF(Ecarts!M221=\"\",\"\",Ecarts!M221),\"\")","v":""},0,0]
[{"$f":"IF( Ecarts!$E222=$A$1,IF( Ecarts!B222=\"\",\"\",Ecarts!A222),\"\")","v":""},{"$f":"IF( Ecarts!$E222=$A$1,IF( Ecarts!C222=\"\",\"\",Ecarts!C222),\"\")","v":""},{"$f":"IF( Ecarts!$E222=$A$1, IF(Ecarts!F222=\"\",\"\",Ecarts!F222),\"\")","v":""},{"$f":"IF( Ecarts!$E222=$A$1, IF(Ecarts!I222=\"\",\"\",Ecarts!I222),\"\")","v":""},{"$f":"IF( Ecarts!$E222=$A$1, IF(Ecarts!J222=\"\",\"\",Ecarts!J222),\"\")","v":""},{"$f":"IF( Ecarts!$E222=$A$1, IF(Ecarts!K222=\"\",\"\",Ecarts!K222),\"\")","v":""},{"$f":"IF( Ecarts!$E222=$A$1, IF(Ecarts!L222=\"\",\"\",Ecarts!L222),\"\")","v":""},{"$f":"IF( Ecarts!$E222=$A$1, IF(Ecarts!M222=\"\",\"\",Ecarts!M222),\"\")","v":""},0,0]
[{"$f":"IF( Ecarts!$E223=$A$1,IF( Ecarts!B223=\"\",\"\",Ecarts!A223),\"\")","v":""},{"$f":"IF( Ecarts!$E223=$A$1,IF( Ecarts!C223=\"\",\"\",Ecarts!C223),\"\")","v":""},{"$f":"IF( Ecarts!$E223=$A$1, IF(Ecarts!F223=\"\",\"\",Ecarts!F223),\"\")","v":""},{"$f":"IF( Ecarts!$E223=$A$1, IF(Ecarts!I223=\"\",\"\",Ecarts!I223),\"\")","v":""},{"$f":"IF( Ecarts!$E223=$A$1, IF(Ecarts!J223=\"\",\"\",Ecarts!J223),\"\")","v":""},{"$f":"IF( Ecarts!$E223=$A$1, IF(Ecarts!K223=\"\",\"\",Ecarts!K223),\"\")","v":""},{"$f":"IF( Ecarts!$E223=$A$1, IF(Ecarts!L223=\"\",\"\",Ecarts!L223),\"\")","v":""},{"$f":"IF( Ecarts!$E223=$A$1, IF(Ecarts!M223=\"\",\"\",Ecarts!M223),\"\")","v":""},0,0]
[{"$f":"IF( Ecarts!$E224=$A$1,IF( Ecarts!B224=\"\",\"\",Ecarts!A224),\"\")","v":""},{"$f":"IF( Ecarts!$E224=$A$1,IF( Ecarts!C224=\"\",\"\",Ecarts!C224),\"\")","v":""},{"$f":"IF( Ecarts!$E224=$A$1, IF(Ecarts!F224=\"\",\"\",Ecarts!F224),\"\")","v":""},{"$f":"IF( Ecarts!$E224=$A$1, IF(Ecarts!I224=\"\",\"\",Ecarts!I224),\"\")","v":""},{"$f":"IF( Ecarts!$E224=$A$1, IF(Ecarts!J224=\"\",\"\",Ecarts!J224),\"\")","v":""},{"$f":"IF( Ecarts!$E224=$A$1, IF(Ecarts!K224=\"\",\"\",Ecarts!K224),\"\")","v":""},{"$f":"IF( Ecarts!$E224=$A$1, IF(Ecarts!L224=\"\",\"\",Ecarts!L224),\"\")","v":""},{"$f":"IF( Ecarts!$E224=$A$1, IF(Ecarts!M224=\"\",\"\",Ecarts!M224),\"\")","v":""},0,0]
[{"$f":"IF( Ecarts!$E225=$A$1,IF( Ecarts!B225=\"\",\"\",Ecarts!A225),\"\")","v":""},{"$f":"IF( Ecarts!$E225=$A$1,IF( Ecarts!C225=\"\",\"\",Ecarts!C225),\"\")","v":""},{"$f":"IF( Ecarts!$E225=$A$1, IF(Ecarts!F225=\"\",\"\",Ecarts!F225),\"\")","v":""},{"$f":"IF( Ecarts!$E225=$A$1, IF(Ecarts!I225=\"\",\"\",Ecarts!I225),\"\")","v":""},{"$f":"IF( Ecarts!$E225=$A$1, IF(Ecarts!J225=\"\",\"\",Ecarts!J225),\"\")","v":""},{"$f":"IF( Ecarts!$E225=$A$1, IF(Ecarts!K225=\"\",\"\",Ecarts!K225),\"\")","v":""},{"$f":"IF( Ecarts!$E225=$A$1, IF(Ecarts!L225=\"\",\"\",Ecarts!L225),\"\")","v":""},{"$f":"IF( Ecarts!$E225=$A$1, IF(Ecarts!M225=\"\",\"\",Ecarts!M225),\"\")","v":""},0,0]
[{"$f":"IF( Ecarts!$E226=$A$1,IF( Ecarts!B226=\"\",\"\",Ecarts!A226),\"\")","v":""},{"$f":"IF( Ecarts!$E226=$A$1,IF( Ecarts!C226=\"\",\"\",Ecarts!C226),\"\")","v":""},{"$f":"IF( Ecarts!$E226=$A$1, IF(Ecarts!F226=\"\",\"\",Ecarts!F226),\"\")","v":""},{"$f":"IF( Ecarts!$E226=$A$1, IF(Ecarts!I226=\"\",\"\",Ecarts!I226),\"\")","v":""},{"$f":"IF( Ecarts!$E226=$A$1, IF(Ecarts!J226=\"\",\"\",Ecarts!J226),\"\")","v":""},{"$f":"IF( Ecarts!$E226=$A$1, IF(Ecarts!K226=\"\",\"\",Ecarts!K226),\"\")","v":""},{"$f":"IF( Ecarts!$E226=$A$1, IF(Ecarts!L226=\"\",\"\",Ecarts!L226),\"\")","v":""},{"$f":"IF( Ecarts!$E226=$A$1, IF(Ecarts!M226=\"\",\"\",Ecarts!M226),\"\")","v":""},0,0]
[{"$f":"IF( Ecarts!$E227=$A$1,IF( Ecarts!B227=\"\",\"\",Ecarts!A227),\"\")","v":""},{"$f":"IF( Ecarts!$E227=$A$1,IF( Ecarts!C227=\"\",\"\",Ecarts!C227),\"\")","v":""},{"$f":"IF( Ecarts!$E227=$A$1, IF(Ecarts!F227=\"\",\"\",Ecarts!F227),\"\")","v":""},{"$f":"IF( Ecarts!$E227=$A$1, IF(Ecarts!I227=\"\",\"\",Ecarts!I227),\"\")","v":""},{"$f":"IF( Ecarts!$E227=$A$1, IF(Ecarts!J227=\"\",\"\",Ecarts!J227),\"\")","v":""},{"$f":"IF( Ecarts!$E227=$A$1, IF(Ecarts!K227=\"\",\"\",Ecarts!K227),\"\")","v":""},{"$f":"IF( Ecarts!$E227=$A$1, IF(Ecarts!L227=\"\",\"\",Ecarts!L227),\"\")","v":""},{"$f":"IF( Ecarts!$E227=$A$1, IF(Ecarts!M227=\"\",\"\",Ecarts!M227),\"\")","v":""},0,0]
[{"$f":"IF( Ecarts!$E228=$A$1,IF( Ecarts!B228=\"\",\"\",Ecarts!A228),\"\")","v":""},{"$f":"IF( Ecarts!$E228=$A$1,IF( Ecarts!C228=\"\",\"\",Ecarts!C228),\"\")","v":""},{"$f":"IF( Ecarts!$E228=$A$1, IF(Ecarts!F228=\"\",\"\",Ecarts!F228),\"\")","v":""},{"$f":"IF( Ecarts!$E228=$A$1, IF(Ecarts!I228=\"\",\"\",Ecarts!I228),\"\")","v":""},{"$f":"IF( Ecarts!$E228=$A$1, IF(Ecarts!J228=\"\",\"\",Ecarts!J228),\"\")","v":""},{"$f":"IF( Ecarts!$E228=$A$1, IF(Ecarts!K228=\"\",\"\",Ecarts!K228),\"\")","v":""},{"$f":"IF( Ecarts!$E228=$A$1, IF(Ecarts!L228=\"\",\"\",Ecarts!L228),\"\")","v":""},{"$f":"IF( Ecarts!$E228=$A$1, IF(Ecarts!M228=\"\",\"\",Ecarts!M228),\"\")","v":""},0,0]
[{"$f":"IF( Ecarts!$E229=$A$1,IF( Ecarts!B229=\"\",\"\",Ecarts!A229),\"\")","v":""},{"$f":"IF( Ecarts!$E229=$A$1,IF( Ecarts!C229=\"\",\"\",Ecarts!C229),\"\")","v":""},{"$f":"IF( Ecarts!$E229=$A$1, IF(Ecarts!F229=\"\",\"\",Ecarts!F229),\"\")","v":""},{"$f":"IF( Ecarts!$E229=$A$1, IF(Ecarts!I229=\"\",\"\",Ecarts!I229),\"\")","v":""},{"$f":"IF( Ecarts!$E229=$A$1, IF(Ecarts!J229=\"\",\"\",Ecarts!J229),\"\")","v":""},{"$f":"IF( Ecarts!$E229=$A$1, IF(Ecarts!K229=\"\",\"\",Ecarts!K229),\"\")","v":""},{"$f":"IF( Ecarts!$E229=$A$1, IF(Ecarts!L229=\"\",\"\",Ecarts!L229),\"\")","v":""},{"$f":"IF( Ecarts!$E229=$A$1, IF(Ecarts!M229=\"\",\"\",Ecarts!M229),\"\")","v":""},0,0]
[{"$f":"IF( Ecarts!$E230=$A$1,IF( Ecarts!B230=\"\",\"\",Ecarts!A230),\"\")","v":""},{"$f":"IF( Ecarts!$E230=$A$1,IF( Ecarts!C230=\"\",\"\",Ecarts!C230),\"\")","v":""},{"$f":"IF( Ecarts!$E230=$A$1, IF(Ecarts!F230=\"\",\"\",Ecarts!F230),\"\")","v":""},{"$f":"IF( Ecarts!$E230=$A$1, IF(Ecarts!I230=\"\",\"\",Ecarts!I230),\"\")","v":""},{"$f":"IF( Ecarts!$E230=$A$1, IF(Ecarts!J230=\"\",\"\",Ecarts!J230),\"\")","v":""},{"$f":"IF( Ecarts!$E230=$A$1, IF(Ecarts!K230=\"\",\"\",Ecarts!K230),\"\")","v":""},{"$f":"IF( Ecarts!$E230=$A$1, IF(Ecarts!L230=\"\",\"\",Ecarts!L230),\"\")","v":""},{"$f":"IF( Ecarts!$E230=$A$1, IF(Ecarts!M230=\"\",\"\",Ecarts!M230),\"\")","v":""},0,0]
[{"$f":"IF( Ecarts!$E231=$A$1,IF( Ecarts!B231=\"\",\"\",Ecarts!A231),\"\")","v":""},{"$f":"IF( Ecarts!$E231=$A$1,IF( Ecarts!C231=\"\",\"\",Ecarts!C231),\"\")","v":""},{"$f":"IF( Ecarts!$E231=$A$1, IF(Ecarts!F231=\"\",\"\",Ecarts!F231),\"\")","v":""},{"$f":"IF( Ecarts!$E231=$A$1, IF(Ecarts!I231=\"\",\"\",Ecarts!I231),\"\")","v":""},{"$f":"IF( Ecarts!$E231=$A$1, IF(Ecarts!J231=\"\",\"\",Ecarts!J231),\"\")","v":""},{"$f":"IF( Ecarts!$E231=$A$1, IF(Ecarts!K231=\"\",\"\",Ecarts!K231),\"\")","v":""},{"$f":"IF( Ecarts!$E231=$A$1, IF(Ecarts!L231=\"\",\"\",Ecarts!L231),\"\")","v":""},{"$f":"IF( Ecarts!$E231=$A$1, IF(Ecarts!M231=\"\",\"\",Ecarts!M231),\"\")","v":""},0,0]
[{"$f":"IF( Ecarts!$E232=$A$1,IF( Ecarts!B232=\"\",\"\",Ecarts!A232),\"\")","v":""},{"$f":"IF( Ecarts!$E232=$A$1,IF( Ecarts!C232=\"\",\"\",Ecarts!C232),\"\")","v":""},{"$f":"IF( Ecarts!$E232=$A$1, IF(Ecarts!F232=\"\",\"\",Ecarts!F232),\"\")","v":""},{"$f":"IF( Ecarts!$E232=$A$1, IF(Ecarts!I232=\"\",\"\",Ecarts!I232),\"\")","v":""},{"$f":"IF( Ecarts!$E232=$A$1, IF(Ecarts!J232=\"\",\"\",Ecarts!J232),\"\")","v":""},{"$f":"IF( Ecarts!$E232=$A$1, IF(Ecarts!K232=\"\",\"\",Ecarts!K232),\"\")","v":""},{"$f":"IF( Ecarts!$E232=$A$1, IF(Ecarts!L232=\"\",\"\",Ecarts!L232),\"\")","v":""},{"$f":"IF( Ecarts!$E232=$A$1, IF(Ecarts!M232=\"\",\"\",Ecarts!M232),\"\")","v":""},0,0]
[{"$f":"IF( Ecarts!$E233=$A$1,IF( Ecarts!B233=\"\",\"\",Ecarts!A233),\"\")","v":""},{"$f":"IF( Ecarts!$E233=$A$1,IF( Ecarts!C233=\"\",\"\",Ecarts!C233),\"\")","v":""},{"$f":"IF( Ecarts!$E233=$A$1, IF(Ecarts!F233=\"\",\"\",Ecarts!F233),\"\")","v":""},{"$f":"IF( Ecarts!$E233=$A$1, IF(Ecarts!I233=\"\",\"\",Ecarts!I233),\"\")","v":""},{"$f":"IF( Ecarts!$E233=$A$1, IF(Ecarts!J233=\"\",\"\",Ecarts!J233),\"\")","v":""},{"$f":"IF( Ecarts!$E233=$A$1, IF(Ecarts!K233=\"\",\"\",Ecarts!K233),\"\")","v":""},{"$f":"IF( Ecarts!$E233=$A$1, IF(Ecarts!L233=\"\",\"\",Ecarts!L233),\"\")","v":""},{"$f":"IF( Ecarts!$E233=$A$1, IF(Ecarts!M233=\"\",\"\",Ecarts!M233),\"\")","v":""},0,0]
[{"$f":"IF( Ecarts!$E234=$A$1,IF( Ecarts!B234=\"\",\"\",Ecarts!A234),\"\")","v":""},{"$f":"IF( Ecarts!$E234=$A$1,IF( Ecarts!C234=\"\",\"\",Ecarts!C234),\"\")","v":""},{"$f":"IF( Ecarts!$E234=$A$1, IF(Ecarts!F234=\"\",\"\",Ecarts!F234),\"\")","v":""},{"$f":"IF( Ecarts!$E234=$A$1, IF(Ecarts!I234=\"\",\"\",Ecarts!I234),\"\")","v":""},{"$f":"IF( Ecarts!$E234=$A$1, IF(Ecarts!J234=\"\",\"\",Ecarts!J234),\"\")","v":""},{"$f":"IF( Ecarts!$E234=$A$1, IF(Ecarts!K234=\"\",\"\",Ecarts!K234),\"\")","v":""},{"$f":"IF( Ecarts!$E234=$A$1, IF(Ecarts!L234=\"\",\"\",Ecarts!L234),\"\")","v":""},{"$f":"IF( Ecarts!$E234=$A$1, IF(Ecarts!M234=\"\",\"\",Ecarts!M234),\"\")","v":""},0,0]
[{"$f":"IF( Ecarts!$E235=$A$1,IF( Ecarts!B235=\"\",\"\",Ecarts!A235),\"\")","v":""},{"$f":"IF( Ecarts!$E235=$A$1,IF( Ecarts!C235=\"\",\"\",Ecarts!C235),\"\")","v":""},{"$f":"IF( Ecarts!$E235=$A$1, IF(Ecarts!F235=\"\",\"\",Ecarts!F235),\"\")","v":""},{"$f":"IF( Ecarts!$E235=$A$1, IF(Ecarts!I235=\"\",\"\",Ecarts!I235),\"\")","v":""},{"$f":"IF( Ecarts!$E235=$A$1, IF(Ecarts!J235=\"\",\"\",Ecarts!J235),\"\")","v":""},{"$f":"IF( Ecarts!$E235=$A$1, IF(Ecarts!K235=\"\",\"\",Ecarts!K235),\"\")","v":""},{"$f":"IF( Ecarts!$E235=$A$1, IF(Ecarts!L235=\"\",\"\",Ecarts!L235),\"\")","v":""},{"$f":"IF( Ecarts!$E235=$A$1, IF(Ecarts!M235=\"\",\"\",Ecarts!M235),\"\")","v":""},0,0]
[{"$f":"IF( Ecarts!$E236=$A$1,IF( Ecarts!B236=\"\",\"\",Ecarts!A236),\"\")","v":""},{"$f":"IF( Ecarts!$E236=$A$1,IF( Ecarts!C236=\"\",\"\",Ecarts!C236),\"\")","v":""},{"$f":"IF( Ecarts!$E236=$A$1, IF(Ecarts!F236=\"\",\"\",Ecarts!F236),\"\")","v":""},{"$f":"IF( Ecarts!$E236=$A$1, IF(Ecarts!I236=\"\",\"\",Ecarts!I236),\"\")","v":""},{"$f":"IF( Ecarts!$E236=$A$1, IF(Ecarts!J236=\"\",\"\",Ecarts!J236),\"\")","v":""},{"$f":"IF( Ecarts!$E236=$A$1, IF(Ecarts!K236=\"\",\"\",Ecarts!K236),\"\")","v":""},{"$f":"IF( Ecarts!$E236=$A$1, IF(Ecarts!L236=\"\",\"\",Ecarts!L236),\"\")","v":""},{"$f":"IF( Ecarts!$E236=$A$1, IF(Ecarts!M236=\"\",\"\",Ecarts!M236),\"\")","v":""},0,0]
[{"$f":"IF( Ecarts!$E237=$A$1,IF( Ecarts!B237=\"\",\"\",Ecarts!A237),\"\")","v":""},{"$f":"IF( Ecarts!$E237=$A$1,IF( Ecarts!C237=\"\",\"\",Ecarts!C237),\"\")","v":""},{"$f":"IF( Ecarts!$E237=$A$1, IF(Ecarts!F237=\"\",\"\",Ecarts!F237),\"\")","v":""},{"$f":"IF( Ecarts!$E237=$A$1, IF(Ecarts!I237=\"\",\"\",Ecarts!I237),\"\")","v":""},{"$f":"IF( Ecarts!$E237=$A$1, IF(Ecarts!J237=\"\",\"\",Ecarts!J237),\"\")","v":""},{"$f":"IF( Ecarts!$E237=$A$1, IF(Ecarts!K237=\"\",\"\",Ecarts!K237),\"\")","v":""},{"$f":"IF( Ecarts!$E237=$A$1, IF(Ecarts!L237=\"\",\"\",Ecarts!L237),\"\")","v":""},{"$f":"IF( Ecarts!$E237=$A$1, IF(Ecarts!M237=\"\",\"\",Ecarts!M237),\"\")","v":""},0,0]
[{"$f":"IF( Ecarts!$E238=$A$1,IF( Ecarts!B238=\"\",\"\",Ecarts!A238),\"\")","v":""},{"$f":"IF( Ecarts!$E238=$A$1,IF( Ecarts!C238=\"\",\"\",Ecarts!C238),\"\")","v":""},{"$f":"IF( Ecarts!$E238=$A$1, IF(Ecarts!F238=\"\",\"\",Ecarts!F238),\"\")","v":""},{"$f":"IF( Ecarts!$E238=$A$1, IF(Ecarts!I238=\"\",\"\",Ecarts!I238),\"\")","v":""},{"$f":"IF( Ecarts!$E238=$A$1, IF(Ecarts!J238=\"\",\"\",Ecarts!J238),\"\")","v":""},{"$f":"IF( Ecarts!$E238=$A$1, IF(Ecarts!K238=\"\",\"\",Ecarts!K238),\"\")","v":""},{"$f":"IF( Ecarts!$E238=$A$1, IF(Ecarts!L238=\"\",\"\",Ecarts!L238),\"\")","v":""},{"$f":"IF( Ecarts!$E238=$A$1, IF(Ecarts!M238=\"\",\"\",Ecarts!M238),\"\")","v":""},0,0]
[{"$f":"IF( Ecarts!$E239=$A$1,IF( Ecarts!B239=\"\",\"\",Ecarts!A239),\"\")","v":""},{"$f":"IF( Ecarts!$E239=$A$1,IF( Ecarts!C239=\"\",\"\",Ecarts!C239),\"\")","v":""},{"$f":"IF( Ecarts!$E239=$A$1, IF(Ecarts!F239=\"\",\"\",Ecarts!F239),\"\")","v":""},{"$f":"IF( Ecarts!$E239=$A$1, IF(Ecarts!I239=\"\",\"\",Ecarts!I239),\"\")","v":""},{"$f":"IF( Ecarts!$E239=$A$1, IF(Ecarts!J239=\"\",\"\",Ecarts!J239),\"\")","v":""},{"$f":"IF( Ecarts!$E239=$A$1, IF(Ecarts!K239=\"\",\"\",Ecarts!K239),\"\")","v":""},{"$f":"IF( Ecarts!$E239=$A$1, IF(Ecarts!L239=\"\",\"\",Ecarts!L239),\"\")","v":""},{"$f":"IF( Ecarts!$E239=$A$1, IF(Ecarts!M239=\"\",\"\",Ecarts!M239),\"\")","v":""},0,0]
[{"$f":"IF( Ecarts!$E240=$A$1,IF( Ecarts!B240=\"\",\"\",Ecarts!A240),\"\")","v":""},{"$f":"IF( Ecarts!$E240=$A$1,IF( Ecarts!C240=\"\",\"\",Ecarts!C240),\"\")","v":""},{"$f":"IF( Ecarts!$E240=$A$1, IF(Ecarts!F240=\"\",\"\",Ecarts!F240),\"\")","v":""},{"$f":"IF( Ecarts!$E240=$A$1, IF(Ecarts!I240=\"\",\"\",Ecarts!I240),\"\")","v":""},{"$f":"IF( Ecarts!$E240=$A$1, IF(Ecarts!J240=\"\",\"\",Ecarts!J240),\"\")","v":""},{"$f":"IF( Ecarts!$E240=$A$1, IF(Ecarts!K240=\"\",\"\",Ecarts!K240),\"\")","v":""},{"$f":"IF( Ecarts!$E240=$A$1, IF(Ecarts!L240=\"\",\"\",Ecarts!L240),\"\")","v":""},{"$f":"IF( Ecarts!$E240=$A$1, IF(Ecarts!M240=\"\",\"\",Ecarts!M240),\"\")","v":""},0,0]
[{"$f":"IF( Ecarts!$E241=$A$1,IF( Ecarts!B241=\"\",\"\",Ecarts!A241),\"\")","v":""},{"$f":"IF( Ecarts!$E241=$A$1,IF( Ecarts!C241=\"\",\"\",Ecarts!C241),\"\")","v":""},{"$f":"IF( Ecarts!$E241=$A$1, IF(Ecarts!F241=\"\",\"\",Ecarts!F241),\"\")","v":""},{"$f":"IF( Ecarts!$E241=$A$1, IF(Ecarts!I241=\"\",\"\",Ecarts!I241),\"\")","v":""},{"$f":"IF( Ecarts!$E241=$A$1, IF(Ecarts!J241=\"\",\"\",Ecarts!J241),\"\")","v":""},{"$f":"IF( Ecarts!$E241=$A$1, IF(Ecarts!K241=\"\",\"\",Ecarts!K241),\"\")","v":""},{"$f":"IF( Ecarts!$E241=$A$1, IF(Ecarts!L241=\"\",\"\",Ecarts!L241),\"\")","v":""},{"$f":"IF( Ecarts!$E241=$A$1, IF(Ecarts!M241=\"\",\"\",Ecarts!M241),\"\")","v":""},0,0]
[{"$f":"IF( Ecarts!$E242=$A$1,IF( Ecarts!B242=\"\",\"\",Ecarts!A242),\"\")","v":""},{"$f":"IF( Ecarts!$E242=$A$1,IF( Ecarts!C242=\"\",\"\",Ecarts!C242),\"\")","v":""},{"$f":"IF( Ecarts!$E242=$A$1, IF(Ecarts!F242=\"\",\"\",Ecarts!F242),\"\")","v":""},{"$f":"IF( Ecarts!$E242=$A$1, IF(Ecarts!I242=\"\",\"\",Ecarts!I242),\"\")","v":""},{"$f":"IF( Ecarts!$E242=$A$1, IF(Ecarts!J242=\"\",\"\",Ecarts!J242),\"\")","v":""},{"$f":"IF( Ecarts!$E242=$A$1, IF(Ecarts!K242=\"\",\"\",Ecarts!K242),\"\")","v":""},{"$f":"IF( Ecarts!$E242=$A$1, IF(Ecarts!L242=\"\",\"\",Ecarts!L242),\"\")","v":""},{"$f":"IF( Ecarts!$E242=$A$1, IF(Ecarts!M242=\"\",\"\",Ecarts!M242),\"\")","v":""},0,0]
[{"$f":"IF( Ecarts!$E243=$A$1,IF( Ecarts!B243=\"\",\"\",Ecarts!A243),\"\")","v":""},{"$f":"IF( Ecarts!$E243=$A$1,IF( Ecarts!C243=\"\",\"\",Ecarts!C243),\"\")","v":""},{"$f":"IF( Ecarts!$E243=$A$1, IF(Ecarts!F243=\"\",\"\",Ecarts!F243),\"\")","v":""},{"$f":"IF( Ecarts!$E243=$A$1, IF(Ecarts!I243=\"\",\"\",Ecarts!I243),\"\")","v":""},{"$f":"IF( Ecarts!$E243=$A$1, IF(Ecarts!J243=\"\",\"\",Ecarts!J243),\"\")","v":""},{"$f":"IF( Ecarts!$E243=$A$1, IF(Ecarts!K243=\"\",\"\",Ecarts!K243),\"\")","v":""},{"$f":"IF( Ecarts!$E243=$A$1, IF(Ecarts!L243=\"\",\"\",Ecarts!L243),\"\")","v":""},{"$f":"IF( Ecarts!$E243=$A$1, IF(Ecarts!M243=\"\",\"\",Ecarts!M243),\"\")","v":""},0,0]
[{"$f":"IF( Ecarts!$E244=$A$1,IF( Ecarts!B244=\"\",\"\",Ecarts!A244),\"\")","v":""},{"$f":"IF( Ecarts!$E244=$A$1,IF( Ecarts!C244=\"\",\"\",Ecarts!C244),\"\")","v":""},{"$f":"IF( Ecarts!$E244=$A$1, IF(Ecarts!F244=\"\",\"\",Ecarts!F244),\"\")","v":""},{"$f":"IF( Ecarts!$E244=$A$1, IF(Ecarts!I244=\"\",\"\",Ecarts!I244),\"\")","v":""},{"$f":"IF( Ecarts!$E244=$A$1, IF(Ecarts!J244=\"\",\"\",Ecarts!J244),\"\")","v":""},{"$f":"IF( Ecarts!$E244=$A$1, IF(Ecarts!K244=\"\",\"\",Ecarts!K244),\"\")","v":""},{"$f":"IF( Ecarts!$E244=$A$1, IF(Ecarts!L244=\"\",\"\",Ecarts!L244),\"\")","v":""},{"$f":"IF( Ecarts!$E244=$A$1, IF(Ecarts!M244=\"\",\"\",Ecarts!M244),\"\")","v":""},0,0]
[{"$f":"IF( Ecarts!$E245=$A$1,IF( Ecarts!B245=\"\",\"\",Ecarts!A245),\"\")","v":""},{"$f":"IF( Ecarts!$E245=$A$1,IF( Ecarts!C245=\"\",\"\",Ecarts!C245),\"\")","v":""},{"$f":"IF( Ecarts!$E245=$A$1, IF(Ecarts!F245=\"\",\"\",Ecarts!F245),\"\")","v":""},{"$f":"IF( Ecarts!$E245=$A$1, IF(Ecarts!I245=\"\",\"\",Ecarts!I245),\"\")","v":""},{"$f":"IF( Ecarts!$E245=$A$1, IF(Ecarts!J245=\"\",\"\",Ecarts!J245),\"\")","v":""},{"$f":"IF( Ecarts!$E245=$A$1, IF(Ecarts!K245=\"\",\"\",Ecarts!K245),\"\")","v":""},{"$f":"IF( Ecarts!$E245=$A$1, IF(Ecarts!L245=\"\",\"\",Ecarts!L245),\"\")","v":""},{"$f":"IF( Ecarts!$E245=$A$1, IF(Ecarts!M245=\"\",\"\",Ecarts!M245),\"\")","v":""},0,0]
[{"$f":"IF( Ecarts!$E246=$A$1,IF( Ecarts!B246=\"\",\"\",Ecarts!A246),\"\")","v":""},{"$f":"IF( Ecarts!$E246=$A$1,IF( Ecarts!C246=\"\",\"\",Ecarts!C246),\"\")","v":""},{"$f":"IF( Ecarts!$E246=$A$1, IF(Ecarts!F246=\"\",\"\",Ecarts!F246),\"\")","v":""},{"$f":"IF( Ecarts!$E246=$A$1, IF(Ecarts!I246=\"\",\"\",Ecarts!I246),\"\")","v":""},{"$f":"IF( Ecarts!$E246=$A$1, IF(Ecarts!J246=\"\",\"\",Ecarts!J246),\"\")","v":""},{"$f":"IF( Ecarts!$E246=$A$1, IF(Ecarts!K246=\"\",\"\",Ecarts!K246),\"\")","v":""},{"$f":"IF( Ecarts!$E246=$A$1, IF(Ecarts!L246=\"\",\"\",Ecarts!L246),\"\")","v":""},{"$f":"IF( Ecarts!$E246=$A$1, IF(Ecarts!M246=\"\",\"\",Ecarts!M246),\"\")","v":""},0,0]
[{"$f":"IF( Ecarts!$E247=$A$1,IF( Ecarts!B247=\"\",\"\",Ecarts!A247),\"\")","v":""},{"$f":"IF( Ecarts!$E247=$A$1,IF( Ecarts!C247=\"\",\"\",Ecarts!C247),\"\")","v":""},{"$f":"IF( Ecarts!$E247=$A$1, IF(Ecarts!F247=\"\",\"\",Ecarts!F247),\"\")","v":""},{"$f":"IF( Ecarts!$E247=$A$1, IF(Ecarts!I247=\"\",\"\",Ecarts!I247),\"\")","v":""},{"$f":"IF( Ecarts!$E247=$A$1, IF(Ecarts!J247=\"\",\"\",Ecarts!J247),\"\")","v":""},{"$f":"IF( Ecarts!$E247=$A$1, IF(Ecarts!K247=\"\",\"\",Ecarts!K247),\"\")","v":""},{"$f":"IF( Ecarts!$E247=$A$1, IF(Ecarts!L247=\"\",\"\",Ecarts!L247),\"\")","v":""},{"$f":"IF( Ecarts!$E247=$A$1, IF(Ecarts!M247=\"\",\"\",Ecarts!M247),\"\")","v":""},0,0]
[{"$f":"IF( Ecarts!$E248=$A$1,IF( Ecarts!B248=\"\",\"\",Ecarts!A248),\"\")","v":""},{"$f":"IF( Ecarts!$E248=$A$1,IF( Ecarts!C248=\"\",\"\",Ecarts!C248),\"\")","v":""},{"$f":"IF( Ecarts!$E248=$A$1, IF(Ecarts!F248=\"\",\"\",Ecarts!F248),\"\")","v":""},{"$f":"IF( Ecarts!$E248=$A$1, IF(Ecarts!I248=\"\",\"\",Ecarts!I248),\"\")","v":""},{"$f":"IF( Ecarts!$E248=$A$1, IF(Ecarts!J248=\"\",\"\",Ecarts!J248),\"\")","v":""},{"$f":"IF( Ecarts!$E248=$A$1, IF(Ecarts!K248=\"\",\"\",Ecarts!K248),\"\")","v":""},{"$f":"IF( Ecarts!$E248=$A$1, IF(Ecarts!L248=\"\",\"\",Ecarts!L248),\"\")","v":""},{"$f":"IF( Ecarts!$E248=$A$1, IF(Ecarts!M248=\"\",\"\",Ecarts!M248),\"\")","v":""},0,0]
[{"$f":"IF( Ecarts!$E249=$A$1,IF( Ecarts!B249=\"\",\"\",Ecarts!A249),\"\")","v":""},{"$f":"IF( Ecarts!$E249=$A$1,IF( Ecarts!C249=\"\",\"\",Ecarts!C249),\"\")","v":""},{"$f":"IF( Ecarts!$E249=$A$1, IF(Ecarts!F249=\"\",\"\",Ecarts!F249),\"\")","v":""},{"$f":"IF( Ecarts!$E249=$A$1, IF(Ecarts!I249=\"\",\"\",Ecarts!I249),\"\")","v":""},{"$f":"IF( Ecarts!$E249=$A$1, IF(Ecarts!J249=\"\",\"\",Ecarts!J249),\"\")","v":""},{"$f":"IF( Ecarts!$E249=$A$1, IF(Ecarts!K249=\"\",\"\",Ecarts!K249),\"\")","v":""},{"$f":"IF( Ecarts!$E249=$A$1, IF(Ecarts!L249=\"\",\"\",Ecarts!L249),\"\")","v":""},{"$f":"IF( Ecarts!$E249=$A$1, IF(Ecarts!M249=\"\",\"\",Ecarts!M249),\"\")","v":""},0,0]
[{"$f":"IF( Ecarts!$E250=$A$1,IF( Ecarts!B250=\"\",\"\",Ecarts!A250),\"\")","v":""},{"$f":"IF( Ecarts!$E250=$A$1,IF( Ecarts!C250=\"\",\"\",Ecarts!C250),\"\")","v":""},{"$f":"IF( Ecarts!$E250=$A$1, IF(Ecarts!F250=\"\",\"\",Ecarts!F250),\"\")","v":""},{"$f":"IF( Ecarts!$E250=$A$1, IF(Ecarts!I250=\"\",\"\",Ecarts!I250),\"\")","v":""},{"$f":"IF( Ecarts!$E250=$A$1, IF(Ecarts!J250=\"\",\"\",Ecarts!J250),\"\")","v":""},{"$f":"IF( Ecarts!$E250=$A$1, IF(Ecarts!K250=\"\",\"\",Ecarts!K250),\"\")","v":""},{"$f":"IF( Ecarts!$E250=$A$1, IF(Ecarts!L250=\"\",\"\",Ecarts!L250),\"\")","v":""},{"$f":"IF( Ecarts!$E250=$A$1, IF(Ecarts!M250=\"\",\"\",Ecarts!M250),\"\")","v":""},0,0]
[{"$f":"IF( Ecarts!$E251=$A$1,IF( Ecarts!B251=\"\",\"\",Ecarts!A251),\"\")","v":""},{"$f":"IF( Ecarts!$E251=$A$1,IF( Ecarts!C251=\"\",\"\",Ecarts!C251),\"\")","v":""},{"$f":"IF( Ecarts!$E251=$A$1, IF(Ecarts!F251=\"\",\"\",Ecarts!F251),\"\")","v":""},{"$f":"IF( Ecarts!$E251=$A$1, IF(Ecarts!I251=\"\",\"\",Ecarts!I251),\"\")","v":""},{"$f":"IF( Ecarts!$E251=$A$1, IF(Ecarts!J251=\"\",\"\",Ecarts!J251),\"\")","v":""},{"$f":"IF( Ecarts!$E251=$A$1, IF(Ecarts!K251=\"\",\"\",Ecarts!K251),\"\")","v":""},{"$f":"IF( Ecarts!$E251=$A$1, IF(Ecarts!L251=\"\",\"\",Ecarts!L251),\"\")","v":""},{"$f":"IF( Ecarts!$E251=$A$1, IF(Ecarts!M251=\"\",\"\",Ecarts!M251),\"\")","v":""},0,0]
[{"$f":"IF( Ecarts!$E252=$A$1,IF( Ecarts!B252=\"\",\"\",Ecarts!A252),\"\")","v":""},{"$f":"IF( Ecarts!$E252=$A$1,IF( Ecarts!C252=\"\",\"\",Ecarts!C252),\"\")","v":""},{"$f":"IF( Ecarts!$E252=$A$1, IF(Ecarts!F252=\"\",\"\",Ecarts!F252),\"\")","v":""},{"$f":"IF( Ecarts!$E252=$A$1, IF(Ecarts!I252=\"\",\"\",Ecarts!I252),\"\")","v":""},{"$f":"IF( Ecarts!$E252=$A$1, IF(Ecarts!J252=\"\",\"\",Ecarts!J252),\"\")","v":""},{"$f":"IF( Ecarts!$E252=$A$1, IF(Ecarts!K252=\"\",\"\",Ecarts!K252),\"\")","v":""},{"$f":"IF( Ecarts!$E252=$A$1, IF(Ecarts!L252=\"\",\"\",Ecarts!L252),\"\")","v":""},{"$f":"IF( Ecarts!$E252=$A$1, IF(Ecarts!M252=\"\",\"\",Ecarts!M252),\"\")","v":""},0,0]
[{"$f":"IF( Ecarts!$E253=$A$1,IF( Ecarts!B253=\"\",\"\",Ecarts!A253),\"\")","v":""},{"$f":"IF( Ecarts!$E253=$A$1,IF( Ecarts!C253=\"\",\"\",Ecarts!C253),\"\")","v":""},{"$f":"IF( Ecarts!$E253=$A$1, IF(Ecarts!F253=\"\",\"\",Ecarts!F253),\"\")","v":""},{"$f":"IF( Ecarts!$E253=$A$1, IF(Ecarts!I253=\"\",\"\",Ecarts!I253),\"\")","v":""},{"$f":"IF( Ecarts!$E253=$A$1, IF(Ecarts!J253=\"\",\"\",Ecarts!J253),\"\")","v":""},{"$f":"IF( Ecarts!$E253=$A$1, IF(Ecarts!K253=\"\",\"\",Ecarts!K253),\"\")","v":""},{"$f":"IF( Ecarts!$E253=$A$1, IF(Ecarts!L253=\"\",\"\",Ecarts!L253),\"\")","v":""},{"$f":"IF( Ecarts!$E253=$A$1, IF(Ecarts!M253=\"\",\"\",Ecarts!M253),\"\")","v":""},0,0]
[{"$f":"IF( Ecarts!$E254=$A$1,IF( Ecarts!B254=\"\",\"\",Ecarts!A254),\"\")","v":""},{"$f":"IF( Ecarts!$E254=$A$1,IF( Ecarts!C254=\"\",\"\",Ecarts!C254),\"\")","v":""},{"$f":"IF( Ecarts!$E254=$A$1, IF(Ecarts!F254=\"\",\"\",Ecarts!F254),\"\")","v":""},{"$f":"IF( Ecarts!$E254=$A$1, IF(Ecarts!I254=\"\",\"\",Ecarts!I254),\"\")","v":""},{"$f":"IF( Ecarts!$E254=$A$1, IF(Ecarts!J254=\"\",\"\",Ecarts!J254),\"\")","v":""},{"$f":"IF( Ecarts!$E254=$A$1, IF(Ecarts!K254=\"\",\"\",Ecarts!K254),\"\")","v":""},{"$f":"IF( Ecarts!$E254=$A$1, IF(Ecarts!L254=\"\",\"\",Ecarts!L254),\"\")","v":""},{"$f":"IF( Ecarts!$E254=$A$1, IF(Ecarts!M254=\"\",\"\",Ecarts!M254),\"\")","v":""},0,0]
[{"$f":"IF( Ecarts!$E255=$A$1,IF( Ecarts!B255=\"\",\"\",Ecarts!A255),\"\")","v":""},{"$f":"IF( Ecarts!$E255=$A$1,IF( Ecarts!C255=\"\",\"\",Ecarts!C255),\"\")","v":""},{"$f":"IF( Ecarts!$E255=$A$1, IF(Ecarts!F255=\"\",\"\",Ecarts!F255),\"\")","v":""},{"$f":"IF( Ecarts!$E255=$A$1, IF(Ecarts!I255=\"\",\"\",Ecarts!I255),\"\")","v":""},{"$f":"IF( Ecarts!$E255=$A$1, IF(Ecarts!J255=\"\",\"\",Ecarts!J255),\"\")","v":""},{"$f":"IF( Ecarts!$E255=$A$1, IF(Ecarts!K255=\"\",\"\",Ecarts!K255),\"\")","v":""},{"$f":"IF( Ecarts!$E255=$A$1, IF(Ecarts!L255=\"\",\"\",Ecarts!L255),\"\")","v":""},{"$f":"IF( Ecarts!$E255=$A$1, IF(Ecarts!M255=\"\",\"\",Ecarts!M255),\"\")","v":""},0,0]
[{"$f":"IF( Ecarts!$E256=$A$1,IF( Ecarts!B256=\"\",\"\",Ecarts!A256),\"\")","v":""},{"$f":"IF( Ecarts!$E256=$A$1,IF( Ecarts!C256=\"\",\"\",Ecarts!C256),\"\")","v":""},{"$f":"IF( Ecarts!$E256=$A$1, IF(Ecarts!F256=\"\",\"\",Ecarts!F256),\"\")","v":""},{"$f":"IF( Ecarts!$E256=$A$1, IF(Ecarts!I256=\"\",\"\",Ecarts!I256),\"\")","v":""},{"$f":"IF( Ecarts!$E256=$A$1, IF(Ecarts!J256=\"\",\"\",Ecarts!J256),\"\")","v":""},{"$f":"IF( Ecarts!$E256=$A$1, IF(Ecarts!K256=\"\",\"\",Ecarts!K256),\"\")","v":""},{"$f":"IF( Ecarts!$E256=$A$1, IF(Ecarts!L256=\"\",\"\",Ecarts!L256),\"\")","v":""},{"$f":"IF( Ecarts!$E256=$A$1, IF(Ecarts!M256=\"\",\"\",Ecarts!M256),\"\")","v":""},0,0]
[{"$f":"IF( Ecarts!$E257=$A$1,IF( Ecarts!B257=\"\",\"\",Ecarts!A257),\"\")","v":""},{"$f":"IF( Ecarts!$E257=$A$1,IF( Ecarts!C257=\"\",\"\",Ecarts!C257),\"\")","v":""},{"$f":"IF( Ecarts!$E257=$A$1, IF(Ecarts!F257=\"\",\"\",Ecarts!F257),\"\")","v":""},{"$f":"IF( Ecarts!$E257=$A$1, IF(Ecarts!I257=\"\",\"\",Ecarts!I257),\"\")","v":""},{"$f":"IF( Ecarts!$E257=$A$1, IF(Ecarts!J257=\"\",\"\",Ecarts!J257),\"\")","v":""},{"$f":"IF( Ecarts!$E257=$A$1, IF(Ecarts!K257=\"\",\"\",Ecarts!K257),\"\")","v":""},{"$f":"IF( Ecarts!$E257=$A$1, IF(Ecarts!L257=\"\",\"\",Ecarts!L257),\"\")","v":""},{"$f":"IF( Ecarts!$E257=$A$1, IF(Ecarts!M257=\"\",\"\",Ecarts!M257),\"\")","v":""},0,0]
[{"$f":"IF( Ecarts!$E258=$A$1,IF( Ecarts!B258=\"\",\"\",Ecarts!A258),\"\")","v":""},{"$f":"IF( Ecarts!$E258=$A$1,IF( Ecarts!C258=\"\",\"\",Ecarts!C258),\"\")","v":""},{"$f":"IF( Ecarts!$E258=$A$1, IF(Ecarts!F258=\"\",\"\",Ecarts!F258),\"\")","v":""},{"$f":"IF( Ecarts!$E258=$A$1, IF(Ecarts!I258=\"\",\"\",Ecarts!I258),\"\")","v":""},{"$f":"IF( Ecarts!$E258=$A$1, IF(Ecarts!J258=\"\",\"\",Ecarts!J258),\"\")","v":""},{"$f":"IF( Ecarts!$E258=$A$1, IF(Ecarts!K258=\"\",\"\",Ecarts!K258),\"\")","v":""},{"$f":"IF( Ecarts!$E258=$A$1, IF(Ecarts!L258=\"\",\"\",Ecarts!L258),\"\")","v":""},{"$f":"IF( Ecarts!$E258=$A$1, IF(Ecarts!M258=\"\",\"\",Ecarts!M258),\"\")","v":""},0,0]
[{"$f":"IF( Ecarts!$E259=$A$1,IF( Ecarts!B259=\"\",\"\",Ecarts!A259),\"\")","v":""},{"$f":"IF( Ecarts!$E259=$A$1,IF( Ecarts!C259=\"\",\"\",Ecarts!C259),\"\")","v":""},{"$f":"IF( Ecarts!$E259=$A$1, IF(Ecarts!F259=\"\",\"\",Ecarts!F259),\"\")","v":""},{"$f":"IF( Ecarts!$E259=$A$1, IF(Ecarts!I259=\"\",\"\",Ecarts!I259),\"\")","v":""},{"$f":"IF( Ecarts!$E259=$A$1, IF(Ecarts!J259=\"\",\"\",Ecarts!J259),\"\")","v":""},{"$f":"IF( Ecarts!$E259=$A$1, IF(Ecarts!K259=\"\",\"\",Ecarts!K259),\"\")","v":""},{"$f":"IF( Ecarts!$E259=$A$1, IF(Ecarts!L259=\"\",\"\",Ecarts!L259),\"\")","v":""},{"$f":"IF( Ecarts!$E259=$A$1, IF(Ecarts!M259=\"\",\"\",Ecarts!M259),\"\")","v":""},0,0]
[{"$f":"IF( Ecarts!$E260=$A$1,IF( Ecarts!B260=\"\",\"\",Ecarts!A260),\"\")","v":""},{"$f":"IF( Ecarts!$E260=$A$1,IF( Ecarts!C260=\"\",\"\",Ecarts!C260),\"\")","v":""},{"$f":"IF( Ecarts!$E260=$A$1, IF(Ecarts!F260=\"\",\"\",Ecarts!F260),\"\")","v":""},{"$f":"IF( Ecarts!$E260=$A$1, IF(Ecarts!I260=\"\",\"\",Ecarts!I260),\"\")","v":""},{"$f":"IF( Ecarts!$E260=$A$1, IF(Ecarts!J260=\"\",\"\",Ecarts!J260),\"\")","v":""},{"$f":"IF( Ecarts!$E260=$A$1, IF(Ecarts!K260=\"\",\"\",Ecarts!K260),\"\")","v":""},{"$f":"IF( Ecarts!$E260=$A$1, IF(Ecarts!L260=\"\",\"\",Ecarts!L260),\"\")","v":""},{"$f":"IF( Ecarts!$E260=$A$1, IF(Ecarts!M260=\"\",\"\",Ecarts!M260),\"\")","v":""},{"$f":"IF(B261=\"\",0,IF(G261=1,0,1))","v":0},{"$f":"IF(F261=\"\",0,IF(F261>(TODAY()-60),1,0))","v":0}]
[{"$f":"IF( Ecarts!$E261=$A$1,IF( Ecarts!B261=\"\",\"\",Ecarts!A261),\"\")","v":""},{"$f":"IF( Ecarts!$E261=$A$1,IF( Ecarts!C261=\"\",\"\",Ecarts!C261),\"\")","v":""},{"$f":"IF( Ecarts!$E261=$A$1, IF(Ecarts!F261=\"\",\"\",Ecarts!F261),\"\")","v":""},{"$f":"IF( Ecarts!$E261=$A$1, IF(Ecarts!I261=\"\",\"\",Ecarts!I261),\"\")","v":""},{"$f":"IF( Ecarts!$E261=$A$1, IF(Ecarts!J261=\"\",\"\",Ecarts!J261),\"\")","v":""},{"$f":"IF( Ecarts!$E261=$A$1, IF(Ecarts!K261=\"\",\"\",Ecarts!K261),\"\")","v":""},{"$f":"IF( Ecarts!$E261=$A$1, IF(Ecarts!L261=\"\",\"\",Ecarts!L261),\"\")","v":""},{"$f":"IF( Ecarts!$E261=$A$1, IF(Ecarts!M261=\"\",\"\",Ecarts!M261),\"\")","v":""},0,0]
[{"$f":"IF( Ecarts!$E262=$A$1,IF( Ecarts!B262=\"\",\"\",Ecarts!A262),\"\")","v":""},{"$f":"IF( Ecarts!$E262=$A$1,IF( Ecarts!C262=\"\",\"\",Ecarts!C262),\"\")","v":""},{"$f":"IF( Ecarts!$E262=$A$1, IF(Ecarts!F262=\"\",\"\",Ecarts!F262),\"\")","v":""},{"$f":"IF( Ecarts!$E262=$A$1, IF(Ecarts!I262=\"\",\"\",Ecarts!I262),\"\")","v":""},{"$f":"IF( Ecarts!$E262=$A$1, IF(Ecarts!J262=\"\",\"\",Ecarts!J262),\"\")","v":""},{"$f":"IF( Ecarts!$E262=$A$1, IF(Ecarts!K262=\"\",\"\",Ecarts!K262),\"\")","v":""},{"$f":"IF( Ecarts!$E262=$A$1, IF(Ecarts!L262=\"\",\"\",Ecarts!L262),\"\")","v":""},{"$f":"IF( Ecarts!$E262=$A$1, IF(Ecarts!M262=\"\",\"\",Ecarts!M262),\"\")","v":""},0,0]
[{"$f":"IF( Ecarts!$E263=$A$1,IF( Ecarts!B263=\"\",\"\",Ecarts!A263),\"\")","v":""},{"$f":"IF( Ecarts!$E263=$A$1,IF( Ecarts!C263=\"\",\"\",Ecarts!C263),\"\")","v":""},{"$f":"IF( Ecarts!$E263=$A$1, IF(Ecarts!F263=\"\",\"\",Ecarts!F263),\"\")","v":""},{"$f":"IF( Ecarts!$E263=$A$1, IF(Ecarts!I263=\"\",\"\",Ecarts!I263),\"\")","v":""},{"$f":"IF( Ecarts!$E263=$A$1, IF(Ecarts!J263=\"\",\"\",Ecarts!J263),\"\")","v":""},{"$f":"IF( Ecarts!$E263=$A$1, IF(Ecarts!K263=\"\",\"\",Ecarts!K263),\"\")","v":""},{"$f":"IF( Ecarts!$E263=$A$1, IF(Ecarts!L263=\"\",\"\",Ecarts!L263),\"\")","v":""},{"$f":"IF( Ecarts!$E263=$A$1, IF(Ecarts!M263=\"\",\"\",Ecarts!M263),\"\")","v":""},0,0]
[{"$f":"IF( Ecarts!$E264=$A$1,IF( Ecarts!B264=\"\",\"\",Ecarts!A264),\"\")","v":""},{"$f":"IF( Ecarts!$E264=$A$1,IF( Ecarts!C264=\"\",\"\",Ecarts!C264),\"\")","v":""},{"$f":"IF( Ecarts!$E264=$A$1, IF(Ecarts!F264=\"\",\"\",Ecarts!F264),\"\")","v":""},{"$f":"IF( Ecarts!$E264=$A$1, IF(Ecarts!I264=\"\",\"\",Ecarts!I264),\"\")","v":""},{"$f":"IF( Ecarts!$E264=$A$1, IF(Ecarts!J264=\"\",\"\",Ecarts!J264),\"\")","v":""},{"$f":"IF( Ecarts!$E264=$A$1, IF(Ecarts!K264=\"\",\"\",Ecarts!K264),\"\")","v":""},{"$f":"IF( Ecarts!$E264=$A$1, IF(Ecarts!L264=\"\",\"\",Ecarts!L264),\"\")","v":""},{"$f":"IF( Ecarts!$E264=$A$1, IF(Ecarts!M264=\"\",\"\",Ecarts!M264),\"\")","v":""},0,0]
[{"$f":"IF( Ecarts!$E265=$A$1,IF( Ecarts!B265=\"\",\"\",Ecarts!A265),\"\")","v":""},{"$f":"IF( Ecarts!$E265=$A$1,IF( Ecarts!C265=\"\",\"\",Ecarts!C265),\"\")","v":""},{"$f":"IF( Ecarts!$E265=$A$1, IF(Ecarts!F265=\"\",\"\",Ecarts!F265),\"\")","v":""},{"$f":"IF( Ecarts!$E265=$A$1, IF(Ecarts!I265=\"\",\"\",Ecarts!I265),\"\")","v":""},{"$f":"IF( Ecarts!$E265=$A$1, IF(Ecarts!J265=\"\",\"\",Ecarts!J265),\"\")","v":""},{"$f":"IF( Ecarts!$E265=$A$1, IF(Ecarts!K265=\"\",\"\",Ecarts!K265),\"\")","v":""},{"$f":"IF( Ecarts!$E265=$A$1, IF(Ecarts!L265=\"\",\"\",Ecarts!L265),\"\")","v":""},{"$f":"IF( Ecarts!$E265=$A$1, IF(Ecarts!M265=\"\",\"\",Ecarts!M265),\"\")","v":""},0,0]
[{"$f":"IF( Ecarts!$E266=$A$1,IF( Ecarts!B266=\"\",\"\",Ecarts!A266),\"\")","v":""},{"$f":"IF( Ecarts!$E266=$A$1,IF( Ecarts!C266=\"\",\"\",Ecarts!C266),\"\")","v":""},{"$f":"IF( Ecarts!$E266=$A$1, IF(Ecarts!F266=\"\",\"\",Ecarts!F266),\"\")","v":""},{"$f":"IF( Ecarts!$E266=$A$1, IF(Ecarts!I266=\"\",\"\",Ecarts!I266),\"\")","v":""},{"$f":"IF( Ecarts!$E266=$A$1, IF(Ecarts!J266=\"\",\"\",Ecarts!J266),\"\")","v":""},{"$f":"IF( Ecarts!$E266=$A$1, IF(Ecarts!K266=\"\",\"\",Ecarts!K266),\"\")","v":""},{"$f":"IF( Ecarts!$E266=$A$1, IF(Ecarts!L266=\"\",\"\",Ecarts!L266),\"\")","v":""},{"$f":"IF( Ecarts!$E266=$A$1, IF(Ecarts!M266=\"\",\"\",Ecarts!M266),\"\")","v":""},0,0]
[{"$f":"IF( Ecarts!$E267=$A$1,IF( Ecarts!B267=\"\",\"\",Ecarts!A267),\"\")","v":""},{"$f":"IF( Ecarts!$E267=$A$1,IF( Ecarts!C267=\"\",\"\",Ecarts!C267),\"\")","v":""},{"$f":"IF( Ecarts!$E267=$A$1, IF(Ecarts!F267=\"\",\"\",Ecarts!F267),\"\")","v":""},{"$f":"IF( Ecarts!$E267=$A$1, IF(Ecarts!I267=\"\",\"\",Ecarts!I267),\"\")","v":""},{"$f":"IF( Ecarts!$E267=$A$1, IF(Ecarts!J267=\"\",\"\",Ecarts!J267),\"\")","v":""},{"$f":"IF( Ecarts!$E267=$A$1, IF(Ecarts!K267=\"\",\"\",Ecarts!K267),\"\")","v":""},{"$f":"IF( Ecarts!$E267=$A$1, IF(Ecarts!L267=\"\",\"\",Ecarts!L267),\"\")","v":""},{"$f":"IF( Ecarts!$E267=$A$1, IF(Ecarts!M267=\"\",\"\",Ecarts!M267),\"\")","v":""},0,0]
[{"$f":"IF( Ecarts!$E268=$A$1,IF( Ecarts!B268=\"\",\"\",Ecarts!A268),\"\")","v":""},{"$f":"IF( Ecarts!$E268=$A$1,IF( Ecarts!C268=\"\",\"\",Ecarts!C268),\"\")","v":""},{"$f":"IF( Ecarts!$E268=$A$1, IF(Ecarts!F268=\"\",\"\",Ecarts!F268),\"\")","v":""},{"$f":"IF( Ecarts!$E268=$A$1, IF(Ecarts!I268=\"\",\"\",Ecarts!I268),\"\")","v":""},{"$f":"IF( Ecarts!$E268=$A$1, IF(Ecarts!J268=\"\",\"\",Ecarts!J268),\"\")","v":""},{"$f":"IF( Ecarts!$E268=$A$1, IF(Ecarts!K268=\"\",\"\",Ecarts!K268),\"\")","v":""},{"$f":"IF( Ecarts!$E268=$A$1, IF(Ecarts!L268=\"\",\"\",Ecarts!L268),\"\")","v":""},{"$f":"IF( Ecarts!$E268=$A$1, IF(Ecarts!M268=\"\",\"\",Ecarts!M268),\"\")","v":""},0,0]
[{"$f":"IF( Ecarts!$E269=$A$1,IF( Ecarts!B269=\"\",\"\",Ecarts!A269),\"\")","v":""},{"$f":"IF( Ecarts!$E269=$A$1,IF( Ecarts!C269=\"\",\"\",Ecarts!C269),\"\")","v":""},{"$f":"IF( Ecarts!$E269=$A$1, IF(Ecarts!F269=\"\",\"\",Ecarts!F269),\"\")","v":""},{"$f":"IF( Ecarts!$E269=$A$1, IF(Ecarts!I269=\"\",\"\",Ecarts!I269),\"\")","v":""},{"$f":"IF( Ecarts!$E269=$A$1, IF(Ecarts!J269=\"\",\"\",Ecarts!J269),\"\")","v":""},{"$f":"IF( Ecarts!$E269=$A$1, IF(Ecarts!K269=\"\",\"\",Ecarts!K269),\"\")","v":""},{"$f":"IF( Ecarts!$E269=$A$1, IF(Ecarts!L269=\"\",\"\",Ecarts!L269),\"\")","v":""},{"$f":"IF( Ecarts!$E269=$A$1, IF(Ecarts!M269=\"\",\"\",Ecarts!M269),\"\")","v":""},0,0]
[{"$f":"IF( Ecarts!$E270=$A$1,IF( Ecarts!B270=\"\",\"\",Ecarts!A270),\"\")","v":""},{"$f":"IF( Ecarts!$E270=$A$1,IF( Ecarts!C270=\"\",\"\",Ecarts!C270),\"\")","v":""},{"$f":"IF( Ecarts!$E270=$A$1, IF(Ecarts!F270=\"\",\"\",Ecarts!F270),\"\")","v":""},{"$f":"IF( Ecarts!$E270=$A$1, IF(Ecarts!I270=\"\",\"\",Ecarts!I270),\"\")","v":""},{"$f":"IF( Ecarts!$E270=$A$1, IF(Ecarts!J270=\"\",\"\",Ecarts!J270),\"\")","v":""},{"$f":"IF( Ecarts!$E270=$A$1, IF(Ecarts!K270=\"\",\"\",Ecarts!K270),\"\")","v":""},{"$f":"IF( Ecarts!$E270=$A$1, IF(Ecarts!L270=\"\",\"\",Ecarts!L270),\"\")","v":""},{"$f":"IF( Ecarts!$E270=$A$1, IF(Ecarts!M270=\"\",\"\",Ecarts!M270),\"\")","v":""},0,0]
[{"$f":"IF( Ecarts!$E271=$A$1,IF( Ecarts!B271=\"\",\"\",Ecarts!A271),\"\")","v":""},{"$f":"IF( Ecarts!$E271=$A$1,IF( Ecarts!C271=\"\",\"\",Ecarts!C271),\"\")","v":""},{"$f":"IF( Ecarts!$E271=$A$1, IF(Ecarts!F271=\"\",\"\",Ecarts!F271),\"\")","v":""},{"$f":"IF( Ecarts!$E271=$A$1, IF(Ecarts!I271=\"\",\"\",Ecarts!I271),\"\")","v":""},{"$f":"IF( Ecarts!$E271=$A$1, IF(Ecarts!J271=\"\",\"\",Ecarts!J271),\"\")","v":""},{"$f":"IF( Ecarts!$E271=$A$1, IF(Ecarts!K271=\"\",\"\",Ecarts!K271),\"\")","v":""},{"$f":"IF( Ecarts!$E271=$A$1, IF(Ecarts!L271=\"\",\"\",Ecarts!L271),\"\")","v":""},{"$f":"IF( Ecarts!$E271=$A$1, IF(Ecarts!M271=\"\",\"\",Ecarts!M271),\"\")","v":""},0,0]
[{"$f":"IF( Ecarts!$E272=$A$1,IF( Ecarts!B272=\"\",\"\",Ecarts!A272),\"\")","v":""},{"$f":"IF( Ecarts!$E272=$A$1,IF( Ecarts!C272=\"\",\"\",Ecarts!C272),\"\")","v":""},{"$f":"IF( Ecarts!$E272=$A$1, IF(Ecarts!F272=\"\",\"\",Ecarts!F272),\"\")","v":""},{"$f":"IF( Ecarts!$E272=$A$1, IF(Ecarts!I272=\"\",\"\",Ecarts!I272),\"\")","v":""},{"$f":"IF( Ecarts!$E272=$A$1, IF(Ecarts!J272=\"\",\"\",Ecarts!J272),\"\")","v":""},{"$f":"IF( Ecarts!$E272=$A$1, IF(Ecarts!K272=\"\",\"\",Ecarts!K272),\"\")","v":""},{"$f":"IF( Ecarts!$E272=$A$1, IF(Ecarts!L272=\"\",\"\",Ecarts!L272),\"\")","v":""},{"$f":"IF( Ecarts!$E272=$A$1, IF(Ecarts!M272=\"\",\"\",Ecarts!M272),\"\")","v":""},0,0]
[{"$f":"IF( Ecarts!$E273=$A$1,IF( Ecarts!B273=\"\",\"\",Ecarts!A273),\"\")","v":""},{"$f":"IF( Ecarts!$E273=$A$1,IF( Ecarts!C273=\"\",\"\",Ecarts!C273),\"\")","v":""},{"$f":"IF( Ecarts!$E273=$A$1, IF(Ecarts!F273=\"\",\"\",Ecarts!F273),\"\")","v":""},{"$f":"IF( Ecarts!$E273=$A$1, IF(Ecarts!I273=\"\",\"\",Ecarts!I273),\"\")","v":""},{"$f":"IF( Ecarts!$E273=$A$1, IF(Ecarts!J273=\"\",\"\",Ecarts!J273),\"\")","v":""},{"$f":"IF( Ecarts!$E273=$A$1, IF(Ecarts!K273=\"\",\"\",Ecarts!K273),\"\")","v":""},{"$f":"IF( Ecarts!$E273=$A$1, IF(Ecarts!L273=\"\",\"\",Ecarts!L273),\"\")","v":""},{"$f":"IF( Ecarts!$E273=$A$1, IF(Ecarts!M273=\"\",\"\",Ecarts!M273),\"\")","v":""},0,0]
[{"$f":"IF( Ecarts!$E274=$A$1,IF( Ecarts!B274=\"\",\"\",Ecarts!A274),\"\")","v":""},{"$f":"IF( Ecarts!$E274=$A$1,IF( Ecarts!C274=\"\",\"\",Ecarts!C274),\"\")","v":""},{"$f":"IF( Ecarts!$E274=$A$1, IF(Ecarts!F274=\"\",\"\",Ecarts!F274),\"\")","v":""},{"$f":"IF( Ecarts!$E274=$A$1, IF(Ecarts!I274=\"\",\"\",Ecarts!I274),\"\")","v":""},{"$f":"IF( Ecarts!$E274=$A$1, IF(Ecarts!J274=\"\",\"\",Ecarts!J274),\"\")","v":""},{"$f":"IF( Ecarts!$E274=$A$1, IF(Ecarts!K274=\"\",\"\",Ecarts!K274),\"\")","v":""},{"$f":"IF( Ecarts!$E274=$A$1, IF(Ecarts!L274=\"\",\"\",Ecarts!L274),\"\")","v":""},{"$f":"IF( Ecarts!$E274=$A$1, IF(Ecarts!M274=\"\",\"\",Ecarts!M274),\"\")","v":""},0,0]
[{"$f":"IF( Ecarts!$E275=$A$1,IF( Ecarts!B275=\"\",\"\",Ecarts!A275),\"\")","v":""},{"$f":"IF( Ecarts!$E275=$A$1,IF( Ecarts!C275=\"\",\"\",Ecarts!C275),\"\")","v":""},{"$f":"IF( Ecarts!$E275=$A$1, IF(Ecarts!F275=\"\",\"\",Ecarts!F275),\"\")","v":""},{"$f":"IF( Ecarts!$E275=$A$1, IF(Ecarts!I275=\"\",\"\",Ecarts!I275),\"\")","v":""},{"$f":"IF( Ecarts!$E275=$A$1, IF(Ecarts!J275=\"\",\"\",Ecarts!J275),\"\")","v":""},{"$f":"IF( Ecarts!$E275=$A$1, IF(Ecarts!K275=\"\",\"\",Ecarts!K275),\"\")","v":""},{"$f":"IF( Ecarts!$E275=$A$1, IF(Ecarts!L275=\"\",\"\",Ecarts!L275),\"\")","v":""},{"$f":"IF( Ecarts!$E275=$A$1, IF(Ecarts!M275=\"\",\"\",Ecarts!M275),\"\")","v":""},0,0]
[{"$f":"IF( Ecarts!$E276=$A$1,IF( Ecarts!B276=\"\",\"\",Ecarts!A276),\"\")","v":""},{"$f":"IF( Ecarts!$E276=$A$1,IF( Ecarts!C276=\"\",\"\",Ecarts!C276),\"\")","v":""},{"$f":"IF( Ecarts!$E276=$A$1, IF(Ecarts!F276=\"\",\"\",Ecarts!F276),\"\")","v":""},{"$f":"IF( Ecarts!$E276=$A$1, IF(Ecarts!I276=\"\",\"\",Ecarts!I276),\"\")","v":""},{"$f":"IF( Ecarts!$E276=$A$1, IF(Ecarts!J276=\"\",\"\",Ecarts!J276),\"\")","v":""},{"$f":"IF( Ecarts!$E276=$A$1, IF(Ecarts!K276=\"\",\"\",Ecarts!K276),\"\")","v":""},{"$f":"IF( Ecarts!$E276=$A$1, IF(Ecarts!L276=\"\",\"\",Ecarts!L276),\"\")","v":""},{"$f":"IF( Ecarts!$E276=$A$1, IF(Ecarts!M276=\"\",\"\",Ecarts!M276),\"\")","v":""},0,0]
[{"$f":"IF( Ecarts!$E277=$A$1,IF( Ecarts!B277=\"\",\"\",Ecarts!A277),\"\")","v":""},{"$f":"IF( Ecarts!$E277=$A$1,IF( Ecarts!C277=\"\",\"\",Ecarts!C277),\"\")","v":""},{"$f":"IF( Ecarts!$E277=$A$1, IF(Ecarts!F277=\"\",\"\",Ecarts!F277),\"\")","v":""},{"$f":"IF( Ecarts!$E277=$A$1, IF(Ecarts!I277=\"\",\"\",Ecarts!I277),\"\")","v":""},{"$f":"IF( Ecarts!$E277=$A$1, IF(Ecarts!J277=\"\",\"\",Ecarts!J277),\"\")","v":""},{"$f":"IF( Ecarts!$E277=$A$1, IF(Ecarts!K277=\"\",\"\",Ecarts!K277),\"\")","v":""},{"$f":"IF( Ecarts!$E277=$A$1, IF(Ecarts!L277=\"\",\"\",Ecarts!L277),\"\")","v":""},{"$f":"IF( Ecarts!$E277=$A$1, IF(Ecarts!M277=\"\",\"\",Ecarts!M277),\"\")","v":""},0,0]
[{"$f":"IF( Ecarts!$E278=$A$1,IF( Ecarts!B278=\"\",\"\",Ecarts!A278),\"\")","v":""},{"$f":"IF( Ecarts!$E278=$A$1,IF( Ecarts!C278=\"\",\"\",Ecarts!C278),\"\")","v":""},{"$f":"IF( Ecarts!$E278=$A$1, IF(Ecarts!F278=\"\",\"\",Ecarts!F278),\"\")","v":""},{"$f":"IF( Ecarts!$E278=$A$1, IF(Ecarts!I278=\"\",\"\",Ecarts!I278),\"\")","v":""},{"$f":"IF( Ecarts!$E278=$A$1, IF(Ecarts!J278=\"\",\"\",Ecarts!J278),\"\")","v":""},{"$f":"IF( Ecarts!$E278=$A$1, IF(Ecarts!K278=\"\",\"\",Ecarts!K278),\"\")","v":""},{"$f":"IF( Ecarts!$E278=$A$1, IF(Ecarts!L278=\"\",\"\",Ecarts!L278),\"\")","v":""},{"$f":"IF( Ecarts!$E278=$A$1, IF(Ecarts!M278=\"\",\"\",Ecarts!M278),\"\")","v":""},0,0]
[{"$f":"IF( Ecarts!$E279=$A$1,IF( Ecarts!B279=\"\",\"\",Ecarts!A279),\"\")","v":""},{"$f":"IF( Ecarts!$E279=$A$1,IF( Ecarts!C279=\"\",\"\",Ecarts!C279),\"\")","v":""},{"$f":"IF( Ecarts!$E279=$A$1, IF(Ecarts!F279=\"\",\"\",Ecarts!F279),\"\")","v":""},{"$f":"IF( Ecarts!$E279=$A$1, IF(Ecarts!I279=\"\",\"\",Ecarts!I279),\"\")","v":""},{"$f":"IF( Ecarts!$E279=$A$1, IF(Ecarts!J279=\"\",\"\",Ecarts!J279),\"\")","v":""},{"$f":"IF( Ecarts!$E279=$A$1, IF(Ecarts!K279=\"\",\"\",Ecarts!K279),\"\")","v":""},{"$f":"IF( Ecarts!$E279=$A$1, IF(Ecarts!L279=\"\",\"\",Ecarts!L279),\"\")","v":""},{"$f":"IF( Ecarts!$E279=$A$1, IF(Ecarts!M279=\"\",\"\",Ecarts!M279),\"\")","v":""},0,0]
[{"$f":"IF( Ecarts!$E280=$A$1,IF( Ecarts!B280=\"\",\"\",Ecarts!A280),\"\")","v":""},{"$f":"IF( Ecarts!$E280=$A$1,IF( Ecarts!C280=\"\",\"\",Ecarts!C280),\"\")","v":""},{"$f":"IF( Ecarts!$E280=$A$1, IF(Ecarts!F280=\"\",\"\",Ecarts!F280),\"\")","v":""},{"$f":"IF( Ecarts!$E280=$A$1, IF(Ecarts!I280=\"\",\"\",Ecarts!I280),\"\")","v":""},{"$f":"IF( Ecarts!$E280=$A$1, IF(Ecarts!J280=\"\",\"\",Ecarts!J280),\"\")","v":""},{"$f":"IF( Ecarts!$E280=$A$1, IF(Ecarts!K280=\"\",\"\",Ecarts!K280),\"\")","v":""},{"$f":"IF( Ecarts!$E280=$A$1, IF(Ecarts!L280=\"\",\"\",Ecarts!L280),\"\")","v":""},{"$f":"IF( Ecarts!$E280=$A$1, IF(Ecarts!M280=\"\",\"\",Ecarts!M280),\"\")","v":""},0,0]
[{"$f":"IF( Ecarts!$E281=$A$1,IF( Ecarts!B281=\"\",\"\",Ecarts!A281),\"\")","v":""},{"$f":"IF( Ecarts!$E281=$A$1,IF( Ecarts!C281=\"\",\"\",Ecarts!C281),\"\")","v":""},{"$f":"IF( Ecarts!$E281=$A$1, IF(Ecarts!F281=\"\",\"\",Ecarts!F281),\"\")","v":""},{"$f":"IF( Ecarts!$E281=$A$1, IF(Ecarts!I281=\"\",\"\",Ecarts!I281),\"\")","v":""},{"$f":"IF( Ecarts!$E281=$A$1, IF(Ecarts!J281=\"\",\"\",Ecarts!J281),\"\")","v":""},{"$f":"IF( Ecarts!$E281=$A$1, IF(Ecarts!K281=\"\",\"\",Ecarts!K281),\"\")","v":""},{"$f":"IF( Ecarts!$E281=$A$1, IF(Ecarts!L281=\"\",\"\",Ecarts!L281),\"\")","v":""},{"$f":"IF( Ecarts!$E281=$A$1, IF(Ecarts!M281=\"\",\"\",Ecarts!M281),\"\")","v":""},0,0]
[{"$f":"IF( Ecarts!$E282=$A$1,IF( Ecarts!B282=\"\",\"\",Ecarts!A282),\"\")","v":""},{"$f":"IF( Ecarts!$E282=$A$1,IF( Ecarts!C282=\"\",\"\",Ecarts!C282),\"\")","v":""},{"$f":"IF( Ecarts!$E282=$A$1, IF(Ecarts!F282=\"\",\"\",Ecarts!F282),\"\")","v":""},{"$f":"IF( Ecarts!$E282=$A$1, IF(Ecarts!I282=\"\",\"\",Ecarts!I282),\"\")","v":""},{"$f":"IF( Ecarts!$E282=$A$1, IF(Ecarts!J282=\"\",\"\",Ecarts!J282),\"\")","v":""},{"$f":"IF( Ecarts!$E282=$A$1, IF(Ecarts!K282=\"\",\"\",Ecarts!K282),\"\")","v":""},{"$f":"IF( Ecarts!$E282=$A$1, IF(Ecarts!L282=\"\",\"\",Ecarts!L282),\"\")","v":""},{"$f":"IF( Ecarts!$E282=$A$1, IF(Ecarts!M282=\"\",\"\",Ecarts!M282),\"\")","v":""},0,0]
[{"$f":"IF( Ecarts!$E283=$A$1,IF( Ecarts!B283=\"\",\"\",Ecarts!A283),\"\")","v":""},{"$f":"IF( Ecarts!$E283=$A$1,IF( Ecarts!C283=\"\",\"\",Ecarts!C283),\"\")","v":""},{"$f":"IF( Ecarts!$E283=$A$1, IF(Ecarts!F283=\"\",\"\",Ecarts!F283),\"\")","v":""},{"$f":"IF( Ecarts!$E283=$A$1, IF(Ecarts!I283=\"\",\"\",Ecarts!I283),\"\")","v":""},{"$f":"IF( Ecarts!$E283=$A$1, IF(Ecarts!J283=\"\",\"\",Ecarts!J283),\"\")","v":""},{"$f":"IF( Ecarts!$E283=$A$1, IF(Ecarts!K283=\"\",\"\",Ecarts!K283),\"\")","v":""},{"$f":"IF( Ecarts!$E283=$A$1, IF(Ecarts!L283=\"\",\"\",Ecarts!L283),\"\")","v":""},{"$f":"IF( Ecarts!$E283=$A$1, IF(Ecarts!M283=\"\",\"\",Ecarts!M283),\"\")","v":""},0,0]
[{"$f":"IF( Ecarts!$E284=$A$1,IF( Ecarts!B284=\"\",\"\",Ecarts!A284),\"\")","v":""},{"$f":"IF( Ecarts!$E284=$A$1,IF( Ecarts!C284=\"\",\"\",Ecarts!C284),\"\")","v":""},{"$f":"IF( Ecarts!$E284=$A$1, IF(Ecarts!F284=\"\",\"\",Ecarts!F284),\"\")","v":""},{"$f":"IF( Ecarts!$E284=$A$1, IF(Ecarts!I284=\"\",\"\",Ecarts!I284),\"\")","v":""},{"$f":"IF( Ecarts!$E284=$A$1, IF(Ecarts!J284=\"\",\"\",Ecarts!J284),\"\")","v":""},{"$f":"IF( Ecarts!$E284=$A$1, IF(Ecarts!K284=\"\",\"\",Ecarts!K284),\"\")","v":""},{"$f":"IF( Ecarts!$E284=$A$1, IF(Ecarts!L284=\"\",\"\",Ecarts!L284),\"\")","v":""},{"$f":"IF( Ecarts!$E284=$A$1, IF(Ecarts!M284=\"\",\"\",Ecarts!M284),\"\")","v":""},0,0]
[{"$f":"IF( Ecarts!$E285=$A$1,IF( Ecarts!B285=\"\",\"\",Ecarts!A285),\"\")","v":""},{"$f":"IF( Ecarts!$E285=$A$1,IF( Ecarts!C285=\"\",\"\",Ecarts!C285),\"\")","v":""},{"$f":"IF( Ecarts!$E285=$A$1, IF(Ecarts!F285=\"\",\"\",Ecarts!F285),\"\")","v":""},{"$f":"IF( Ecarts!$E285=$A$1, IF(Ecarts!I285=\"\",\"\",Ecarts!I285),\"\")","v":""},{"$f":"IF( Ecarts!$E285=$A$1, IF(Ecarts!J285=\"\",\"\",Ecarts!J285),\"\")","v":""},{"$f":"IF( Ecarts!$E285=$A$1, IF(Ecarts!K285=\"\",\"\",Ecarts!K285),\"\")","v":""},{"$f":"IF( Ecarts!$E285=$A$1, IF(Ecarts!L285=\"\",\"\",Ecarts!L285),\"\")","v":""},{"$f":"IF( Ecarts!$E285=$A$1, IF(Ecarts!M285=\"\",\"\",Ecarts!M285),\"\")","v":""},0,0]
[{"$f":"IF( Ecarts!$E286=$A$1,IF( Ecarts!B286=\"\",\"\",Ecarts!A286),\"\")","v":""},{"$f":"IF( Ecarts!$E286=$A$1,IF( Ecarts!C286=\"\",\"\",Ecarts!C286),\"\")","v":""},{"$f":"IF( Ecarts!$E286=$A$1, IF(Ecarts!F286=\"\",\"\",Ecarts!F286),\"\")","v":""},{"$f":"IF( Ecarts!$E286=$A$1, IF(Ecarts!I286=\"\",\"\",Ecarts!I286),\"\")","v":""},{"$f":"IF( Ecarts!$E286=$A$1, IF(Ecarts!J286=\"\",\"\",Ecarts!J286),\"\")","v":""},{"$f":"IF( Ecarts!$E286=$A$1, IF(Ecarts!K286=\"\",\"\",Ecarts!K286),\"\")","v":""},{"$f":"IF( Ecarts!$E286=$A$1, IF(Ecarts!L286=\"\",\"\",Ecarts!L286),\"\")","v":""},{"$f":"IF( Ecarts!$E286=$A$1, IF(Ecarts!M286=\"\",\"\",Ecarts!M286),\"\")","v":""},0,0]
[{"$f":"IF( Ecarts!$E287=$A$1,IF( Ecarts!B287=\"\",\"\",Ecarts!A287),\"\")","v":""},{"$f":"IF( Ecarts!$E287=$A$1,IF( Ecarts!C287=\"\",\"\",Ecarts!C287),\"\")","v":""},{"$f":"IF( Ecarts!$E287=$A$1, IF(Ecarts!F287=\"\",\"\",Ecarts!F287),\"\")","v":""},{"$f":"IF( Ecarts!$E287=$A$1, IF(Ecarts!I287=\"\",\"\",Ecarts!I287),\"\")","v":""},{"$f":"IF( Ecarts!$E287=$A$1, IF(Ecarts!J287=\"\",\"\",Ecarts!J287),\"\")","v":""},{"$f":"IF( Ecarts!$E287=$A$1, IF(Ecarts!K287=\"\",\"\",Ecarts!K287),\"\")","v":""},{"$f":"IF( Ecarts!$E287=$A$1, IF(Ecarts!L287=\"\",\"\",Ecarts!L287),\"\")","v":""},{"$f":"IF( Ecarts!$E287=$A$1, IF(Ecarts!M287=\"\",\"\",Ecarts!M287),\"\")","v":""},0,0]
[{"$f":"IF( Ecarts!$E288=$A$1,IF( Ecarts!B288=\"\",\"\",Ecarts!A288),\"\")","v":""},{"$f":"IF( Ecarts!$E288=$A$1,IF( Ecarts!C288=\"\",\"\",Ecarts!C288),\"\")","v":""},{"$f":"IF( Ecarts!$E288=$A$1, IF(Ecarts!F288=\"\",\"\",Ecarts!F288),\"\")","v":""},{"$f":"IF( Ecarts!$E288=$A$1, IF(Ecarts!I288=\"\",\"\",Ecarts!I288),\"\")","v":""},{"$f":"IF( Ecarts!$E288=$A$1, IF(Ecarts!J288=\"\",\"\",Ecarts!J288),\"\")","v":""},{"$f":"IF( Ecarts!$E288=$A$1, IF(Ecarts!K288=\"\",\"\",Ecarts!K288),\"\")","v":""},{"$f":"IF( Ecarts!$E288=$A$1, IF(Ecarts!L288=\"\",\"\",Ecarts!L288),\"\")","v":""},{"$f":"IF( Ecarts!$E288=$A$1, IF(Ecarts!M288=\"\",\"\",Ecarts!M288),\"\")","v":""},0,0]
[{"$f":"IF( Ecarts!$E289=$A$1,IF( Ecarts!B289=\"\",\"\",Ecarts!A289),\"\")","v":""},{"$f":"IF( Ecarts!$E289=$A$1,IF( Ecarts!C289=\"\",\"\",Ecarts!C289),\"\")","v":""},{"$f":"IF( Ecarts!$E289=$A$1, IF(Ecarts!F289=\"\",\"\",Ecarts!F289),\"\")","v":""},{"$f":"IF( Ecarts!$E289=$A$1, IF(Ecarts!I289=\"\",\"\",Ecarts!I289),\"\")","v":""},{"$f":"IF( Ecarts!$E289=$A$1, IF(Ecarts!J289=\"\",\"\",Ecarts!J289),\"\")","v":""},{"$f":"IF( Ecarts!$E289=$A$1, IF(Ecarts!K289=\"\",\"\",Ecarts!K289),\"\")","v":""},{"$f":"IF( Ecarts!$E289=$A$1, IF(Ecarts!L289=\"\",\"\",Ecarts!L289),\"\")","v":""},{"$f":"IF( Ecarts!$E289=$A$1, IF(Ecarts!M289=\"\",\"\",Ecarts!M289),\"\")","v":""},0,0]
[{"$f":"IF( Ecarts!$E290=$A$1,IF( Ecarts!B290=\"\",\"\",Ecarts!A290),\"\")","v":""},{"$f":"IF( Ecarts!$E290=$A$1,IF( Ecarts!C290=\"\",\"\",Ecarts!C290),\"\")","v":""},{"$f":"IF( Ecarts!$E290=$A$1, IF(Ecarts!F290=\"\",\"\",Ecarts!F290),\"\")","v":""},{"$f":"IF( Ecarts!$E290=$A$1, IF(Ecarts!I290=\"\",\"\",Ecarts!I290),\"\")","v":""},{"$f":"IF( Ecarts!$E290=$A$1, IF(Ecarts!J290=\"\",\"\",Ecarts!J290),\"\")","v":""},{"$f":"IF( Ecarts!$E290=$A$1, IF(Ecarts!K290=\"\",\"\",Ecarts!K290),\"\")","v":""},{"$f":"IF( Ecarts!$E290=$A$1, IF(Ecarts!L290=\"\",\"\",Ecarts!L290),\"\")","v":""},{"$f":"IF( Ecarts!$E290=$A$1, IF(Ecarts!M290=\"\",\"\",Ecarts!M290),\"\")","v":""},0,0]
[{"$f":"IF( Ecarts!$E291=$A$1,IF( Ecarts!B291=\"\",\"\",Ecarts!A291),\"\")","v":""},{"$f":"IF( Ecarts!$E291=$A$1,IF( Ecarts!C291=\"\",\"\",Ecarts!C291),\"\")","v":""},{"$f":"IF( Ecarts!$E291=$A$1, IF(Ecarts!F291=\"\",\"\",Ecarts!F291),\"\")","v":""},{"$f":"IF( Ecarts!$E291=$A$1, IF(Ecarts!I291=\"\",\"\",Ecarts!I291),\"\")","v":""},{"$f":"IF( Ecarts!$E291=$A$1, IF(Ecarts!J291=\"\",\"\",Ecarts!J291),\"\")","v":""},{"$f":"IF( Ecarts!$E291=$A$1, IF(Ecarts!K291=\"\",\"\",Ecarts!K291),\"\")","v":""},{"$f":"IF( Ecarts!$E291=$A$1, IF(Ecarts!L291=\"\",\"\",Ecarts!L291),\"\")","v":""},{"$f":"IF( Ecarts!$E291=$A$1, IF(Ecarts!M291=\"\",\"\",Ecarts!M291),\"\")","v":""},0,0]
[{"$f":"IF( Ecarts!$E292=$A$1,IF( Ecarts!B292=\"\",\"\",Ecarts!A292),\"\")","v":""},{"$f":"IF( Ecarts!$E292=$A$1,IF( Ecarts!C292=\"\",\"\",Ecarts!C292),\"\")","v":""},{"$f":"IF( Ecarts!$E292=$A$1, IF(Ecarts!F292=\"\",\"\",Ecarts!F292),\"\")","v":""},{"$f":"IF( Ecarts!$E292=$A$1, IF(Ecarts!I292=\"\",\"\",Ecarts!I292),\"\")","v":""},{"$f":"IF( Ecarts!$E292=$A$1, IF(Ecarts!J292=\"\",\"\",Ecarts!J292),\"\")","v":""},{"$f":"IF( Ecarts!$E292=$A$1, IF(Ecarts!K292=\"\",\"\",Ecarts!K292),\"\")","v":""},{"$f":"IF( Ecarts!$E292=$A$1, IF(Ecarts!L292=\"\",\"\",Ecarts!L292),\"\")","v":""},{"$f":"IF( Ecarts!$E292=$A$1, IF(Ecarts!M292=\"\",\"\",Ecarts!M292),\"\")","v":""},0,0]
[{"$f":"IF( Ecarts!$E293=$A$1,IF( Ecarts!B293=\"\",\"\",Ecarts!A293),\"\")","v":""},{"$f":"IF( Ecarts!$E293=$A$1,IF( Ecarts!C293=\"\",\"\",Ecarts!C293),\"\")","v":""},{"$f":"IF( Ecarts!$E293=$A$1, IF(Ecarts!F293=\"\",\"\",Ecarts!F293),\"\")","v":""},{"$f":"IF( Ecarts!$E293=$A$1, IF(Ecarts!I293=\"\",\"\",Ecarts!I293),\"\")","v":""},{"$f":"IF( Ecarts!$E293=$A$1, IF(Ecarts!J293=\"\",\"\",Ecarts!J293),\"\")","v":""},{"$f":"IF( Ecarts!$E293=$A$1, IF(Ecarts!K293=\"\",\"\",Ecarts!K293),\"\")","v":""},{"$f":"IF( Ecarts!$E293=$A$1, IF(Ecarts!L293=\"\",\"\",Ecarts!L293),\"\")","v":""},{"$f":"IF( Ecarts!$E293=$A$1, IF(Ecarts!M293=\"\",\"\",Ecarts!M293),\"\")","v":""},0,0]
[{"$f":"IF( Ecarts!$E294=$A$1,IF( Ecarts!B294=\"\",\"\",Ecarts!A294),\"\")","v":""},{"$f":"IF( Ecarts!$E294=$A$1,IF( Ecarts!C294=\"\",\"\",Ecarts!C294),\"\")","v":""},{"$f":"IF( Ecarts!$E294=$A$1, IF(Ecarts!F294=\"\",\"\",Ecarts!F294),\"\")","v":""},{"$f":"IF( Ecarts!$E294=$A$1, IF(Ecarts!I294=\"\",\"\",Ecarts!I294),\"\")","v":""},{"$f":"IF( Ecarts!$E294=$A$1, IF(Ecarts!J294=\"\",\"\",Ecarts!J294),\"\")","v":""},{"$f":"IF( Ecarts!$E294=$A$1, IF(Ecarts!K294=\"\",\"\",Ecarts!K294),\"\")","v":""},{"$f":"IF( Ecarts!$E294=$A$1, IF(Ecarts!L294=\"\",\"\",Ecarts!L294),\"\")","v":""},{"$f":"IF( Ecarts!$E294=$A$1, IF(Ecarts!M294=\"\",\"\",Ecarts!M294),\"\")","v":""},0,0]
[{"$f":"IF( Ecarts!$E295=$A$1,IF( Ecarts!B295=\"\",\"\",Ecarts!A295),\"\")","v":""},{"$f":"IF( Ecarts!$E295=$A$1,IF( Ecarts!C295=\"\",\"\",Ecarts!C295),\"\")","v":""},{"$f":"IF( Ecarts!$E295=$A$1, IF(Ecarts!F295=\"\",\"\",Ecarts!F295),\"\")","v":""},{"$f":"IF( Ecarts!$E295=$A$1, IF(Ecarts!I295=\"\",\"\",Ecarts!I295),\"\")","v":""},{"$f":"IF( Ecarts!$E295=$A$1, IF(Ecarts!J295=\"\",\"\",Ecarts!J295),\"\")","v":""},{"$f":"IF( Ecarts!$E295=$A$1, IF(Ecarts!K295=\"\",\"\",Ecarts!K295),\"\")","v":""},{"$f":"IF( Ecarts!$E295=$A$1, IF(Ecarts!L295=\"\",\"\",Ecarts!L295),\"\")","v":""},{"$f":"IF( Ecarts!$E295=$A$1, IF(Ecarts!M295=\"\",\"\",Ecarts!M295),\"\")","v":""},0,0]
[{"$f":"IF( Ecarts!$E296=$A$1,IF( Ecarts!B296=\"\",\"\",Ecarts!A296),\"\")","v":""},{"$f":"IF( Ecarts!$E296=$A$1,IF( Ecarts!C296=\"\",\"\",Ecarts!C296),\"\")","v":""},{"$f":"IF( Ecarts!$E296=$A$1, IF(Ecarts!F296=\"\",\"\",Ecarts!F296),\"\")","v":""},{"$f":"IF( Ecarts!$E296=$A$1, IF(Ecarts!I296=\"\",\"\",Ecarts!I296),\"\")","v":""},{"$f":"IF( Ecarts!$E296=$A$1, IF(Ecarts!J296=\"\",\"\",Ecarts!J296),\"\")","v":""},{"$f":"IF( Ecarts!$E296=$A$1, IF(Ecarts!K296=\"\",\"\",Ecarts!K296),\"\")","v":""},{"$f":"IF( Ecarts!$E296=$A$1, IF(Ecarts!L296=\"\",\"\",Ecarts!L296),\"\")","v":""},{"$f":"IF( Ecarts!$E296=$A$1, IF(Ecarts!M296=\"\",\"\",Ecarts!M296),\"\")","v":""},0,0]
[{"$f":"IF( Ecarts!$E297=$A$1,IF( Ecarts!B297=\"\",\"\",Ecarts!A297),\"\")","v":""},{"$f":"IF( Ecarts!$E297=$A$1,IF( Ecarts!C297=\"\",\"\",Ecarts!C297),\"\")","v":""},{"$f":"IF( Ecarts!$E297=$A$1, IF(Ecarts!F297=\"\",\"\",Ecarts!F297),\"\")","v":""},{"$f":"IF( Ecarts!$E297=$A$1, IF(Ecarts!I297=\"\",\"\",Ecarts!I297),\"\")","v":""},{"$f":"IF( Ecarts!$E297=$A$1, IF(Ecarts!J297=\"\",\"\",Ecarts!J297),\"\")","v":""},{"$f":"IF( Ecarts!$E297=$A$1, IF(Ecarts!K297=\"\",\"\",Ecarts!K297),\"\")","v":""},{"$f":"IF( Ecarts!$E297=$A$1, IF(Ecarts!L297=\"\",\"\",Ecarts!L297),\"\")","v":""},{"$f":"IF( Ecarts!$E297=$A$1, IF(Ecarts!M297=\"\",\"\",Ecarts!M297),\"\")","v":""},0,0]
[{"$f":"IF( Ecarts!$E298=$A$1,IF( Ecarts!B298=\"\",\"\",Ecarts!A298),\"\")","v":""},{"$f":"IF( Ecarts!$E298=$A$1,IF( Ecarts!C298=\"\",\"\",Ecarts!C298),\"\")","v":""},{"$f":"IF( Ecarts!$E298=$A$1, IF(Ecarts!F298=\"\",\"\",Ecarts!F298),\"\")","v":""},{"$f":"IF( Ecarts!$E298=$A$1, IF(Ecarts!I298=\"\",\"\",Ecarts!I298),\"\")","v":""},{"$f":"IF( Ecarts!$E298=$A$1, IF(Ecarts!J298=\"\",\"\",Ecarts!J298),\"\")","v":""},{"$f":"IF( Ecarts!$E298=$A$1, IF(Ecarts!K298=\"\",\"\",Ecarts!K298),\"\")","v":""},{"$f":"IF( Ecarts!$E298=$A$1, IF(Ecarts!L298=\"\",\"\",Ecarts!L298),\"\")","v":""},{"$f":"IF( Ecarts!$E298=$A$1, IF(Ecarts!M298=\"\",\"\",Ecarts!M298),\"\")","v":""},0,0]
[{"$f":"IF( Ecarts!$E299=$A$1,IF( Ecarts!B299=\"\",\"\",Ecarts!A299),\"\")","v":""},{"$f":"IF( Ecarts!$E299=$A$1,IF( Ecarts!C299=\"\",\"\",Ecarts!C299),\"\")","v":""},{"$f":"IF( Ecarts!$E299=$A$1, IF(Ecarts!F299=\"\",\"\",Ecarts!F299),\"\")","v":""},{"$f":"IF( Ecarts!$E299=$A$1, IF(Ecarts!I299=\"\",\"\",Ecarts!I299),\"\")","v":""},{"$f":"IF( Ecarts!$E299=$A$1, IF(Ecarts!J299=\"\",\"\",Ecarts!J299),\"\")","v":""},{"$f":"IF( Ecarts!$E299=$A$1, IF(Ecarts!K299=\"\",\"\",Ecarts!K299),\"\")","v":""},{"$f":"IF( Ecarts!$E299=$A$1, IF(Ecarts!L299=\"\",\"\",Ecarts!L299),\"\")","v":""},{"$f":"IF( Ecarts!$E299=$A$1, IF(Ecarts!M299=\"\",\"\",Ecarts!M299),\"\")","v":""},0,0]
[{"$f":"IF( Ecarts!$E300=$A$1,IF( Ecarts!B300=\"\",\"\",Ecarts!A300),\"\")","v":""},{"$f":"IF( Ecarts!$E300=$A$1,IF( Ecarts!C300=\"\",\"\",Ecarts!C300),\"\")","v":""},{"$f":"IF( Ecarts!$E300=$A$1, IF(Ecarts!F300=\"\",\"\",Ecarts!F300),\"\")","v":""},{"$f":"IF( Ecarts!$E300=$A$1, IF(Ecarts!I300=\"\",\"\",Ecarts!I300),\"\")","v":""},{"$f":"IF( Ecarts!$E300=$A$1, IF(Ecarts!J300=\"\",\"\",Ecarts!J300),\"\")","v":""},{"$f":"IF( Ecarts!$E300=$A$1, IF(Ecarts!K300=\"\",\"\",Ecarts!K300),\"\")","v":""},{"$f":"IF( Ecarts!$E300=$A$1, IF(Ecarts!L300=\"\",\"\",Ecarts!L300),\"\")","v":""},{"$f":"IF( Ecarts!$E300=$A$1, IF(Ecarts!M300=\"\",\"\",Ecarts!M300),\"\")","v":""},0,0]
[{"$f":"IF( Ecarts!$E301=$A$1,IF( Ecarts!B301=\"\",\"\",Ecarts!A301),\"\")","v":""},{"$f":"IF( Ecarts!$E301=$A$1,IF( Ecarts!C301=\"\",\"\",Ecarts!C301),\"\")","v":""},{"$f":"IF( Ecarts!$E301=$A$1, IF(Ecarts!F301=\"\",\"\",Ecarts!F301),\"\")","v":""},{"$f":"IF( Ecarts!$E301=$A$1, IF(Ecarts!I301=\"\",\"\",Ecarts!I301),\"\")","v":""},{"$f":"IF( Ecarts!$E301=$A$1, IF(Ecarts!J301=\"\",\"\",Ecarts!J301),\"\")","v":""},{"$f":"IF( Ecarts!$E301=$A$1, IF(Ecarts!K301=\"\",\"\",Ecarts!K301),\"\")","v":""},{"$f":"IF( Ecarts!$E301=$A$1, IF(Ecarts!L301=\"\",\"\",Ecarts!L301),\"\")","v":""},{"$f":"IF( Ecarts!$E301=$A$1, IF(Ecarts!M301=\"\",\"\",Ecarts!M301),\"\")","v":""},0,0]
[{"$f":"IF( Ecarts!$E360=$A$1,IF( Ecarts!B360=\"\",\"\",Ecarts!A360),\"\")","v":""},{"$f":"IF( Ecarts!$E360=$A$1,IF( Ecarts!C360=\"\",\"\",Ecarts!C360),\"\")","v":""},{"$f":"IF( Ecarts!$E360=$A$1, IF(Ecarts!F360=\"\",\"\",Ecarts!F360),\"\")","v":""},{"$f":"IF( Ecarts!$E360=$A$1, IF(Ecarts!I360=\"\",\"\",Ecarts!I360),\"\")","v":""},{"$f":"IF( Ecarts!$E360=$A$1, IF(Ecarts!J360=\"\",\"\",Ecarts!J360),\"\")","v":""},{"$f":"IF( Ecarts!$E302=$A$1, IF(Ecarts!K302=\"\",\"\",Ecarts!K302),\"\")","v":""},{"$f":"IF( Ecarts!$E302=$A$1, IF(Ecarts!L302=\"\",\"\",Ecarts!L302),\"\")","v":""},{"$f":"IF( Ecarts!$E302=$A$1, IF(Ecarts!M302=\"\",\"\",Ecarts!M302),\"\")","v":""},0,0]

{"sheet":"Conf_Objectifs","index":8,"n_rows":19,"n_cols":12,"rows_kept":19,"cut":false,"hidden":true,"merged":[]}
[null,"Collaborateurs",null,"X",null,"Réf Ecart",null,"Avct",null,null,null,"Chemin"]
[null,null,null,"X",null,"Audit",null,0.1,null,null,null,"\\\\Serveurj2c\\j2c\\"]
[null,null,null,null,null,"Client",null,0.3,null,null,"Adresse 1 :","C:\\Users\\Yves\\Desktop\\"]
[null,null,null,null,null,"Presta.",null,0.5,null,null,"Adresse 2 :","\\\\Serveurj2c\\j2c\\"]
[null,null,null,"Ecart/Obs",null,"Réunion Pil",null,0.7]
[null,null,null,"Ecart",null,"Rev. Dir",null,0.9,null,"Note","Mois"]
[null,null,null,"Observation",null,"Partenaires",null,1,null,1,"Janvier"]
[null,null,null,null,null,"Rev. Dir",null,null,null,2,"Février"]
[null,null,null,"AC/AP",null,"Collab.",null,null,null,3,"Mars"]
[null,null,null,"AC",null,null,null,null,null,4,"Avril"]
[null,null,null,"AP",null,null,null,null,null,5,"Mai"]
[null,null,null,null,null,null,null,null,null,6,"Juin"]
[null,null,null,null,null,null,null,null,null,7,"Juillet"]
[null,null,null,null,null,null,null,null,null,8,"Août"]
[null,null,null,null,null,null,null,null,null,9,"Septembre"]
[null,null,null,null,null,null,null,null,null,10,"Octobre"]
[null,null,null,null,null,null,null,null,null,11,"Novembre"]
[null,null,null,null,null,null,null,null,null,12,"Décembre"]
[null,null,null,null,null,null,null,null,null,13,"Janvier"]