{"text_format":"1","workbook":"xlsx","n_sheets":8,"sheets":["Plan","Inventaires","Aspects critiques","Rochelle","Monia","Florence","Jean-Pierre","Listes"],"not_rendered":{"charts":0,"images":3,"macros":1,"external_links":0,"defined_names":16,"comments":0,"pivot_tables":0},"unopened":[],"bounds":{"document_bytes":16777216,"sheet_cells":100000,"rows_first":2000,"rows_last":500,"rows_between":2000,"halvings":0,"cell_chars":16384,"cell_head_chars":4096},"cells_cut":0,"cells_raw":0,"read":"whole","date_system":"1900"}

{"sheet":"Plan","index":0,"n_rows":43,"n_cols":7,"rows_kept":43,"cut":false,"hidden":false,"merged":[[0,2,0,6],[1,2,1,3],[1,4,1,6]]}
[null,null,"Améliorer la situation"]
[null,"Jean-Pierre","Domaine",null,"Lancer la production d'un nouveau produit"]
["N°","Recommandations","Responsable","Lieu","Date","Durée","Moyens"]
[10]
[{"$f":"A4+5","v":15}]
[{"$f":"A5+5","v":20}]
[25]
[30]
[35]
[40]
[45]
[50]
[55]
[70]
[75]
[80]
[85]
[90]
[70]
[75]
[80]
[85]
[90]
[95]
[100]
[105]
[110]
[115]
[120]
[125]
[130]
[135]
[140]
[145]
[150]
[155]
[160]
[165]
[170]
[175]
[180]
[185]
[190]

{"sheet":"Inventaires","index":1,"n_rows":43,"n_cols":3,"rows_kept":43,"cut":false,"hidden":false,"merged":[]}
["N°","Aspects critiques : difficultés, inconvénients,….","Commentaires"]
[1,"Moyens faibles"]
[2,"Comportement de chacun"]
[3]
[4]
[5]
[6]
[7]
[8]
[9]
[10]
[11]
[12]
[13]
[14]
[15]
[16]
[17]
[18]
[19]
[20]
[21]
[22]
[23]
[24]
[25]
[26]
[27]
[28]
[29]
[30]
[31]
[32]
[33]
[34]
[35]
[36]
[37]
[38]
[39]
[40]
[41]
[42]

{"sheet":"Aspects critiques","index":2,"n_rows":462,"n_cols":6,"rows_kept":462,"cut":false,"hidden":false,"merged":[[459,0,461,0],[459,1,461,1],[459,2,459,3],[460,2,460,3],[456,0,458,0],[456,1,458,1],[456,2,456,3],[457,2,457,3],[453,2,453,3],[454,0,455,0],[454,1,455,1],[454,2,454,3],[448,0,450,0],[448,1,450,1],[448,2,448,3],[449,2,449,3],[445,0,447,0],[445,1,447,1],[445,2,445,3],[446,2,446,3],[442,2,442,3],[443,0,444,0],[443,1,444,1],[443,2,443,3],[437,0,439,0],[437,1,439,1],[437,2,437,3],[438,2,438,3],[434,0,436,0],[434,1,436,1],[434,2,434,3],[435,2,435,3],[431,2,431,3],[432,0,433,0],[432,1,433,1],[432,2,432,3],[426,0,428,0],[426,1,428,1],[426,2,426,3],[427,2,427,3],[423,0,425,0],[423,1,425,1],[423,2,423,3],[424,2,424,3],[420,2,420,3],[421,0,422,0],[421,1,422,1],[421,2,421,3],[415,0,417,0],[415,1,417,1],[415,2,415,3],[416,2,416,3],[412,0,414,0],[412,1,414,1],[412,2,412,3],[413,2,413,3],[409,2,409,3],[410,0,411,0],[410,1,411,1],[410,2,410,3],[404,0,406,0],[404,1,406,1],[404,2,404,3],[405,2,405,3],[401,0,403,0],[401,1,403,1],[401,2,401,3],[402,2,402,3],[398,2,398,3],[399,0,400,0],[399,1,400,1],[399,2,399,3],[393,0,395,0],[393,1,395,1],[393,2,393,3],[394,2,394,3],[390,0,392,0],[390,1,392,1],[390,2,390,3],[391,2,391,3],[387,2,387,3],[388,0,389,0],[388,1,389,1],[388,2,388,3],[382,0,384,0],[382,1,384,1],[382,2,382,3],[383,2,383,3],[379,0,381,0],[379,1,381,1],[379,2,379,3],[380,2,380,3],[376,2,376,3],[377,0,378,0],[377,1,378,1],[377,2,377,3],[371,0,373,0],[371,1,373,1],[371,2,371,3],[372,2,372,3],[368,0,370,0],[368,1,370,1],[368,2,368,3],[369,2,369,3],[365,2,365,3],[366,0,367,0],[366,1,367,1],[366,2,366,3],[360,0,362,0],[360,1,362,1],[360,2,360,3],[361,2,361,3],[357,0,359,0],[357,1,359,1],[357,2,357,3],[358,2,358,3],[354,2,354,3],[355,0,356,0],[355,1,356,1],[355,2,355,3],[349,0,351,0],[349,1,351,1],[349,2,349,3],[350,2,350,3],[346,0,348,0],[346,1,348,1],[346,2,346,3],[347,2,347,3],[343,2,343,3],[344,0,345,0],[344,1,345,1],[344,2,344,3],[338,0,340,0],[338,1,340,1],[338,2,338,3],[339,2,339,3],[335,0,337,0],[335,1,337,1],[335,2,335,3],[336,2,336,3],[332,2,332,3],[333,0,334,0],[333,1,334,1],[333,2,333,3],[327,0,329,0],[327,1,329,1],[327,2,327,3],[328,2,328,3],[324,0,326,0],[324,1,326,1],[324,2,324,3],[325,2,325,3],[321,2,321,3],[322,0,323,0],[322,1,323,1],[322,2,322,3],[316,0,318,0],[316,1,318,1],[316,2,316,3],[317,2,317,3],[313,0,315,0],[313,1,315,1],[313,2,313,3],[314,2,314,3],[310,2,310,3],[311,0,312,0],[311,1,312,1],[311,2,311,3],[305,0,307,0],[305,1,307,1],[305,2,305,3],[306,2,306,3],[302,0,304,0],[302,1,304,1],[302,2,302,3],[303,2,303,3],[299,2,299,3],[300,0,301,0],[300,1,301,1],[300,2,300,3],[294,0,296,0],[294,1,296,1],[294,2,294,3],[295,2,295,3],[291,0,293,0],[291,1,293,1],[291,2,291,3],[292,2,292,3],[288,2,288,3],[289,0,290,0],[289,1,290,1],[289,2,289,3],[283,0,285,0],[283,1,285,1],[283,2,283,3],[284,2,284,3],[280,0,282,0],[280,1,282,1],[280,2,280,3],[281,2,281,3],[277,2,277,3],[278,0,279,0],[278,1,279,1],[278,2,278,3],[272,0,274,0],[272,1,274,1],[272,2,272,3],[273,2,273,3],[269,0,271,0],[269,1,271,1],[269,2,269,3],[270,2,270,3],[266,2,266,3],[267,0,268,0],[267,1,268,1],[267,2,267,3],[261,0,263,0],[261,1,263,1],[261,2,261,3],[262,2,262,3],[258,0,260,0],[258,1,260,1],[258,2,258,3],[259,2,259,3],[255,2,255,3],[256,0,257,0],[256,1,257,1],[256,2,256,3],[250,0,252,0],[250,1,252,1],[250,2,250,3],[251,2,251,3],[247,0,249,0],[247,1,249,1],[247,2,247,3],[248,2,248,3],[244,2,244,3],[245,0,246,0],[245,1,246,1],[245,2,245,3],[239,0,241,0],[239,1,241,1],[239,2,239,3],[240,2,240,3],[236,0,238,0],[236,1,238,1],[236,2,236,3],[237,2,237,3],[233,2,233,3],[234,0,235,0],[234,1,235,1],[234,2,234,3],[228,0,230,0],[228,1,230,1],[228,2,228,3],[229,2,229,3],[225,0,227,0],[225,1,227,1],[225,2,225,3],[226,2,226,3],[222,2,222,3],[223,0,224,0],[223,1,224,1],[223,2,223,3],[217,0,219,0],[217,1,219,1],[217,2,217,3],[218,2,218,3],[214,0,216,0],[214,1,216,1],[214,2,214,3],[215,2,215,3],[211,2,211,3],[212,0,213,0],[212,1,213,1],[212,2,212,3],[206,0,208,0],[206,1,208,1],[206,2,206,3],[207,2,207,3],[203,0,205,0],[203,1,205,1],[203,2,203,3],[204,2,204,3],[200,2,200,3],[201,0,202,0],[201,1,202,1],[201,2,201,3],[195,0,197,0],[195,1,197,1],[195,2,195,3],[196,2,196,3],[192,0,194,0],[192,1,194,1],[192,2,192,3],[193,2,193,3],[189,2,189,3],[190,0,191,0],[190,1,191,1],[190,2,190,3],[184,0,186,0],[184,1,186,1],[184,2,184,3],[185,2,185,3],[181,0,183,0],[181,1,183,1],[181,2,181,3],[182,2,182,3],[178,2,178,3],[179,0,180,0],[179,1,180,1],[179,2,179,3],[173,0,175,0],[173,1,175,1],[173,2,173,3],[174,2,174,3],[170,0,172,0],[170,1,172,1],[170,2,170,3],[171,2,171,3],[167,2,167,3],[168,0,169,0],[168,1,169,1],[168,2,168,3],[162,0,164,0],[162,1,164,1],[162,2,162,3],[163,2,163,3],[159,0,161,0],[159,1,161,1],[159,2,159,3],[160,2,160,3],[156,2,156,3],[157,0,158,0],[157,1,158,1],[157,2,157,3],[151,0,153,0],[151,1,153,1],[151,2,151,3],[152,2,152,3],[148,0,150,0],[148,1,150,1],[148,2,148,3],[149,2,149,3],[145,2,145,3],[146,0,147,0],[146,1,147,1],[146,2,146,3],[140,0,142,0],[140,1,142,1],[140,2,140,3],[141,2,141,3],[137,0,139,0],[137,1,139,1],[137,2,137,3],[138,2,138,3],[134,2,134,3],[135,0,136,0],[135,1,136,1],[135,2,135,3],[129,0,131,0],[129,1,131,1],[129,2,129,3],[130,2,130,3],[126,0,128,0],[126,1,128,1],[126,2,126,3],[127,2,127,3],[123,2,123,3],[124,0,125,0],[124,1,125,1],[124,2,124,3],[118,0,120,0],[118,1,120,1],[118,2,118,3],[119,2,119,3],[115,0,117,0],[115,1,117,1],[115,2,115,3],[116,2,116,3],[112,2,112,3],[113,0,114,0],[113,1,114,1],[113,2,113,3],[107,0,109,0],[107,1,109,1],[107,2,107,3],[108,2,108,3],[104,0,106,0],[104,1,106,1],[104,2,104,3],[105,2,105,3],[101,2,101,3],[102,0,103,0],[102,1,103,1],[102,2,102,3],[96,0,98,0],[96,1,98,1],[96,2,96,3],[97,2,97,3],[93,0,95,0],[93,1,95,1],[93,2,93,3],[94,2,94,3],[90,2,90,3],[91,0,92,0],[91,1,92,1],[91,2,91,3],[85,0,87,0],[85,1,87,1],[85,2,85,3],[86,2,86,3],[82,0,84,0],[82,1,84,1],[82,2,82,3],[83,2,83,3],[79,2,79,3],[80,0,81,0],[80,1,81,1],[80,2,80,3],[74,0,76,0],[74,1,76,1],[74,2,74,3],[75,2,75,3],[71,0,73,0],[71,1,73,1],[71,2,71,3],[72,2,72,3],[68,2,68,3],[69,0,70,0],[69,1,70,1],[69,2,69,3],[63,0,65,0],[63,1,65,1],[63,2,63,3],[64,2,64,3],[60,0,62,0],[60,1,62,1],[60,2,60,3],[61,2,61,3],[57,2,57,3],[58,0,59,0],[58,1,59,1],[58,2,58,3],[52,0,54,0],[52,1,54,1],[52,2,52,3],[53,2,53,3],[49,0,51,0],[49,1,51,1],[49,2,49,3],[50,2,50,3],[46,2,46,3],[47,0,48,0],[47,1,48,1],[47,2,47,3],[41,0,43,0],[41,1,43,1],[41,2,41,3],[42,2,42,3],[38,0,40,0],[38,1,40,1],[38,2,38,3],[39,2,39,3],[35,2,35,3],[36,0,37,0],[36,1,37,1],[36,2,36,3],[30,0,32,0],[30,1,32,1],[30,2,30,3],[31,2,31,3],[27,0,29,0],[27,1,29,1],[27,2,27,3],[28,2,28,3],[24,2,24,3],[25,0,26,0],[25,1,26,1],[25,2,25,3],[19,0,21,0],[19,1,21,1],[19,2,19,3],[20,2,20,3],[16,0,18,0],[16,1,18,1],[16,2,16,3],[17,2,17,3],[13,2,13,3],[14,2,14,3],[14,0,15,0],[14,1,15,1],[5,0,7,0],[5,1,7,1],[8,0,10,0],[8,1,10,1],[8,2,8,3],[9,2,9,3],[5,2,5,3],[6,2,6,3],[3,0,4,0],[3,1,4,1],[3,2,3,3],[2,2,2,3]]}
[]
["N° AC :","Aspect Critique"]
[1,{"$f":"IF(VLOOKUP(A3,Aspect_critique,2,FALSE)=\"\",\"\",VLOOKUP(A3,Aspect_critique,2,FALSE))","v":"Moyens faibles"},"Cause"]
["Risque 1",null,null,null,null,{"$f":"IFERROR(VLOOKUP(CONCATENATE(#REF!,#REF!),Pro_Grav,2,FALSE),\"\")","v":""}]
[null,null,"Action Préventive"]
["Risque 2",null,"Cause"]
[null,null,null,null,null,{"$f":"IFERROR(VLOOKUP(CONCATENATE(#REF!,#REF!),Pro_Grav,2,FALSE),\"\")","v":""}]
[null,null,"Action Préventive"]
["Risque 3",null,"Cause"]
[null,null,null,null,null,{"$f":"IFERROR(VLOOKUP(CONCATENATE(#REF!,#REF!),Pro_Grav,2,FALSE),\"\")","v":""}]
[null,null,"Action Préventive",null,null,{"$f":"IFERROR(VLOOKUP(CONCATENATE(#REF!,#REF!),Pro_Grav,2,FALSE),\"\")","v":""}]
[]
["N° AC :","Aspect Critique"]
[{"$f":"A3+1","v":2},{"$f":"IF(VLOOKUP(A14,Aspect_critique,2,FALSE)=\"\",\"\",VLOOKUP(A14,Aspect_critique,2,FALSE))","v":"Comportement de chacun"},"Cause"]
["Risque 1",null,null,null,null,{"$f":"IFERROR(VLOOKUP(CONCATENATE(#REF!,#REF!),Pro_Grav,2,FALSE),\"\")","v":""}]
[null,null,"Action Préventive"]
["Risque 2",null,"Cause"]
[null,null,null,null,null,{"$f":"IFERROR(VLOOKUP(CONCATENATE(#REF!,#REF!),Pro_Grav,2,FALSE),\"\")","v":""}]
[null,null,"Action Préventive"]
["Risque 3",null,"Cause"]
[null,null,null,null,null,{"$f":"IFERROR(VLOOKUP(CONCATENATE(#REF!,#REF!),Pro_Grav,2,FALSE),\"\")","v":""}]
[null,null,"Action Préventive",null,null,{"$f":"IFERROR(VLOOKUP(CONCATENATE(#REF!,#REF!),Pro_Grav,2,FALSE),\"\")","v":""}]
[]
["N° AC :","Aspect Critique"]
[{"$f":"A14+1","v":3},{"$f":"IF(VLOOKUP(A25,Aspect_critique,2,FALSE)=\"\",\"\",VLOOKUP(A25,Aspect_critique,2,FALSE))","v":""},"Cause"]
["Risque 1",null,null,null,null,{"$f":"IFERROR(VLOOKUP(CONCATENATE(#REF!,#REF!),Pro_Grav,2,FALSE),\"\")","v":""}]
[null,null,"Action Préventive"]
["Risque 2",null,"Cause"]
[null,null,null,null,null,{"$f":"IFERROR(VLOOKUP(CONCATENATE(#REF!,#REF!),Pro_Grav,2,FALSE),\"\")","v":""}]
[null,null,"Action Préventive"]
["Risque 3",null,"Cause"]
[null,null,null,null,null,{"$f":"IFERROR(VLOOKUP(CONCATENATE(#REF!,#REF!),Pro_Grav,2,FALSE),\"\")","v":""}]
[null,null,"Action Préventive"]
[]
["N° AC :","Aspect Critique"]
[{"$f":"A25+1","v":4},{"$f":"IF(VLOOKUP(A36,Aspect_critique,2,FALSE)=\"\",\"\",VLOOKUP(A36,Aspect_critique,2,FALSE))","v":""},"Cause"]
["Risque 1",null,null,null,null,{"$f":"IFERROR(VLOOKUP(CONCATENATE(#REF!,#REF!),Pro_Grav,2,FALSE),\"\")","v":""}]
[null,null,"Action Préventive"]
["Risque 2",null,"Cause"]
[null,null,null,null,null,{"$f":"IFERROR(VLOOKUP(CONCATENATE(#REF!,#REF!),Pro_Grav,2,FALSE),\"\")","v":""}]
[null,null,"Action Préventive"]
["Risque 3",null,"Cause"]
[null,null,null,null,null,{"$f":"IFERROR(VLOOKUP(CONCATENATE(#REF!,#REF!),Pro_Grav,2,FALSE),\"\")","v":""}]
[null,null,"Action Préventive"]
[]
["N° AC :","Aspect Critique"]
[{"$f":"A36+1","v":5},{"$f":"IF(VLOOKUP(A47,Aspect_critique,2,FALSE)=\"\",\"\",VLOOKUP(A47,Aspect_critique,2,FALSE))","v":""},"Cause"]
["Risque 1",null,null,null,null,{"$f":"IFERROR(VLOOKUP(CONCATENATE(#REF!,#REF!),Pro_Grav,2,FALSE),\"\")","v":""}]
[null,null,"Action Préventive"]
["Risque 2",null,"Cause"]
[null,null,null,null,null,{"$f":"IFERROR(VLOOKUP(CONCATENATE(#REF!,#REF!),Pro_Grav,2,FALSE),\"\")","v":""}]
[null,null,"Action Préventive"]
["Risque 3",null,"Cause"]
[null,null,null,null,null,{"$f":"IFERROR(VLOOKUP(CONCATENATE(#REF!,#REF!),Pro_Grav,2,FALSE),\"\")","v":""}]
[null,null,"Action Préventive"]
[]
["N° AC :","Aspect Critique"]
[{"$f":"A47+1","v":6},{"$f":"IF(VLOOKUP(A58,Aspect_critique,2,FALSE)=\"\",\"\",VLOOKUP(A58,Aspect_critique,2,FALSE))","v":""},"Cause"]
["Risque 1",null,null,null,null,{"$f":"IFERROR(VLOOKUP(CONCATENATE(#REF!,#REF!),Pro_Grav,2,FALSE),\"\")","v":""}]
[null,null,"Action Préventive"]
["Risque 2",null,"Cause"]
[null,null,null,null,null,{"$f":"IFERROR(VLOOKUP(CONCATENATE(#REF!,#REF!),Pro_Grav,2,FALSE),\"\")","v":""}]
[null,null,"Action Préventive"]
["Risque 3",null,"Cause"]
[null,null,null,null,null,{"$f":"IFERROR(VLOOKUP(CONCATENATE(#REF!,#REF!),Pro_Grav,2,FALSE),\"\")","v":""}]
[null,null,"Action Préventive"]
[]
["N° AC :","Aspect Critique"]
[{"$f":"A58+1","v":7},{"$f":"IF(VLOOKUP(A69,Aspect_critique,2,FALSE)=\"\",\"\",VLOOKUP(A69,Aspect_critique,2,FALSE))","v":""},"Cause"]
["Risque 1",null,null,null,null,{"$f":"IFERROR(VLOOKUP(CONCATENATE(#REF!,#REF!),Pro_Grav,2,FALSE),\"\")","v":""}]
[null,null,"Action Préventive"]
["Risque 2",null,"Cause"]
[null,null,null,null,null,{"$f":"IFERROR(VLOOKUP(CONCATENATE(#REF!,#REF!),Pro_Grav,2,FALSE),\"\")","v":""}]
[null,null,"Action Préventive"]
["Risque 3",null,"Cause"]
[null,null,null,null,null,{"$f":"IFERROR(VLOOKUP(CONCATENATE(#REF!,#REF!),Pro_Grav,2,FALSE),\"\")","v":""}]
[null,null,"Action Préventive"]
[]
["N° AC :","Aspect Critique"]
[{"$f":"A69+1","v":8},{"$f":"IF(VLOOKUP(A80,Aspect_critique,2,FALSE)=\"\",\"\",VLOOKUP(A80,Aspect_critique,2,FALSE))","v":""},"Cause"]
["Risque 1",null,null,null,null,{"$f":"IFERROR(VLOOKUP(CONCATENATE(#REF!,#REF!),Pro_Grav,2,FALSE),\"\")","v":""}]
[null,null,"Action Préventive"]
["Risque 2",null,"Cause"]
[null,null,null,null,null,{"$f":"IFERROR(VLOOKUP(CONCATENATE(#REF!,#REF!),Pro_Grav,2,FALSE),\"\")","v":""}]
[null,null,"Action Préventive"]
["Risque 3",null,"Cause"]
[null,null,null,null,null,{"$f":"IFERROR(VLOOKUP(CONCATENATE(#REF!,#REF!),Pro_Grav,2,FALSE),\"\")","v":""}]
[null,null,"Action Préventive"]
[]
["N° AC :","Aspect Critique"]
[{"$f":"A80+1","v":9},{"$f":"IF(VLOOKUP(A91,Aspect_critique,2,FALSE)=\"\",\"\",VLOOKUP(A91,Aspect_critique,2,FALSE))","v":""},"Cause"]
["Risque 1",null,null,null,null,{"$f":"IFERROR(VLOOKUP(CONCATENATE(#REF!,#REF!),Pro_Grav,2,FALSE),\"\")","v":""}]
[null,null,"Action Préventive"]
["Risque 2",null,"Cause"]
[null,null,null,null,null,{"$f":"IFERROR(VLOOKUP(CONCATENATE(#REF!,#REF!),Pro_Grav,2,FALSE),\"\")","v":""}]
[null,null,"Action Préventive"]
["Risque 3",null,"Cause"]
[null,null,null,null,null,{"$f":"IFERROR(VLOOKUP(CONCATENATE(#REF!,#REF!),Pro_Grav,2,FALSE),\"\")","v":""}]
[null,null,"Action Préventive"]
[]
["N° AC :","Aspect Critique"]
[{"$f":"A91+1","v":10},{"$f":"IF(VLOOKUP(A102,Aspect_critique,2,FALSE)=\"\",\"\",VLOOKUP(A102,Aspect_critique,2,FALSE))","v":""},"Cause"]
["Risque 1",null,null,null,null,{"$f":"IFERROR(VLOOKUP(CONCATENATE(#REF!,#REF!),Pro_Grav,2,FALSE),\"\")","v":""}]
[null,null,"Action Préventive"]
["Risque 2",null,"Cause"]
[null,null,null,null,null,{"$f":"IFERROR(VLOOKUP(CONCATENATE(#REF!,#REF!),Pro_Grav,2,FALSE),\"\")","v":""}]
[null,null,"Action Préventive"]
["Risque 3",null,"Cause"]
[null,null,null,null,null,{"$f":"IFERROR(VLOOKUP(CONCATENATE(#REF!,#REF!),Pro_Grav,2,FALSE),\"\")","v":""}]
[null,null,"Action Préventive"]
[]
["N° AC :","Aspect Critique"]
[{"$f":"A102+1","v":11},{"$f":"IF(VLOOKUP(A113,Aspect_critique,2,FALSE)=\"\",\"\",VLOOKUP(A113,Aspect_critique,2,FALSE))","v":""},"Cause"]
["Risque 1",null,null,null,null,{"$f":"IFERROR(VLOOKUP(CONCATENATE(#REF!,#REF!),Pro_Grav,2,FALSE),\"\")","v":""}]
[null,null,"Action Préventive"]
["Risque 2",null,"Cause"]
[null,null,null,null,null,{"$f":"IFERROR(VLOOKUP(CONCATENATE(#REF!,#REF!),Pro_Grav,2,FALSE),\"\")","v":""}]
[null,null,"Action Préventive"]
["Risque 3",null,"Cause"]
[null,null,null,null,null,{"$f":"IFERROR(VLOOKUP(CONCATENATE(#REF!,#REF!),Pro_Grav,2,FALSE),\"\")","v":""}]
[null,null,"Action Préventive"]
[]
["N° AC :","Aspect Critique"]
[{"$f":"A113+1","v":12},{"$f":"IF(VLOOKUP(A124,Aspect_critique,2,FALSE)=\"\",\"\",VLOOKUP(A124,Aspect_critique,2,FALSE))","v":""},"Cause"]
["Risque 1",null,null,null,null,{"$f":"IFERROR(VLOOKUP(CONCATENATE(#REF!,#REF!),Pro_Grav,2,FALSE),\"\")","v":""}]
[null,null,"Action Préventive"]
["Risque 2",null,"Cause"]
[null,null,null,null,null,{"$f":"IFERROR(VLOOKUP(CONCATENATE(#REF!,#REF!),Pro_Grav,2,FALSE),\"\")","v":""}]
[null,null,"Action Préventive"]
["Risque 3",null,"Cause"]
[null,null,null,null,null,{"$f":"IFERROR(VLOOKUP(CONCATENATE(#REF!,#REF!),Pro_Grav,2,FALSE),\"\")","v":""}]
[null,null,"Action Préventive"]
[]
["N° AC :","Aspect Critique"]
[{"$f":"A124+1","v":13},{"$f":"IF(VLOOKUP(A135,Aspect_critique,2,FALSE)=\"\",\"\",VLOOKUP(A135,Aspect_critique,2,FALSE))","v":""},"Cause"]
["Risque 1",null,null,null,null,{"$f":"IFERROR(VLOOKUP(CONCATENATE(#REF!,#REF!),Pro_Grav,2,FALSE),\"\")","v":""}]
[null,null,"Action Préventive"]
["Risque 2",null,"Cause"]
[null,null,null,null,null,{"$f":"IFERROR(VLOOKUP(CONCATENATE(#REF!,#REF!),Pro_Grav,2,FALSE),\"\")","v":""}]
[null,null,"Action Préventive"]
["Risque 3",null,"Cause"]
[null,null,null,null,null,{"$f":"IFERROR(VLOOKUP(CONCATENATE(#REF!,#REF!),Pro_Grav,2,FALSE),\"\")","v":""}]
[null,null,"Action Préventive"]
[]
["N° AC :","Aspect Critique"]
[{"$f":"A135+1","v":14},{"$f":"IF(VLOOKUP(A146,Aspect_critique,2,FALSE)=\"\",\"\",VLOOKUP(A146,Aspect_critique,2,FALSE))","v":""},"Cause"]
["Risque 1",null,null,null,null,{"$f":"IFERROR(VLOOKUP(CONCATENATE(#REF!,#REF!),Pro_Grav,2,FALSE),\"\")","v":""}]
[null,null,"Action Préventive"]
["Risque 2",null,"Cause"]
[null,null,null,null,null,{"$f":"IFERROR(VLOOKUP(CONCATENATE(#REF!,#REF!),Pro_Grav,2,FALSE),\"\")","v":""}]
[null,null,"Action Préventive"]
["Risque 3",null,"Cause"]
[null,null,null,null,null,{"$f":"IFERROR(VLOOKUP(CONCATENATE(#REF!,#REF!),Pro_Grav,2,FALSE),\"\")","v":""}]
[null,null,"Action Préventive"]
[]
["N° AC :","Aspect Critique"]
[{"$f":"A146+1","v":15},{"$f":"IF(VLOOKUP(A157,Aspect_critique,2,FALSE)=\"\",\"\",VLOOKUP(A157,Aspect_critique,2,FALSE))","v":""},"Cause"]
["Risque 1",null,null,null,null,{"$f":"IFERROR(VLOOKUP(CONCATENATE(#REF!,#REF!),Pro_Grav,2,FALSE),\"\")","v":""}]
[null,null,"Action Préventive"]
["Risque 2",null,"Cause"]
[null,null,null,null,null,{"$f":"IFERROR(VLOOKUP(CONCATENATE(#REF!,#REF!),Pro_Grav,2,FALSE),\"\")","v":""}]
[null,null,"Action Préventive"]
["Risque 3",null,"Cause"]
[null,null,null,null,null,{"$f":"IFERROR(VLOOKUP(CONCATENATE(#REF!,#REF!),Pro_Grav,2,FALSE),\"\")","v":""}]
[null,null,"Action Préventive"]
[]
["N° AC :","Aspect Critique"]
[{"$f":"A157+1","v":16},{"$f":"IF(VLOOKUP(A168,Aspect_critique,2,FALSE)=\"\",\"\",VLOOKUP(A168,Aspect_critique,2,FALSE))","v":""},"Cause"]
["Risque 1",null,null,null,null,{"$f":"IFERROR(VLOOKUP(CONCATENATE(#REF!,#REF!),Pro_Grav,2,FALSE),\"\")","v":""}]
[null,null,"Action Préventive"]
["Risque 2",null,"Cause"]
[null,null,null,null,null,{"$f":"IFERROR(VLOOKUP(CONCATENATE(#REF!,#REF!),Pro_Grav,2,FALSE),\"\")","v":""}]
[null,null,"Action Préventive"]
["Risque 3",null,"Cause"]
[null,null,null,null,null,{"$f":"IFERROR(VLOOKUP(CONCATENATE(#REF!,#REF!),Pro_Grav,2,FALSE),\"\")","v":""}]
[null,null,"Action Préventive"]
[]
["N° AC :","Aspect Critique"]
[{"$f":"A168+1","v":17},{"$f":"IF(VLOOKUP(A179,Aspect_critique,2,FALSE)=\"\",\"\",VLOOKUP(A179,Aspect_critique,2,FALSE))","v":""},"Cause"]
["Risque 1",null,null,null,null,{"$f":"IFERROR(VLOOKUP(CONCATENATE(#REF!,#REF!),Pro_Grav,2,FALSE),\"\")","v":""}]
[null,null,"Action Préventive"]
["Risque 2",null,"Cause"]
[null,null,null,null,null,{"$f":"IFERROR(VLOOKUP(CONCATENATE(#REF!,#REF!),Pro_Grav,2,FALSE),\"\")","v":""}]
[null,null,"Action Préventive"]
["Risque 3",null,"Cause"]
[null,null,null,null,null,{"$f":"IFERROR(VLOOKUP(CONCATENATE(#REF!,#REF!),Pro_Grav,2,FALSE),\"\")","v":""}]
[null,null,"Action Préventive"]
[]
["N° AC :","Aspect Critique"]
[{"$f":"A179+1","v":18},{"$f":"IF(VLOOKUP(A190,Aspect_critique,2,FALSE)=\"\",\"\",VLOOKUP(A190,Aspect_critique,2,FALSE))","v":""},"Cause"]
["Risque 1",null,null,null,null,{"$f":"IFERROR(VLOOKUP(CONCATENATE(#REF!,#REF!),Pro_Grav,2,FALSE),\"\")","v":""}]
[null,null,"Action Préventive"]
["Risque 2",null,"Cause"]
[null,null,null,null,null,{"$f":"IFERROR(VLOOKUP(CONCATENATE(#REF!,#REF!),Pro_Grav,2,FALSE),\"\")","v":""}]
[null,null,"Action Préventive"]
["Risque 3",null,"Cause"]
[null,null,null,null,null,{"$f":"IFERROR(VLOOKUP(CONCATENATE(#REF!,#REF!),Pro_Grav,2,FALSE),\"\")","v":""}]
[null,null,"Action Préventive"]
[]
["N° AC :","Aspect Critique"]
[{"$f":"A190+1","v":19},{"$f":"IF(VLOOKUP(A201,Aspect_critique,2,FALSE)=\"\",\"\",VLOOKUP(A201,Aspect_critique,2,FALSE))","v":""},"Cause"]
["Risque 1",null,null,null,null,{"$f":"IFERROR(VLOOKUP(CONCATENATE(#REF!,#REF!),Pro_Grav,2,FALSE),\"\")","v":""}]
[null,null,"Action Préventive"]
["Risque 2",null,"Cause"]
[null,null,null,null,null,{"$f":"IFERROR(VLOOKUP(CONCATENATE(#REF!,#REF!),Pro_Grav,2,FALSE),\"\")","v":""}]
[null,null,"Action Préventive"]
["Risque 3",null,"Cause"]
[null,null,null,null,null,{"$f":"IFERROR(VLOOKUP(CONCATENATE(#REF!,#REF!),Pro_Grav,2,FALSE),\"\")","v":""}]
[null,null,"Action Préventive"]
[]
["N° AC :","Aspect Critique"]
[{"$f":"A201+1","v":20},{"$f":"IF(VLOOKUP(A212,Aspect_critique,2,FALSE)=\"\",\"\",VLOOKUP(A212,Aspect_critique,2,FALSE))","v":""},"Cause"]
["Risque 1",null,null,null,null,{"$f":"IFERROR(VLOOKUP(CONCATENATE(#REF!,#REF!),Pro_Grav,2,FALSE),\"\")","v":""}]
[null,null,"Action Préventive"]
["Risque 2",null,"Cause"]
[null,null,null,null,null,{"$f":"IFERROR(VLOOKUP(CONCATENATE(#REF!,#REF!),Pro_Grav,2,FALSE),\"\")","v":""}]
[null,null,"Action Préventive"]
["Risque 3",null,"Cause"]
[null,null,null,null,null,{"$f":"IFERROR(VLOOKUP(CONCATENATE(#REF!,#REF!),Pro_Grav,2,FALSE),\"\")","v":""}]
[null,null,"Action Préventive"]
[]
["N° AC :","Aspect Critique"]
[{"$f":"A212+1","v":21},{"$f":"IF(VLOOKUP(A223,Aspect_critique,2,FALSE)=\"\",\"\",VLOOKUP(A223,Aspect_critique,2,FALSE))","v":""},"Cause"]
["Risque 1",null,null,null,null,{"$f":"IFERROR(VLOOKUP(CONCATENATE(#REF!,#REF!),Pro_Grav,2,FALSE),\"\")","v":""}]
[null,null,"Action Préventive"]
["Risque 2",null,"Cause"]
[null,null,null,null,null,{"$f":"IFERROR(VLOOKUP(CONCATENATE(#REF!,#REF!),Pro_Grav,2,FALSE),\"\")","v":""}]
[null,null,"Action Préventive"]
["Risque 3",null,"Cause"]
[null,null,null,null,null,{"$f":"IFERROR(VLOOKUP(CONCATENATE(#REF!,#REF!),Pro_Grav,2,FALSE),\"\")","v":""}]
[null,null,"Action Préventive"]
[]
["N° AC :","Aspect Critique"]
[{"$f":"A223+1","v":22},{"$f":"IF(VLOOKUP(A234,Aspect_critique,2,FALSE)=\"\",\"\",VLOOKUP(A234,Aspect_critique,2,FALSE))","v":""},"Cause"]
["Risque 1",null,null,null,null,{"$f":"IFERROR(VLOOKUP(CONCATENATE(#REF!,#REF!),Pro_Grav,2,FALSE),\"\")","v":""}]
[null,null,"Action Préventive"]
["Risque 2",null,"Cause"]
[null,null,null,null,null,{"$f":"IFERROR(VLOOKUP(CONCATENATE(#REF!,#REF!),Pro_Grav,2,FALSE),\"\")","v":""}]
[null,null,"Action Préventive"]
["Risque 3",null,"Cause"]
[null,null,null,null,null,{"$f":"IFERROR(VLOOKUP(CONCATENATE(#REF!,#REF!),Pro_Grav,2,FALSE),\"\")","v":""}]
[null,null,"Action Préventive"]
[]
["N° AC :","Aspect Critique"]
[{"$f":"A234+1","v":23},{"$f":"IF(VLOOKUP(A245,Aspect_critique,2,FALSE)=\"\",\"\",VLOOKUP(A245,Aspect_critique,2,FALSE))","v":""},"Cause"]
["Risque 1",null,null,null,null,{"$f":"IFERROR(VLOOKUP(CONCATENATE(#REF!,#REF!),Pro_Grav,2,FALSE),\"\")","v":""}]
[null,null,"Action Préventive"]
["Risque 2",null,"Cause"]
[null,null,null,null,null,{"$f":"IFERROR(VLOOKUP(CONCATENATE(#REF!,#REF!),Pro_Grav,2,FALSE),\"\")","v":""}]
[null,null,"Action Préventive"]
["Risque 3",null,"Cause"]
[null,null,null,null,null,{"$f":"IFERROR(VLOOKUP(CONCATENATE(#REF!,#REF!),Pro_Grav,2,FALSE),\"\")","v":""}]
[null,null,"Action Préventive"]
[]
["N° AC :","Aspect Critique"]
[{"$f":"A245+1","v":24},{"$f":"IF(VLOOKUP(A256,Aspect_critique,2,FALSE)=\"\",\"\",VLOOKUP(A256,Aspect_critique,2,FALSE))","v":""},"Cause"]
["Risque 1",null,null,null,null,{"$f":"IFERROR(VLOOKUP(CONCATENATE(#REF!,#REF!),Pro_Grav,2,FALSE),\"\")","v":""}]
[null,null,"Action Préventive"]
["Risque 2",null,"Cause"]
[null,null,null,null,null,{"$f":"IFERROR(VLOOKUP(CONCATENATE(#REF!,#REF!),Pro_Grav,2,FALSE),\"\")","v":""}]
[null,null,"Action Préventive"]
["Risque 3",null,"Cause"]
[null,null,null,null,null,{"$f":"IFERROR(VLOOKUP(CONCATENATE(#REF!,#REF!),Pro_Grav,2,FALSE),\"\")","v":""}]
[null,null,"Action Préventive"]
[]
["N° AC :","Aspect Critique"]
[{"$f":"A256+1","v":25},{"$f":"IF(VLOOKUP(A267,Aspect_critique,2,FALSE)=\"\",\"\",VLOOKUP(A267,Aspect_critique,2,FALSE))","v":""},"Cause"]
["Risque 1",null,null,null,null,{"$f":"IFERROR(VLOOKUP(CONCATENATE(#REF!,#REF!),Pro_Grav,2,FALSE),\"\")","v":""}]
[null,null,"Action Préventive"]
["Risque 2",null,"Cause"]
[null,null,null,null,null,{"$f":"IFERROR(VLOOKUP(CONCATENATE(#REF!,#REF!),Pro_Grav,2,FALSE),\"\")","v":""}]
[null,null,"Action Préventive"]
["Risque 3",null,"Cause"]
[null,null,null,null,null,{"$f":"IFERROR(VLOOKUP(CONCATENATE(#REF!,#REF!),Pro_Grav,2,FALSE),\"\")","v":""}]
[null,null,"Action Préventive"]
[]
["N° AC :","Aspect Critique"]
[{"$f":"A267+1","v":26},{"$f":"IF(VLOOKUP(A278,Aspect_critique,2,FALSE)=\"\",\"\",VLOOKUP(A278,Aspect_critique,2,FALSE))","v":""},"Cause"]
["Risque 1",null,null,null,null,{"$f":"IFERROR(VLOOKUP(CONCATENATE(#REF!,#REF!),Pro_Grav,2,FALSE),\"\")","v":""}]
[null,null,"Action Préventive"]
["Risque 2",null,"Cause"]
[null,null,null,null,null,{"$f":"IFERROR(VLOOKUP(CONCATENATE(#REF!,#REF!),Pro_Grav,2,FALSE),\"\")","v":""}]
[null,null,"Action Préventive"]
["Risque 3",null,"Cause"]
[null,null,null,null,null,{"$f":"IFERROR(VLOOKUP(CONCATENATE(#REF!,#REF!),Pro_Grav,2,FALSE),\"\")","v":""}]
[null,null,"Action Préventive"]
[]
["N° AC :","Aspect Critique"]
[{"$f":"A278+1","v":27},{"$f":"IF(VLOOKUP(A289,Aspect_critique,2,FALSE)=\"\",\"\",VLOOKUP(A289,Aspect_critique,2,FALSE))","v":""},"Cause"]
["Risque 1",null,null,null,null,{"$f":"IFERROR(VLOOKUP(CONCATENATE(#REF!,#REF!),Pro_Grav,2,FALSE),\"\")","v":""}]
[null,null,"Action Préventive"]
["Risque 2",null,"Cause"]
[null,null,null,null,null,{"$f":"IFERROR(VLOOKUP(CONCATENATE(#REF!,#REF!),Pro_Grav,2,FALSE),\"\")","v":""}]
[null,null,"Action Préventive"]
["Risque 3",null,"Cause"]
[null,null,null,null,null,{"$f":"IFERROR(VLOOKUP(CONCATENATE(#REF!,#REF!),Pro_Grav,2,FALSE),\"\")","v":""}]
[null,null,"Action Préventive"]
[]
["N° AC :","Aspect Critique"]
[{"$f":"A289+1","v":28},{"$f":"IF(VLOOKUP(A300,Aspect_critique,2,FALSE)=\"\",\"\",VLOOKUP(A300,Aspect_critique,2,FALSE))","v":""},"Cause"]
["Risque 1",null,null,null,null,{"$f":"IFERROR(VLOOKUP(CONCATENATE(#REF!,#REF!),Pro_Grav,2,FALSE),\"\")","v":""}]
[null,null,"Action Préventive"]
["Risque 2",null,"Cause"]
[null,null,null,null,null,{"$f":"IFERROR(VLOOKUP(CONCATENATE(#REF!,#REF!),Pro_Grav,2,FALSE),\"\")","v":""}]
[null,null,"Action Préventive"]
["Risque 3",null,"Cause"]
[null,null,null,null,null,{"$f":"IFERROR(VLOOKUP(CONCATENATE(#REF!,#REF!),Pro_Grav,2,FALSE),\"\")","v":""}]
[null,null,"Action Préventive"]
[]
["N° AC :","Aspect Critique"]
[{"$f":"A300+1","v":29},{"$f":"IF(VLOOKUP(A311,Aspect_critique,2,FALSE)=\"\",\"\",VLOOKUP(A311,Aspect_critique,2,FALSE))","v":""},"Cause"]
["Risque 1",null,null,null,null,{"$f":"IFERROR(VLOOKUP(CONCATENATE(#REF!,#REF!),Pro_Grav,2,FALSE),\"\")","v":""}]
[null,null,"Action Préventive"]
["Risque 2",null,"Cause"]
[null,null,null,null,null,{"$f":"IFERROR(VLOOKUP(CONCATENATE(#REF!,#REF!),Pro_Grav,2,FALSE),\"\")","v":""}]
[null,null,"Action Préventive"]
["Risque 3",null,"Cause"]
[null,null,null,null,null,{"$f":"IFERROR(VLOOKUP(CONCATENATE(#REF!,#REF!),Pro_Grav,2,FALSE),\"\")","v":""}]
[null,null,"Action Préventive"]
[]
["N° AC :","Aspect Critique"]
[{"$f":"A311+1","v":30},{"$f":"IF(VLOOKUP(A322,Aspect_critique,2,FALSE)=\"\",\"\",VLOOKUP(A322,Aspect_critique,2,FALSE))","v":""},"Cause"]
["Risque 1",null,null,null,null,{"$f":"IFERROR(VLOOKUP(CONCATENATE(#REF!,#REF!),Pro_Grav,2,FALSE),\"\")","v":""}]
[null,null,"Action Préventive"]
["Risque 2",null,"Cause"]
[null,null,null,null,null,{"$f":"IFERROR(VLOOKUP(CONCATENATE(#REF!,#REF!),Pro_Grav,2,FALSE),\"\")","v":""}]
[null,null,"Action Préventive"]
["Risque 3",null,"Cause"]
[null,null,null,null,null,{"$f":"IFERROR(VLOOKUP(CONCATENATE(#REF!,#REF!),Pro_Grav,2,FALSE),\"\")","v":""}]
[null,null,"Action Préventive"]
[]
["N° AC :","Aspect Critique"]
[{"$f":"A322+1","v":31},{"$f":"IF(VLOOKUP(A333,Aspect_critique,2,FALSE)=\"\",\"\",VLOOKUP(A333,Aspect_critique,2,FALSE))","v":""},"Cause"]
["Risque 1",null,null,null,null,{"$f":"IFERROR(VLOOKUP(CONCATENATE(#REF!,#REF!),Pro_Grav,2,FALSE),\"\")","v":""}]
[null,null,"Action Préventive"]
["Risque 2",null,"Cause"]
[null,null,null,null,null,{"$f":"IFERROR(VLOOKUP(CONCATENATE(#REF!,#REF!),Pro_Grav,2,FALSE),\"\")","v":""}]
[null,null,"Action Préventive"]
["Risque 3",null,"Cause"]
[null,null,null,null,null,{"$f":"IFERROR(VLOOKUP(CONCATENATE(#REF!,#REF!),Pro_Grav,2,FALSE),\"\")","v":""}]
[null,null,"Action Préventive"]
[]
["N° AC :","Aspect Critique"]
[{"$f":"A333+1","v":32},{"$f":"IF(VLOOKUP(A344,Aspect_critique,2,FALSE)=\"\",\"\",VLOOKUP(A344,Aspect_critique,2,FALSE))","v":""},"Cause"]
["Risque 1",null,null,null,null,{"$f":"IFERROR(VLOOKUP(CONCATENATE(#REF!,#REF!),Pro_Grav,2,FALSE),\"\")","v":""}]
[null,null,"Action Préventive"]
["Risque 2",null,"Cause"]
[null,null,null,null,null,{"$f":"IFERROR(VLOOKUP(CONCATENATE(#REF!,#REF!),Pro_Grav,2,FALSE),\"\")","v":""}]
[null,null,"Action Préventive"]
["Risque 3",null,"Cause"]
[null,null,null,null,null,{"$f":"IFERROR(VLOOKUP(CONCATENATE(#REF!,#REF!),Pro_Grav,2,FALSE),\"\")","v":""}]
[null,null,"Action Préventive"]
[]
["N° AC :","Aspect Critique"]
[{"$f":"A344+1","v":33},{"$f":"IF(VLOOKUP(A355,Aspect_critique,2,FALSE)=\"\",\"\",VLOOKUP(A355,Aspect_critique,2,FALSE))","v":""},"Cause"]
["Risque 1",null,null,null,null,{"$f":"IFERROR(VLOOKUP(CONCATENATE(#REF!,#REF!),Pro_Grav,2,FALSE),\"\")","v":""}]
[null,null,"Action Préventive"]
["Risque 2",null,"Cause"]
[null,null,null,null,null,{"$f":"IFERROR(VLOOKUP(CONCATENATE(#REF!,#REF!),Pro_Grav,2,FALSE),\"\")","v":""}]
[null,null,"Action Préventive"]
["Risque 3",null,"Cause"]
[null,null,null,null,null,{"$f":"IFERROR(VLOOKUP(CONCATENATE(#REF!,#REF!),Pro_Grav,2,FALSE),\"\")","v":""}]
[null,null,"Action Préventive"]
[]
["N° AC :","Aspect Critique"]
[{"$f":"A355+1","v":34},{"$f":"IF(VLOOKUP(A366,Aspect_critique,2,FALSE)=\"\",\"\",VLOOKUP(A366,Aspect_critique,2,FALSE))","v":""},"Cause"]
["Risque 1",null,null,null,null,{"$f":"IFERROR(VLOOKUP(CONCATENATE(#REF!,#REF!),Pro_Grav,2,FALSE),\"\")","v":""}]
[null,null,"Action Préventive"]
["Risque 2",null,"Cause"]
[null,null,null,null,null,{"$f":"IFERROR(VLOOKUP(CONCATENATE(#REF!,#REF!),Pro_Grav,2,FALSE),\"\")","v":""}]
[null,null,"Action Préventive"]
["Risque 3",null,"Cause"]
[null,null,null,null,null,{"$f":"IFERROR(VLOOKUP(CONCATENATE(#REF!,#REF!),Pro_Grav,2,FALSE),\"\")","v":""}]
[null,null,"Action Préventive"]
[]
["N° AC :","Aspect Critique"]
[{"$f":"A366+1","v":35},{"$f":"IF(VLOOKUP(A377,Aspect_critique,2,FALSE)=\"\",\"\",VLOOKUP(A377,Aspect_critique,2,FALSE))","v":""},"Cause"]
["Risque 1",null,null,null,null,{"$f":"IFERROR(VLOOKUP(CONCATENATE(#REF!,#REF!),Pro_Grav,2,FALSE),\"\")","v":""}]
[null,null,"Action Préventive"]
["Risque 2",null,"Cause"]
[null,null,null,null,null,{"$f":"IFERROR(VLOOKUP(CONCATENATE(#REF!,#REF!),Pro_Grav,2,FALSE),\"\")","v":""}]
[null,null,"Action Préventive"]
["Risque 3",null,"Cause"]
[null,null,null,null,null,{"$f":"IFERROR(VLOOKUP(CONCATENATE(#REF!,#REF!),Pro_Grav,2,FALSE),\"\")","v":""}]
[null,null,"Action Préventive"]
[]
["N° AC :","Aspect Critique"]
[{"$f":"A377+1","v":36},{"$f":"IF(VLOOKUP(A388,Aspect_critique,2,FALSE)=\"\",\"\",VLOOKUP(A388,Aspect_critique,2,FALSE))","v":""},"Cause"]
["Risque 1",null,null,null,null,{"$f":"IFERROR(VLOOKUP(CONCATENATE(#REF!,#REF!),Pro_Grav,2,FALSE),\"\")","v":""}]
[null,null,"Action Préventive"]
["Risque 2",null,"Cause"]
[null,null,null,null,null,{"$f":"IFERROR(VLOOKUP(CONCATENATE(#REF!,#REF!),Pro_Grav,2,FALSE),\"\")","v":""}]
[null,null,"Action Préventive"]
["Risque 3",null,"Cause"]
[null,null,null,null,null,{"$f":"IFERROR(VLOOKUP(CONCATENATE(#REF!,#REF!),Pro_Grav,2,FALSE),\"\")","v":""}]
[null,null,"Action Préventive"]
[]
["N° AC :","Aspect Critique"]
[{"$f":"A388+1","v":37},{"$f":"IF(VLOOKUP(A399,Aspect_critique,2,FALSE)=\"\",\"\",VLOOKUP(A399,Aspect_critique,2,FALSE))","v":""},"Cause"]
["Risque 1",null,null,null,null,{"$f":"IFERROR(VLOOKUP(CONCATENATE(#REF!,#REF!),Pro_Grav,2,FALSE),\"\")","v":""}]
[null,null,"Action Préventive"]
["Risque 2",null,"Cause"]
[null,null,null,null,null,{"$f":"IFERROR(VLOOKUP(CONCATENATE(#REF!,#REF!),Pro_Grav,2,FALSE),\"\")","v":""}]
[null,null,"Action Préventive"]
["Risque 3",null,"Cause"]
[null,null,null,null,null,{"$f":"IFERROR(VLOOKUP(CONCATENATE(#REF!,#REF!),Pro_Grav,2,FALSE),\"\")","v":""}]
[null,null,"Action Préventive"]
[]
["N° AC :","Aspect Critique"]
[{"$f":"A399+1","v":38},{"$f":"IF(VLOOKUP(A410,Aspect_critique,2,FALSE)=\"\",\"\",VLOOKUP(A410,Aspect_critique,2,FALSE))","v":""},"Cause"]
["Risque 1",null,null,null,null,{"$f":"IFERROR(VLOOKUP(CONCATENATE(#REF!,#REF!),Pro_Grav,2,FALSE),\"\")","v":""}]
[null,null,"Action Préventive"]
["Risque 2",null,"Cause"]
[null,null,null,null,null,{"$f":"IFERROR(VLOOKUP(CONCATENATE(#REF!,#REF!),Pro_Grav,2,FALSE),\"\")","v":""}]
[null,null,"Action Préventive"]
["Risque 3",null,"Cause"]
[null,null,null,null,null,{"$f":"IFERROR(VLOOKUP(CONCATENATE(#REF!,#REF!),Pro_Grav,2,FALSE),\"\")","v":""}]
[null,null,"Action Préventive"]
[]
["N° AC :","Aspect Critique"]
[{"$f":"A410+1","v":39},{"$f":"IF(VLOOKUP(A421,Aspect_critique,2,FALSE)=\"\",\"\",VLOOKUP(A421,Aspect_critique,2,FALSE))","v":""},"Cause"]
["Risque 1",null,null,null,null,{"$f":"IFERROR(VLOOKUP(CONCATENATE(#REF!,#REF!),Pro_Grav,2,FALSE),\"\")","v":""}]
[null,null,"Action Préventive"]
["Risque 2",null,"Cause"]
[null,null,null,null,null,{"$f":"IFERROR(VLOOKUP(CONCATENATE(#REF!,#REF!),Pro_Grav,2,FALSE),\"\")","v":""}]
[null,null,"Action Préventive"]
["Risque 3",null,"Cause"]
[null,null,null,null,null,{"$f":"IFERROR(VLOOKUP(CONCATENATE(#REF!,#REF!),Pro_Grav,2,FALSE),\"\")","v":""}]
[null,null,"Action Préventive"]
[]
["N° AC :","Aspect Critique"]
[{"$f":"A421+1","v":40},{"$f":"IF(VLOOKUP(A432,Aspect_critique,2,FALSE)=\"\",\"\",VLOOKUP(A432,Aspect_critique,2,FALSE))","v":""},"Cause"]
["Risque 1",null,null,null,null,{"$f":"IFERROR(VLOOKUP(CONCATENATE(#REF!,#REF!),Pro_Grav,2,FALSE),\"\")","v":""}]
[null,null,"Action Préventive"]
["Risque 2",null,"Cause"]
[null,null,null,null,null,{"$f":"IFERROR(VLOOKUP(CONCATENATE(#REF!,#REF!),Pro_Grav,2,FALSE),\"\")","v":""}]
[null,null,"Action Préventive"]
["Risque 3",null,"Cause"]
[null,null,null,null,null,{"$f":"IFERROR(VLOOKUP(CONCATENATE(#REF!,#REF!),Pro_Grav,2,FALSE),\"\")","v":""}]
[null,null,"Action Préventive"]
[]
["N° AC :","Aspect Critique"]
[{"$f":"A432+1","v":41},{"$f":"IF(VLOOKUP(A443,Aspect_critique,2,FALSE)=\"\",\"\",VLOOKUP(A443,Aspect_critique,2,FALSE))","v":""},"Cause"]
["Risque 1",null,null,null,null,{"$f":"IFERROR(VLOOKUP(CONCATENATE(#REF!,#REF!),Pro_Grav,2,FALSE),\"\")","v":""}]
[null,null,"Action Préventive"]
["Risque 2",null,"Cause"]
[null,null,null,null,null,{"$f":"IFERROR(VLOOKUP(CONCATENATE(#REF!,#REF!),Pro_Grav,2,FALSE),\"\")","v":""}]
[null,null,"Action Préventive"]
["Risque 3",null,"Cause"]
[null,null,null,null,null,{"$f":"IFERROR(VLOOKUP(CONCATENATE(#REF!,#REF!),Pro_Grav,2,FALSE),\"\")","v":""}]
[null,null,"Action Préventive"]
[]
["N° AC :","Aspect Critique"]
[{"$f":"A443+1","v":42},{"$f":"IF(VLOOKUP(A454,Aspect_critique,2,FALSE)=\"\",\"\",VLOOKUP(A454,Aspect_critique,2,FALSE))","v":""},"Cause"]
["Risque 1",null,null,null,null,{"$f":"IFERROR(VLOOKUP(CONCATENATE(#REF!,#REF!),Pro_Grav,2,FALSE),\"\")","v":""}]
[null,null,"Action Préventive"]
["Risque 2",null,"Cause"]
[null,null,null,null,null,{"$f":"IFERROR(VLOOKUP(CONCATENATE(#REF!,#REF!),Pro_Grav,2,FALSE),\"\")","v":""}]
[null,null,"Action Préventive"]
["Risque 3",null,"Cause"]
[null,null,null,null,null,{"$f":"IFERROR(VLOOKUP(CONCATENATE(#REF!,#REF!),Pro_Grav,2,FALSE),\"\")","v":""}]
[null,null,"Action Préventive"]

{"sheet":"Rochelle","index":3,"n_rows":43,"n_cols":8,"rows_kept":43,"cut":false,"hidden":false,"merged":[[0,0,0,5]]}
[{"$f":"CONCATENATE(\"Actions de \",MID(CELL(\"nomfichier\",I1),FIND(\"]\",CELL(\"nomfichier\",I1),20)+1,32))","v":"Actions de Rochelle"},null,null,null,null,null,null,{"$f":"MID(CELL(\"nomfichier\",I1),FIND(\"]\",CELL(\"nomfichier\",I1),20)+1,32)","v":"Rochelle"}]
[]
["N°","Actions","Lieu","Date","Durée","Moyens"]
[{"$f":"IF(Plan!$C4=Rochelle!$H$1,Plan!A4,\"\")","v":""},{"$f":"IF(Plan!$C4=Rochelle!$H$1,Plan!B4,\"\")","v":""},{"$f":"IF(Plan!$C4=Rochelle!$H$1,Plan!D4,\"\")","v":""},{"$f":"IF(Plan!$C4=Rochelle!$H$1,Plan!E4,\"\")","v":""},{"$f":"IF(Plan!$C4=Rochelle!$H$1,Plan!F4,\"\")","v":""},{"$f":"IF(Plan!$C4=Rochelle!$H$1,Plan!G4,\"\")","v":""}]
[{"$f":"IF(Plan!$C5=Rochelle!$H$1,Plan!A5,\"\")","v":""},{"$f":"IF(Plan!$C5=Rochelle!$H$1,Plan!B5,\"\")","v":""},{"$f":"IF(Plan!$C5=Rochelle!$H$1,Plan!D5,\"\")","v":""},{"$f":"IF(Plan!$C5=Rochelle!$H$1,Plan!E5,\"\")","v":""},{"$f":"IF(Plan!$C5=Rochelle!$H$1,Plan!F5,\"\")","v":""},{"$f":"IF(Plan!$C5=Rochelle!$H$1,Plan!G5,\"\")","v":""}]
[{"$f":"IF(Plan!$C6=Rochelle!$H$1,Plan!A6,\"\")","v":""},{"$f":"IF(Plan!$C6=Rochelle!$H$1,Plan!B6,\"\")","v":""},{"$f":"IF(Plan!$C6=Rochelle!$H$1,Plan!D6,\"\")","v":""},{"$f":"IF(Plan!$C6=Rochelle!$H$1,Plan!E6,\"\")","v":""},{"$f":"IF(Plan!$C6=Rochelle!$H$1,Plan!F6,\"\")","v":""},{"$f":"IF(Plan!$C6=Rochelle!$H$1,Plan!G6,\"\")","v":""}]
[{"$f":"IF(Plan!$C7=Rochelle!$H$1,Plan!A7,\"\")","v":""},{"$f":"IF(Plan!$C7=Rochelle!$H$1,Plan!B7,\"\")","v":""},{"$f":"IF(Plan!$C7=Rochelle!$H$1,Plan!D7,\"\")","v":""},{"$f":"IF(Plan!$C7=Rochelle!$H$1,Plan!E7,\"\")","v":""},{"$f":"IF(Plan!$C7=Rochelle!$H$1,Plan!F7,\"\")","v":""},{"$f":"IF(Plan!$C7=Rochelle!$H$1,Plan!G7,\"\")","v":""}]
[{"$f":"IF(Plan!$C8=Rochelle!$H$1,Plan!A8,\"\")","v":""},{"$f":"IF(Plan!$C8=Rochelle!$H$1,Plan!B8,\"\")","v":""},{"$f":"IF(Plan!$C8=Rochelle!$H$1,Plan!D8,\"\")","v":""},{"$f":"IF(Plan!$C8=Rochelle!$H$1,Plan!E8,\"\")","v":""},{"$f":"IF(Plan!$C8=Rochelle!$H$1,Plan!F8,\"\")","v":""},{"$f":"IF(Plan!$C8=Rochelle!$H$1,Plan!G8,\"\")","v":""}]
[{"$f":"IF(Plan!$C9=Rochelle!$H$1,Plan!A9,\"\")","v":""},{"$f":"IF(Plan!$C9=Rochelle!$H$1,Plan!B9,\"\")","v":""},{"$f":"IF(Plan!$C9=Rochelle!$H$1,Plan!D9,\"\")","v":""},{"$f":"IF(Plan!$C9=Rochelle!$H$1,Plan!E9,\"\")","v":""},{"$f":"IF(Plan!$C9=Rochelle!$H$1,Plan!F9,\"\")","v":""},{"$f":"IF(Plan!$C9=Rochelle!$H$1,Plan!G9,\"\")","v":""}]
[{"$f":"IF(Plan!$C10=Rochelle!$H$1,Plan!A10,\"\")","v":""},{"$f":"IF(Plan!$C10=Rochelle!$H$1,Plan!B10,\"\")","v":""},{"$f":"IF(Plan!$C10=Rochelle!$H$1,Plan!D10,\"\")","v":""},{"$f":"IF(Plan!$C10=Rochelle!$H$1,Plan!E10,\"\")","v":""},{"$f":"IF(Plan!$C10=Rochelle!$H$1,Plan!F10,\"\")","v":""},{"$f":"IF(Plan!$C10=Rochelle!$H$1,Plan!G10,\"\")","v":""}]
[{"$f":"IF(Plan!$C11=Rochelle!$H$1,Plan!A11,\"\")","v":""},{"$f":"IF(Plan!$C11=Rochelle!$H$1,Plan!B11,\"\")","v":""},{"$f":"IF(Plan!$C11=Rochelle!$H$1,Plan!D11,\"\")","v":""},{"$f":"IF(Plan!$C11=Rochelle!$H$1,Plan!E11,\"\")","v":""},{"$f":"IF(Plan!$C11=Rochelle!$H$1,Plan!F11,\"\")","v":""},{"$f":"IF(Plan!$C11=Rochelle!$H$1,Plan!G11,\"\")","v":""}]
[{"$f":"IF(Plan!$C12=Rochelle!$H$1,Plan!A12,\"\")","v":""},{"$f":"IF(Plan!$C12=Rochelle!$H$1,Plan!B12,\"\")","v":""},{"$f":"IF(Plan!$C12=Rochelle!$H$1,Plan!D12,\"\")","v":""},{"$f":"IF(Plan!$C12=Rochelle!$H$1,Plan!E12,\"\")","v":""},{"$f":"IF(Plan!$C12=Rochelle!$H$1,Plan!F12,\"\")","v":""},{"$f":"IF(Plan!$C12=Rochelle!$H$1,Plan!G12,\"\")","v":""}]
[{"$f":"IF(Plan!$C13=Rochelle!$H$1,Plan!A13,\"\")","v":""},{"$f":"IF(Plan!$C13=Rochelle!$H$1,Plan!B13,\"\")","v":""},{"$f":"IF(Plan!$C13=Rochelle!$H$1,Plan!D13,\"\")","v":""},{"$f":"IF(Plan!$C13=Rochelle!$H$1,Plan!E13,\"\")","v":""},{"$f":"IF(Plan!$C13=Rochelle!$H$1,Plan!F13,\"\")","v":""},{"$f":"IF(Plan!$C13=Rochelle!$H$1,Plan!G13,\"\")","v":""}]
[{"$f":"IF(Plan!$C14=Rochelle!$H$1,Plan!A14,\"\")","v":""},{"$f":"IF(Plan!$C14=Rochelle!$H$1,Plan!B14,\"\")","v":""},{"$f":"IF(Plan!$C14=Rochelle!$H$1,Plan!D14,\"\")","v":""},{"$f":"IF(Plan!$C14=Rochelle!$H$1,Plan!E14,\"\")","v":""},{"$f":"IF(Plan!$C14=Rochelle!$H$1,Plan!F14,\"\")","v":""},{"$f":"IF(Plan!$C14=Rochelle!$H$1,Plan!G14,\"\")","v":""}]
[{"$f":"IF(Plan!$C15=Rochelle!$H$1,Plan!A15,\"\")","v":""},{"$f":"IF(Plan!$C15=Rochelle!$H$1,Plan!B15,\"\")","v":""},{"$f":"IF(Plan!$C15=Rochelle!$H$1,Plan!D15,\"\")","v":""},{"$f":"IF(Plan!$C15=Rochelle!$H$1,Plan!E15,\"\")","v":""},{"$f":"IF(Plan!$C15=Rochelle!$H$1,Plan!F15,\"\")","v":""},{"$f":"IF(Plan!$C15=Rochelle!$H$1,Plan!G15,\"\")","v":""}]
[{"$f":"IF(Plan!$C16=Rochelle!$H$1,Plan!A16,\"\")","v":""},{"$f":"IF(Plan!$C16=Rochelle!$H$1,Plan!B16,\"\")","v":""},{"$f":"IF(Plan!$C16=Rochelle!$H$1,Plan!D16,\"\")","v":""},{"$f":"IF(Plan!$C16=Rochelle!$H$1,Plan!E16,\"\")","v":""},{"$f":"IF(Plan!$C16=Rochelle!$H$1,Plan!F16,\"\")","v":""},{"$f":"IF(Plan!$C16=Rochelle!$H$1,Plan!G16,\"\")","v":""}]
[{"$f":"IF(Plan!$C17=Rochelle!$H$1,Plan!A17,\"\")","v":""},{"$f":"IF(Plan!$C17=Rochelle!$H$1,Plan!B17,\"\")","v":""},{"$f":"IF(Plan!$C17=Rochelle!$H$1,Plan!D17,\"\")","v":""},{"$f":"IF(Plan!$C17=Rochelle!$H$1,Plan!E17,\"\")","v":""},{"$f":"IF(Plan!$C17=Rochelle!$H$1,Plan!F17,\"\")","v":""},{"$f":"IF(Plan!$C17=Rochelle!$H$1,Plan!G17,\"\")","v":""}]
[{"$f":"IF(Plan!$C18=Rochelle!$H$1,Plan!A18,\"\")","v":""},{"$f":"IF(Plan!$C18=Rochelle!$H$1,Plan!B18,\"\")","v":""},{"$f":"IF(Plan!$C18=Rochelle!$H$1,Plan!D18,\"\")","v":""},{"$f":"IF(Plan!$C18=Rochelle!$H$1,Plan!E18,\"\")","v":""},{"$f":"IF(Plan!$C18=Rochelle!$H$1,Plan!F18,\"\")","v":""},{"$f":"IF(Plan!$C18=Rochelle!$H$1,Plan!G18,\"\")","v":""}]
[{"$f":"IF(Plan!$C19=Rochelle!$H$1,Plan!A19,\"\")","v":""},{"$f":"IF(Plan!$C19=Rochelle!$H$1,Plan!B19,\"\")","v":""},{"$f":"IF(Plan!$C19=Rochelle!$H$1,Plan!D19,\"\")","v":""},{"$f":"IF(Plan!$C19=Rochelle!$H$1,Plan!E19,\"\")","v":""},{"$f":"IF(Plan!$C19=Rochelle!$H$1,Plan!F19,\"\")","v":""},{"$f":"IF(Plan!$C19=Rochelle!$H$1,Plan!G19,\"\")","v":""}]
[{"$f":"IF(Plan!$C20=Rochelle!$H$1,Plan!A20,\"\")","v":""},{"$f":"IF(Plan!$C20=Rochelle!$H$1,Plan!B20,\"\")","v":""},{"$f":"IF(Plan!$C20=Rochelle!$H$1,Plan!D20,\"\")","v":""},{"$f":"IF(Plan!$C20=Rochelle!$H$1,Plan!E20,\"\")","v":""},{"$f":"IF(Plan!$C20=Rochelle!$H$1,Plan!F20,\"\")","v":""},{"$f":"IF(Plan!$C20=Rochelle!$H$1,Plan!G20,\"\")","v":""}]
[{"$f":"IF(Plan!$C21=Rochelle!$H$1,Plan!A21,\"\")","v":""},{"$f":"IF(Plan!$C21=Rochelle!$H$1,Plan!B21,\"\")","v":""},{"$f":"IF(Plan!$C21=Rochelle!$H$1,Plan!D21,\"\")","v":""},{"$f":"IF(Plan!$C21=Rochelle!$H$1,Plan!E21,\"\")","v":""},{"$f":"IF(Plan!$C21=Rochelle!$H$1,Plan!F21,\"\")","v":""},{"$f":"IF(Plan!$C21=Rochelle!$H$1,Plan!G21,\"\")","v":""}]
[{"$f":"IF(Plan!$C22=Rochelle!$H$1,Plan!A22,\"\")","v":""},{"$f":"IF(Plan!$C22=Rochelle!$H$1,Plan!B22,\"\")","v":""},{"$f":"IF(Plan!$C22=Rochelle!$H$1,Plan!D22,\"\")","v":""},{"$f":"IF(Plan!$C22=Rochelle!$H$1,Plan!E22,\"\")","v":""},{"$f":"IF(Plan!$C22=Rochelle!$H$1,Plan!F22,\"\")","v":""},{"$f":"IF(Plan!$C22=Rochelle!$H$1,Plan!G22,\"\")","v":""}]
[{"$f":"IF(Plan!$C23=Rochelle!$H$1,Plan!A23,\"\")","v":""},{"$f":"IF(Plan!$C23=Rochelle!$H$1,Plan!B23,\"\")","v":""},{"$f":"IF(Plan!$C23=Rochelle!$H$1,Plan!D23,\"\")","v":""},{"$f":"IF(Plan!$C23=Rochelle!$H$1,Plan!E23,\"\")","v":""},{"$f":"IF(Plan!$C23=Rochelle!$H$1,Plan!F23,\"\")","v":""},{"$f":"IF(Plan!$C23=Rochelle!$H$1,Plan!G23,\"\")","v":""}]
[{"$f":"IF(Plan!$C24=Rochelle!$H$1,Plan!A24,\"\")","v":""},{"$f":"IF(Plan!$C24=Rochelle!$H$1,Plan!B24,\"\")","v":""},{"$f":"IF(Plan!$C24=Rochelle!$H$1,Plan!D24,\"\")","v":""},{"$f":"IF(Plan!$C24=Rochelle!$H$1,Plan!E24,\"\")","v":""},{"$f":"IF(Plan!$C24=Rochelle!$H$1,Plan!F24,\"\")","v":""},{"$f":"IF(Plan!$C24=Rochelle!$H$1,Plan!G24,\"\")","v":""}]
[{"$f":"IF(Plan!$C25=Rochelle!$H$1,Plan!A25,\"\")","v":""},{"$f":"IF(Plan!$C25=Rochelle!$H$1,Plan!B25,\"\")","v":""},{"$f":"IF(Plan!$C25=Rochelle!$H$1,Plan!D25,\"\")","v":""},{"$f":"IF(Plan!$C25=Rochelle!$H$1,Plan!E25,\"\")","v":""},{"$f":"IF(Plan!$C25=Rochelle!$H$1,Plan!F25,\"\")","v":""},{"$f":"IF(Plan!$C25=Rochelle!$H$1,Plan!G25,\"\")","v":""}]
[{"$f":"IF(Plan!$C26=Rochelle!$H$1,Plan!A26,\"\")","v":""},{"$f":"IF(Plan!$C26=Rochelle!$H$1,Plan!B26,\"\")","v":""},{"$f":"IF(Plan!$C26=Rochelle!$H$1,Plan!D26,\"\")","v":""},{"$f":"IF(Plan!$C26=Rochelle!$H$1,Plan!E26,\"\")","v":""},{"$f":"IF(Plan!$C26=Rochelle!$H$1,Plan!F26,\"\")","v":""},{"$f":"IF(Plan!$C26=Rochelle!$H$1,Plan!G26,\"\")","v":""}]
[{"$f":"IF(Plan!$C27=Rochelle!$H$1,Plan!A27,\"\")","v":""},{"$f":"IF(Plan!$C27=Rochelle!$H$1,Plan!B27,\"\")","v":""},{"$f":"IF(Plan!$C27=Rochelle!$H$1,Plan!D27,\"\")","v":""},{"$f":"IF(Plan!$C27=Rochelle!$H$1,Plan!E27,\"\")","v":""},{"$f":"IF(Plan!$C27=Rochelle!$H$1,Plan!F27,\"\")","v":""},{"$f":"IF(Plan!$C27=Rochelle!$H$1,Plan!G27,\"\")","v":""}]
[{"$f":"IF(Plan!$C28=Rochelle!$H$1,Plan!A28,\"\")","v":""},{"$f":"IF(Plan!$C28=Rochelle!$H$1,Plan!B28,\"\")","v":""},{"$f":"IF(Plan!$C28=Rochelle!$H$1,Plan!D28,\"\")","v":""},{"$f":"IF(Plan!$C28=Rochelle!$H$1,Plan!E28,\"\")","v":""},{"$f":"IF(Plan!$C28=Rochelle!$H$1,Plan!F28,\"\")","v":""},{"$f":"IF(Plan!$C28=Rochelle!$H$1,Plan!G28,\"\")","v":""}]
[{"$f":"IF(Plan!$C29=Rochelle!$H$1,Plan!A29,\"\")","v":""},{"$f":"IF(Plan!$C29=Rochelle!$H$1,Plan!B29,\"\")","v":""},{"$f":"IF(Plan!$C29=Rochelle!$H$1,Plan!D29,\"\")","v":""},{"$f":"IF(Plan!$C29=Rochelle!$H$1,Plan!E29,\"\")","v":""},{"$f":"IF(Plan!$C29=Rochelle!$H$1,Plan!F29,\"\")","v":""},{"$f":"IF(Plan!$C29=Rochelle!$H$1,Plan!G29,\"\")","v":""}]
[{"$f":"IF(Plan!$C30=Rochelle!$H$1,Plan!A30,\"\")","v":""},{"$f":"IF(Plan!$C30=Rochelle!$H$1,Plan!B30,\"\")","v":""},{"$f":"IF(Plan!$C30=Rochelle!$H$1,Plan!D30,\"\")","v":""},{"$f":"IF(Plan!$C30=Rochelle!$H$1,Plan!E30,\"\")","v":""},{"$f":"IF(Plan!$C30=Rochelle!$H$1,Plan!F30,\"\")","v":""},{"$f":"IF(Plan!$C30=Rochelle!$H$1,Plan!G30,\"\")","v":""}]
[{"$f":"IF(Plan!$C31=Rochelle!$H$1,Plan!A31,\"\")","v":""},{"$f":"IF(Plan!$C31=Rochelle!$H$1,Plan!B31,\"\")","v":""},{"$f":"IF(Plan!$C31=Rochelle!$H$1,Plan!D31,\"\")","v":""},{"$f":"IF(Plan!$C31=Rochelle!$H$1,Plan!E31,\"\")","v":""},{"$f":"IF(Plan!$C31=Rochelle!$H$1,Plan!F31,\"\")","v":""},{"$f":"IF(Plan!$C31=Rochelle!$H$1,Plan!G31,\"\")","v":""}]
[{"$f":"IF(Plan!$C32=Rochelle!$H$1,Plan!A32,\"\")","v":""},{"$f":"IF(Plan!$C32=Rochelle!$H$1,Plan!B32,\"\")","v":""},{"$f":"IF(Plan!$C32=Rochelle!$H$1,Plan!D32,\"\")","v":""},{"$f":"IF(Plan!$C32=Rochelle!$H$1,Plan!E32,\"\")","v":""},{"$f":"IF(Plan!$C32=Rochelle!$H$1,Plan!F32,\"\")","v":""},{"$f":"IF(Plan!$C32=Rochelle!$H$1,Plan!G32,\"\")","v":""}]
[{"$f":"IF(Plan!$C33=Rochelle!$H$1,Plan!A33,\"\")","v":""},{"$f":"IF(Plan!$C33=Rochelle!$H$1,Plan!B33,\"\")","v":""},{"$f":"IF(Plan!$C33=Rochelle!$H$1,Plan!D33,\"\")","v":""},{"$f":"IF(Plan!$C33=Rochelle!$H$1,Plan!E33,\"\")","v":""},{"$f":"IF(Plan!$C33=Rochelle!$H$1,Plan!F33,\"\")","v":""},{"$f":"IF(Plan!$C33=Rochelle!$H$1,Plan!G33,\"\")","v":""}]
[{"$f":"IF(Plan!$C34=Rochelle!$H$1,Plan!A34,\"\")","v":""},{"$f":"IF(Plan!$C34=Rochelle!$H$1,Plan!B34,\"\")","v":""},{"$f":"IF(Plan!$C34=Rochelle!$H$1,Plan!D34,\"\")","v":""},{"$f":"IF(Plan!$C34=Rochelle!$H$1,Plan!E34,\"\")","v":""},{"$f":"IF(Plan!$C34=Rochelle!$H$1,Plan!F34,\"\")","v":""},{"$f":"IF(Plan!$C34=Rochelle!$H$1,Plan!G34,\"\")","v":""}]
[{"$f":"IF(Plan!$C35=Rochelle!$H$1,Plan!A35,\"\")","v":""},{"$f":"IF(Plan!$C35=Rochelle!$H$1,Plan!B35,\"\")","v":""},{"$f":"IF(Plan!$C35=Rochelle!$H$1,Plan!D35,\"\")","v":""},{"$f":"IF(Plan!$C35=Rochelle!$H$1,Plan!E35,\"\")","v":""},{"$f":"IF(Plan!$C35=Rochelle!$H$1,Plan!F35,\"\")","v":""},{"$f":"IF(Plan!$C35=Rochelle!$H$1,Plan!G35,\"\")","v":""}]
[{"$f":"IF(Plan!$C36=Rochelle!$H$1,Plan!A36,\"\")","v":""},{"$f":"IF(Plan!$C36=Rochelle!$H$1,Plan!B36,\"\")","v":""},{"$f":"IF(Plan!$C36=Rochelle!$H$1,Plan!D36,\"\")","v":""},{"$f":"IF(Plan!$C36=Rochelle!$H$1,Plan!E36,\"\")","v":""},{"$f":"IF(Plan!$C36=Rochelle!$H$1,Plan!F36,\"\")","v":""},{"$f":"IF(Plan!$C36=Rochelle!$H$1,Plan!G36,\"\")","v":""}]
[{"$f":"IF(Plan!$C37=Rochelle!$H$1,Plan!A37,\"\")","v":""},{"$f":"IF(Plan!$C37=Rochelle!$H$1,Plan!B37,\"\")","v":""},{"$f":"IF(Plan!$C37=Rochelle!$H$1,Plan!D37,\"\")","v":""},{"$f":"IF(Plan!$C37=Rochelle!$H$1,Plan!E37,\"\")","v":""},{"$f":"IF(Plan!$C37=Rochelle!$H$1,Plan!F37,\"\")","v":""},{"$f":"IF(Plan!$C37=Rochelle!$H$1,Plan!G37,\"\")","v":""}]
[{"$f":"IF(Plan!$C38=Rochelle!$H$1,Plan!A38,\"\")","v":""},{"$f":"IF(Plan!$C38=Rochelle!$H$1,Plan!B38,\"\")","v":""},{"$f":"IF(Plan!$C38=Rochelle!$H$1,Plan!D38,\"\")","v":""},{"$f":"IF(Plan!$C38=Rochelle!$H$1,Plan!E38,\"\")","v":""},{"$f":"IF(Plan!$C38=Rochelle!$H$1,Plan!F38,\"\")","v":""},{"$f":"IF(Plan!$C38=Rochelle!$H$1,Plan!G38,\"\")","v":""}]
[{"$f":"IF(Plan!$C39=Rochelle!$H$1,Plan!A39,\"\")","v":""},{"$f":"IF(Plan!$C39=Rochelle!$H$1,Plan!B39,\"\")","v":""},{"$f":"IF(Plan!$C39=Rochelle!$H$1,Plan!D39,\"\")","v":""},{"$f":"IF(Plan!$C39=Rochelle!$H$1,Plan!E39,\"\")","v":""},{"$f":"IF(Plan!$C39=Rochelle!$H$1,Plan!F39,\"\")","v":""},{"$f":"IF(Plan!$C39=Rochelle!$H$1,Plan!G39,\"\")","v":""}]
[{"$f":"IF(Plan!$C40=Rochelle!$H$1,Plan!A40,\"\")","v":""},{"$f":"IF(Plan!$C40=Rochelle!$H$1,Plan!B40,\"\")","v":""},{"$f":"IF(Plan!$C40=Rochelle!$H$1,Plan!D40,\"\")","v":""},{"$f":"IF(Plan!$C40=Rochelle!$H$1,Plan!E40,\"\")","v":""},{"$f":"IF(Plan!$C40=Rochelle!$H$1,Plan!F40,\"\")","v":""},{"$f":"IF(Plan!$C40=Rochelle!$H$1,Plan!G40,\"\")","v":""}]
[{"$f":"IF(Plan!$C41=Rochelle!$H$1,Plan!A41,\"\")","v":""},{"$f":"IF(Plan!$C41=Rochelle!$H$1,Plan!B41,\"\")","v":""},{"$f":"IF(Plan!$C41=Rochelle!$H$1,Plan!D41,\"\")","v":""},{"$f":"IF(Plan!$C41=Rochelle!$H$1,Plan!E41,\"\")","v":""},{"$f":"IF(Plan!$C41=Rochelle!$H$1,Plan!F41,\"\")","v":""},{"$f":"IF(Plan!$C41=Rochelle!$H$1,Plan!G41,\"\")","v":""}]
[{"$f":"IF(Plan!$C42=Rochelle!$H$1,Plan!A42,\"\")","v":""},{"$f":"IF(Plan!$C42=Rochelle!$H$1,Plan!B42,\"\")","v":""},{"$f":"IF(Plan!$C42=Rochelle!$H$1,Plan!D42,\"\")","v":""},{"$f":"IF(Plan!$C42=Rochelle!$H$1,Plan!E42,\"\")","v":""},{"$f":"IF(Plan!$C42=Rochelle!$H$1,Plan!F42,\"\")","v":""},{"$f":"IF(Plan!$C42=Rochelle!$H$1,Plan!G42,\"\")","v":""}]
[{"$f":"IF(Plan!$C43=Rochelle!$H$1,Plan!A43,\"\")","v":""},{"$f":"IF(Plan!$C43=Rochelle!$H$1,Plan!B43,\"\")","v":""},{"$f":"IF(Plan!$C43=Rochelle!$H$1,Plan!D43,\"\")","v":""},{"$f":"IF(Plan!$C43=Rochelle!$H$1,Plan!E43,\"\")","v":""},{"$f":"IF(Plan!$C43=Rochelle!$H$1,Plan!F43,\"\")","v":""},{"$f":"IF(Plan!$C43=Rochelle!$H$1,Plan!G43,\"\")","v":""}]

{"sheet":"Monia","index":4,"n_rows":43,"n_cols":8,"rows_kept":43,"cut":false,"hidden":false,"merged":[[0,0,0,5]]}
[{"$f":"CONCATENATE(\"Actions de \",MID(CELL(\"nomfichier\",I1),FIND(\"]\",CELL(\"nomfichier\",I1),20)+1,32))","v":"Actions de Monia"},null,null,null,null,null,null,{"$f":"MID(CELL(\"nomfichier\",I1),FIND(\"]\",CELL(\"nomfichier\",I1),20)+1,32)","v":"Monia"}]
[]
["N°","Actions","Lieu","Date","Durée","Moyens"]
[{"$f":"IF(Plan!$C4=Monia!$H$1,Plan!A4,\"\")","v":""},{"$f":"IF(Plan!$C4=Monia!$H$1,Plan!B4,\"\")","v":""},{"$f":"IF(Plan!$C4=Monia!$H$1,Plan!D4,\"\")","v":""},{"$f":"IF(Plan!$C4=Monia!$H$1,Plan!E4,\"\")","v":""},{"$f":"IF(Plan!$C4=Monia!$H$1,Plan!F4,\"\")","v":""},{"$f":"IF(Plan!$C4=Monia!$H$1,Plan!G4,\"\")","v":""}]
[{"$f":"IF(Plan!$C5=Monia!$H$1,Plan!A5,\"\")","v":""},{"$f":"IF(Plan!$C5=Monia!$H$1,Plan!B5,\"\")","v":""},{"$f":"IF(Plan!$C5=Monia!$H$1,Plan!D5,\"\")","v":""},{"$f":"IF(Plan!$C5=Monia!$H$1,Plan!E5,\"\")","v":""},{"$f":"IF(Plan!$C5=Monia!$H$1,Plan!F5,\"\")","v":""},{"$f":"IF(Plan!$C5=Monia!$H$1,Plan!G5,\"\")","v":""}]
[{"$f":"IF(Plan!$C6=Monia!$H$1,Plan!A6,\"\")","v":""},{"$f":"IF(Plan!$C6=Monia!$H$1,Plan!B6,\"\")","v":""},{"$f":"IF(Plan!$C6=Monia!$H$1,Plan!D6,\"\")","v":""},{"$f":"IF(Plan!$C6=Monia!$H$1,Plan!E6,\"\")","v":""},{"$f":"IF(Plan!$C6=Monia!$H$1,Plan!F6,\"\")","v":""},{"$f":"IF(Plan!$C6=Monia!$H$1,Plan!G6,\"\")","v":""}]
[{"$f":"IF(Plan!$C7=Monia!$H$1,Plan!A7,\"\")","v":""},{"$f":"IF(Plan!$C7=Monia!$H$1,Plan!B7,\"\")","v":""},{"$f":"IF(Plan!$C7=Monia!$H$1,Plan!D7,\"\")","v":""},{"$f":"IF(Plan!$C7=Monia!$H$1,Plan!E7,\"\")","v":""},{"$f":"IF(Plan!$C7=Monia!$H$1,Plan!F7,\"\")","v":""},{"$f":"IF(Plan!$C7=Monia!$H$1,Plan!G7,\"\")","v":""}]
[{"$f":"IF(Plan!$C8=Monia!$H$1,Plan!A8,\"\")","v":""},{"$f":"IF(Plan!$C8=Monia!$H$1,Plan!B8,\"\")","v":""},{"$f":"IF(Plan!$C8=Monia!$H$1,Plan!D8,\"\")","v":""},{"$f":"IF(Plan!$C8=Monia!$H$1,Plan!E8,\"\")","v":""},{"$f":"IF(Plan!$C8=Monia!$H$1,Plan!F8,\"\")","v":""},{"$f":"IF(Plan!$C8=Monia!$H$1,Plan!G8,\"\")","v":""}]
[{"$f":"IF(Plan!$C9=Monia!$H$1,Plan!A9,\"\")","v":""},{"$f":"IF(Plan!$C9=Monia!$H$1,Plan!B9,\"\")","v":""},{"$f":"IF(Plan!$C9=Monia!$H$1,Plan!D9,\"\")","v":""},{"$f":"IF(Plan!$C9=Monia!$H$1,Plan!E9,\"\")","v":""},{"$f":"IF(Plan!$C9=Monia!$H$1,Plan!F9,\"\")","v":""},{"$f":"IF(Plan!$C9=Monia!$H$1,Plan!G9,\"\")","v":""}]
[{"$f":"IF(Plan!$C10=Monia!$H$1,Plan!A10,\"\")","v":""},{"$f":"IF(Plan!$C10=Monia!$H$1,Plan!B10,\"\")","v":""},{"$f":"IF(Plan!$C10=Monia!$H$1,Plan!D10,\"\")","v":""},{"$f":"IF(Plan!$C10=Monia!$H$1,Plan!E10,\"\")","v":""},{"$f":"IF(Plan!$C10=Monia!$H$1,Plan!F10,\"\")","v":""},{"$f":"IF(Plan!$C10=Monia!$H$1,Plan!G10,\"\")","v":""}]
[{"$f":"IF(Plan!$C11=Monia!$H$1,Plan!A11,\"\")","v":""},{"$f":"IF(Plan!$C11=Monia!$H$1,Plan!B11,\"\")","v":""},{"$f":"IF(Plan!$C11=Monia!$H$1,Plan!D11,\"\")","v":""},{"$f":"IF(Plan!$C11=Monia!$H$1,Plan!E11,\"\")","v":""},{"$f":"IF(Plan!$C11=Monia!$H$1,Plan!F11,\"\")","v":""},{"$f":"IF(Plan!$C11=Monia!$H$1,Plan!G11,\"\")","v":""}]
[{"$f":"IF(Plan!$C12=Monia!$H$1,Plan!A12,\"\")","v":""},{"$f":"IF(Plan!$C12=Monia!$H$1,Plan!B12,\"\")","v":""},{"$f":"IF(Plan!$C12=Monia!$H$1,Plan!D12,\"\")","v":""},{"$f":"IF(Plan!$C12=Monia!$H$1,Plan!E12,\"\")","v":""},{"$f":"IF(Plan!$C12=Monia!$H$1,Plan!F12,\"\")","v":""},{"$f":"IF(Plan!$C12=Monia!$H$1,Plan!G12,\"\")","v":""}]
[{"$f":"IF(Plan!$C13=Monia!$H$1,Plan!A13,\"\")","v":""},{"$f":"IF(Plan!$C13=Monia!$H$1,Plan!B13,\"\")","v":""},{"$f":"IF(Plan!$C13=Monia!$H$1,Plan!D13,\"\")","v":""},{"$f":"IF(Plan!$C13=Monia!$H$1,Plan!E13,\"\")","v":""},{"$f":"IF(Plan!$C13=Monia!$H$1,Plan!F13,\"\")","v":""},{"$f":"IF(Plan!$C13=Monia!$H$1,Plan!G13,\"\")","v":""}]
[{"$f":"IF(Plan!$C14=Monia!$H$1,Plan!A14,\"\")","v":""},{"$f":"IF(Plan!$C14=Monia!$H$1,Plan!B14,\"\")","v":""},{"$f":"IF(Plan!$C14=Monia!$H$1,Plan!D14,\"\")","v":""},{"$f":"IF(Plan!$C14=Monia!$H$1,Plan!E14,\"\")","v":""},{"$f":"IF(Plan!$C14=Monia!$H$1,Plan!F14,\"\")","v":""},{"$f":"IF(Plan!$C14=Monia!$H$1,Plan!G14,\"\")","v":""}]
[{"$f":"IF(Plan!$C15=Monia!$H$1,Plan!A15,\"\")","v":""},{"$f":"IF(Plan!$C15=Monia!$H$1,Plan!B15,\"\")","v":""},{"$f":"IF(Plan!$C15=Monia!$H$1,Plan!D15,\"\")","v":""},{"$f":"IF(Plan!$C15=Monia!$H$1,Plan!E15,\"\")","v":""},{"$f":"IF(Plan!$C15=Monia!$H$1,Plan!F15,\"\")","v":""},{"$f":"IF(Plan!$C15=Monia!$H$1,Plan!G15,\"\")","v":""}]
[{"$f":"IF(Plan!$C16=Monia!$H$1,Plan!A16,\"\")","v":""},{"$f":"IF(Plan!$C16=Monia!$H$1,Plan!B16,\"\")","v":""},{"$f":"IF(Plan!$C16=Monia!$H$1,Plan!D16,\"\")","v":""},{"$f":"IF(Plan!$C16=Monia!$H$1,Plan!E16,\"\")","v":""},{"$f":"IF(Plan!$C16=Monia!$H$1,Plan!F16,\"\")","v":""},{"$f":"IF(Plan!$C16=Monia!$H$1,Plan!G16,\"\")","v":""}]
[{"$f":"IF(Plan!$C17=Monia!$H$1,Plan!A17,\"\")","v":""},{"$f":"IF(Plan!$C17=Monia!$H$1,Plan!B17,\"\")","v":""},{"$f":"IF(Plan!$C17=Monia!$H$1,Plan!D17,\"\")","v":""},{"$f":"IF(Plan!$C17=Monia!$H$1,Plan!E17,\"\")","v":""},{"$f":"IF(Plan!$C17=Monia!$H$1,Plan!F17,\"\")","v":""},{"$f":"IF(Plan!$C17=Monia!$H$1,Plan!G17,\"\")","v":""}]
[{"$f":"IF(Plan!$C18=Monia!$H$1,Plan!A18,\"\")","v":""},{"$f":"IF(Plan!$C18=Monia!$H$1,Plan!B18,\"\")","v":""},{"$f":"IF(Plan!$C18=Monia!$H$1,Plan!D18,\"\")","v":""},{"$f":"IF(Plan!$C18=Monia!$H$1,Plan!E18,\"\")","v":""},{"$f":"IF(Plan!$C18=Monia!$H$1,Plan!F18,\"\")","v":""},{"$f":"IF(Plan!$C18=Monia!$H$1,Plan!G18,\"\")","v":""}]
[{"$f":"IF(Plan!$C19=Monia!$H$1,Plan!A19,\"\")","v":""},{"$f":"IF(Plan!$C19=Monia!$H$1,Plan!B19,\"\")","v":""},{"$f":"IF(Plan!$C19=Monia!$H$1,Plan!D19,\"\")","v":""},{"$f":"IF(Plan!$C19=Monia!$H$1,Plan!E19,\"\")","v":""},{"$f":"IF(Plan!$C19=Monia!$H$1,Plan!F19,\"\")","v":""},{"$f":"IF(Plan!$C19=Monia!$H$1,Plan!G19,\"\")","v":""}]
[{"$f":"IF(Plan!$C20=Monia!$H$1,Plan!A20,\"\")","v":""},{"$f":"IF(Plan!$C20=Monia!$H$1,Plan!B20,\"\")","v":""},{"$f":"IF(Plan!$C20=Monia!$H$1,Plan!D20,\"\")","v":""},{"$f":"IF(Plan!$C20=Monia!$H$1,Plan!E20,\"\")","v":""},{"$f":"IF(Plan!$C20=Monia!$H$1,Plan!F20,\"\")","v":""},{"$f":"IF(Plan!$C20=Monia!$H$1,Plan!G20,\"\")","v":""}]
[{"$f":"IF(Plan!$C21=Monia!$H$1,Plan!A21,\"\")","v":""},{"$f":"IF(Plan!$C21=Monia!$H$1,Plan!B21,\"\")","v":""},{"$f":"IF(Plan!$C21=Monia!$H$1,Plan!D21,\"\")","v":""},{"$f":"IF(Plan!$C21=Monia!$H$1,Plan!E21,\"\")","v":""},{"$f":"IF(Plan!$C21=Monia!$H$1,Plan!F21,\"\")","v":""},{"$f":"IF(Plan!$C21=Monia!$H$1,Plan!G21,\"\")","v":""}]
[{"$f":"IF(Plan!$C22=Monia!$H$1,Plan!A22,\"\")","v":""},{"$f":"IF(Plan!$C22=Monia!$H$1,Plan!B22,\"\")","v":""},{"$f":"IF(Plan!$C22=Monia!$H$1,Plan!D22,\"\")","v":""},{"$f":"IF(Plan!$C22=Monia!$H$1,Plan!E22,\"\")","v":""},{"$f":"IF(Plan!$C22=Monia!$H$1,Plan!F22,\"\")","v":""},{"$f":"IF(Plan!$C22=Monia!$H$1,Plan!G22,\"\")","v":""}]
[{"$f":"IF(Plan!$C23=Monia!$H$1,Plan!A23,\"\")","v":""},{"$f":"IF(Plan!$C23=Monia!$H$1,Plan!B23,\"\")","v":""},{"$f":"IF(Plan!$C23=Monia!$H$1,Plan!D23,\"\")","v":""},{"$f":"IF(Plan!$C23=Monia!$H$1,Plan!E23,\"\")","v":""},{"$f":"IF(Plan!$C23=Monia!$H$1,Plan!F23,\"\")","v":""},{"$f":"IF(Plan!$C23=Monia!$H$1,Plan!G23,\"\")","v":""}]
[{"$f":"IF(Plan!$C24=Monia!$H$1,Plan!A24,\"\")","v":""},{"$f":"IF(Plan!$C24=Monia!$H$1,Plan!B24,\"\")","v":""},{"$f":"IF(Plan!$C24=Monia!$H$1,Plan!D24,\"\")","v":""},{"$f":"IF(Plan!$C24=Monia!$H$1,Plan!E24,\"\")","v":""},{"$f":"IF(Plan!$C24=Monia!$H$1,Plan!F24,\"\")","v":""},{"$f":"IF(Plan!$C24=Monia!$H$1,Plan!G24,\"\")","v":""}]
[{"$f":"IF(Plan!$C25=Monia!$H$1,Plan!A25,\"\")","v":""},{"$f":"IF(Plan!$C25=Monia!$H$1,Plan!B25,\"\")","v":""},{"$f":"IF(Plan!$C25=Monia!$H$1,Plan!D25,\"\")","v":""},{"$f":"IF(Plan!$C25=Monia!$H$1,Plan!E25,\"\")","v":""},{"$f":"IF(Plan!$C25=Monia!$H$1,Plan!F25,\"\")","v":""},{"$f":"IF(Plan!$C25=Monia!$H$1,Plan!G25,\"\")","v":""}]
[{"$f":"IF(Plan!$C26=Monia!$H$1,Plan!A26,\"\")","v":""},{"$f":"IF(Plan!$C26=Monia!$H$1,Plan!B26,\"\")","v":""},{"$f":"IF(Plan!$C26=Monia!$H$1,Plan!D26,\"\")","v":""},{"$f":"IF(Plan!$C26=Monia!$H$1,Plan!E26,\"\")","v":""},{"$f":"IF(Plan!$C26=Monia!$H$1,Plan!F26,\"\")","v":""},{"$f":"IF(Plan!$C26=Monia!$H$1,Plan!G26,\"\")","v":""}]
[{"$f":"IF(Plan!$C27=Monia!$H$1,Plan!A27,\"\")","v":""},{"$f":"IF(Plan!$C27=Monia!$H$1,Plan!B27,\"\")","v":""},{"$f":"IF(Plan!$C27=Monia!$H$1,Plan!D27,\"\")","v":""},{"$f":"IF(Plan!$C27=Monia!$H$1,Plan!E27,\"\")","v":""},{"$f":"IF(Plan!$C27=Monia!$H$1,Plan!F27,\"\")","v":""},{"$f":"IF(Plan!$C27=Monia!$H$1,Plan!G27,\"\")","v":""}]
[{"$f":"IF(Plan!$C28=Monia!$H$1,Plan!A28,\"\")","v":""},{"$f":"IF(Plan!$C28=Monia!$H$1,Plan!B28,\"\")","v":""},{"$f":"IF(Plan!$C28=Monia!$H$1,Plan!D28,\"\")","v":""},{"$f":"IF(Plan!$C28=Monia!$H$1,Plan!E28,\"\")","v":""},{"$f":"IF(Plan!$C28=Monia!$H$1,Plan!F28,\"\")","v":""},{"$f":"IF(Plan!$C28=Monia!$H$1,Plan!G28,\"\")","v":""}]
[{"$f":"IF(Plan!$C29=Monia!$H$1,Plan!A29,\"\")","v":""},{"$f":"IF(Plan!$C29=Monia!$H$1,Plan!B29,\"\")","v":""},{"$f":"IF(Plan!$C29=Monia!$H$1,Plan!D29,\"\")","v":""},{"$f":"IF(Plan!$C29=Monia!$H$1,Plan!E29,\"\")","v":""},{"$f":"IF(Plan!$C29=Monia!$H$1,Plan!F29,\"\")","v":""},{"$f":"IF(Plan!$C29=Monia!$H$1,Plan!G29,\"\")","v":""}]
[{"$f":"IF(Plan!$C30=Monia!$H$1,Plan!A30,\"\")","v":""},{"$f":"IF(Plan!$C30=Monia!$H$1,Plan!B30,\"\")","v":""},{"$f":"IF(Plan!$C30=Monia!$H$1,Plan!D30,\"\")","v":""},{"$f":"IF(Plan!$C30=Monia!$H$1,Plan!E30,\"\")","v":""},{"$f":"IF(Plan!$C30=Monia!$H$1,Plan!F30,\"\")","v":""},{"$f":"IF(Plan!$C30=Monia!$H$1,Plan!G30,\"\")","v":""}]
[{"$f":"IF(Plan!$C31=Monia!$H$1,Plan!A31,\"\")","v":""},{"$f":"IF(Plan!$C31=Monia!$H$1,Plan!B31,\"\")","v":""},{"$f":"IF(Plan!$C31=Monia!$H$1,Plan!D31,\"\")","v":""},{"$f":"IF(Plan!$C31=Monia!$H$1,Plan!E31,\"\")","v":""},{"$f":"IF(Plan!$C31=Monia!$H$1,Plan!F31,\"\")","v":""},{"$f":"IF(Plan!$C31=Monia!$H$1,Plan!G31,\"\")","v":""}]
[{"$f":"IF(Plan!$C32=Monia!$H$1,Plan!A32,\"\")","v":""},{"$f":"IF(Plan!$C32=Monia!$H$1,Plan!B32,\"\")","v":""},{"$f":"IF(Plan!$C32=Monia!$H$1,Plan!D32,\"\")","v":""},{"$f":"IF(Plan!$C32=Monia!$H$1,Plan!E32,\"\")","v":""},{"$f":"IF(Plan!$C32=Monia!$H$1,Plan!F32,\"\")","v":""},{"$f":"IF(Plan!$C32=Monia!$H$1,Plan!G32,\"\")","v":""}]
[{"$f":"IF(Plan!$C33=Monia!$H$1,Plan!A33,\"\")","v":""},{"$f":"IF(Plan!$C33=Monia!$H$1,Plan!B33,\"\")","v":""},{"$f":"IF(Plan!$C33=Monia!$H$1,Plan!D33,\"\")","v":""},{"$f":"IF(Plan!$C33=Monia!$H$1,Plan!E33,\"\")","v":""},{"$f":"IF(Plan!$C33=Monia!$H$1,Plan!F33,\"\")","v":""},{"$f":"IF(Plan!$C33=Monia!$H$1,Plan!G33,\"\")","v":""}]
[{"$f":"IF(Plan!$C34=Monia!$H$1,Plan!A34,\"\")","v":""},{"$f":"IF(Plan!$C34=Monia!$H$1,Plan!B34,\"\")","v":""},{"$f":"IF(Plan!$C34=Monia!$H$1,Plan!D34,\"\")","v":""},{"$f":"IF(Plan!$C34=Monia!$H$1,Plan!E34,\"\")","v":""},{"$f":"IF(Plan!$C34=Monia!$H$1,Plan!F34,\"\")","v":""},{"$f":"IF(Plan!$C34=Monia!$H$1,Plan!G34,\"\")","v":""}]
[{"$f":"IF(Plan!$C35=Monia!$H$1,Plan!A35,\"\")","v":""},{"$f":"IF(Plan!$C35=Monia!$H$1,Plan!B35,\"\")","v":""},{"$f":"IF(Plan!$C35=Monia!$H$1,Plan!D35,\"\")","v":""},{"$f":"IF(Plan!$C35=Monia!$H$1,Plan!E35,\"\")","v":""},{"$f":"IF(Plan!$C35=Monia!$H$1,Plan!F35,\"\")","v":""},{"$f":"IF(Plan!$C35=Monia!$H$1,Plan!G35,\"\")","v":""}]
[{"$f":"IF(Plan!$C36=Monia!$H$1,Plan!A36,\"\")","v":""},{"$f":"IF(Plan!$C36=Monia!$H$1,Plan!B36,\"\")","v":""},{"$f":"IF(Plan!$C36=Monia!$H$1,Plan!D36,\"\")","v":""},{"$f":"IF(Plan!$C36=Monia!$H$1,Plan!E36,\"\")","v":""},{"$f":"IF(Plan!$C36=Monia!$H$1,Plan!F36,\"\")","v":""},{"$f":"IF(Plan!$C36=Monia!$H$1,Plan!G36,\"\")","v":""}]
[{"$f":"IF(Plan!$C37=Monia!$H$1,Plan!A37,\"\")","v":""},{"$f":"IF(Plan!$C37=Monia!$H$1,Plan!B37,\"\")","v":""},{"$f":"IF(Plan!$C37=Monia!$H$1,Plan!D37,\"\")","v":""},{"$f":"IF(Plan!$C37=Monia!$H$1,Plan!E37,\"\")","v":""},{"$f":"IF(Plan!$C37=Monia!$H$1,Plan!F37,\"\")","v":""},{"$f":"IF(Plan!$C37=Monia!$H$1,Plan!G37,\"\")","v":""}]
[{"$f":"IF(Plan!$C38=Monia!$H$1,Plan!A38,\"\")","v":""},{"$f":"IF(Plan!$C38=Monia!$H$1,Plan!B38,\"\")","v":""},{"$f":"IF(Plan!$C38=Monia!$H$1,Plan!D38,\"\")","v":""},{"$f":"IF(Plan!$C38=Monia!$H$1,Plan!E38,\"\")","v":""},{"$f":"IF(Plan!$C38=Monia!$H$1,Plan!F38,\"\")","v":""},{"$f":"IF(Plan!$C38=Monia!$H$1,Plan!G38,\"\")","v":""}]
[{"$f":"IF(Plan!$C39=Monia!$H$1,Plan!A39,\"\")","v":""},{"$f":"IF(Plan!$C39=Monia!$H$1,Plan!B39,\"\")","v":""},{"$f":"IF(Plan!$C39=Monia!$H$1,Plan!D39,\"\")","v":""},{"$f":"IF(Plan!$C39=Monia!$H$1,Plan!E39,\"\")","v":""},{"$f":"IF(Plan!$C39=Monia!$H$1,Plan!F39,\"\")","v":""},{"$f":"IF(Plan!$C39=Monia!$H$1,Plan!G39,\"\")","v":""}]
[{"$f":"IF(Plan!$C40=Monia!$H$1,Plan!A40,\"\")","v":""},{"$f":"IF(Plan!$C40=Monia!$H$1,Plan!B40,\"\")","v":""},{"$f":"IF(Plan!$C40=Monia!$H$1,Plan!D40,\"\")","v":""},{"$f":"IF(Plan!$C40=Monia!$H$1,Plan!E40,\"\")","v":""},{"$f":"IF(Plan!$C40=Monia!$H$1,Plan!F40,\"\")","v":""},{"$f":"IF(Plan!$C40=Monia!$H$1,Plan!G40,\"\")","v":""}]
[{"$f":"IF(Plan!$C41=Monia!$H$1,Plan!A41,\"\")","v":""},{"$f":"IF(Plan!$C41=Monia!$H$1,Plan!B41,\"\")","v":""},{"$f":"IF(Plan!$C41=Monia!$H$1,Plan!D41,\"\")","v":""},{"$f":"IF(Plan!$C41=Monia!$H$1,Plan!E41,\"\")","v":""},{"$f":"IF(Plan!$C41=Monia!$H$1,Plan!F41,\"\")","v":""},{"$f":"IF(Plan!$C41=Monia!$H$1,Plan!G41,\"\")","v":""}]
[{"$f":"IF(Plan!$C42=Monia!$H$1,Plan!A42,\"\")","v":""},{"$f":"IF(Plan!$C42=Monia!$H$1,Plan!B42,\"\")","v":""},{"$f":"IF(Plan!$C42=Monia!$H$1,Plan!D42,\"\")","v":""},{"$f":"IF(Plan!$C42=Monia!$H$1,Plan!E42,\"\")","v":""},{"$f":"IF(Plan!$C42=Monia!$H$1,Plan!F42,\"\")","v":""},{"$f":"IF(Plan!$C42=Monia!$H$1,Plan!G42,\"\")","v":""}]
[{"$f":"IF(Plan!$C43=Monia!$H$1,Plan!A43,\"\")","v":""},{"$f":"IF(Plan!$C43=Monia!$H$1,Plan!B43,\"\")","v":""},{"$f":"IF(Plan!$C43=Monia!$H$1,Plan!D43,\"\")","v":""},{"$f":"IF(Plan!$C43=Monia!$H$1,Plan!E43,\"\")","v":""},{"$f":"IF(Plan!$C43=Monia!$H$1,Plan!F43,\"\")","v":""},{"$f":"IF(Plan!$C43=Monia!$H$1,Plan!G43,\"\")","v":""}]

{"sheet":"Florence","index":5,"n_rows":43,"n_cols":8,"rows_kept":43,"cut":false,"hidden":false,"merged":[[0,0,0,5]]}
[{"$f":"CONCATENATE(\"Actions de \",MID(CELL(\"nomfichier\",I1),FIND(\"]\",CELL(\"nomfichier\",I1),20)+1,32))","v":"Actions de Florence"},null,null,null,null,null,null,{"$f":"MID(CELL(\"nomfichier\",I1),FIND(\"]\",CELL(\"nomfichier\",I1),20)+1,32)","v":"Florence"}]
[]
["N°","Actions","Lieu","Date","Durée","Moyens"]
[{"$f":"IF(Plan!$C4=Florence!$H$1,Plan!A4,\"\")","v":""},{"$f":"IF(Plan!$C4=Florence!$H$1,Plan!B4,\"\")","v":""},{"$f":"IF(Plan!$C4=Florence!$H$1,Plan!D4,\"\")","v":""},{"$f":"IF(Plan!$C4=Florence!$H$1,Plan!E4,\"\")","v":""},{"$f":"IF(Plan!$C4=Florence!$H$1,Plan!F4,\"\")","v":""},{"$f":"IF(Plan!$C4=Florence!$H$1,Plan!G4,\"\")","v":""}]
[{"$f":"IF(Plan!$C5=Florence!$H$1,Plan!A5,\"\")","v":""},{"$f":"IF(Plan!$C5=Florence!$H$1,Plan!B5,\"\")","v":""},{"$f":"IF(Plan!$C5=Florence!$H$1,Plan!D5,\"\")","v":""},{"$f":"IF(Plan!$C5=Florence!$H$1,Plan!E5,\"\")","v":""},{"$f":"IF(Plan!$C5=Florence!$H$1,Plan!F5,\"\")","v":""},{"$f":"IF(Plan!$C5=Florence!$H$1,Plan!G5,\"\")","v":""}]
[{"$f":"IF(Plan!$C6=Florence!$H$1,Plan!A6,\"\")","v":""},{"$f":"IF(Plan!$C6=Florence!$H$1,Plan!B6,\"\")","v":""},{"$f":"IF(Plan!$C6=Florence!$H$1,Plan!D6,\"\")","v":""},{"$f":"IF(Plan!$C6=Florence!$H$1,Plan!E6,\"\")","v":""},{"$f":"IF(Plan!$C6=Florence!$H$1,Plan!F6,\"\")","v":""},{"$f":"IF(Plan!$C6=Florence!$H$1,Plan!G6,\"\")","v":""}]
[{"$f":"IF(Plan!$C7=Florence!$H$1,Plan!A7,\"\")","v":""},{"$f":"IF(Plan!$C7=Florence!$H$1,Plan!B7,\"\")","v":""},{"$f":"IF(Plan!$C7=Florence!$H$1,Plan!D7,\"\")","v":""},{"$f":"IF(Plan!$C7=Florence!$H$1,Plan!E7,\"\")","v":""},{"$f":"IF(Plan!$C7=Florence!$H$1,Plan!F7,\"\")","v":""},{"$f":"IF(Plan!$C7=Florence!$H$1,Plan!G7,\"\")","v":""}]
[{"$f":"IF(Plan!$C8=Florence!$H$1,Plan!A8,\"\")","v":""},{"$f":"IF(Plan!$C8=Florence!$H$1,Plan!B8,\"\")","v":""},{"$f":"IF(Plan!$C8=Florence!$H$1,Plan!D8,\"\")","v":""},{"$f":"IF(Plan!$C8=Florence!$H$1,Plan!E8,\"\")","v":""},{"$f":"IF(Plan!$C8=Florence!$H$1,Plan!F8,\"\")","v":""},{"$f":"IF(Plan!$C8=Florence!$H$1,Plan!G8,\"\")","v":""}]
[{"$f":"IF(Plan!$C9=Florence!$H$1,Plan!A9,\"\")","v":""},{"$f":"IF(Plan!$C9=Florence!$H$1,Plan!B9,\"\")","v":""},{"$f":"IF(Plan!$C9=Florence!$H$1,Plan!D9,\"\")","v":""},{"$f":"IF(Plan!$C9=Florence!$H$1,Plan!E9,\"\")","v":""},{"$f":"IF(Plan!$C9=Florence!$H$1,Plan!F9,\"\")","v":""},{"$f":"IF(Plan!$C9=Florence!$H$1,Plan!G9,\"\")","v":""}]
[{"$f":"IF(Plan!$C10=Florence!$H$1,Plan!A10,\"\")","v":""},{"$f":"IF(Plan!$C10=Florence!$H$1,Plan!B10,\"\")","v":""},{"$f":"IF(Plan!$C10=Florence!$H$1,Plan!D10,\"\")","v":""},{"$f":"IF(Plan!$C10=Florence!$H$1,Plan!E10,\"\")","v":""},{"$f":"IF(Plan!$C10=Florence!$H$1,Plan!F10,\"\")","v":""},{"$f":"IF(Plan!$C10=Florence!$H$1,Plan!G10,\"\")","v":""}]
[{"$f":"IF(Plan!$C11=Florence!$H$1,Plan!A11,\"\")","v":""},{"$f":"IF(Plan!$C11=Florence!$H$1,Plan!B11,\"\")","v":""},{"$f":"IF(Plan!$C11=Florence!$H$1,Plan!D11,\"\")","v":""},{"$f":"IF(Plan!$C11=Florence!$H$1,Plan!E11,\"\")","v":""},{"$f":"IF(Plan!$C11=Florence!$H$1,Plan!F11,\"\")","v":""},{"$f":"IF(Plan!$C11=Florence!$H$1,Plan!G11,\"\")","v":""}]
[{"$f":"IF(Plan!$C12=Florence!$H$1,Plan!A12,\"\")","v":""},{"$f":"IF(Plan!$C12=Florence!$H$1,Plan!B12,\"\")","v":""},{"$f":"IF(Plan!$C12=Florence!$H$1,Plan!D12,\"\")","v":""},{"$f":"IF(Plan!$C12=Florence!$H$1,Plan!E12,\"\")","v":""},{"$f":"IF(Plan!$C12=Florence!$H$1,Plan!F12,\"\")","v":""},{"$f":"IF(Plan!$C12=Florence!$H$1,Plan!G12,\"\")","v":""}]
[{"$f":"IF(Plan!$C13=Florence!$H$1,Plan!A13,\"\")","v":""},{"$f":"IF(Plan!$C13=Florence!$H$1,Plan!B13,\"\")","v":""},{"$f":"IF(Plan!$C13=Florence!$H$1,Plan!D13,\"\")","v":""},{"$f":"IF(Plan!$C13=Florence!$H$1,Plan!E13,\"\")","v":""},{"$f":"IF(Plan!$C13=Florence!$H$1,Plan!F13,\"\")","v":""},{"$f":"IF(Plan!$C13=Florence!$H$1,Plan!G13,\"\")","v":""}]
[{"$f":"IF(Plan!$C14=Florence!$H$1,Plan!A14,\"\")","v":""},{"$f":"IF(Plan!$C14=Florence!$H$1,Plan!B14,\"\")","v":""},{"$f":"IF(Plan!$C14=Florence!$H$1,Plan!D14,\"\")","v":""},{"$f":"IF(Plan!$C14=Florence!$H$1,Plan!E14,\"\")","v":""},{"$f":"IF(Plan!$C14=Florence!$H$1,Plan!F14,\"\")","v":""},{"$f":"IF(Plan!$C14=Florence!$H$1,Plan!G14,\"\")","v":""}]
[{"$f":"IF(Plan!$C15=Florence!$H$1,Plan!A15,\"\")","v":""},{"$f":"IF(Plan!$C15=Florence!$H$1,Plan!B15,\"\")","v":""},{"$f":"IF(Plan!$C15=Florence!$H$1,Plan!D15,\"\")","v":""},{"$f":"IF(Plan!$C15=Florence!$H$1,Plan!E15,\"\")","v":""},{"$f":"IF(Plan!$C15=Florence!$H$1,Plan!F15,\"\")","v":""},{"$f":"IF(Plan!$C15=Florence!$H$1,Plan!G15,\"\")","v":""}]
[{"$f":"IF(Plan!$C16=Florence!$H$1,Plan!A16,\"\")","v":""},{"$f":"IF(Plan!$C16=Florence!$H$1,Plan!B16,\"\")","v":""},{"$f":"IF(Plan!$C16=Florence!$H$1,Plan!D16,\"\")","v":""},{"$f":"IF(Plan!$C16=Florence!$H$1,Plan!E16,\"\")","v":""},{"$f":"IF(Plan!$C16=Florence!$H$1,Plan!F16,\"\")","v":""},{"$f":"IF(Plan!$C16=Florence!$H$1,Plan!G16,\"\")","v":""}]
[{"$f":"IF(Plan!$C17=Florence!$H$1,Plan!A17,\"\")","v":""},{"$f":"IF(Plan!$C17=Florence!$H$1,Plan!B17,\"\")","v":""},{"$f":"IF(Plan!$C17=Florence!$H$1,Plan!D17,\"\")","v":""},{"$f":"IF(Plan!$C17=Florence!$H$1,Plan!E17,\"\")","v":""},{"$f":"IF(Plan!$C17=Florence!$H$1,Plan!F17,\"\")","v":""},{"$f":"IF(Plan!$C17=Florence!$H$1,Plan!G17,\"\")","v":""}]
[{"$f":"IF(Plan!$C18=Florence!$H$1,Plan!A18,\"\")","v":""},{"$f":"IF(Plan!$C18=Florence!$H$1,Plan!B18,\"\")","v":""},{"$f":"IF(Plan!$C18=Florence!$H$1,Plan!D18,\"\")","v":""},{"$f":"IF(Plan!$C18=Florence!$H$1,Plan!E18,\"\")","v":""},{"$f":"IF(Plan!$C18=Florence!$H$1,Plan!F18,\"\")","v":""},{"$f":"IF(Plan!$C18=Florence!$H$1,Plan!G18,\"\")","v":""}]
[{"$f":"IF(Plan!$C19=Florence!$H$1,Plan!A19,\"\")","v":""},{"$f":"IF(Plan!$C19=Florence!$H$1,Plan!B19,\"\")","v":""},{"$f":"IF(Plan!$C19=Florence!$H$1,Plan!D19,\"\")","v":""},{"$f":"IF(Plan!$C19=Florence!$H$1,Plan!E19,\"\")","v":""},{"$f":"IF(Plan!$C19=Florence!$H$1,Plan!F19,\"\")","v":""},{"$f":"IF(Plan!$C19=Florence!$H$1,Plan!G19,\"\")","v":""}]
[{"$f":"IF(Plan!$C20=Florence!$H$1,Plan!A20,\"\")","v":""},{"$f":"IF(Plan!$C20=Florence!$H$1,Plan!B20,\"\")","v":""},{"$f":"IF(Plan!$C20=Florence!$H$1,Plan!D20,\"\")","v":""},{"$f":"IF(Plan!$C20=Florence!$H$1,Plan!E20,\"\")","v":""},{"$f":"IF(Plan!$C20=Florence!$H$1,Plan!F20,\"\")","v":""},{"$f":"IF(Plan!$C20=Florence!$H$1,Plan!G20,\"\")","v":""}]
[{"$f":"IF(Plan!$C21=Florence!$H$1,Plan!A21,\"\")","v":""},{"$f":"IF(Plan!$C21=Florence!$H$1,Plan!B21,\"\")","v":""},{"$f":"IF(Plan!$C21=Florence!$H$1,Plan!D21,\"\")","v":""},{"$f":"IF(Plan!$C21=Florence!$H$1,Plan!E21,\"\")","v":""},{"$f":"IF(Plan!$C21=Florence!$H$1,Plan!F21,\"\")","v":""},{"$f":"IF(Plan!$C21=Florence!$H$1,Plan!G21,\"\")","v":""}]
[{"$f":"IF(Plan!$C22=Florence!$H$1,Plan!A22,\"\")","v":""},{"$f":"IF(Plan!$C22=Florence!$H$1,Plan!B22,\"\")","v":""},{"$f":"IF(Plan!$C22=Florence!$H$1,Plan!D22,\"\")","v":""},{"$f":"IF(Plan!$C22=Florence!$H$1,Plan!E22,\"\")","v":""},{"$f":"IF(Plan!$C22=Florence!$H$1,Plan!F22,\"\")","v":""},{"$f":"IF(Plan!$C22=Florence!$H$1,Plan!G22,\"\")","v":""}]
[{"$f":"IF(Plan!$C23=Florence!$H$1,Plan!A23,\"\")","v":""},{"$f":"IF(Plan!$C23=Florence!$H$1,Plan!B23,\"\")","v":""},{"$f":"IF(Plan!$C23=Florence!$H$1,Plan!D23,\"\")","v":""},{"$f":"IF(Plan!$C23=Florence!$H$1,Plan!E23,\"\")","v":""},{"$f":"IF(Plan!$C23=Florence!$H$1,Plan!F23,\"\")","v":""},{"$f":"IF(Plan!$C23=Florence!$H$1,Plan!G23,\"\")","v":""}]
[{"$f":"IF(Plan!$C24=Florence!$H$1,Plan!A24,\"\")","v":""},{"$f":"IF(Plan!$C24=Florence!$H$1,Plan!B24,\"\")","v":""},{"$f":"IF(Plan!$C24=Florence!$H$1,Plan!D24,\"\")","v":""},{"$f":"IF(Plan!$C24=Florence!$H$1,Plan!E24,\"\")","v":""},{"$f":"IF(Plan!$C24=Florence!$H$1,Plan!F24,\"\")","v":""},{"$f":"IF(Plan!$C24=Florence!$H$1,Plan!G24,\"\")","v":""}]
[{"$f":"IF(Plan!$C25=Florence!$H$1,Plan!A25,\"\")","v":""},{"$f":"IF(Plan!$C25=Florence!$H$1,Plan!B25,\"\")","v":""},{"$f":"IF(Plan!$C25=Florence!$H$1,Plan!D25,\"\")","v":""},{"$f":"IF(Plan!$C25=Florence!$H$1,Plan!E25,\"\")","v":""},{"$f":"IF(Plan!$C25=Florence!$H$1,Plan!F25,\"\")","v":""},{"$f":"IF(Plan!$C25=Florence!$H$1,Plan!G25,\"\")","v":""}]
[{"$f":"IF(Plan!$C26=Florence!$H$1,Plan!A26,\"\")","v":""},{"$f":"IF(Plan!$C26=Florence!$H$1,Plan!B26,\"\")","v":""},{"$f":"IF(Plan!$C26=Florence!$H$1,Plan!D26,\"\")","v":""},{"$f":"IF(Plan!$C26=Florence!$H$1,Plan!E26,\"\")","v":""},{"$f":"IF(Plan!$C26=Florence!$H$1,Plan!F26,\"\")","v":""},{"$f":"IF(Plan!$C26=Florence!$H$1,Plan!G26,\"\")","v":""}]
[{"$f":"IF(Plan!$C27=Florence!$H$1,Plan!A27,\"\")","v":""},{"$f":"IF(Plan!$C27=Florence!$H$1,Plan!B27,\"\")","v":""},{"$f":"IF(Plan!$C27=Florence!$H$1,Plan!D27,\"\")","v":""},{"$f":"IF(Plan!$C27=Florence!$H$1,Plan!E27,\"\")","v":""},{"$f":"IF(Plan!$C27=Florence!$H$1,Plan!F27,\"\")","v":""},{"$f":"IF(Plan!$C27=Florence!$H$1,Plan!G27,\"\")","v":""}]
[{"$f":"IF(Plan!$C28=Florence!$H$1,Plan!A28,\"\")","v":""},{"$f":"IF(Plan!$C28=Florence!$H$1,Plan!B28,\"\")","v":""},{"$f":"IF(Plan!$C28=Florence!$H$1,Plan!D28,\"\")","v":""},{"$f":"IF(Plan!$C28=Florence!$H$1,Plan!E28,\"\")","v":""},{"$f":"IF(Plan!$C28=Florence!$H$1,Plan!F28,\"\")","v":""},{"$f":"IF(Plan!$C28=Florence!$H$1,Plan!G28,\"\")","v":""}]
[{"$f":"IF(Plan!$C29=Florence!$H$1,Plan!A29,\"\")","v":""},{"$f":"IF(Plan!$C29=Florence!$H$1,Plan!B29,\"\")","v":""},{"$f":"IF(Plan!$C29=Florence!$H$1,Plan!D29,\"\")","v":""},{"$f":"IF(Plan!$C29=Florence!$H$1,Plan!E29,\"\")","v":""},{"$f":"IF(Plan!$C29=Florence!$H$1,Plan!F29,\"\")","v":""},{"$f":"IF(Plan!$C29=Florence!$H$1,Plan!G29,\"\")","v":""}]
[{"$f":"IF(Plan!$C30=Florence!$H$1,Plan!A30,\"\")","v":""},{"$f":"IF(Plan!$C30=Florence!$H$1,Plan!B30,\"\")","v":""},{"$f":"IF(Plan!$C30=Florence!$H$1,Plan!D30,\"\")","v":""},{"$f":"IF(Plan!$C30=Florence!$H$1,Plan!E30,\"\")","v":""},{"$f":"IF(Plan!$C30=Florence!$H$1,Plan!F30,\"\")","v":""},{"$f":"IF(Plan!$C30=Florence!$H$1,Plan!G30,\"\")","v":""}]
[{"$f":"IF(Plan!$C31=Florence!$H$1,Plan!A31,\"\")","v":""},{"$f":"IF(Plan!$C31=Florence!$H$1,Plan!B31,\"\")","v":""},{"$f":"IF(Plan!$C31=Florence!$H$1,Plan!D31,\"\")","v":""},{"$f":"IF(Plan!$C31=Florence!$H$1,Plan!E31,\"\")","v":""},{"$f":"IF(Plan!$C31=Florence!$H$1,Plan!F31,\"\")","v":""},{"$f":"IF(Plan!$C31=Florence!$H$1,Plan!G31,\"\")","v":""}]
[{"$f":"IF(Plan!$C32=Florence!$H$1,Plan!A32,\"\")","v":""},{"$f":"IF(Plan!$C32=Florence!$H$1,Plan!B32,\"\")","v":""},{"$f":"IF(Plan!$C32=Florence!$H$1,Plan!D32,\"\")","v":""},{"$f":"IF(Plan!$C32=Florence!$H$1,Plan!E32,\"\")","v":""},{"$f":"IF(Plan!$C32=Florence!$H$1,Plan!F32,\"\")","v":""},{"$f":"IF(Plan!$C32=Florence!$H$1,Plan!G32,\"\")","v":""}]
[{"$f":"IF(Plan!$C33=Florence!$H$1,Plan!A33,\"\")","v":""},{"$f":"IF(Plan!$C33=Florence!$H$1,Plan!B33,\"\")","v":""},{"$f":"IF(Plan!$C33=Florence!$H$1,Plan!D33,\"\")","v":""},{"$f":"IF(Plan!$C33=Florence!$H$1,Plan!E33,\"\")","v":""},{"$f":"IF(Plan!$C33=Florence!$H$1,Plan!F33,\"\")","v":""},{"$f":"IF(Plan!$C33=Florence!$H$1,Plan!G33,\"\")","v":""}]
[{"$f":"IF(Plan!$C34=Florence!$H$1,Plan!A34,\"\")","v":""},{"$f":"IF(Plan!$C34=Florence!$H$1,Plan!B34,\"\")","v":""},{"$f":"IF(Plan!$C34=Florence!$H$1,Plan!D34,\"\")","v":""},{"$f":"IF(Plan!$C34=Florence!$H$1,Plan!E34,\"\")","v":""},{"$f":"IF(Plan!$C34=Florence!$H$1,Plan!F34,\"\")","v":""},{"$f":"IF(Plan!$C34=Florence!$H$1,Plan!G34,\"\")","v":""}]
[{"$f":"IF(Plan!$C35=Florence!$H$1,Plan!A35,\"\")","v":""},{"$f":"IF(Plan!$C35=Florence!$H$1,Plan!B35,\"\")","v":""},{"$f":"IF(Plan!$C35=Florence!$H$1,Plan!D35,\"\")","v":""},{"$f":"IF(Plan!$C35=Florence!$H$1,Plan!E35,\"\")","v":""},{"$f":"IF(Plan!$C35=Florence!$H$1,Plan!F35,\"\")","v":""},{"$f":"IF(Plan!$C35=Florence!$H$1,Plan!G35,\"\")","v":""}]
[{"$f":"IF(Plan!$C36=Florence!$H$1,Plan!A36,\"\")","v":""},{"$f":"IF(Plan!$C36=Florence!$H$1,Plan!B36,\"\")","v":""},{"$f":"IF(Plan!$C36=Florence!$H$1,Plan!D36,\"\")","v":""},{"$f":"IF(Plan!$C36=Florence!$H$1,Plan!E36,\"\")","v":""},{"$f":"IF(Plan!$C36=Florence!$H$1,Plan!F36,\"\")","v":""},{"$f":"IF(Plan!$C36=Florence!$H$1,Plan!G36,\"\")","v":""}]
[{"$f":"IF(Plan!$C37=Florence!$H$1,Plan!A37,\"\")","v":""},{"$f":"IF(Plan!$C37=Florence!$H$1,Plan!B37,\"\")","v":""},{"$f":"IF(Plan!$C37=Florence!$H$1,Plan!D37,\"\")","v":""},{"$f":"IF(Plan!$C37=Florence!$H$1,Plan!E37,\"\")","v":""},{"$f":"IF(Plan!$C37=Florence!$H$1,Plan!F37,\"\")","v":""},{"$f":"IF(Plan!$C37=Florence!$H$1,Plan!G37,\"\")","v":""}]
[{"$f":"IF(Plan!$C38=Florence!$H$1,Plan!A38,\"\")","v":""},{"$f":"IF(Plan!$C38=Florence!$H$1,Plan!B38,\"\")","v":""},{"$f":"IF(Plan!$C38=Florence!$H$1,Plan!D38,\"\")","v":""},{"$f":"IF(Plan!$C38=Florence!$H$1,Plan!E38,\"\")","v":""},{"$f":"IF(Plan!$C38=Florence!$H$1,Plan!F38,\"\")","v":""},{"$f":"IF(Plan!$C38=Florence!$H$1,Plan!G38,\"\")","v":""}]
[{"$f":"IF(Plan!$C39=Florence!$H$1,Plan!A39,\"\")","v":""},{"$f":"IF(Plan!$C39=Florence!$H$1,Plan!B39,\"\")","v":""},{"$f":"IF(Plan!$C39=Florence!$H$1,Plan!D39,\"\")","v":""},{"$f":"IF(Plan!$C39=Florence!$H$1,Plan!E39,\"\")","v":""},{"$f":"IF(Plan!$C39=Florence!$H$1,Plan!F39,\"\")","v":""},{"$f":"IF(Plan!$C39=Florence!$H$1,Plan!G39,\"\")","v":""}]
[{"$f":"IF(Plan!$C40=Florence!$H$1,Plan!A40,\"\")","v":""},{"$f":"IF(Plan!$C40=Florence!$H$1,Plan!B40,\"\")","v":""},{"$f":"IF(Plan!$C40=Florence!$H$1,Plan!D40,\"\")","v":""},{"$f":"IF(Plan!$C40=Florence!$H$1,Plan!E40,\"\")","v":""},{"$f":"IF(Plan!$C40=Florence!$H$1,Plan!F40,\"\")","v":""},{"$f":"IF(Plan!$C40=Florence!$H$1,Plan!G40,\"\")","v":""}]
[{"$f":"IF(Plan!$C41=Florence!$H$1,Plan!A41,\"\")","v":""},{"$f":"IF(Plan!$C41=Florence!$H$1,Plan!B41,\"\")","v":""},{"$f":"IF(Plan!$C41=Florence!$H$1,Plan!D41,\"\")","v":""},{"$f":"IF(Plan!$C41=Florence!$H$1,Plan!E41,\"\")","v":""},{"$f":"IF(Plan!$C41=Florence!$H$1,Plan!F41,\"\")","v":""},{"$f":"IF(Plan!$C41=Florence!$H$1,Plan!G41,\"\")","v":""}]
[{"$f":"IF(Plan!$C42=Florence!$H$1,Plan!A42,\"\")","v":""},{"$f":"IF(Plan!$C42=Florence!$H$1,Plan!B42,\"\")","v":""},{"$f":"IF(Plan!$C42=Florence!$H$1,Plan!D42,\"\")","v":""},{"$f":"IF(Plan!$C42=Florence!$H$1,Plan!E42,\"\")","v":""},{"$f":"IF(Plan!$C42=Florence!$H$1,Plan!F42,\"\")","v":""},{"$f":"IF(Plan!$C42=Florence!$H$1,Plan!G42,\"\")","v":""}]
[{"$f":"IF(Plan!$C43=Florence!$H$1,Plan!A43,\"\")","v":""},{"$f":"IF(Plan!$C43=Florence!$H$1,Plan!B43,\"\")","v":""},{"$f":"IF(Plan!$C43=Florence!$H$1,Plan!D43,\"\")","v":""},{"$f":"IF(Plan!$C43=Florence!$H$1,Plan!E43,\"\")","v":""},{"$f":"IF(Plan!$C43=Florence!$H$1,Plan!F43,\"\")","v":""},{"$f":"IF(Plan!$C43=Florence!$H$1,Plan!G43,\"\")","v":""}]

{"sheet":"Jean-Pierre","index":6,"n_rows":43,"n_cols":8,"rows_kept":43,"cut":false,"hidden":false,"merged":[[0,0,0,5]]}
[{"$f":"CONCATENATE(\"Actions de \",MID(CELL(\"nomfichier\",I1),FIND(\"]\",CELL(\"nomfichier\",I1),20)+1,32))","v":"Actions de Jean-Pierre"},null,null,null,null,null,null,{"$f":"MID(CELL(\"nomfichier\",I1),FIND(\"]\",CELL(\"nomfichier\",I1),20)+1,32)","v":"Jean-Pierre"}]
[]
["N°","Actions","Lieu","Date","Durée","Moyens"]
[{"$f":"IF(Plan!$C4='Jean-Pierre'!$H$1,Plan!A4,\"\")","v":""},{"$f":"IF(Plan!$C4='Jean-Pierre'!$H$1,Plan!B4,\"\")","v":""},{"$f":"IF(Plan!$C4='Jean-Pierre'!$H$1,Plan!D4,\"\")","v":""},{"$f":"IF(Plan!$C4='Jean-Pierre'!$H$1,Plan!E4,\"\")","v":""},{"$f":"IF(Plan!$C4='Jean-Pierre'!$H$1,Plan!F4,\"\")","v":""},{"$f":"IF(Plan!$C4='Jean-Pierre'!$H$1,Plan!G4,\"\")","v":""}]
[{"$f":"IF(Plan!$C5='Jean-Pierre'!$H$1,Plan!A5,\"\")","v":""},{"$f":"IF(Plan!$C5='Jean-Pierre'!$H$1,Plan!B5,\"\")","v":""},{"$f":"IF(Plan!$C5='Jean-Pierre'!$H$1,Plan!D5,\"\")","v":""},{"$f":"IF(Plan!$C5='Jean-Pierre'!$H$1,Plan!E5,\"\")","v":""},{"$f":"IF(Plan!$C5='Jean-Pierre'!$H$1,Plan!F5,\"\")","v":""},{"$f":"IF(Plan!$C5='Jean-Pierre'!$H$1,Plan!G5,\"\")","v":""}]
[{"$f":"IF(Plan!$C6='Jean-Pierre'!$H$1,Plan!A6,\"\")","v":""},{"$f":"IF(Plan!$C6='Jean-Pierre'!$H$1,Plan!B6,\"\")","v":""},{"$f":"IF(Plan!$C6='Jean-Pierre'!$H$1,Plan!D6,\"\")","v":""},{"$f":"IF(Plan!$C6='Jean-Pierre'!$H$1,Plan!E6,\"\")","v":""},{"$f":"IF(Plan!$C6='Jean-Pierre'!$H$1,Plan!F6,\"\")","v":""},{"$f":"IF(Plan!$C6='Jean-Pierre'!$H$1,Plan!G6,\"\")","v":""}]
[{"$f":"IF(Plan!$C7='Jean-Pierre'!$H$1,Plan!A7,\"\")","v":""},{"$f":"IF(Plan!$C7='Jean-Pierre'!$H$1,Plan!B7,\"\")","v":""},{"$f":"IF(Plan!$C7='Jean-Pierre'!$H$1,Plan!D7,\"\")","v":""},{"$f":"IF(Plan!$C7='Jean-Pierre'!$H$1,Plan!E7,\"\")","v":""},{"$f":"IF(Plan!$C7='Jean-Pierre'!$H$1,Plan!F7,\"\")","v":""},{"$f":"IF(Plan!$C7='Jean-Pierre'!$H$1,Plan!G7,\"\")","v":""}]
[{"$f":"IF(Plan!$C8='Jean-Pierre'!$H$1,Plan!A8,\"\")","v":""},{"$f":"IF(Plan!$C8='Jean-Pierre'!$H$1,Plan!B8,\"\")","v":""},{"$f":"IF(Plan!$C8='Jean-Pierre'!$H$1,Plan!D8,\"\")","v":""},{"$f":"IF(Plan!$C8='Jean-Pierre'!$H$1,Plan!E8,\"\")","v":""},{"$f":"IF(Plan!$C8='Jean-Pierre'!$H$1,Plan!F8,\"\")","v":""},{"$f":"IF(Plan!$C8='Jean-Pierre'!$H$1,Plan!G8,\"\")","v":""}]
[{"$f":"IF(Plan!$C9='Jean-Pierre'!$H$1,Plan!A9,\"\")","v":""},{"$f":"IF(Plan!$C9='Jean-Pierre'!$H$1,Plan!B9,\"\")","v":""},{"$f":"IF(Plan!$C9='Jean-Pierre'!$H$1,Plan!D9,\"\")","v":""},{"$f":"IF(Plan!$C9='Jean-Pierre'!$H$1,Plan!E9,\"\")","v":""},{"$f":"IF(Plan!$C9='Jean-Pierre'!$H$1,Plan!F9,\"\")","v":""},{"$f":"IF(Plan!$C9='Jean-Pierre'!$H$1,Plan!G9,\"\")","v":""}]
[{"$f":"IF(Plan!$C10='Jean-Pierre'!$H$1,Plan!A10,\"\")","v":""},{"$f":"IF(Plan!$C10='Jean-Pierre'!$H$1,Plan!B10,\"\")","v":""},{"$f":"IF(Plan!$C10='Jean-Pierre'!$H$1,Plan!D10,\"\")","v":""},{"$f":"IF(Plan!$C10='Jean-Pierre'!$H$1,Plan!E10,\"\")","v":""},{"$f":"IF(Plan!$C10='Jean-Pierre'!$H$1,Plan!F10,\"\")","v":""},{"$f":"IF(Plan!$C10='Jean-Pierre'!$H$1,Plan!G10,\"\")","v":""}]
[{"$f":"IF(Plan!$C11='Jean-Pierre'!$H$1,Plan!A11,\"\")","v":""},{"$f":"IF(Plan!$C11='Jean-Pierre'!$H$1,Plan!B11,\"\")","v":""},{"$f":"IF(Plan!$C11='Jean-Pierre'!$H$1,Plan!D11,\"\")","v":""},{"$f":"IF(Plan!$C11='Jean-Pierre'!$H$1,Plan!E11,\"\")","v":""},{"$f":"IF(Plan!$C11='Jean-Pierre'!$H$1,Plan!F11,\"\")","v":""},{"$f":"IF(Plan!$C11='Jean-Pierre'!$H$1,Plan!G11,\"\")","v":""}]
[{"$f":"IF(Plan!$C12='Jean-Pierre'!$H$1,Plan!A12,\"\")","v":""},{"$f":"IF(Plan!$C12='Jean-Pierre'!$H$1,Plan!B12,\"\")","v":""},{"$f":"IF(Plan!$C12='Jean-Pierre'!$H$1,Plan!D12,\"\")","v":""},{"$f":"IF(Plan!$C12='Jean-Pierre'!$H$1,Plan!E12,\"\")","v":""},{"$f":"IF(Plan!$C12='Jean-Pierre'!$H$1,Plan!F12,\"\")","v":""},{"$f":"IF(Plan!$C12='Jean-Pierre'!$H$1,Plan!G12,\"\")","v":""}]
[{"$f":"IF(Plan!$C13='Jean-Pierre'!$H$1,Plan!A13,\"\")","v":""},{"$f":"IF(Plan!$C13='Jean-Pierre'!$H$1,Plan!B13,\"\")","v":""},{"$f":"IF(Plan!$C13='Jean-Pierre'!$H$1,Plan!D13,\"\")","v":""},{"$f":"IF(Plan!$C13='Jean-Pierre'!$H$1,Plan!E13,\"\")","v":""},{"$f":"IF(Plan!$C13='Jean-Pierre'!$H$1,Plan!F13,\"\")","v":""},{"$f":"IF(Plan!$C13='Jean-Pierre'!$H$1,Plan!G13,\"\")","v":""}]
[{"$f":"IF(Plan!$C14='Jean-Pierre'!$H$1,Plan!A14,\"\")","v":""},{"$f":"IF(Plan!$C14='Jean-Pierre'!$H$1,Plan!B14,\"\")","v":""},{"$f":"IF(Plan!$C14='Jean-Pierre'!$H$1,Plan!D14,\"\")","v":""},{"$f":"IF(Plan!$C14='Jean-Pierre'!$H$1,Plan!E14,\"\")","v":""},{"$f":"IF(Plan!$C14='Jean-Pierre'!$H$1,Plan!F14,\"\")","v":""},{"$f":"IF(Plan!$C14='Jean-Pierre'!$H$1,Plan!G14,\"\")","v":""}]
[{"$f":"IF(Plan!$C15='Jean-Pierre'!$H$1,Plan!A15,\"\")","v":""},{"$f":"IF(Plan!$C15='Jean-Pierre'!$H$1,Plan!B15,\"\")","v":""},{"$f":"IF(Plan!$C15='Jean-Pierre'!$H$1,Plan!D15,\"\")","v":""},{"$f":"IF(Plan!$C15='Jean-Pierre'!$H$1,Plan!E15,\"\")","v":""},{"$f":"IF(Plan!$C15='Jean-Pierre'!$H$1,Plan!F15,\"\")","v":""},{"$f":"IF(Plan!$C15='Jean-Pierre'!$H$1,Plan!G15,\"\")","v":""}]
[{"$f":"IF(Plan!$C16='Jean-Pierre'!$H$1,Plan!A16,\"\")","v":""},{"$f":"IF(Plan!$C16='Jean-Pierre'!$H$1,Plan!B16,\"\")","v":""},{"$f":"IF(Plan!$C16='Jean-Pierre'!$H$1,Plan!D16,\"\")","v":""},{"$f":"IF(Plan!$C16='Jean-Pierre'!$H$1,Plan!E16,\"\")","v":""},{"$f":"IF(Plan!$C16='Jean-Pierre'!$H$1,Plan!F16,\"\")","v":""},{"$f":"IF(Plan!$C16='Jean-Pierre'!$H$1,Plan!G16,\"\")","v":""}]
[{"$f":"IF(Plan!$C17='Jean-Pierre'!$H$1,Plan!A17,\"\")","v":""},{"$f":"IF(Plan!$C17='Jean-Pierre'!$H$1,Plan!B17,\"\")","v":""},{"$f":"IF(Plan!$C17='Jean-Pierre'!$H$1,Plan!D17,\"\")","v":""},{"$f":"IF(Plan!$C17='Jean-Pierre'!$H$1,Plan!E17,\"\")","v":""},{"$f":"IF(Plan!$C17='Jean-Pierre'!$H$1,Plan!F17,\"\")","v":""},{"$f":"IF(Plan!$C17='Jean-Pierre'!$H$1,Plan!G17,\"\")","v":""}]
[{"$f":"IF(Plan!$C18='Jean-Pierre'!$H$1,Plan!A18,\"\")","v":""},{"$f":"IF(Plan!$C18='Jean-Pierre'!$H$1,Plan!B18,\"\")","v":""},{"$f":"IF(Plan!$C18='Jean-Pierre'!$H$1,Plan!D18,\"\")","v":""},{"$f":"IF(Plan!$C18='Jean-Pierre'!$H$1,Plan!E18,\"\")","v":""},{"$f":"IF(Plan!$C18='Jean-Pierre'!$H$1,Plan!F18,\"\")","v":""},{"$f":"IF(Plan!$C18='Jean-Pierre'!$H$1,Plan!G18,\"\")","v":""}]
[{"$f":"IF(Plan!$C19='Jean-Pierre'!$H$1,Plan!A19,\"\")","v":""},{"$f":"IF(Plan!$C19='Jean-Pierre'!$H$1,Plan!B19,\"\")","v":""},{"$f":"IF(Plan!$C19='Jean-Pierre'!$H$1,Plan!D19,\"\")","v":""},{"$f":"IF(Plan!$C19='Jean-Pierre'!$H$1,Plan!E19,\"\")","v":""},{"$f":"IF(Plan!$C19='Jean-Pierre'!$H$1,Plan!F19,\"\")","v":""},{"$f":"IF(Plan!$C19='Jean-Pierre'!$H$1,Plan!G19,\"\")","v":""}]
[{"$f":"IF(Plan!$C20='Jean-Pierre'!$H$1,Plan!A20,\"\")","v":""},{"$f":"IF(Plan!$C20='Jean-Pierre'!$H$1,Plan!B20,\"\")","v":""},{"$f":"IF(Plan!$C20='Jean-Pierre'!$H$1,Plan!D20,\"\")","v":""},{"$f":"IF(Plan!$C20='Jean-Pierre'!$H$1,Plan!E20,\"\")","v":""},{"$f":"IF(Plan!$C20='Jean-Pierre'!$H$1,Plan!F20,\"\")","v":""},{"$f":"IF(Plan!$C20='Jean-Pierre'!$H$1,Plan!G20,\"\")","v":""}]
[{"$f":"IF(Plan!$C21='Jean-Pierre'!$H$1,Plan!A21,\"\")","v":""},{"$f":"IF(Plan!$C21='Jean-Pierre'!$H$1,Plan!B21,\"\")","v":""},{"$f":"IF(Plan!$C21='Jean-Pierre'!$H$1,Plan!D21,\"\")","v":""},{"$f":"IF(Plan!$C21='Jean-Pierre'!$H$1,Plan!E21,\"\")","v":""},{"$f":"IF(Plan!$C21='Jean-Pierre'!$H$1,Plan!F21,\"\")","v":""},{"$f":"IF(Plan!$C21='Jean-Pierre'!$H$1,Plan!G21,\"\")","v":""}]
[{"$f":"IF(Plan!$C22='Jean-Pierre'!$H$1,Plan!A22,\"\")","v":""},{"$f":"IF(Plan!$C22='Jean-Pierre'!$H$1,Plan!B22,\"\")","v":""},{"$f":"IF(Plan!$C22='Jean-Pierre'!$H$1,Plan!D22,\"\")","v":""},{"$f":"IF(Plan!$C22='Jean-Pierre'!$H$1,Plan!E22,\"\")","v":""},{"$f":"IF(Plan!$C22='Jean-Pierre'!$H$1,Plan!F22,\"\")","v":""},{"$f":"IF(Plan!$C22='Jean-Pierre'!$H$1,Plan!G22,\"\")","v":""}]
[{"$f":"IF(Plan!$C23='Jean-Pierre'!$H$1,Plan!A23,\"\")","v":""},{"$f":"IF(Plan!$C23='Jean-Pierre'!$H$1,Plan!B23,\"\")","v":""},{"$f":"IF(Plan!$C23='Jean-Pierre'!$H$1,Plan!D23,\"\")","v":""},{"$f":"IF(Plan!$C23='Jean-Pierre'!$H$1,Plan!E23,\"\")","v":""},{"$f":"IF(Plan!$C23='Jean-Pierre'!$H$1,Plan!F23,\"\")","v":""},{"$f":"IF(Plan!$C23='Jean-Pierre'!$H$1,Plan!G23,\"\")","v":""}]
[{"$f":"IF(Plan!$C24='Jean-Pierre'!$H$1,Plan!A24,\"\")","v":""},{"$f":"IF(Plan!$C24='Jean-Pierre'!$H$1,Plan!B24,\"\")","v":""},{"$f":"IF(Plan!$C24='Jean-Pierre'!$H$1,Plan!D24,\"\")","v":""},{"$f":"IF(Plan!$C24='Jean-Pierre'!$H$1,Plan!E24,\"\")","v":""},{"$f":"IF(Plan!$C24='Jean-Pierre'!$H$1,Plan!F24,\"\")","v":""},{"$f":"IF(Plan!$C24='Jean-Pierre'!$H$1,Plan!G24,\"\")","v":""}]
[{"$f":"IF(Plan!$C25='Jean-Pierre'!$H$1,Plan!A25,\"\")","v":""},{"$f":"IF(Plan!$C25='Jean-Pierre'!$H$1,Plan!B25,\"\")","v":""},{"$f":"IF(Plan!$C25='Jean-Pierre'!$H$1,Plan!D25,\"\")","v":""},{"$f":"IF(Plan!$C25='Jean-Pierre'!$H$1,Plan!E25,\"\")","v":""},{"$f":"IF(Plan!$C25='Jean-Pierre'!$H$1,Plan!F25,\"\")","v":""},{"$f":"IF(Plan!$C25='Jean-Pierre'!$H$1,Plan!G25,\"\")","v":""}]
[{"$f":"IF(Plan!$C26='Jean-Pierre'!$H$1,Plan!A26,\"\")","v":""},{"$f":"IF(Plan!$C26='Jean-Pierre'!$H$1,Plan!B26,\"\")","v":""},{"$f":"IF(Plan!$C26='Jean-Pierre'!$H$1,Plan!D26,\"\")","v":""},{"$f":"IF(Plan!$C26='Jean-Pierre'!$H$1,Plan!E26,\"\")","v":""},{"$f":"IF(Plan!$C26='Jean-Pierre'!$H$1,Plan!F26,\"\")","v":""},{"$f":"IF(Plan!$C26='Jean-Pierre'!$H$1,Plan!G26,\"\")","v":""}]
[{"$f":"IF(Plan!$C27='Jean-Pierre'!$H$1,Plan!A27,\"\")","v":""},{"$f":"IF(Plan!$C27='Jean-Pierre'!$H$1,Plan!B27,\"\")","v":""},{"$f":"IF(Plan!$C27='Jean-Pierre'!$H$1,Plan!D27,\"\")","v":""},{"$f":"IF(Plan!$C27='Jean-Pierre'!$H$1,Plan!E27,\"\")","v":""},{"$f":"IF(Plan!$C27='Jean-Pierre'!$H$1,Plan!F27,\"\")","v":""},{"$f":"IF(Plan!$C27='Jean-Pierre'!$H$1,Plan!G27,\"\")","v":""}]
[{"$f":"IF(Plan!$C28='Jean-Pierre'!$H$1,Plan!A28,\"\")","v":""},{"$f":"IF(Plan!$C28='Jean-Pierre'!$H$1,Plan!B28,\"\")","v":""},{"$f":"IF(Plan!$C28='Jean-Pierre'!$H$1,Plan!D28,\"\")","v":""},{"$f":"IF(Plan!$C28='Jean-Pierre'!$H$1,Plan!E28,\"\")","v":""},{"$f":"IF(Plan!$C28='Jean-Pierre'!$H$1,Plan!F28,\"\")","v":""},{"$f":"IF(Plan!$C28='Jean-Pierre'!$H$1,Plan!G28,\"\")","v":""}]
[{"$f":"IF(Plan!$C29='Jean-Pierre'!$H$1,Plan!A29,\"\")","v":""},{"$f":"IF(Plan!$C29='Jean-Pierre'!$H$1,Plan!B29,\"\")","v":""},{"$f":"IF(Plan!$C29='Jean-Pierre'!$H$1,Plan!D29,\"\")","v":""},{"$f":"IF(Plan!$C29='Jean-Pierre'!$H$1,Plan!E29,\"\")","v":""},{"$f":"IF(Plan!$C29='Jean-Pierre'!$H$1,Plan!F29,\"\")","v":""},{"$f":"IF(Plan!$C29='Jean-Pierre'!$H$1,Plan!G29,\"\")","v":""}]
[{"$f":"IF(Plan!$C30='Jean-Pierre'!$H$1,Plan!A30,\"\")","v":""},{"$f":"IF(Plan!$C30='Jean-Pierre'!$H$1,Plan!B30,\"\")","v":""},{"$f":"IF(Plan!$C30='Jean-Pierre'!$H$1,Plan!D30,\"\")","v":""},{"$f":"IF(Plan!$C30='Jean-Pierre'!$H$1,Plan!E30,\"\")","v":""},{"$f":"IF(Plan!$C30='Jean-Pierre'!$H$1,Plan!F30,\"\")","v":""},{"$f":"IF(Plan!$C30='Jean-Pierre'!$H$1,Plan!G30,\"\")","v":""}]
[{"$f":"IF(Plan!$C31='Jean-Pierre'!$H$1,Plan!A31,\"\")","v":""},{"$f":"IF(Plan!$C31='Jean-Pierre'!$H$1,Plan!B31,\"\")","v":""},{"$f":"IF(Plan!$C31='Jean-Pierre'!$H$1,Plan!D31,\"\")","v":""},{"$f":"IF(Plan!$C31='Jean-Pierre'!$H$1,Plan!E31,\"\")","v":""},{"$f":"IF(Plan!$C31='Jean-Pierre'!$H$1,Plan!F31,\"\")","v":""},{"$f":"IF(Plan!$C31='Jean-Pierre'!$H$1,Plan!G31,\"\")","v":""}]
[{"$f":"IF(Plan!$C32='Jean-Pierre'!$H$1,Plan!A32,\"\")","v":""},{"$f":"IF(Plan!$C32='Jean-Pierre'!$H$1,Plan!B32,\"\")","v":""},{"$f":"IF(Plan!$C32='Jean-Pierre'!$H$1,Plan!D32,\"\")","v":""},{"$f":"IF(Plan!$C32='Jean-Pierre'!$H$1,Plan!E32,\"\")","v":""},{"$f":"IF(Plan!$C32='Jean-Pierre'!$H$1,Plan!F32,\"\")","v":""},{"$f":"IF(Plan!$C32='Jean-Pierre'!$H$1,Plan!G32,\"\")","v":""}]
[{"$f":"IF(Plan!$C33='Jean-Pierre'!$H$1,Plan!A33,\"\")","v":""},{"$f":"IF(Plan!$C33='Jean-Pierre'!$H$1,Plan!B33,\"\")","v":""},{"$f":"IF(Plan!$C33='Jean-Pierre'!$H$1,Plan!D33,\"\")","v":""},{"$f":"IF(Plan!$C33='Jean-Pierre'!$H$1,Plan!E33,\"\")","v":""},{"$f":"IF(Plan!$C33='Jean-Pierre'!$H$1,Plan!F33,\"\")","v":""},{"$f":"IF(Plan!$C33='Jean-Pierre'!$H$1,Plan!G33,\"\")","v":""}]
[{"$f":"IF(Plan!$C34='Jean-Pierre'!$H$1,Plan!A34,\"\")","v":""},{"$f":"IF(Plan!$C34='Jean-Pierre'!$H$1,Plan!B34,\"\")","v":""},{"$f":"IF(Plan!$C34='Jean-Pierre'!$H$1,Plan!D34,\"\")","v":""},{"$f":"IF(Plan!$C34='Jean-Pierre'!$H$1,Plan!E34,\"\")","v":""},{"$f":"IF(Plan!$C34='Jean-Pierre'!$H$1,Plan!F34,\"\")","v":""},{"$f":"IF(Plan!$C34='Jean-Pierre'!$H$1,Plan!G34,\"\")","v":""}]
[{"$f":"IF(Plan!$C35='Jean-Pierre'!$H$1,Plan!A35,\"\")","v":""},{"$f":"IF(Plan!$C35='Jean-Pierre'!$H$1,Plan!B35,\"\")","v":""},{"$f":"IF(Plan!$C35='Jean-Pierre'!$H$1,Plan!D35,\"\")","v":""},{"$f":"IF(Plan!$C35='Jean-Pierre'!$H$1,Plan!E35,\"\")","v":""},{"$f":"IF(Plan!$C35='Jean-Pierre'!$H$1,Plan!F35,\"\")","v":""},{"$f":"IF(Plan!$C35='Jean-Pierre'!$H$1,Plan!G35,\"\")","v":""}]
[{"$f":"IF(Plan!$C36='Jean-Pierre'!$H$1,Plan!A36,\"\")","v":""},{"$f":"IF(Plan!$C36='Jean-Pierre'!$H$1,Plan!B36,\"\")","v":""},{"$f":"IF(Plan!$C36='Jean-Pierre'!$H$1,Plan!D36,\"\")","v":""},{"$f":"IF(Plan!$C36='Jean-Pierre'!$H$1,Plan!E36,\"\")","v":""},{"$f":"IF(Plan!$C36='Jean-Pierre'!$H$1,Plan!F36,\"\")","v":""},{"$f":"IF(Plan!$C36='Jean-Pierre'!$H$1,Plan!G36,\"\")","v":""}]
[{"$f":"IF(Plan!$C37='Jean-Pierre'!$H$1,Plan!A37,\"\")","v":""},{"$f":"IF(Plan!$C37='Jean-Pierre'!$H$1,Plan!B37,\"\")","v":""},{"$f":"IF(Plan!$C37='Jean-Pierre'!$H$1,Plan!D37,\"\")","v":""},{"$f":"IF(Plan!$C37='Jean-Pierre'!$H$1,Plan!E37,\"\")","v":""},{"$f":"IF(Plan!$C37='Jean-Pierre'!$H$1,Plan!F37,\"\")","v":""},{"$f":"IF(Plan!$C37='Jean-Pierre'!$H$1,Plan!G37,\"\")","v":""}]
[{"$f":"IF(Plan!$C38='Jean-Pierre'!$H$1,Plan!A38,\"\")","v":""},{"$f":"IF(Plan!$C38='Jean-Pierre'!$H$1,Plan!B38,\"\")","v":""},{"$f":"IF(Plan!$C38='Jean-Pierre'!$H$1,Plan!D38,\"\")","v":""},{"$f":"IF(Plan!$C38='Jean-Pierre'!$H$1,Plan!E38,\"\")","v":""},{"$f":"IF(Plan!$C38='Jean-Pierre'!$H$1,Plan!F38,\"\")","v":""},{"$f":"IF(Plan!$C38='Jean-Pierre'!$H$1,Plan!G38,\"\")","v":""}]
[{"$f":"IF(Plan!$C39='Jean-Pierre'!$H$1,Plan!A39,\"\")","v":""},{"$f":"IF(Plan!$C39='Jean-Pierre'!$H$1,Plan!B39,\"\")","v":""},{"$f":"IF(Plan!$C39='Jean-Pierre'!$H$1,Plan!D39,\"\")","v":""},{"$f":"IF(Plan!$C39='Jean-Pierre'!$H$1,Plan!E39,\"\")","v":""},{"$f":"IF(Plan!$C39='Jean-Pierre'!$H$1,Plan!F39,\"\")","v":""},{"$f":"IF(Plan!$C39='Jean-Pierre'!$H$1,Plan!G39,\"\")","v":""}]
[{"$f":"IF(Plan!$C40='Jean-Pierre'!$H$1,Plan!A40,\"\")","v":""},{"$f":"IF(Plan!$C40='Jean-Pierre'!$H$1,Plan!B40,\"\")","v":""},{"$f":"IF(Plan!$C40='Jean-Pierre'!$H$1,Plan!D40,\"\")","v":""},{"$f":"IF(Plan!$C40='Jean-Pierre'!$H$1,Plan!E40,\"\")","v":""},{"$f":"IF(Plan!$C40='Jean-Pierre'!$H$1,Plan!F40,\"\")","v":""},{"$f":"IF(Plan!$C40='Jean-Pierre'!$H$1,Plan!G40,\"\")","v":""}]
[{"$f":"IF(Plan!$C41='Jean-Pierre'!$H$1,Plan!A41,\"\")","v":""},{"$f":"IF(Plan!$C41='Jean-Pierre'!$H$1,Plan!B41,\"\")","v":""},{"$f":"IF(Plan!$C41='Jean-Pierre'!$H$1,Plan!D41,\"\")","v":""},{"$f":"IF(Plan!$C41='Jean-Pierre'!$H$1,Plan!E41,\"\")","v":""},{"$f":"IF(Plan!$C41='Jean-Pierre'!$H$1,Plan!F41,\"\")","v":""},{"$f":"IF(Plan!$C41='Jean-Pierre'!$H$1,Plan!G41,\"\")","v":""}]
[{"$f":"IF(Plan!$C42='Jean-Pierre'!$H$1,Plan!A42,\"\")","v":""},{"$f":"IF(Plan!$C42='Jean-Pierre'!$H$1,Plan!B42,\"\")","v":""},{"$f":"IF(Plan!$C42='Jean-Pierre'!$H$1,Plan!D42,\"\")","v":""},{"$f":"IF(Plan!$C42='Jean-Pierre'!$H$1,Plan!E42,\"\")","v":""},{"$f":"IF(Plan!$C42='Jean-Pierre'!$H$1,Plan!F42,\"\")","v":""},{"$f":"IF(Plan!$C42='Jean-Pierre'!$H$1,Plan!G42,\"\")","v":""}]
[{"$f":"IF(Plan!$C43='Jean-Pierre'!$H$1,Plan!A43,\"\")","v":""},{"$f":"IF(Plan!$C43='Jean-Pierre'!$H$1,Plan!B43,\"\")","v":""},{"$f":"IF(Plan!$C43='Jean-Pierre'!$H$1,Plan!D43,\"\")","v":""},{"$f":"IF(Plan!$C43='Jean-Pierre'!$H$1,Plan!E43,\"\")","v":""},{"$f":"IF(Plan!$C43='Jean-Pierre'!$H$1,Plan!F43,\"\")","v":""},{"$f":"IF(Plan!$C43='Jean-Pierre'!$H$1,Plan!G43,\"\")","v":""}]

{"sheet":"Listes","index":7,"n_rows":65,"n_cols":8,"rows_kept":65,"cut":false,"hidden":false,"merged":[]}
[null,"Familles",null,"N°",null,"Responsables",null,"Lieux"]
[null,"Organisation",null,5,null,"Rochelle",null,"Bureau"]
[null,"Management",null,10,null,"Florence",null,"Terrain"]
[null,"Qualité",null,15,null,"Monia",null,"Comptable"]
[null,"Produits",null,20,null,"Jean-Pierre",null,"SdR"]
[null,"Moyens",null,{"$f":"D5+5","v":25},null,null,null,"Client"]
[null,"Méthodes",null,{"$f":"D6+5","v":30}]
[null,"Commerce",null,35]
[null,"Juridique",null,40]
[null,"Budget",null,45]
[null,null,null,50]
[null,null,null,55]
[null,null,null,60]
[null,null,null,65]
[null,null,null,70]
[null,null,null,75]
[null,null,null,80]
[null,null,null,85]
[null,null,null,90]
[null,null,null,95]
[null,null,null,100]
[null,null,null,105]
[null,null,null,110]
[null,null,null,115]
[null,null,null,120]
[null,null,null,125]
[null,null,null,130]
[null,null,null,135]
[null,null,null,140]
[null,null,null,145]
[null,null,null,150]
[null,null,null,155]
[null,null,null,160]
[null,null,null,165]
[null,null,null,170]
[null,null,null,175]
[null,null,null,180]
[null,null,null,185]
[null,null,null,190]
[null,null,null,195]
[null,null,null,200]
[null,null,null,205]
[null,null,null,210]
[null,null,null,215]
[null,null,null,220]
[null,null,null,225]
[null,null,null,230]
[null,null,null,235]
[null,null,null,240]
[null,null,null,245]
[null,null,null,250]
[null,null,null,255]
[null,null,null,260]
[null,null,null,265]
[null,null,null,270]
[null,null,null,275]
[null,null,null,280]
[null,null,null,285]
[null,null,null,290]
[null,null,null,295]
[null,null,null,300]
[null,null,null,305]
[null,null,null,310]
[null,null,null,315]
[null,null,null,320]